{"text_format":"1","workbook":"xlsx","n_sheets":18,"sheets":["1_入力シート【基本情報】","2_入力シート【検査結果表】 防火扉","3_入力シート【検査結果表】防火シャッター","4_入力シート【検査結果表】 耐火クロススクリーン","5_入力シート【検査結果表】 ドレンチャー","6_入力シート【写真】 ","7_入力シート【図面】","＜入力不要＞報告書","＜入力不要＞概要書","＜入力不要＞3_別記第一号（防火扉）","＜入力不要＞6_別記第二号（防火シャッター）","＜入力不要＞4_別記第三号（耐火クロススクリーン）","＜入力不要＞5_別記第四号（ドレンチャー）","プルダウン選択肢","リンクシート","CSVシート","概要書リンクシート","概要書CSVシート"],"not_rendered":{"charts":0,"images":0,"macros":1,"external_links":0,"defined_names":15,"comments":0,"pivot_tables":0},"unopened":[],"bounds":{"document_bytes":16777216,"sheet_cells":100000,"rows_first":2000,"rows_last":500,"rows_between":2000,"halvings":0,"cell_chars":16384,"cell_head_chars":4096},"cells_cut":0,"cells_raw":0,"read":"whole","date_system":"1900"}

{"sheet":"1_入力シート【基本情報】","index":0,"n_rows":160,"n_cols":194,"rows_kept":160,"cut":false,"hidden":false,"merged":[[145,73,145,97],[146,73,146,97],[147,73,147,97],[148,73,148,97],[149,73,149,97],[150,73,150,97],[151,73,151,97],[152,73,152,97],[54,27,54,71],[141,73,142,98],[63,63,63,71],[71,44,71,46],[71,47,71,50],[71,23,71,30],[65,62,65,63],[71,37,71,38],[60,27,60,32],[78,27,78,41],[74,9,74,62],[75,12,78,17],[72,38,72,39],[66,35,66,37],[66,12,66,26],[95,27,95,71],[51,12,52,17],[23,144,23,148],[24,144,24,148],[63,9,63,26],[70,39,70,41],[64,33,64,34],[64,35,64,37],[70,42,70,43],[70,44,70,46],[70,47,70,50],[67,12,67,26],[67,27,67,34],[66,30,66,32],[66,43,66,44],[66,45,66,46],[66,47,66,61],[35,9,35,62],[25,18,25,26],[25,27,25,71],[26,18,26,26],[25,12,26,17],[23,12,24,17],[41,27,41,71],[41,18,41,26],[12,24,12,26],[33,12,33,26],[33,27,33,71],[31,33,31,35],[31,36,31,41],[31,42,31,44],[31,45,31,50],[22,9,22,62],[29,12,29,26],[13,12,14,17],[13,18,13,26],[13,27,13,71],[12,36,12,41],[12,45,12,50],[12,33,12,35],[12,42,12,44],[19,27,19,71],[19,18,19,26],[12,27,12,32],[32,45,32,50],[9,9,9,11],[9,12,9,14],[1,51,1,53],[40,27,40,71],[23,18,23,26],[23,27,23,71],[24,18,24,26],[1,39,1,41],[40,18,40,26],[29,27,29,32],[29,33,29,35],[29,36,29,41],[14,18,14,26],[9,15,9,21],[1,23,1,25],[35,63,35,71],[24,27,24,71],[32,42,32,44],[22,63,22,71],[26,27,26,71],[27,12,28,17],[27,18,27,26],[27,27,27,71],[28,18,28,26],[51,18,51,26],[79,73,80,98],[83,73,84,98],[89,73,90,98],[103,73,104,98],[64,40,64,42],[64,43,64,44],[64,45,64,46],[64,47,64,61],[64,62,64,63],[81,27,81,71],[67,62,67,63],[69,63,69,71],[85,36,85,41],[72,53,72,54],[72,45,72,46],[71,62,71,63],[72,49,72,50],[72,51,72,52],[72,55,72,56],[98,27,98,41],[82,25,82,26],[90,18,91,23],[75,27,75,41],[42,27,42,32],[42,12,42,26],[52,18,52,26],[53,33,53,35],[53,36,53,41],[54,12,54,26],[55,12,55,26],[67,35,67,61],[71,31,71,33],[66,33,66,34],[64,38,64,39],[70,31,70,33],[66,27,66,29],[66,38,66,39],[66,40,66,42],[58,12,59,17],[58,18,58,26],[58,27,58,32],[51,27,51,71],[52,27,52,71],[53,27,53,32],[53,12,53,26],[70,37,70,38],[65,12,65,26],[64,12,64,26],[55,42,55,44],[55,45,55,50],[72,57,72,58],[88,63,88,71],[72,40,72,41],[70,12,70,22],[70,23,70,30],[85,42,85,71],[87,42,87,44],[87,45,87,50],[78,18,78,24],[78,25,78,26],[72,12,72,26],[69,9,69,26],[59,18,59,26],[59,27,59,32],[60,12,60,26],[57,9,57,62],[57,63,57,71],[61,12,61,26],[61,27,61,32],[65,27,65,34],[71,42,71,43],[46,63,46,71],[44,45,44,50],[46,27,46,62],[46,19,46,25],[47,12,48,17],[47,18,47,26],[47,27,47,71],[1,31,1,33],[42,33,42,35],[42,36,42,41],[40,12,41,17],[9,67,9,69],[9,48,9,53],[5,10,7,25],[5,26,7,28],[9,54,9,56],[9,57,9,59],[9,62,9,64],[11,9,11,62],[11,63,11,71],[12,12,12,23],[30,27,30,71],[31,12,31,26],[31,27,31,32],[71,34,71,36],[65,35,65,61],[70,34,70,36],[86,18,86,26],[96,25,96,26],[83,27,83,41],[84,25,84,26],[72,47,72,48],[80,18,80,26],[75,18,75,26],[76,25,76,26],[76,27,76,41],[77,25,77,26],[80,27,80,71],[88,42,88,62],[83,25,83,26],[89,27,89,41],[89,18,89,26],[90,25,90,26],[79,27,79,71],[87,18,87,26],[95,18,95,26],[89,12,92,17],[92,18,92,24],[92,25,92,26],[92,27,92,41],[147,12,147,14],[55,33,55,35],[55,36,55,41],[55,27,55,32],[64,27,64,29],[64,30,64,32],[71,39,71,41],[87,33,87,35],[87,36,87,41],[128,38,128,39],[125,27,125,32],[125,33,125,35],[127,27,127,32],[128,27,128,32],[84,27,84,41],[77,27,77,41],[86,27,86,71],[85,18,85,26],[90,27,90,41],[91,25,91,26],[129,18,129,26],[123,27,123,29],[124,18,124,26],[129,42,129,44],[120,63,120,71],[66,62,66,63],[72,59,72,60],[95,12,101,17],[100,18,100,26],[100,27,100,71],[101,18,101,26],[101,27,101,32],[101,33,101,35],[101,36,101,41],[101,42,101,44],[101,45,101,50],[97,25,97,26],[81,12,87,17],[85,27,85,32],[85,33,85,35],[94,27,94,71],[88,24,88,41],[72,62,72,63],[76,18,77,23],[126,33,126,35],[122,42,122,44],[128,36,128,37],[126,18,126,26],[124,31,124,50],[122,30,122,35],[123,30,123,71],[125,18,125,26],[124,27,124,29],[125,65,125,66],[126,65,126,66],[127,33,127,35],[127,65,127,66],[128,33,128,35],[128,18,128,26],[98,25,98,26],[97,27,97,41],[99,42,99,71],[96,18,98,24],[101,51,101,71],[102,24,102,41],[102,42,102,62],[108,18,108,26],[108,27,108,71],[102,63,102,71],[107,27,107,71],[113,36,113,41],[111,27,111,41],[121,27,121,29],[121,30,121,35],[121,18,121,26],[143,21,144,32],[144,12,144,17],[115,45,115,50],[115,51,115,71],[113,42,113,71],[113,18,113,26],[115,33,115,35],[113,27,113,32],[113,33,113,35],[115,18,115,26],[115,27,115,32],[110,18,112,24],[111,25,111,26],[110,25,110,26],[128,65,128,66],[129,65,129,71],[129,27,129,41],[128,40,128,41],[126,27,126,32],[121,42,121,44],[112,25,112,26],[112,27,112,41],[99,18,99,26],[99,27,99,32],[99,33,99,35],[99,36,99,41],[132,12,138,26],[141,12,141,26],[141,27,141,29],[104,27,104,41],[105,25,105,26],[105,27,105,41],[106,18,106,24],[106,25,106,26],[106,27,106,41],[107,12,108,17],[107,18,107,26],[122,18,122,26],[123,18,123,26],[122,27,122,29],[125,12,129,17],[121,12,124,17],[110,27,110,41],[147,21,147,32],[147,33,147,44],[147,45,147,50],[146,33,146,44],[146,45,146,50],[146,51,146,53],[146,21,146,32],[144,18,144,20],[144,51,144,53],[145,51,145,53],[145,18,145,20],[145,21,145,32],[145,33,145,44],[145,45,145,50],[152,57,152,71],[151,12,151,14],[151,15,151,17],[151,18,151,20],[151,21,151,32],[151,33,151,44],[151,45,151,50],[151,51,151,53],[151,54,151,56],[151,57,151,71],[152,12,152,14],[152,15,152,17],[152,18,152,20],[152,54,152,56],[152,21,152,32],[152,33,152,44],[152,45,152,50],[152,51,152,53],[150,12,150,14],[150,15,150,17],[150,18,150,20],[150,21,150,32],[150,33,150,44],[150,45,150,50],[150,51,150,53],[150,54,150,56],[149,33,149,44],[149,45,149,50],[149,51,149,53],[149,54,149,56],[149,21,149,32],[79,12,80,17],[74,63,74,71],[150,57,150,71],[148,12,148,14],[148,54,148,56],[148,57,148,71],[149,12,149,14],[149,15,149,17],[149,18,149,20],[149,57,149,71],[148,21,148,32],[148,33,148,44],[147,57,147,71],[147,51,147,53],[147,54,147,56],[148,15,148,17],[148,18,148,20],[120,9,120,62],[104,18,105,23],[104,25,104,26],[148,45,148,50],[148,51,148,53],[147,15,147,17],[147,18,147,20],[40,73,41,98],[51,73,52,98],[103,12,106,17],[103,18,103,26],[30,12,30,26],[20,12,20,26],[79,18,79,26],[103,27,103,41],[20,27,20,71],[32,36,32,41],[28,27,28,71],[87,51,87,71],[81,18,81,26],[82,27,82,41],[72,27,72,30],[72,36,72,37],[93,12,94,17],[91,27,91,41],[87,27,87,32],[82,18,84,24],[93,18,93,26],[93,27,93,71],[94,18,94,26],[96,27,96,41],[145,57,145,71],[143,51,143,56],[143,57,144,71],[145,54,145,56],[131,9,131,62],[132,27,138,71],[146,15,146,17],[131,63,131,71],[146,54,146,56],[146,57,146,71],[146,12,146,14],[146,18,146,20],[143,45,144,50],[143,33,144,44],[144,54,144,56],[145,12,145,14],[145,15,145,17],[142,12,142,26],[142,27,142,29],[143,12,143,20],[44,12,44,26],[44,42,44,44],[140,9,140,30],[32,12,32,26],[32,27,32,32],[32,33,32,35],[14,27,14,71],[15,12,19,17],[15,18,15,26],[15,27,15,71],[16,18,16,26],[16,27,16,71],[17,18,17,26],[17,27,17,71],[18,18,18,26],[18,27,18,71],[140,60,140,71],[109,12,115,17],[109,18,109,26],[109,27,109,71],[115,36,115,41],[115,42,115,44],[114,18,114,26],[114,27,114,71],[47,73,48,98],[36,73,37,98],[48,18,48,26],[48,27,48,71],[49,12,50,17],[49,18,49,26],[49,27,49,71],[50,18,50,26],[50,27,50,71],[36,12,37,17],[36,18,36,26],[36,27,36,71],[37,18,37,26],[37,27,37,71],[38,12,39,17],[38,18,38,26],[38,27,38,71],[39,18,39,26],[39,27,39,71],[43,27,43,71],[44,27,44,32],[44,33,44,35],[44,36,44,41],[43,12,43,26]]}
[]
[null,null,null,null,null,null,null,null,null,null,null,null,null,null,null,null,null,null,null,null,null,null,null,null,null,null,"必須入力",null,null,null,null,null,null,null,"任意入力",null,null,null,null,null,null,null,"入力済み・入力不要",null,null,null,null,null,null,null,null,null,null,null,"エラー入力（入力不要な箇所に入力がある等）",null,null,null,null,null,null,null,null,null,null,null,null,null,null,null,null,null,null,null,null,null,null,null,null,null,null,null,null,null,null,null,null,null,null,null,null,null,null,null,null,null,null,null,null,null,null,null,null,null,null,null,null,null,null,null,null,null,null,null,null,null,null,null,null,null,null,null,null,null,null,null,null,null,null,null,null,null,null,null,null,null,null,"関数1","関数2","レ",null,"レ",null,null,"チェックボックス","チェックボックス","チェックボックス",null,null,null,null,null,null,"報告書　第三面別紙",null,null,"配列関数（セルを選択した際はCtrl+Shift+Enterで）",null,null,null,null,null,null,null,null,null,null,null,null,null,null,null,null,null,null,null,null,null,"報告書　第一面5",null,"配列関数（セルを選択した際はCtrl+Shift+Enterで）",null,null,null,null,null,null,null,null,"選択肢候補1","選択肢候補2","選択肢候補3","選択肢候補4","選択肢候補5"]
[]
[]
[]
[null,null,null,null,null,null,null,null,null,null,null,null,null,null,null,null,null,null,null,null,null,null,null,null,null,null,"様"]
[]
[]
[null,null,null,null,null,null,null,null,null,null,null,null,null,null,null,null,null,null,null,null,null,null,null,null,null,null,null,null,null,null,null,null,null,null,null,null,null,null,null,null,null,null,null,null,null,null,null,null,null,null,null,null,null,null,null,null,null,null,null,null,null,null,null,null,null,null,null,null,null,null,null,null,null,null,null,null,null,null,null,null,null,null,null,null,null,null,null,null,null,null,null,null,null,null,null,null,null,null,null,null,null,null,null,null,null,null,null,null,null,null,null,null,null,null,null,null,null,null,null,null,null,null,null,null,null,null,null,null,null,null,null,null,null,null,null,null,null,"日付の入力済区間数","報告日文字列連結","西暦",null,"基準日付"]
[null,null,null,null,null,null,null,null,null,"令和",null,null,4,null,null,"年 防火設備",null,null,null,null,null,null,null,null,null,null,null,null,null,null,null,null,null,null,null,null,null,null,null,null,null,null,null,null,null,null,null,null,"報告日",null,null,null,null,null,"令和",null,null,null,null,null,"年",null,null,null,null,"月",null,null,null,null,"日",null,null,null,null,null,null,null,null,null,null,null,null,null,null,null,null,null,null,null,null,null,null,null,null,null,null,null,null,null,null,null,null,null,null,null,null,null,null,null,null,null,null,null,null,null,null,null,null,null,null,null,null,null,null,null,null,null,null,null,null,null,null,null,null,null,null,{"$f":"COUNTA(BF10,BK10,BP10)","v":0},{"$f":"IF(EH10<3,\"\",\"令和\"&BF10&\"年\"&BK10&\"月\"&BP10&\"日\")","v":""},{"$f":"IF(EH10<3,\"\",DATEVALUE(EI10))","v":""},null,"2018-12-31"]
[]
[null,null,null,null,null,null,null,null,null,"　１　報告対象建築物",null,null,null,null,null,null,null,null,null,null,null,null,null,null,null,null,null,null,null,null,null,null,null,null,null,null,null,null,null,null,null,null,null,null,null,null,null,null,null,null,null,null,null,null,null,null,null,null,null,null,null,null,null,"第一面３欄"]
[null,null,null,null,null,null,null,null,null,null,null,null,"ID",null,null,null,null,null,null,null,null,null,null,null,null,null,null,null,null,null,null,null,null,"－",null,null,null,null,null,null,null,null,"－"]
[null,null,null,null,null,null,null,null,null,null,null,null,"建物名称",null,null,null,null,null,"フリガナ"]
[null,null,null,null,null,null,null,null,null,null,null,null,null,null,null,null,null,null,"建物名称",null,null,null,null,null,null,null,null,null,null,null,null,null,null,null,null,null,null,null,null,null,null,null,null,null,null,null,null,null,null,null,null,null,null,null,null,null,null,null,null,null,null,null,null,null,null,null,null,null,null,null,null,null,null,null,null,null,null,null,null,null,null,null,null,null,null,null,null,null,null,null,null,null,null,null,null,null,null,null,null,null,null,null,null,null,null,null,null,null,null,null,null,null,null,null,null,null,null,null,null,null,null,null,null,null,null,null,null,null,null,null,null,null,null,null,null,null,null,null,"住所結合"]
[null,null,null,null,null,null,null,null,null,null,null,null,"建物所在地",null,null,null,null,null,"都道府県",null,null,null,null,null,null,null,null,null,null,null,null,null,null,null,null,null,null,null,null,null,null,null,null,null,null,null,null,null,null,null,null,null,null,null,null,null,null,null,null,null,null,null,null,null,null,null,null,null,null,null,null,null,null,null,null,null,null,null,null,null,null,null,null,null,null,null,null,null,null,null,null,null,null,null,null,null,null,null,null,null,null,null,null,null,null,null,null,null,null,null,null,null,null,null,null,null,null,null,null,null,null,null,null,null,null,null,null,null,null,null,null,null,null,null,null,null,null,null,{"$f":"CONCATENATE(AB16,AB17,AB18,AB19,AB20)","v":""}]
[null,null,null,null,null,null,null,null,null,null,null,null,null,null,null,null,null,null,"市郡"]
[null,null,null,null,null,null,null,null,null,null,null,null,null,null,null,null,null,null,"区町村"]
[null,null,null,null,null,null,null,null,null,null,null,null,null,null,null,null,null,null,"大字・町名"]
[null,null,null,null,null,null,null,null,null,null,null,null,null,null,null,null,null,null,"番地など"]
[null,null,null,null,null,null,null,null,null,null,null,null,"用途"]
[null,null,null,null,null,null,null,null,null,null,null,null,null,null,null,null,null,null,null,null,null,null,null,null,null,null,null,null,null,null,null,null,null,null,null,null,null,null,null,null,null,null,null,null,null,null,null,null,null,null,null,null,null,null,null,null,null,null,null,null,null,null,null,null,null,null,null,null,null,null,null,null,null,null,null,null,null,null,null,null,null,null,null,null,null,null,null,null,null,null,null,null,null,null,null,null,null,null,null,null,null,null,null,null,null,null,null,null,null,null,null,null,null,null,null,null,null,null,null,null,null,null,null,null,null,null,null,null,null,null,null,null,null,null,null,null,null,null,null,null,null,null,null,null,{"$f":"SUBSTITUTE(TRIM(V147&\"　\"&V148&\"　\"&V149&\"　\"&V150&\"　\"&V151&\"　\"&V152&\"　\"&V153),\"　\",\",\")","v":""}]
[null,null,null,null,null,null,null,null,null,"　２　報告内容に関する問合せ先"]
[null,null,null,null,null,null,null,null,null,null,null,null,"法人名",null,null,null,null,null,"フリガナ",null,null,null,null,null,null,null,null,null,null,null,null,null,null,null,null,null,null,null,null,null,null,null,null,null,null,null,null,null,null,null,null,null,null,null,null,null,null,null,null,null,null,null,null,null,null,null,null,null,null,null,null,null,null,null,null,null,null,null,null,null,null,null,null,null,null,null,null,null,null,null,null,null,null,null,null,null,null,null,null,null,null,null,null,null,null,null,null,null,null,null,null,null,null,null,null,null,null,null,null,null,null,null,null,null,null,null,null,null,null,null,null,null,null,null,null,null,null,null,null,null,null,null,null,null,{"$f":"SUBSTITUTE(TRIM(AB24&\"　\"&AB26&\"　\"&AB28),\"　\",\"　\")","v":""}]
[null,null,null,null,null,null,null,null,null,null,null,null,null,null,null,null,null,null,"法人名",null,null,null,null,null,null,null,null,null,null,null,null,null,null,null,null,null,null,null,null,null,null,null,null,null,null,null,null,null,null,null,null,null,null,null,null,null,null,null,null,null,null,null,null,null,null,null,null,null,null,null,null,null,null,null,null,null,null,null,null,null,null,null,null,null,null,null,null,null,null,null,null,null,null,null,null,null,null,null,null,null,null,null,null,null,null,null,null,null,null,null,null,null,null,null,null,null,null,null,null,null,null,null,null,null,null,null,null,null,null,null,null,null,null,null,null,null,null,null,null,null,null,null,null,null,{"$f":"SUBSTITUTE(TRIM(AB25&\"　\"&AB27&\"　\"&AB29),\"　\",\"　\")","v":""}]
[null,null,null,null,null,null,null,null,null,null,null,null,"肩書",null,null,null,null,null,"フリガナ"]
[null,null,null,null,null,null,null,null,null,null,null,null,null,null,null,null,null,null,"肩書"]
[null,null,null,null,null,null,null,null,null,null,null,null,"氏名",null,null,null,null,null,"フリガナ",null,null,null,null,null,null,null,null,null,null,null,null,null,null,null,null,null,null,null,null,null,null,null,null,null,null,null,null,null,null,null,null,null,null,null,null,null,null,null,null,null,null,null,null,null,null,null,null,null,null,null,null,null,null,null,null,null,null,null,null,null,null,null,null,null,null,null,null,null,null,null,null,null,null,null,null,null,null,null,null,null,null,null,null,null,null,null,null,null,null,null,null,null,null,null,null,null,null,null,null,null,null,null,null,null,null,null,null,null,null,null,null,null,null,null,null,null,null,"郵便番号"]
[null,null,null,null,null,null,null,null,null,null,null,null,null,null,null,null,null,null,"氏名",null,null,null,null,null,null,null,null,null,null,null,null,null,null,null,null,null,null,null,null,null,null,null,null,null,null,null,null,null,null,null,null,null,null,null,null,null,null,null,null,null,null,null,null,null,null,null,null,null,null,null,null,null,null,null,null,null,null,null,null,null,null,null,null,null,null,null,null,null,null,null,null,null,null,null,null,null,null,null,null,null,null,null,null,null,null,null,null,null,null,null,null,null,null,null,null,null,null,null,null,null,null,null,null,null,null,null,null,null,null,null,null,null,null,null,null,null,null,"連結","半角統一",null,null,"郵便番号の未入力判定",null,null,"CSV向け"]
[null,null,null,null,null,null,null,null,null,null,null,null,"郵便番号",null,null,null,null,null,null,null,null,null,null,null,null,null,null,null,null,null,null,null,null,"－",null,null,null,null,null,null,null,null,null,null,null,null,null,null,null,null,null,null,null,null,null,null,null,null,null,null,null,null,null,null,null,null,null,null,null,null,null,null,null,null,null,null,null,null,null,null,null,null,null,null,null,null,null,null,null,null,null,null,null,null,null,null,null,null,null,null,null,null,null,null,null,null,null,null,null,null,null,null,null,null,null,null,null,null,null,null,null,null,null,null,null,null,null,null,null,null,null,null,null,null,null,null,null,{"$f":"CONCATENATE(AB30,\"-\",AK30)","v":"-"},{"$f":"ASC(EH30)","v":"-"},null,null,{"$f":"IF(EH30=\"-\",1,0)","v":1},null,null,{"$f":"$AB$25","v":0},{"$f":"$AB$25","v":0}]
[null,null,null,null,null,null,null,null,null,null,null,null,"住所",null,null,null,null,null,null,null,null,null,null,null,null,null,null,null,null,null,null,null,null,null,null,null,null,null,null,null,null,null,null,null,null,null,null,null,null,null,null,null,null,null,null,null,null,null,null,null,null,null,null,null,null,null,null,null,null,null,null,null,null,null,null,null,null,null,null,null,null,null,null,null,null,null,null,null,null,null,null,null,null,null,null,null,null,null,null,null,null,null,null,null,null,null,null,null,null,null,null,null,null,null,null,null,null,null,null,null,null,null,null,null,null,null,null,null,null,null,null,null,null,null,null,null,null,"電話番号","半角統一","FAX番号",null,"電話番号の未入力判定"]
[null,null,null,null,null,null,null,null,null,null,null,null,"電話番号",null,null,null,null,null,null,null,null,null,null,null,null,null,null,null,null,null,null,null,null,"－",null,null,null,null,null,null,null,null,"－",null,null,null,null,null,null,null,null,null,null,null,null,null,null,null,null,null,null,null,null,null,null,null,null,null,null,null,null,null,null,null,null,null,null,null,null,null,null,null,null,null,null,null,null,null,null,null,null,null,null,null,null,null,null,null,null,null,null,null,null,null,null,null,null,null,null,null,null,null,null,null,null,null,null,null,null,null,null,null,null,null,null,null,null,null,null,null,null,null,null,null,null,null,null,{"$f":"CONCATENATE(AB32,\"-\",AK32,\"-\",AT32)","v":"--"},{"$f":"ASC(EH32)","v":"--"},{"$f":"CONCATENATE(AB33,\"-\",AK33,\"-\",AT33)","v":"--"},{"$f":"ASC(EJ32)","v":"--"},{"$f":"IF(EH32=\"--\",1,0)","v":1},null,null,{"$f":"$AB$27","v":0}]
[null,null,null,null,null,null,null,null,null,null,null,null,"FAX番号",null,null,null,null,null,null,null,null,null,null,null,null,null,null,null,null,null,null,null,null,"－",null,null,null,null,null,null,null,null,"－",null,null,null,null,null,null,null,null,null,null,null,null,null,null,null,null,null,null,null,null,null,null,null,null,null,null,null,null,null,null,null,null,null,null,null,null,null,null,null,null,null,null,null,null,null,null,null,null,null,null,null,null,null,null,null,null,null,null,null,null,null,null,null,null,null,null,null,null,null,null,null,null,null,null,null,null,null,null,null,null,null,null,null,null,null,null,null,null,null,null,null,null,null,null,{"$f":"CONCATENATE(AB33,\"-\",AK33,\"-\",AT33)","v":"--"},null,null,null,"FAX番号の未入力判定",null,null,{"$f":"$AB$28","v":0}]
[null,null,null,null,null,null,null,null,null,null,null,null,"メールアドレス",null,null,null,null,null,null,null,null,null,null,null,null,null,null,null,null,null,null,null,null,null,null,null,null,null,null,null,null,null,null,null,null,null,null,null,null,null,null,null,null,null,null,null,null,null,null,null,null,null,null,null,null,null,null,null,null,null,null,null,null,null,null,null,null,null,null,null,null,null,null,null,null,null,null,null,null,null,null,null,null,null,null,null,null,null,null,null,null,null,null,null,null,null,null,null,null,null,null,null,null,null,null,null,null,null,null,null,null,null,null,null,null,null,null,null,null,null,null,null,null,null,null,null,null,null,null,null,null,{"$f":"IF(EJ32=\"--\",1,0)","v":1},null,null,"所有者氏名の編集"]
[]
[null,null,null,null,null,null,null,null,null,"　３　所有者",null,null,null,null,null,null,null,null,null,null,null,null,null,null,null,null,null,null,null,null,null,null,null,null,null,null,null,null,null,null,null,null,null,null,null,null,null,null,null,null,null,null,null,null,null,null,null,null,null,null,null,null,null,"第一面１欄",null,null,null,null,null,null,null,null,null,null,null,null,null,null,null,null,null,null,null,null,null,null,null,null,null,null,null,null,null,null,null,null,null,null,null,null,null,null,null,null,null,null,null,null,null,null,null,null,null,null,null,null,null,null,null,null,null,null,null,null,null,null,null,null,null,null,null,null,null,null,null,null,null,null,null,null,null,null,null,null,null,null,null,{"$f":"SUBSTITUTE(TRIM($AB$37&\"　\"&$AB$39&\"　\"&$AB$41),\"　\",\"　\")","v":""}]
[null,null,null,null,null,null,null,null,null,null,null,null,"法人名",null,null,null,null,null,"フリガナ",null,null,null,null,null,null,null,null,null,null,null,null,null,null,null,null,null,null,null,null,null,null,null,null,null,null,null,null,null,null,null,null,null,null,null,null,null,null,null,null,null,null,null,null,null,null,null,null,null,null,null,null,null,null,"　所有者が法人のときは、法人の名称及び代表者氏名、法人の所在地を記入してください。",null,null,null,null,null,null,null,null,null,null,null,null,null,null,null,null,null,null,null,null,null,null,null,null,null,null,null,null,null,null,null,null,null,null,null,null,null,null,null,null,null,null,null,null,null,null,null,null,null,null,null,null,null,null,null,null,null,null,null,null,null,null,null,null,null,null,null,null,null,null,"法人名フリガナ",{"$f":"TEXT(AB37,\"\")","v":""},null,{"$f":"SUBSTITUTE(TRIM(AB38&\"　\"&AB40&\"　\"&AB42),\"　\",\"　\")","v":""}]
[null,null,null,null,null,null,null,null,null,null,null,null,null,null,null,null,null,null,"法人名",null,null,null,null,null,null,null,null,null,null,null,null,null,null,null,null,null,null,null,null,null,null,null,null,null,null,null,null,null,null,null,null,null,null,null,null,null,null,null,null,null,null,null,null,null,null,null,null,null,null,null,null,null,null,null,null,null,null,null,null,null,null,null,null,null,null,null,null,null,null,null,null,null,null,null,null,null,null,null,null,null,null,null,null,null,null,null,null,null,null,null,null,null,null,null,null,null,null,null,null,null,null,null,null,null,null,null,null,null,null,null,null,null,null,null,null,null,null,null,null,null,null,null,null,null,"法人名","",null,{"$f":"TRIM(AB38)","v":""}]
[null,null,null,null,null,null,null,null,null,null,null,null,"肩書",null,null,null,null,null,"フリガナ",null,null,null,null,null,null,null,null,null,null,null,null,null,null,null,null,null,null,null,null,null,null,null,null,null,null,null,null,null,null,null,null,null,null,null,null,null,null,null,null,null,null,null,null,null,null,null,null,null,null,null,null,null,null,null,null,null,null,null,null,null,null,null,null,null,null,null,null,null,null,null,null,null,null,null,null,null,null,null,null,null,null,null,null,null,null,null,null,null,null,null,null,null,null,null,null,null,null,null,null,null,null,null,null,null,null,null,null,null,null,null,null,null,null,null,null,null,null,null,null,null,null,null,null,null,"肩書フリガナ","",null,{"$f":"SUBSTITUTE(TRIM(AB40&\"　\"&AB42),\"　\",\"　\")","v":""}]
[null,null,null,null,null,null,null,null,null,null,null,null,null,null,null,null,null,null,"肩書",null,null,null,null,null,null,null,null,null,null,null,null,null,null,null,null,null,null,null,null,null,null,null,null,null,null,null,null,null,null,null,null,null,null,null,null,null,null,null,null,null,null,null,null,null,null,null,null,null,null,null,null,null,null,null,null,null,null,null,null,null,null,null,null,null,null,null,null,null,null,null,null,null,null,null,null,null,null,null,null,null,null,null,null,null,null,null,null,null,null,null,null,null,null,null,null,null,null,null,null,null,null,null,null,null,null,null,null,null,null,null,null,null,null,null,null,null,null,null,null,null,null,null,null,null,"肩書",""]
[null,null,null,null,null,null,null,null,null,null,null,null,"氏名",null,null,null,null,null,"フリガナ",null,null,null,null,null,null,null,null,null,null,null,null,null,null,null,null,null,null,null,null,null,null,null,null,null,null,null,null,null,null,null,null,null,null,null,null,null,null,null,null,null,null,null,null,null,null,null,null,null,null,null,null,null,null,null,null,null,null,null,null,null,null,null,null,null,null,null,null,null,null,null,null,null,null,null,null,null,null,null,null,null,null,null,null,null,null,null,null,null,null,null,null,null,null,null,null,null,null,null,null,null,null,null,null,null,null,null,null,null,null,null,null,null,null,null,null,null,null,null,null,null,null,null,null,null,"フリガナ",{"$f":"TEXT(AB41,\"\")","v":""}]
[null,null,null,null,null,null,null,null,null,null,null,null,null,null,null,null,null,null,"氏名",null,null,null,null,null,null,null,null,null,null,null,null,null,null,null,null,null,null,null,null,null,null,null,null,null,null,null,null,null,null,null,null,null,null,null,null,null,null,null,null,null,null,null,null,null,null,null,null,null,null,null,null,null,null,null,null,null,null,null,null,null,null,null,null,null,null,null,null,null,null,null,null,null,null,null,null,null,null,null,null,null,null,null,null,null,null,null,null,null,null,null,null,null,null,null,null,null,null,null,null,null,null,null,null,null,null,null,null,null,null,null,null,null,null,null,null,null,null,"郵便番号",null,null,null,"郵便番号の未入力判定",null,null,"氏名",{"$f":"TEXT(AB42,\"\")","v":""}]
[null,null,null,null,null,null,null,null,null,null,null,null,"郵便番号",null,null,null,null,null,null,null,null,null,null,null,null,null,null,null,null,null,null,null,null,"－",null,null,null,null,null,null,null,null,null,null,null,null,null,null,null,null,null,null,null,null,null,null,null,null,null,null,null,null,null,null,null,null,null,null,null,null,null,null,null,null,null,null,null,null,null,null,null,null,null,null,null,null,null,null,null,null,null,null,null,null,null,null,null,null,null,null,null,null,null,null,null,null,null,null,null,null,null,null,null,null,null,null,null,null,null,null,null,null,null,null,null,null,null,null,null,null,null,null,null,null,null,null,null,{"$f":"CONCATENATE(AB43,\"-\",AK43)","v":"-"},{"$f":"ASC(EH43)","v":"-"},null,null,{"$f":"IF(EH43=\"-\",1,0)","v":1},null,null,"郵便番号",{"$f":"$EI$43","v":"-"}]
[null,null,null,null,null,null,null,null,null,null,null,null,"住所",null,null,null,null,null,null,null,null,null,null,null,null,null,null,null,null,null,null,null,null,null,null,null,null,null,null,null,null,null,null,null,null,null,null,null,null,null,null,null,null,null,null,null,null,null,null,null,null,null,null,null,null,null,null,null,null,null,null,null,null,null,null,null,null,null,null,null,null,null,null,null,null,null,null,null,null,null,null,null,null,null,null,null,null,null,null,null,null,null,null,null,null,null,null,null,null,null,null,null,null,null,null,null,null,null,null,null,null,null,null,null,null,null,null,null,null,null,null,null,null,null,null,null,null,"電話番号",null,null,null,"電話番号の未入力判定",null,null,"住所",{"$f":"TEXT(AB44,\"\")","v":""}]
[null,null,null,null,null,null,null,null,null,null,null,null,"電話番号",null,null,null,null,null,null,null,null,null,null,null,null,null,null,null,null,null,null,null,null,"－",null,null,null,null,null,null,null,null,"－",null,null,null,null,null,null,null,null,null,null,null,null,null,null,null,null,null,null,null,null,null,null,null,null,null,null,null,null,null,null,null,null,null,null,null,null,null,null,null,null,null,null,null,null,null,null,null,null,null,null,null,null,null,null,null,null,null,null,null,null,null,null,null,null,null,null,null,null,null,null,null,null,null,null,null,null,null,null,null,null,null,null,null,null,null,null,null,null,null,null,null,null,null,null,{"$f":"CONCATENATE(AB45,\"-\",AK45,\"-\",AT45)","v":"--"},{"$f":"ASC(EH45)","v":"--"},null,null,{"$f":"IF(EH45=\"--\",1,0)","v":1},null,null,"電話番号",{"$f":"$EI$45","v":"--"}]
[]
[null,null,null,null,null,null,null,null,null,"　４　管理者",null,null,null,null,null,null,null,null,null,"所有者と同じ",null,null,null,null,null,null,null,{"$f":"IF(EM47=TRUE,\"←所有者と同一の場合は記入不要です。様式には「３　所有者」が反映されます。\",\"\")","v":""},null,null,null,null,null,null,null,null,null,null,null,null,null,null,null,null,null,null,null,null,null,null,null,null,null,null,null,null,null,null,null,null,null,null,null,"第一面２欄",null,null,null,null,null,null,null,null,null,null,null,null,null,null,null,null,null,null,null,null,null,null,null,null,null,null,null,null,null,null,null,null,null,null,null,null,null,null,null,null,null,null,null,null,null,null,null,null,null,null,null,null,null,null,null,null,null,null,null,null,null,null,null,null,null,null,null,null,null,null,null,null,null,null,null,null,null,null,false,null,"管理者氏名の編集（”所有者と同じ”にチェックが入っていてもこちらは影響を受けない）"]
[null,null,null,null,null,null,null,null,null,null,null,null,"法人名",null,null,null,null,null,"フリガナ",null,null,null,null,null,null,null,null,null,null,null,null,null,null,null,null,null,null,null,null,null,null,null,null,null,null,null,null,null,null,null,null,null,null,null,null,null,null,null,null,null,null,null,null,null,null,null,null,null,null,null,null,null,null,"　管理者が法人のときは、法人の名称及び代表者氏名、法人の所在地を記入してください。",null,null,null,null,null,null,null,null,null,null,null,null,null,null,null,null,null,null,null,null,null,null,null,null,null,null,null,null,null,null,null,null,null,null,null,null,null,null,null,null,null,null,null,null,null,null,null,null,null,null,null,null,null,null,null,null,null,null,null,null,null,null,null,null,null,null,null,null,null,null,"法人名フリガナ",{"$f":"TEXT(AB48,\"\")","v":""},null,{"$f":"SUBSTITUTE(TRIM(AB48&\"　\"&AB50&\"　\"&AB52),\"　\",\"　\")","v":""}]
[null,null,null,null,null,null,null,null,null,null,null,null,null,null,null,null,null,null,"法人名",null,null,null,null,null,null,null,null,null,null,null,null,null,null,null,null,null,null,null,null,null,null,null,null,null,null,null,null,null,null,null,null,null,null,null,null,null,null,null,null,null,null,null,null,null,null,null,null,null,null,null,null,null,null,null,null,null,null,null,null,null,null,null,null,null,null,null,null,null,null,null,null,null,null,null,null,null,null,null,null,null,null,null,null,null,null,null,null,null,null,null,null,null,null,null,null,null,null,null,null,null,null,null,null,null,null,null,null,null,null,null,null,null,null,null,null,null,null,null,null,null,null,null,null,null,"法人名","",null,{"$f":"SUBSTITUTE(TRIM(AB49&\"　\"&AB51&\"　\"&AB53),\"　\",\"　\")","v":""}]
[null,null,null,null,null,null,null,null,null,null,null,null,"肩書",null,null,null,null,null,"フリガナ",null,null,null,null,null,null,null,null,null,null,null,null,null,null,null,null,null,null,null,null,null,null,null,null,null,null,null,null,null,null,null,null,null,null,null,null,null,null,null,null,null,null,null,null,null,null,null,null,null,null,null,null,null,null,null,null,null,null,null,null,null,null,null,null,null,null,null,null,null,null,null,null,null,null,null,null,null,null,null,null,null,null,null,null,null,null,null,null,null,null,null,null,null,null,null,null,null,null,null,null,null,null,null,null,null,null,null,null,null,null,null,null,null,null,null,null,null,null,null,null,null,null,null,null,null,"肩書フリガナ","",null,{"$f":"TRIM(AB49)","v":""}]
[null,null,null,null,null,null,null,null,null,null,null,null,null,null,null,null,null,null,"肩書",null,null,null,null,null,null,null,null,null,null,null,null,null,null,null,null,null,null,null,null,null,null,null,null,null,null,null,null,null,null,null,null,null,null,null,null,null,null,null,null,null,null,null,null,null,null,null,null,null,null,null,null,null,null,null,null,null,null,null,null,null,null,null,null,null,null,null,null,null,null,null,null,null,null,null,null,null,null,null,null,null,null,null,null,null,null,null,null,null,null,null,null,null,null,null,null,null,null,null,null,null,null,null,null,null,null,null,null,null,null,null,null,null,null,null,null,null,null,null,null,null,null,null,null,null,"肩書","",null,{"$f":"SUBSTITUTE(TRIM(AB51&\"　\"&AB53),\"　\",\"　\")","v":""}]
[null,null,null,null,null,null,null,null,null,null,null,null,"氏名",null,null,null,null,null,"フリガナ",null,null,null,null,null,null,null,null,null,null,null,null,null,null,null,null,null,null,null,null,null,null,null,null,null,null,null,null,null,null,null,null,null,null,null,null,null,null,null,null,null,null,null,null,null,null,null,null,null,null,null,null,null,null,null,null,null,null,null,null,null,null,null,null,null,null,null,null,null,null,null,null,null,null,null,null,null,null,null,null,null,null,null,null,null,null,null,null,null,null,null,null,null,null,null,null,null,null,null,null,null,null,null,null,null,null,null,null,null,null,null,null,null,null,null,null,null,null,null,null,null,null,null,null,null,"フリガナ",{"$f":"TEXT(AB52,\"\")","v":""}]
[null,null,null,null,null,null,null,null,null,null,null,null,null,null,null,null,null,null,"氏名",null,null,null,null,null,null,null,null,null,null,null,null,null,null,null,null,null,null,null,null,null,null,null,null,null,null,null,null,null,null,null,null,null,null,null,null,null,null,null,null,null,null,null,null,null,null,null,null,null,null,null,null,null,null,null,null,null,null,null,null,null,null,null,null,null,null,null,null,null,null,null,null,null,null,null,null,null,null,null,null,null,null,null,null,null,null,null,null,null,null,null,null,null,null,null,null,null,null,null,null,null,null,null,null,null,null,null,null,null,null,null,null,null,null,null,null,null,null,"郵便番号",null,null,null,"郵便番号の未入力判定",null,null,"氏名",{"$f":"TEXT(AB53,\"\")","v":""}]
[null,null,null,null,null,null,null,null,null,null,null,null,"郵便番号",null,null,null,null,null,null,null,null,null,null,null,null,null,null,null,null,null,null,null,null,"－",null,null,null,null,null,null,null,null,null,null,null,null,null,null,null,null,null,null,null,null,null,null,null,null,null,null,null,null,null,null,null,null,null,null,null,null,null,null,null,null,null,null,null,null,null,null,null,null,null,null,null,null,null,null,null,null,null,null,null,null,null,null,null,null,null,null,null,null,null,null,null,null,null,null,null,null,null,null,null,null,null,null,null,null,null,null,null,null,null,null,null,null,null,null,null,null,null,null,null,null,null,null,null,{"$f":"CONCATENATE(AB54,\"-\",AK54)","v":"-"},{"$f":"ASC(EH54)","v":"-"},null,null,{"$f":"IF(EH54=\"-\",1,0)","v":1},null,null,"郵便番号",{"$f":"$EI$54","v":"-"}]
[null,null,null,null,null,null,null,null,null,null,null,null,"住所",null,null,null,null,null,null,null,null,null,null,null,null,null,null,null,null,null,null,null,null,null,null,null,null,null,null,null,null,null,null,null,null,null,null,null,null,null,null,null,null,null,null,null,null,null,null,null,null,null,null,null,null,null,null,null,null,null,null,null,null,null,null,null,null,null,null,null,null,null,null,null,null,null,null,null,null,null,null,null,null,null,null,null,null,null,null,null,null,null,null,null,null,null,null,null,null,null,null,null,null,null,null,null,null,null,null,null,null,null,null,null,null,null,null,null,null,null,null,null,null,null,null,null,null,"電話番号",null,null,null,"電話番号の未入力判定",null,null,"住所",{"$f":"TEXT(AB55,\"\")","v":""}]
[null,null,null,null,null,null,null,null,null,null,null,null,"電話番号",null,null,null,null,null,null,null,null,null,null,null,null,null,null,null,null,null,null,null,null,"－",null,null,null,null,null,null,null,null,"－",null,null,null,null,null,null,null,null,null,null,null,null,null,null,null,null,null,null,null,null,null,null,null,null,null,null,null,null,null,null,null,null,null,null,null,null,null,null,null,null,null,null,null,null,null,null,null,null,null,null,null,null,null,null,null,null,null,null,null,null,null,null,null,null,null,null,null,null,null,null,null,null,null,null,null,null,null,null,null,null,null,null,null,null,null,null,null,null,null,null,null,null,null,null,{"$f":"CONCATENATE(AB56,\"-\",AK56,\"-\",AT56)","v":"--"},{"$f":"ASC(EH56)","v":"--"},null,null,{"$f":"IF(EH56=\"--\",1,0)","v":1},null,null,"電話番号",{"$f":"$EI$56","v":"--"}]
[]
[null,null,null,null,null,null,null,null,null,"　５　建築物の概要",null,null,null,null,null,null,null,null,null,null,null,null,null,null,null,null,null,null,null,null,null,null,null,null,null,null,null,null,null,null,null,null,null,null,null,null,null,null,null,null,null,null,null,null,null,null,null,null,null,null,null,null,null,"第二面１欄"]
[null,null,null,null,null,null,null,null,null,null,null,null,"階数",null,null,null,null,null,"地上",null,null,null,null,null,null,null,null,null,null,null,null,null,null,"階"]
[null,null,null,null,null,null,null,null,null,null,null,null,null,null,null,null,null,null,"地下",null,null,null,null,null,null,null,null,null,null,null,null,null,null,"階",null,{"$f":"IF(AB60=\"\",\"←地下がない場合は、0 と入力してください。\",\"\")","v":"←地下がない場合は、0 と入力してください。"}]
[null,null,null,null,null,null,null,null,null,null,null,null,"建築面積",null,null,null,null,null,null,null,null,null,null,null,null,null,null,null,null,null,null,null,null,"㎡",null,null,null,null,null,null,null,null,null,null,null,null,null,null,null,null,null,null,null,null,null,null,null,null,null,null,null,null,null,null,null,null,null,null,null,null,null,null,null,null,null,null,null,null,null,null,null,null,null,null,null,null,null,null,null,null,null,null,null,null,null,null,null,null,null,null,null,null,null,null,null,null,null,null,null,null,null,null,null,null,null,null,null,null,null,null,null,null,null,null,null,null,null,null,null,null,null,null,null,null,null,null,null,{"$f":"IF(AB61=\"\",0,1)","v":0}]
[null,null,null,null,null,null,null,null,null,null,null,null,"延べ面積",null,null,null,null,null,null,null,null,null,null,null,null,null,null,null,null,null,null,null,null,"㎡",null,null,null,null,null,null,null,null,null,null,null,null,null,null,null,null,null,null,null,null,null,null,null,null,null,null,null,null,null,null,null,null,null,null,null,null,null,null,null,null,null,null,null,null,null,null,null,null,null,null,null,null,null,null,null,null,null,null,null,null,null,null,null,null,null,null,null,null,null,null,null,null,null,null,null,null,null,null,null,null,null,null,null,null,null,null,null,null,null,null,null,null,null,null,null,null,null,null,null,null,null,null,null,{"$f":"IF(AB62=\"\",0,1)","v":0}]
[]
[null,null,null,null,null,null,null,null,null,"　６　確認済証交付年月日等",null,null,null,null,null,null,null,null,null,null,null,null,null,null,null,null,null,null,null,null,null,null,null,null,{"$f":"IF(EO64=TRUE,\"→勤務先が同一の場合は勤務先欄は記入不要です\",\"\")","v":""},null,null,null,null,null,null,null,null,null,null,null,null,null,null,null,null,null,null,null,null,null,null,null,null,null,null,null,null,"第二面２欄"]
[null,null,null,null,null,null,null,null,null,null,null,null,"確認済証交付年月日等",null,null,null,null,null,null,null,null,null,null,null,null,null,null,null,null,null,null,null,null,"年",null,null,null,null,"月",null,null,null,null,"日",null,"第",null,null,null,null,null,null,null,null,null,null,null,null,null,null,null,null,"号",null,null,null,null,null,null,null,null,null,null,null,null,null,null,null,null,null,null,null,null,null,null,null,null,null,null,null,null,null,null,null,null,null,null,null,null,null,null,null,null,null,null,null,null,null,null,null,null,null,null,null,null,null,null,null,null,null,null,null,null,null,null,null,null,null,null,null,null,null,null,null,null,null,null,null,"建築主事","指定確認検査機関"]
[null,null,null,null,null,null,null,null,null,null,null,null,"確認済み証明交付者",null,null,null,null,null,null,null,null,null,null,null,null,null,null,null,null,null,null,null,null,null,null,null,null,null,null,null,null,null,null,null,null,null,null,null,null,null,null,null,null,null,null,null,null,null,null,null,null,null,null,null,null,null,null,null,null,null,null,null,null,null,null,null,null,null,null,null,null,null,null,null,null,null,null,null,null,null,null,null,null,null,null,null,null,null,null,null,null,null,null,null,null,null,null,null,null,null,null,null,null,null,null,null,null,null,null,null,null,null,null,null,null,null,null,null,null,null,null,null,null,null,null,null,null,{"$f":"IF(OR(AB66=\"建築主事\",AB66=\"指定確認検査機関\"),1,0)","v":0},{"$f":"IF(AB66=\"建築主事\",\"レ\",\"\")","v":""},{"$f":"IF(AB66=\"指定確認検査機関\",\"レ\",\"\")","v":""},null,null,null,null,{"$f":"IF(EH66=2,LEFT($AB$66,2),\"\")","v":""}]
[null,null,null,null,null,null,null,null,null,null,null,null,"検査済証交付年月日等",null,null,null,null,null,null,null,null,null,null,null,null,null,null,null,null,null,null,null,null,"年",null,null,null,null,"月",null,null,null,null,"日",null,"第",null,null,null,null,null,null,null,null,null,null,null,null,null,null,null,null,"号",null,null,null,null,null,null,null,null,null,null,null,null,null,null,null,null,null,null,null,null,null,null,null,null,null,null,null,null,null,null,null,null,null,null,null,null,null,null,null,null,null,null,null,null,null,null,null,null,null,null,null,null,null,null,null,null,null,null,null,null,null,null,null,null,null,null,null,null,null,null,null,null,null,null,null,"建築主事","指定確認検査機関"]
[null,null,null,null,null,null,null,null,null,null,null,null,"検査済み証明交付者",null,null,null,null,null,null,null,null,null,null,null,null,null,null,null,null,null,null,null,null,null,null,null,null,null,null,null,null,null,null,null,null,null,null,null,null,null,null,null,null,null,null,null,null,null,null,null,null,null,null,null,{"$f":"IF(AB68=\"指定確認検査機関\",\"←指定確認検査機関の場合、機関名の入力が必要です\",\"\")","v":""},null,null,null,null,null,null,null,null,null,null,null,null,null,null,null,null,null,null,null,null,null,null,null,null,null,null,null,null,null,null,null,null,null,null,null,null,null,null,null,null,null,null,null,null,null,null,null,null,null,null,null,null,null,null,null,null,null,null,null,null,null,null,null,null,null,null,null,null,null,null,null,null,{"$f":"IF(OR(AB68=\"建築主事\",AB68=\"指定確認検査機関\"),1,0)","v":0},{"$f":"IF(AB68=\"建築主事\",\"レ\",\"\")","v":""},{"$f":"IF(AB68=\"指定確認検査機関\",\"レ\",\"\")","v":""}]
[]
[null,null,null,null,null,null,null,null,null,"　７　検査日等",null,null,null,null,null,null,null,null,null,null,null,null,null,null,null,null,null,null,null,null,null,null,null,null,null,null,null,null,null,null,null,null,null,null,null,null,null,null,null,null,null,null,null,null,null,null,null,null,null,null,null,null,null,"第二面３欄",null,null,null,null,null,null,null,null,null,null,null,null,null,null,null,null,null,null,null,null,null,null,null,null,null,null,null,null,null,null,null,null,null,null,null,null,null,null,null,null,null,null,null,null,null,null,null,null,null,null,null,null,null,null,null,null,null,null,null,null,null,null,null,null,null,null,null,null,null,null,null,null,"未入力判定(年月日未入力で1)"]
[null,null,null,null,null,null,null,null,null,null,null,null,"今回の検査",null,null,null,null,null,null,null,null,null,null,"実施日",null,null,null,null,null,null,null,"令和",null,null,null,null,null,"年",null,null,null,null,"月",null,null,null,null,"日実施",null,null,null,null,null,null,null,null,null,null,null,null,null,null,null,null,null,null,null,null,null,null,null,null,null,null,null,null,null,null,null,null,null,null,null,null,null,null,null,null,null,null,null,null,null,null,null,null,null,null,null,null,null,null,null,null,null,null,null,null,null,null,null,null,null,null,null,null,null,null,null,null,null,null,null,null,null,null,null,null,null,null,null,null,null,null,null,null,{"$f":"IF(AND(AI71=\"\",AN71=\"\",AS71=\"\"),1,0)","v":1},null,"実施","未実施","有","無"]
[null,null,null,null,null,null,null,null,null,null,null,null,"前回の検査",null,null,null,null,null,null,null,null,null,null,null,null,null,null,null,null,null,null,null,null,null,null,null,null,"年",null,null,null,null,"月",null,null,null,null,"日報告",null,null,null,null,null,null,null,null,null,null,null,null,null,null,null,null,null,null,null,null,null,null,null,null,null,null,null,null,null,null,null,null,null,null,null,null,null,null,null,null,null,null,null,null,null,null,null,null,null,null,null,null,null,null,null,null,null,null,null,null,null,null,null,null,null,null,null,null,null,null,null,null,null,null,null,null,null,null,null,null,null,null,null,null,null,null,null,null,null,{"$f":"IF(OR($X$72=\"実施\",),1,0)","v":0},{"$f":"IF(X72=\"実施\",\"レ\",\"\")","v":""},{"$f":"IF(X72=\"未実施\",\"レ\",\"\")","v":""},{"$f":"IF(AB73=\"有\",\"レ\",\"\")","v":""},{"$f":"IF(AB73=\"無\",\"レ\",\"\")","v":""}]
[null,null,null,null,null,null,null,null,null,null,null,null,"前回の書類に関する写しの有無",null,null,null,null,null,null,null,null,null,null,null,null,null,null,null,null,null,null,null,null,null,null,null,null,null,null,null,null,null,null,null,null,null,null,null,null,null,null,null,null,null,null,null,null,null,null,null,null,null,null,null,null,null,null,null,null,null,null,null,null,null,null,null,null,null,null,null,null,null,null,null,null,null,null,null,null,null,null,null,null,null,null,null,null,null,null,null,null,null,null,null,null,null,null,null,null,null,null,null,null,null,null,null,null,null,null,null,null,null,null,null,null,null,null,null,null,null,null,null,null,null,null,null,null,false]
[]
[null,null,null,null,null,null,null,null,null,"　８　防火設備の検査者(代表となる検査者)",null,null,null,null,null,null,null,null,null,null,null,null,null,null,null,null,null,null,null,null,null,null,null,null,null,null,null,null,null,null,null,null,null,null,null,null,null,null,null,null,null,null,null,null,null,null,null,null,null,null,null,null,null,"第二面４欄"]
[null,null,null,null,null,null,null,null,null,null,null,null,"資格",null,null,null,null,null,"資格名称",null,null,null,null,null,null,null,null,null,null,null,null,null,null,null,null,null,null,null,null,null,null,null,null,null,null,null,null,null,null,null,null,null,null,null,null,null,null,null,null,null,null,null,null,null,null,null,null,null,null,null,null,null,null,null,null,null,null,null,null,null,null,null,null,null,null,null,null,null,null,null,null,null,null,null,null,null,null,null,null,null,null,null,null,null,null,null,null,null,null,null,null,null,null,null,null,null,null,null,null,null,null,null,null,null,null,null,null,null,null,null,null,null,null,null,null,null,null,{"$f":"IF(AB76=\"\",0,IF(AB76=\"防火設備検査員\",1,2))","v":0},"一級建築士","二級建築士","防火設備検査員",null,null,null,{"$f":"IF(EH76=2,LEFT($AB$76,2),\"\")","v":""}]
[null,null,null,null,null,null,null,null,null,null,null,null,null,null,null,null,null,null,"建築士",null,null,null,null,null,null,null,null,null,null,null,null,null,null,null,null,null,null,null,null,null,null,null,"登録",null,null,null,null,null,null,null,null,null,null,null,null,null,null,null,null,null,null,null,null,null,null,null,null,null,null,null,null,null,null,null,null,null,null,null,null,null,null,null,null,null,null,null,null,null,null,null,null,null,null,null,null,null,null,null,null,null,null,null,null,null,null,null,null,null,null,null,null,null,null,null,null,null,null,null,null,null,null,null,null,null,null,null,null,null,null,null,null,null,null,null,null,null,null,{"$f":"IF(OR($AB$76=\"一級建築士\",$AB$76=\"二級建築士\"),1,0)","v":0},{"$f":"IF('1_入力シート【基本情報】'!AB76=\"一級建築士\",\"一級\",\"\")","v":""},{"$f":"IF('1_入力シート【基本情報】'!AB76=\"二級建築士\",\"二級\",\"\")","v":""},{"$f":"IF('1_入力シート【基本情報】'!AB76=\"防火設備検査員\",\"レ\",\"\")","v":""},null,null,null,{"$f":"IF($AB$77=\"\",\"\",$AB$77)","v":""}]
[null,null,null,null,null,null,null,null,null,null,null,null,null,null,null,null,null,null,null,null,null,null,null,null,null,"第",null,null,null,null,null,null,null,null,null,null,null,null,null,null,null,null,"号",null,null,null,null,null,null,null,null,null,null,null,null,null,null,null,null,null,null,null,null,null,null,null,null,null,null,null,null,null,null,null,null,null,null,null,null,null,null,null,null,null,null,null,null,null,null,null,null,null,null,null,null,null,null,null,null,null,null,null,null,null,null,null,null,null,null,null,null,null,null,null,null,null,null,null,null,null,null,null,null,null,null,null,null,null,null,null,null,null,null,null,null,null,null,null,null,null,null,null,null,null,{"$f":"IF($AB$78=\"\",\"\",$AB$78)","v":""}]
[null,null,null,null,null,null,null,null,null,null,null,null,null,null,null,null,null,null,"防火設備検査員",null,null,null,null,null,null,"第",null,null,null,null,null,null,null,null,null,null,null,null,null,null,null,null,"号",null,null,null,null,null,null,null,null,null,null,null,null,null,null,null,null,null,null,null,null,null,null,null,null,null,null,null,null,null,null,null,null,null,null,null,null,null,null,null,null,null,null,null,null,null,null,null,null,null,null,null,null,null,null,null,null,null,null,null,null,null,null,null,null,null,null,null,null,null,null,null,null,null,null,null,null,null,null,null,null,null,null,null,null,null,null,null,null,null,null,null,null,null,null,null,null,null,null,null,null,null,{"$f":"IF($AB$79=\"\",\"\",$AB$79)","v":""}]
[null,null,null,null,null,null,null,null,null,null,null,null,"氏名",null,null,null,null,null,"フリガナ",null,null,null,null,null,null,null,null,null,null,null,null,null,null,null,null,null,null,null,null,null,null,null,null,null,null,null,null,null,null,null,null,null,null,null,null,null,null,null,null,null,null,null,null,null,null,null,null,null,null,null,null,null,null,"　検査者が法人に勤務している場合は、検査者の勤務先について記入し、勤務先が建築士事務所のときは、事務所登録番号を併せて記入してください。",null,null,null,null,null,null,null,null,null,null,null,null,null,null,null,null,null,null,null,null,null,null,null,null,null,null,null,null,null,null,null,null,null,null,null,null,null,null,null,null,null,null,null,null,null,null,null,null,null,null,null,null,null,null,null,null,null,null,null,null,null,null,null,null,null,null,null,null,null,null,{"$f":"IF($AB$80=\"\",\"\",$AB$80)","v":""}]
[null,null,null,null,null,null,null,null,null,null,null,null,null,null,null,null,null,null,"氏名",null,null,null,null,null,null,null,null,null,null,null,null,null,null,null,null,null,null,null,null,null,null,null,null,null,null,null,null,null,null,null,null,null,null,null,null,null,null,null,null,null,null,null,null,null,null,null,null,null,null,null,null,null,null,null,null,null,null,null,null,null,null,null,null,null,null,null,null,null,null,null,null,null,null,null,null,null,null,null,null,null,null,null,null,null,null,null,null,null,null,null,null,null,null,null,null,null,null,null,null,null,null,null,null,null,null,null,null,null,null,null,null,null,null,null,null,null,null,null,null,null,null,null,null,null,{"$f":"IF($AB$81=\"\",\"\",$AB$81)","v":""}]
[null,null,null,null,null,null,null,null,null,null,null,null,"勤務先",null,null,null,null,null,"名称",null,null,null,null,null,null,null,null,null,null,null,null,null,null,null,null,null,null,null,null,null,null,null,null,null,null,null,null,null,null,null,null,null,null,null,null,null,null,null,null,null,null,null,null,null,null,null,null,null,null,null,null,null,null,null,null,null,null,null,null,null,null,null,null,null,null,null,null,null,null,null,null,null,null,null,null,null,null,null,null,null,null,null,null,null,null,null,null,null,null,null,null,null,null,null,null,null,null,null,null,null,null,null,null,null,null,null,null,null,null,null,null,null,null,null,null,null,null,null,null,null,null,null,null,null,{"$f":"IF($AB$82=\"\",\"\",$AB$82)","v":""}]
[null,null,null,null,null,null,null,null,null,null,null,null,null,null,null,null,null,null,"事務所登録",null,null,null,null,null,null,null,null,null,null,null,null,null,null,null,null,null,null,null,null,null,null,null,"建築士事務所",null,null,null,null,null,null,null,null,null,null,null,null,null,null,null,null,null,null,null,null,null,null,null,null,null,null,null,null,null,null,null,null,null,null,null,null,null,null,null,null,null,null,null,null,null,null,null,null,null,null,null,null,null,null,null,null,null,null,null,null,null,null,null,null,null,null,null,null,null,null,null,null,null,null,null,null,null,null,null,null,null,null,null,null,null,null,null,null,null,null,null,null,null,null,{"$f":"IF(AB83=\"\",0,IF(AB83=\"防火設備検査員\",1,2))","v":0},null,null,null,null,null,null,{"$f":"IF($AB$83=\"\",\"\",$AB$83)","v":""}]
[null,null,null,null,null,null,null,null,null,null,null,null,null,null,null,null,null,null,null,null,null,null,null,null,null,null,null,null,null,null,null,null,null,null,null,null,null,null,null,null,null,null,"知事登録",null,null,null,null,null,null,null,null,null,null,null,null,null,null,null,null,null,null,null,null,null,null,null,null,null,null,null,null,null,null,"　検査者の勤務先について記入し、検査者が法人に勤務していない場合は、検査者の住所について記入してください。",null,null,null,null,null,null,null,null,null,null,null,null,null,null,null,null,null,null,null,null,null,null,null,null,null,null,null,null,null,null,null,null,null,null,null,null,null,null,null,null,null,null,null,null,null,null,null,null,null,null,null,null,null,null,null,null,null,null,null,null,null,null,null,{"$f":"IF(OR($AB$83=\"一級\",$AB$83=\"二級\"),1,0)","v":0},null,null,null,null,null,null,{"$f":"IF($AB$84=\"\",\"\",$AB$84)","v":""}]
[null,null,null,null,null,null,null,null,null,null,null,null,null,null,null,null,null,null,null,null,null,null,null,null,null,"第",null,null,null,null,null,null,null,null,null,null,null,null,null,null,null,null,"号",null,null,null,null,null,null,null,null,null,null,null,null,null,null,null,null,null,null,null,null,null,null,null,null,null,null,null,null,null,null,null,null,null,null,null,null,null,null,null,null,null,null,null,null,null,null,null,null,null,null,null,null,null,null,null,null,null,null,null,null,null,null,null,null,null,null,null,null,null,null,null,null,null,null,null,null,null,null,null,null,null,null,null,null,null,null,null,null,null,null,null,null,null,null,"郵便番号",null,null,null,"郵便番号の未入力判定",null,null,{"$f":"IF($AB$85=\"\",\"\",$AB$85)","v":""}]
[null,null,null,null,null,null,null,null,null,null,null,null,null,null,null,null,null,null,"郵便番号",null,null,null,null,null,null,null,null,null,null,null,null,null,null,"－",null,null,null,null,null,null,null,null,null,null,null,null,null,null,null,null,null,null,null,null,null,null,null,null,null,null,null,null,null,null,null,null,null,null,null,null,null,null,null,null,null,null,null,null,null,null,null,null,null,null,null,null,null,null,null,null,null,null,null,null,null,null,null,null,null,null,null,null,null,null,null,null,null,null,null,null,null,null,null,null,null,null,null,null,null,null,null,null,null,null,null,null,null,null,null,null,null,null,null,null,null,null,null,{"$f":"CONCATENATE(AB86,\"-\",AK86)","v":"-"},{"$f":"ASC(EH86)","v":"-"},null,null,{"$f":"IF(EH86=\"-\",1,0)","v":1},null,null,{"$f":"IF($EH$86=\"\",\"\",$EH$86)","v":"-"}]
[null,null,null,null,null,null,null,null,null,null,null,null,null,null,null,null,null,null,"所在地",null,null,null,null,null,null,null,null,null,null,null,null,null,null,null,null,null,null,null,null,null,null,null,null,null,null,null,null,null,null,null,null,null,null,null,null,null,null,null,null,null,null,null,null,null,null,null,null,null,null,null,null,null,null,null,null,null,null,null,null,null,null,null,null,null,null,null,null,null,null,null,null,null,null,null,null,null,null,null,null,null,null,null,null,null,null,null,null,null,null,null,null,null,null,null,null,null,null,null,null,null,null,null,null,null,null,null,null,null,null,null,null,null,null,null,null,null,null,"電話番号",null,null,null,"電話番号の未入力判定",null,null,{"$f":"IF($AB$87=\"\",\"\",$AB$87)","v":""}]
[null,null,null,null,null,null,null,null,null,null,null,null,null,null,null,null,null,null,"電話番号",null,null,null,null,null,null,null,null,null,null,null,null,null,null,"－",null,null,null,null,null,null,null,null,"－",null,null,null,null,null,null,null,null,null,null,null,null,null,null,null,null,null,null,null,null,null,null,null,null,null,null,null,null,null,null,null,null,null,null,null,null,null,null,null,null,null,null,null,null,null,null,null,null,null,null,null,null,null,null,null,null,null,null,null,null,null,null,null,null,null,null,null,null,null,null,null,null,null,null,null,null,null,null,null,null,null,null,null,null,null,null,null,null,null,null,null,null,null,null,{"$f":"CONCATENATE(AB88,\"-\",AK88,\"-\",AT88)","v":"--"},{"$f":"ASC(EH88)","v":"--"},null,null,{"$f":"IF(EH88=\"--\",1,0)","v":1},null,null,{"$f":"CONCATENATE(AB88,\"-\",AK88,\"-\",AT88)","v":"--"}]
[null,null,null,null,null,null,null,null,null,null,null,null,"(その他検査者1)",null,null,null,null,null,null,null,null,null,null,null,"代表となる検査者と勤務先が同じ",null,null,null,null,null,null,null,null,null,null,null,null,null,null,null,null,null,{"$f":"IF(EO89=TRUE,\"←勤務先が同一の場合は勤務先欄は記入不要です。\",\"\")","v":""},null,null,null,null,null,null,null,null,null,null,null,null,null,null,null,null,null,null,null,null,"第二面４欄",null,null,null,null,null,null,null,null,null,null,null,null,null,null,null,null,null,null,null,null,null,null,null,null,null,null,null,null,null,null,null,null,null,null,null,null,null,null,null,null,null,null,null,null,null,null,null,null,null,null,null,null,null,null,null,null,null,null,null,null,null,null,null,null,null,null,null,null,null,null,null,null,null,"空白で反映",null,null,null,null,null,null,false]
[null,null,null,null,null,null,null,null,null,null,null,null,"資格",null,null,null,null,null,"資格名称",null,null,null,null,null,null,null,null,null,null,null,null,null,null,null,null,null,null,null,null,null,null,null,null,null,null,null,null,null,null,null,null,null,null,null,null,null,null,null,null,null,null,null,null,null,null,null,null,null,null,null,null,null,null,"　代表となる検査者と勤務先が同じ場合、チェックを入れてください。その場合は、報告書及び概要書には、５.代表となる検査者に入力した勤務先が転記されます。",null,null,null,null,null,null,null,null,null,null,null,null,null,null,null,null,null,null,null,null,null,null,null,null,null,null,null,null,null,null,null,null,null,null,null,null,null,null,null,null,null,null,null,null,null,null,null,null,null,null,null,null,null,null,null,null,null,null,null,null,null,null,null,{"$f":"IF(AB90=\"\",0,IF(AB90=\"防火設備検査員\",1,2))","v":0},null,null,null,null,null,null,{"$f":"IF(EH91=1,LEFT($AB$90,2),\"\")","v":""}]
[null,null,null,null,null,null,null,null,null,null,null,null,null,null,null,null,null,null,"建築士",null,null,null,null,null,null,null,null,null,null,null,null,null,null,null,null,null,null,null,null,null,null,null,"登録",null,null,null,null,null,null,null,null,null,null,null,null,null,null,null,null,null,null,null,null,null,null,null,null,null,null,null,null,null,null,null,null,null,null,null,null,null,null,null,null,null,null,null,null,null,null,null,null,null,null,null,null,null,null,null,null,null,null,null,null,null,null,null,null,null,null,null,null,null,null,null,null,null,null,null,null,null,null,null,null,null,null,null,null,null,null,null,null,null,null,null,null,null,null,{"$f":"IF(OR(AB90=\"一級建築士\",AB90=\"二級建築士\"),1,0)","v":0},"1：建築士",null,null,null,null,null,{"$f":"IF(AB91=\"\",\"\",AB91)","v":""}]
[null,null,null,null,null,null,null,null,null,null,null,null,null,null,null,null,null,null,null,null,null,null,null,null,null,"第",null,null,null,null,null,null,null,null,null,null,null,null,null,null,null,null,"号",null,null,null,null,null,null,null,null,null,null,null,null,null,null,null,null,null,null,null,null,null,null,null,null,null,null,null,null,null,null,null,null,null,null,null,null,null,null,null,null,null,null,null,null,null,null,null,null,null,null,null,null,null,null,null,null,null,null,null,null,null,null,null,null,null,null,null,null,null,null,null,null,null,null,null,null,null,null,null,null,null,null,null,null,null,null,null,null,null,null,null,null,null,null,null,"2:検査員",null,null,null,null,null,{"$f":"IF(AB92=\"\",\"\",AB92)","v":""}]
[null,null,null,null,null,null,null,null,null,null,null,null,null,null,null,null,null,null,"防火設備検査員",null,null,null,null,null,null,"第",null,null,null,null,null,null,null,null,null,null,null,null,null,null,null,null,"号",null,null,null,null,null,null,null,null,null,null,null,null,null,null,null,null,null,null,null,null,null,null,null,null,null,null,null,null,null,null,null,null,null,null,null,null,null,null,null,null,null,null,null,null,null,null,null,null,null,null,null,null,null,null,null,null,null,null,null,null,null,null,null,null,null,null,null,null,null,null,null,null,null,null,null,null,null,null,null,null,null,null,null,null,null,null,null,null,null,null,null,null,null,null,null,null,null,null,null,null,null,{"$f":"IF(AB93=\"\",\"\",AB93)","v":""}]
[null,null,null,null,null,null,null,null,null,null,null,null,"氏名",null,null,null,null,null,"フリガナ",null,null,null,null,null,null,null,null,null,null,null,null,null,null,null,null,null,null,null,null,null,null,null,null,null,null,null,null,null,null,null,null,null,null,null,null,null,null,null,null,null,null,null,null,null,null,null,null,null,null,null,null,null,null,null,null,null,null,null,null,null,null,null,null,null,null,null,null,null,null,null,null,null,null,null,null,null,null,null,null,null,null,null,null,null,null,null,null,null,null,null,null,null,null,null,null,null,null,null,null,null,null,null,null,null,null,null,null,null,null,null,null,null,null,null,null,null,null,null,null,null,null,null,null,null,{"$f":"IF(AB94=\"\",\"\",AB94)","v":""}]
[null,null,null,null,null,null,null,null,null,null,null,null,null,null,null,null,null,null,"氏名",null,null,null,null,null,null,null,null,null,null,null,null,null,null,null,null,null,null,null,null,null,null,null,null,null,null,null,null,null,null,null,null,null,null,null,null,null,null,null,null,null,null,null,null,null,null,null,null,null,null,null,null,null,null,null,null,null,null,null,null,null,null,null,null,null,null,null,null,null,null,null,null,null,null,null,null,null,null,null,null,null,null,null,null,null,null,null,null,null,null,null,null,null,null,null,null,null,null,null,null,null,null,null,null,null,null,null,null,null,null,null,null,null,null,null,null,null,null,null,null,null,null,null,null,null,{"$f":"IF(AB95=\"\",\"\",AW95)","v":""}]
[null,null,null,null,null,null,null,null,null,null,null,null,"勤務先",null,null,null,null,null,"名称",null,null,null,null,null,null,null,null,null,null,null,null,null,null,null,null,null,null,null,null,null,null,null,null,null,null,null,null,null,null,null,null,null,null,null,null,null,null,null,null,null,null,null,null,null,null,null,null,null,null,null,null,null,null,null,null,null,null,null,null,null,null,null,null,null,null,null,null,null,null,null,null,null,null,null,null,null,null,null,null,null,null,null,null,null,null,null,null,null,null,null,null,null,null,null,null,null,null,null,null,null,null,null,null,null,null,null,null,null,null,null,null,null,null,null,null,null,null,null,null,null,null,null,null,null,{"$f":"IF(AB96=\"\",\"\",AB96)","v":""}]
[null,null,null,null,null,null,null,null,null,null,null,null,null,null,null,null,null,null,"事務所登録",null,null,null,null,null,null,null,null,null,null,null,null,null,null,null,null,null,null,null,null,null,null,null,"建築士事務所",null,null,null,null,null,null,null,null,null,null,null,null,null,null,null,null,null,null,null,null,null,null,null,null,null,null,null,null,null,null,null,null,null,null,null,null,null,null,null,null,null,null,null,null,null,null,null,null,null,null,null,null,null,null,null,null,null,null,null,null,null,null,null,null,null,null,null,null,null,null,null,null,null,null,null,null,null,null,null,null,null,null,null,null,null,null,null,null,null,null,null,null,null,null,null,null,null,null,null,null,null,{"$f":"IF(AB97=\"\",\"\",AB97)","v":""}]
[null,null,null,null,null,null,null,null,null,null,null,null,null,null,null,null,null,null,null,null,null,null,null,null,null,null,null,null,null,null,null,null,null,null,null,null,null,null,null,null,null,null,"知事登録",null,null,null,null,null,null,null,null,null,null,null,null,null,null,null,null,null,null,null,null,null,null,null,null,null,null,null,null,null,null,null,null,null,null,null,null,null,null,null,null,null,null,null,null,null,null,null,null,null,null,null,null,null,null,null,null,null,null,null,null,null,null,null,null,null,null,null,null,null,null,null,null,null,null,null,null,null,null,null,null,null,null,null,null,null,null,null,null,null,null,null,null,null,null,null,null,null,null,null,null,null,{"$f":"IF(AB98=\"\",\"\",AB98)","v":""}]
[null,null,null,null,null,null,null,null,null,null,null,null,null,null,null,null,null,null,null,null,null,null,null,null,null,"第",null,null,null,null,null,null,null,null,null,null,null,null,null,null,null,null,"号",null,null,null,null,null,null,null,null,null,null,null,null,null,null,null,null,null,null,null,null,null,null,null,null,null,null,null,null,null,null,null,null,null,null,null,null,null,null,null,null,null,null,null,null,null,null,null,null,null,null,null,null,null,null,null,null,null,null,null,null,null,null,null,null,null,null,null,null,null,null,null,null,null,null,null,null,null,null,null,null,null,null,null,null,null,null,null,null,null,null,null,null,null,null,"郵便番号",null,null,null,"郵便番号の未入力判定",null,null,{"$f":"IF(AW99=\"\",\"\",AW99)","v":""}]
[null,null,null,null,null,null,null,null,null,null,null,null,null,null,null,null,null,null,"郵便番号",null,null,null,null,null,null,null,null,null,null,null,null,null,null,"－",null,null,null,null,null,null,null,null,null,null,null,null,null,null,null,null,null,null,null,null,null,null,null,null,null,null,null,null,null,null,null,null,null,null,null,null,null,null,null,null,null,null,null,null,null,null,null,null,null,null,null,null,null,null,null,null,null,null,null,null,null,null,null,null,null,null,null,null,null,null,null,null,null,null,null,null,null,null,null,null,null,null,null,null,null,null,null,null,null,null,null,null,null,null,null,null,null,null,null,null,null,null,null,{"$f":"CONCATENATE(AB100,\"-\",AK100)","v":"-"},{"$f":"ASC(EH100)","v":"-"},null,null,{"$f":"IF(EH100=\"-\",1,0)","v":1},null,null,{"$f":"IF(EH100=\"\",\"\",EI100)","v":"-"}]
[null,null,null,null,null,null,null,null,null,null,null,null,null,null,null,null,null,null,"所在地",null,null,null,null,null,null,null,null,null,null,null,null,null,null,null,null,null,null,null,null,null,null,null,null,null,null,null,null,null,null,null,null,null,null,null,null,null,null,null,null,null,null,null,null,null,null,null,null,null,null,null,null,null,null,null,null,null,null,null,null,null,null,null,null,null,null,null,null,null,null,null,null,null,null,null,null,null,null,null,null,null,null,null,null,null,null,null,null,null,null,null,null,null,null,null,null,null,null,null,null,null,null,null,null,null,null,null,null,null,null,null,null,null,null,null,null,null,null,"電話番号",null,null,null,"電話番号の未入力判定",null,null,{"$f":"IF(AB101=\"\",\"\",AB101)","v":""}]
[null,null,null,null,null,null,null,null,null,null,null,null,null,null,null,null,null,null,"電話番号",null,null,null,null,null,null,null,null,null,null,null,null,null,null,"－",null,null,null,null,null,null,null,null,"－",null,null,null,null,null,null,null,null,null,null,null,null,null,null,null,null,null,null,null,null,null,null,null,null,null,null,null,null,null,null,null,null,null,null,null,null,null,null,null,null,null,null,null,null,null,null,null,null,null,null,null,null,null,null,null,null,null,null,null,null,null,null,null,null,null,null,null,null,null,null,null,null,null,null,null,null,null,null,null,null,null,null,null,null,null,null,null,null,null,null,null,null,null,null,{"$f":"CONCATENATE(AB102,\"-\",AK102,\"-\",AT102)","v":"--"},{"$f":"ASC(EH102)","v":"--"},null,null,{"$f":"IF(EH102=\"--\",1,0)","v":1},null,null,{"$f":"IF(EH102=\"\",\"\",EI102)","v":"--"}]
[null,null,null,null,null,null,null,null,null,null,null,null,"(その他検査者2)",null,null,null,null,null,null,null,null,null,null,null,"代表となる検査者と勤務先が同じ",null,null,null,null,null,null,null,null,null,null,null,null,null,null,null,null,null,{"$f":"IF(EO103=TRUE,\"←勤務先が同一の場合は勤務先欄は記入不要です。\",\"\")","v":""},null,null,null,null,null,null,null,null,null,null,null,null,null,null,null,null,null,null,null,null,"第二面８欄",null,null,null,null,null,null,null,null,null,null,null,null,null,null,null,null,null,null,null,null,null,null,null,null,null,null,null,null,null,null,null,null,null,null,null,null,null,null,null,null,null,null,null,null,null,null,null,null,null,null,null,null,null,null,null,null,null,null,null,null,null,null,null,null,null,null,null,null,null,null,null,null,null,"防火設備検査員",null,"項目","前","値","後",null,false,null,"3人目の検査者"]
[null,null,null,null,null,null,null,null,null,null,null,null,"資格",null,null,null,null,null,"資格名称",null,null,null,null,null,null,null,null,null,null,null,null,null,null,null,null,null,null,null,null,null,null,null,null,null,null,null,null,null,null,null,null,null,null,null,null,null,null,null,null,null,null,null,null,null,null,null,null,null,null,null,null,null,null,"　代表となる検査者と勤務先が同じ場合、チェックを入れてください。その場合は、報告書及び概要書には、５.代表となる検査者に入力した勤務先が転記されます。",null,null,null,null,null,null,null,null,null,null,null,null,null,null,null,null,null,null,null,null,null,null,null,null,null,null,null,null,null,null,null,null,null,null,null,null,null,null,null,null,null,null,null,null,null,null,null,null,null,null,null,null,null,null,null,null,null,null,null,null,null,null,null,{"$f":"IF(AB104=\"\",0,IF(AB104=\"防火設備検査員\",1,2))","v":0},null,{"$f":"S104","v":"資格名称"},null,{"$f":"AB104","v":0},null,null,{"$f":"IF(EH104=2,LEFT($AB$104,2),\"\")","v":""},null,{"$f":"CONCATENATE(\"その他の検査者2：\",AB109,\"　\",AB104,\"　/　\")","v":"その他の検査者2：　　/　"}]
[null,null,null,null,null,null,null,null,null,null,null,null,null,null,null,null,null,null,"建築士",null,null,null,null,null,null,null,null,null,null,null,null,null,null,null,null,null,null,null,null,null,null,null,"登録",null,null,null,null,null,null,null,null,null,null,null,null,null,null,null,null,null,null,null,null,null,null,null,null,null,null,null,null,null,null,null,null,null,null,null,null,null,null,null,null,null,null,null,null,null,null,null,null,null,null,null,null,null,null,null,null,null,null,null,null,null,null,null,null,null,null,null,null,null,null,null,null,null,null,null,null,null,null,null,null,null,null,null,null,null,null,null,null,null,null,null,null,null,null,{"$f":"IF(OR($AB$104=\"一級建築士\",$AB$104=\"二級建築士\"),1,0)","v":0},"1：建築士",{"$f":"S105","v":"建築士"},null,0,null,null,{"$f":"IF(AB105=\"\",\"\",AB105)","v":""}]
[null,null,null,null,null,null,null,null,null,null,null,null,null,null,null,null,null,null,null,null,null,null,null,null,null,"第",null,null,null,null,null,null,null,null,null,null,null,null,null,null,null,null,"号",null,null,null,null,null,null,null,null,null,null,null,null,null,null,null,null,null,null,null,null,null,null,null,null,null,null,null,null,null,null,null,null,null,null,null,null,null,null,null,null,null,null,null,null,null,null,null,null,null,null,null,null,null,null,null,null,null,null,null,null,null,null,null,null,null,null,null,null,null,null,null,null,null,null,null,null,null,null,null,null,null,null,null,null,null,null,null,null,null,null,null,null,null,null,null,"2:検査員","第",null,0,null,null,{"$f":"IF(AB106=\"\",\"\",AB106)","v":""}]
[null,null,null,null,null,null,null,null,null,null,null,null,null,null,null,null,null,null,"防火設備検査員",null,null,null,null,null,null,"第",null,null,null,null,null,null,null,null,null,null,null,null,null,null,null,null,"号",null,null,null,null,null,null,null,null,null,null,null,null,null,null,null,null,null,null,null,null,null,null,null,null,null,null,null,null,null,null,null,null,null,null,null,null,null,null,null,null,null,null,null,null,null,null,null,null,null,null,null,null,null,null,null,null,null,null,null,null,null,null,null,null,null,null,null,null,null,null,null,null,null,null,null,null,null,null,null,null,null,null,null,null,null,null,null,null,null,null,null,null,null,null,null,null,{"$f":"S107","v":"防火設備検査員"},null,0,null,null,{"$f":"IF(AB107=\"\",\"\",AB107)","v":""}]
[null,null,null,null,null,null,null,null,null,null,null,null,"氏名",null,null,null,null,null,"フリガナ",null,null,null,null,null,null,null,null,null,null,null,null,null,null,null,null,null,null,null,null,null,null,null,null,null,null,null,null,null,null,null,null,null,null,null,null,null,null,null,null,null,null,null,null,null,null,null,null,null,null,null,null,null,null,null,null,null,null,null,null,null,null,null,null,null,null,null,null,null,null,null,null,null,null,null,null,null,null,null,null,null,null,null,null,null,null,null,null,null,null,null,null,null,null,null,null,null,null,null,null,null,null,null,null,null,null,null,null,null,null,null,null,null,null,null,null,null,null,null,null,"フリガナ",null,0,null,null,{"$f":"IF(AB108=\"\",\"\",AB108)","v":""}]
[null,null,null,null,null,null,null,null,null,null,null,null,null,null,null,null,null,null,"氏名",null,null,null,null,null,null,null,null,null,null,null,null,null,null,null,null,null,null,null,null,null,null,null,null,null,null,null,null,null,null,null,null,null,null,null,null,null,null,null,null,null,null,null,null,null,null,null,null,null,null,null,null,null,null,null,null,null,null,null,null,null,null,null,null,null,null,null,null,null,null,null,null,null,null,null,null,null,null,null,null,null,null,null,null,null,null,null,null,null,null,null,null,null,null,null,null,null,null,null,null,null,null,null,null,null,null,null,null,null,null,null,null,null,null,null,null,null,null,null,null,"氏名",null,0,null,null,""]
[null,null,null,null,null,null,null,null,null,null,null,null,"勤務先",null,null,null,null,null,"名称",null,null,null,null,null,null,null,null,null,null,null,null,null,null,null,null,null,null,null,null,null,null,null,null,null,null,null,null,null,null,null,null,null,null,null,null,null,null,null,null,null,null,null,null,null,null,null,null,null,null,null,null,null,null,null,null,null,null,null,null,null,null,null,null,null,null,null,null,null,null,null,null,null,null,null,null,null,null,null,null,null,null,null,null,null,null,null,null,null,null,null,null,null,null,null,null,null,null,null,null,null,null,null,null,null,null,null,null,null,null,null,null,null,null,null,null,null,null,null,null,"名称",null,0,null,null,""]
[null,null,null,null,null,null,null,null,null,null,null,null,null,null,null,null,null,null,"事務所登録",null,null,null,null,null,null,null,null,null,null,null,null,null,null,null,null,null,null,null,null,null,null,null,"建築士事務所",null,null,null,null,null,null,null,null,null,null,null,null,null,null,null,null,null,null,null,null,null,null,null,null,null,null,null,null,null,null,null,null,null,null,null,null,null,null,null,null,null,null,null,null,null,null,null,null,null,null,null,null,null,null,null,null,null,null,null,null,null,null,null,null,null,null,null,null,null,null,null,null,null,null,null,null,null,null,null,null,null,null,null,null,null,null,null,null,null,null,null,null,null,null,null,null,"事務所登録",null,0,null,null,""]
[null,null,null,null,null,null,null,null,null,null,null,null,null,null,null,null,null,null,null,null,null,null,null,null,null,null,null,null,null,null,null,null,null,null,null,null,null,null,null,null,null,null,"知事登録",null,null,null,null,null,null,null,null,null,null,null,null,null,null,null,null,null,null,null,null,null,null,null,null,null,null,null,null,null,null,null,null,null,null,null,null,null,null,null,null,null,null,null,null,null,null,null,null,null,null,null,null,null,null,null,null,null,null,null,null,null,null,null,null,null,null,null,null,null,null,null,null,null,null,null,null,null,null,null,null,null,null,null,null,null,null,null,null,null,null,null,null,null,null,null,null,0,null,0,null,null,""]
[null,null,null,null,null,null,null,null,null,null,null,null,null,null,null,null,null,null,null,null,null,null,null,null,null,"第",null,null,null,null,null,null,null,null,null,null,null,null,null,null,null,null,"号",null,null,null,null,null,null,null,null,null,null,null,null,null,null,null,null,null,null,null,null,null,null,null,null,null,null,null,null,null,null,null,null,null,null,null,null,null,null,null,null,null,null,null,null,null,null,null,null,null,null,null,null,null,null,null,null,null,null,null,null,null,null,null,null,null,null,null,null,null,null,null,null,null,null,null,null,null,null,null,null,null,null,null,null,null,null,null,null,null,null,null,null,null,"郵便番号の未入力判定",null,null,"第",null,0,null,null,""]
[null,null,null,null,null,null,null,null,null,null,null,null,null,null,null,null,null,null,"郵便番号",null,null,null,null,null,null,null,null,null,null,null,null,null,null,"－",null,null,null,null,null,null,null,null,null,null,null,null,null,null,null,null,null,null,null,null,null,null,null,null,null,null,null,null,null,null,null,null,null,null,null,null,null,null,null,null,null,null,null,null,null,null,null,null,null,null,null,null,null,null,null,null,null,null,null,null,null,null,null,null,null,null,null,null,null,null,null,null,null,null,null,null,null,null,null,null,null,null,null,null,null,null,null,null,null,null,null,null,null,null,null,null,null,null,null,null,null,null,{"$f":"IF(EH114=\"-\",1,0)","v":1},{"$f":"CONCATENATE(AB114,\"-\",AK114)","v":"-"},{"$f":"ASC(EH114)","v":"-"},{"$f":"S114","v":"郵便番号"},{"$f":"$AB$114","v":0},null,{"$f":"$AK$114","v":0},null,{"$f":"IF(EH114=\"\",\"\",EI114)","v":"-"}]
[null,null,null,null,null,null,null,null,null,null,null,null,null,null,null,null,null,null,"所在地",null,null,null,null,null,null,null,null,null,null,null,null,null,null,null,null,null,null,null,null,null,null,null,null,null,null,null,null,null,null,null,null,null,null,null,null,null,null,null,null,null,null,null,null,null,null,null,null,null,null,null,null,null,null,null,null,null,null,null,null,null,null,null,null,null,null,null,null,null,null,null,null,null,null,null,null,null,null,null,null,null,null,null,null,null,null,null,null,null,null,null,null,null,null,null,null,null,null,null,null,null,null,null,null,null,null,null,null,null,null,null,null,null,null,null,null,null,"電話番号の未入力判定",null,null,{"$f":"S115","v":"所在地"},null,{"$f":"$AB$115","v":0},null,null,""]
[null,null,null,null,null,null,null,null,null,null,null,null,null,null,null,null,null,null,"電話番号",null,null,null,null,null,null,null,null,null,null,null,null,null,null,"－",null,null,null,null,null,null,null,null,"－",null,null,null,null,null,null,null,null,null,null,null,null,null,null,null,null,null,null,null,null,null,null,null,null,null,null,null,null,null,null,null,null,null,null,null,null,null,null,null,null,null,null,null,null,null,null,null,null,null,null,null,null,null,null,null,null,null,null,null,null,null,null,null,null,null,null,null,null,null,null,null,null,null,null,null,null,null,null,null,null,null,null,null,null,null,null,null,null,null,null,null,null,null,{"$f":"IF(EH116=\"--\",1,0)","v":1},{"$f":"CONCATENATE(AB116,\"-\",AK116,\"-\",AT116)","v":"--"},{"$f":"ASC(EH116)","v":"--"},{"$f":"S116","v":"電話番号"},{"$f":"$AB$116","v":0},{"$f":"$AK$116","v":0},{"$f":"$AT$116","v":0},null,{"$f":"IF(EH116=\"\",\"\",EI116)","v":"--"}]
[]
[]
[]
[]
[null,null,null,null,null,null,null,null,null,"　９　防火設備の概要",null,null,null,null,null,null,null,null,null,null,null,null,null,null,null,null,null,null,null,null,null,null,null,null,null,null,null,null,null,null,null,null,null,null,null,null,null,null,null,null,null,null,null,null,null,null,null,null,null,null,null,null,null,"第二面５欄",null,null,null,null,null,null,null,null,null,null,null,null,null,null,null,null,null,null,null,null,null,null,null,null,null,null,null,null,null,null,null,null,null,null,null,null,null,null,null,null,null,null,null,null,null,null,null,null,null,null,null,null,null,null,null,null,null,null,null,null,null,null,null,null,null,null,null,null,null,null,null,null,null,"↓適用"]
[null,null,null,null,null,null,null,null,null,null,null,null,"避難安全検証法の適用",null,null,null,null,null,"区画避難安全検証法",null,null,null,null,null,null,null,null,null,null,null,null,null,null,null,null,null,"階",null,null,null,null,null,null,null,null,null,null,null,null,null,null,null,null,null,null,null,null,null,null,null,null,null,null,null,null,null,null,null,null,null,null,null,null,null,null,null,null,null,null,null,null,null,null,null,null,null,null,null,null,null,null,null,null,null,null,null,null,null,null,null,null,null,null,null,null,null,null,null,null,null,null,null,null,null,null,null,null,null,null,null,null,null,null,null,null,null,null,null,null,null,null,null,null,null,null,null,null,{"$f":"IF(AB122=\"適用\",1,0)","v":0}]
[null,null,null,null,null,null,null,null,null,null,null,null,null,null,null,null,null,null,"階避難安全検証法",null,null,null,null,null,null,null,null,null,null,null,null,null,null,null,null,null,"階",null,null,null,null,null,null,null,null,null,null,null,null,null,null,null,null,null,null,null,null,null,null,null,null,null,null,null,null,null,null,null,null,null,null,null,null,null,null,null,null,null,null,null,null,null,null,null,null,null,null,null,null,null,null,null,null,null,null,null,null,null,null,null,null,null,null,null,null,null,null,null,null,null,null,null,null,null,null,null,null,null,null,null,null,null,null,null,null,null,null,null,null,null,null,null,null,null,null,null,null,{"$f":"IF(AB123=\"適用\",1,0)","v":0}]
[null,null,null,null,null,null,null,null,null,null,null,null,null,null,null,null,null,null,"全館避難安全検証法",null,null,null,null,null,null,null,null,null,null,null,null,null,null,null,null,null,null,null,null,null,null,null,null,null,null,null,null,null,null,null,null,null,null,null,null,null,null,null,null,null,null,null,null,null,null,null,null,null,null,null,null,null,null,null,null,null,null,null,null,null,null,null,null,null,null,null,null,null,null,null,null,null,null,null,null,null,null,null,null,null,null,null,null,null,null,null,null,null,null,null,null,null,null,null,null,null,null,null,null,null,null,null,null,null,null,null,null,null,null,null,null,null,null,null,null,null,null,{"$f":"IF(AB124=\"適用\",1,0)","v":0}]
[null,null,null,null,null,null,null,null,null,null,null,null,null,null,null,null,null,null,"その他",null,null,null,null,null,null,null,null,null,null,null,"（",null,null,null,null,null,null,null,null,null,null,null,null,null,null,null,null,null,null,null,null,"）",null,null,null,null,null,null,null,null,null,null,null,null,null,null,null,null,null,null,null,null,null,null,null,null,null,null,null,null,null,null,null,null,null,null,null,null,null,null,null,null,null,null,null,null,null,null,null,null,null,null,null,null,null,null,null,null,null,null,null,null,null,null,null,null,null,null,null,null,null,null,null,null,null,null,null,null,null,null,null,null,null,null,null,null,null,{"$f":"IF(AB125=\"適用\",1,0)","v":0}]
[null,null,null,null,null,null,null,null,null,null,null,null,"防火設備",null,null,null,null,null,"防火扉",null,null,null,null,null,null,null,null,null,null,null,null,null,null,"枚",null,null,null,null,null,null,null,null,null,null,null,null,null,null,null,null,null,null,null,null,null,null,null,null,null,null,null,null,null,null,null,null,null,null,null,null,null,null,null,null,null,null,null,null,null,null,null,null,null,null,null,null,null,null,null,null,null,null,null,null,null,null,null,null,null,null,null,null,null,null,null,null,null,null,null,null,null,null,null,null,null,null,null,null,null,null,null,null,null,null,null,null,null,null,null,null,null,null,null,null,null,null,null,{"$f":"IF($AB126>=1,1,0)","v":0},{"$f":"IF($AB126>=1,\"レ\",\"\")","v":""}]
[null,null,null,null,null,null,null,null,null,null,null,null,null,null,null,null,null,null,"防火シャッター",null,null,null,null,null,null,null,null,null,null,null,null,null,null,"枚",null,null,null,null,null,null,null,null,null,null,null,null,null,null,null,null,null,null,null,null,null,null,null,null,null,null,null,null,null,null,null,null,null,null,null,null,null,null,null,null,null,null,null,null,null,null,null,null,null,null,null,null,null,null,null,null,null,null,null,null,null,null,null,null,null,null,null,null,null,null,null,null,null,null,null,null,null,null,null,null,null,null,null,null,null,null,null,null,null,null,null,null,null,null,null,null,null,null,null,null,null,null,null,{"$f":"IF($AB127>=1,1,0)","v":0},{"$f":"IF($AB127>=1,\"レ\",\"\")","v":""}]
[null,null,null,null,null,null,null,null,null,null,null,null,null,null,null,null,null,null,"耐火クロススクリーン",null,null,null,null,null,null,null,null,null,null,null,null,null,null,"枚",null,null,null,null,null,null,null,null,null,null,null,null,null,null,null,null,null,null,null,null,null,null,null,null,null,null,null,null,null,null,null,null,null,null,null,null,null,null,null,null,null,null,null,null,null,null,null,null,null,null,null,null,null,null,null,null,null,null,null,null,null,null,null,null,null,null,null,null,null,null,null,null,null,null,null,null,null,null,null,null,null,null,null,null,null,null,null,null,null,null,null,null,null,null,null,null,null,null,null,null,null,null,null,{"$f":"IF($AB128>=1,1,0)","v":0},{"$f":"IF($AB128>=1,\"レ\",\"\")","v":""}]
[null,null,null,null,null,null,null,null,null,null,null,null,null,null,null,null,null,null,"ドレンチャー",null,null,null,null,null,null,null,null,null,null,null,null,null,null,"台",null,null,null,null,null,null,null,null,null,null,null,null,null,null,null,null,null,null,null,null,null,null,null,null,null,null,null,null,null,null,null,null,null,null,null,null,null,null,null,null,null,null,null,null,null,null,null,null,null,null,null,null,null,null,null,null,null,null,null,null,null,null,null,null,null,null,null,null,null,null,null,null,null,null,null,null,null,null,null,null,null,null,null,null,null,null,null,null,null,null,null,null,null,null,null,null,null,null,null,null,null,null,null,{"$f":"IF($AB129>=1,1,0)","v":0},{"$f":"IF(AB129>=1,\"レ\",\"\")","v":""}]
[null,null,null,null,null,null,null,null,null,null,null,null,null,null,null,null,null,null,"その他",null,null,null,null,null,null,null,null,null,null,null,null,null,null,null,null,null,null,null,null,null,null,null,"台",null,null,null,null,null,null,null,null,null,null,null,null,null,null,null,null,null,null,null,null,null,null,null,null,null,null,null,null,null,null,null,null,null,null,null,null,null,null,null,null,null,null,null,null,null,null,null,null,null,null,null,null,null,null,null,null,null,null,null,null,null,null,null,null,null,null,null,null,null,null,null,null,null,null,null,null,null,null,null,null,null,null,null,null,null,null,null,null,null,null,null,null,null,null,{"$f":"IF($AB130>=1,1,0)","v":0},"",null,null,null,null,null,null,null,"3人目の検査者と備考欄連結"]
[]
[null,null,null,null,null,null,null,null,null,"　１０　備考",null,null,null,null,null,null,null,null,null,null,null,null,null,null,null,null,null,null,null,null,null,null,null,null,null,null,null,null,null,null,null,null,null,null,null,null,null,null,null,null,null,null,null,null,null,null,null,null,null,null,null,null,null,"第二面８欄",null,null,null,null,null,null,null,null,null,null,null,null,null,null,null,null,null,null,null,null,null,null,null,null,null,null,null,null,null,null,null,null,null,null,null,null,null,null,null,null,null,null,null,null,null,null,null,null,null,null,null,null,null,null,null,null,null,null,null,null,null,null,null,null,null,null,null,null,null,null,null,null,null,null,null,null,null,null,null,null,null,null,"３人目がの検査者がいたら、３人目の検査者の情報を末尾に区切り文字の”/\"付きで備考欄内容の頭に連結"]
[null,null,null,null,null,null,null,null,null,null,null,null,"備考",null,null,null,null,null,null,null,null,null,null,null,null,null,null,null,null,null,null,null,null,null,null,null,null,null,null,null,null,null,null,null,null,null,null,null,null,null,null,null,null,null,null,null,null,null,null,null,null,null,null,null,null,null,null,null,null,null,null,null,null,null,null,null,null,null,null,null,null,null,null,null,null,null,null,null,null,null,null,null,null,null,null,null,null,null,null,null,null,null,null,null,null,null,null,null,null,null,null,null,null,null,null,null,null,null,null,null,null,null,null,null,null,null,null,null,null,null,null,null,null,null,null,null,null,null,null,null,null,null,null,null,null,null,{"$f":"IF(AB109<>\"\",CONCATENATE(EQ104,AB133),AB133)","v":0}]
[]
[]
[]
[]
[]
[]
[]
[null,null,null,null,null,null,null,null,null,"１１　防火設備に係る不具合等の状況",null,null,null,null,null,null,null,null,null,null,null,null,null,null,null,null,null,null,null,null,null,null,"←検査結果表に記入する内容については、記入不要です。",null,null,null,null,null,null,null,null,null,null,null,null,null,null,null,null,null,null,null,null,null,null,null,null,null,null,null,"第三面１欄",null,null,null,null,null,null,null,null,null,null,null,null,null,null,null,null,null,null,null,null,null,null,null,null,null,null,null,null,null,null,null,null,null,null,null,null,null,null,null,null,null,null,null,null,null,null,null,null,null,null,null,null,null,null,null,null,null,null,null,null,null,null,null,null,null,null,null,null,null,null,null,null,null,null,null,null,null,null,null,null,null,null,null,null,null,null,null,null,"不具合②,不具合2,不具合3"]
[null,null,null,null,null,null,null,null,null,null,null,null,"不具合等",null,null,null,null,null,null,null,null,null,null,null,null,null,null,null,null,null,{"$f":"IF(AB142=\"\",\"←どちらかは必ず選んでください。\",\"\")","v":"←どちらかは必ず選んでください。"},null,null,null,null,null,null,null,null,null,null,null,null,null,null,null,null,null,null,null,null,null,null,null,null,null,null,null,null,null,null,null,null,null,null,null,null,null,null,null,null,null,null,"　前回検査時以降に把握した建築物等に係る不具合等のうち第二面の６欄において指摘されるもの以外のものについて、把握できる範囲において記入してください。",null,null,null,null,null,null,null,null,null,null,null,null,null,null,null,null,null,null,null,null,null,null,null,null,null,null,null,null,null,null,null,null,null,null,null,null,null,null,null,null,null,null,null,null,null,null,null,null,null,null,null,null,null,null,null,null,null,null,null,null,null,null,null,null,null,"有","無",null,"有","無"]
[null,null,null,null,null,null,null,null,null,null,null,null,"不具合等の記録",null,null,null,null,null,null,null,null,null,null,null,null,null,null,null,null,null,null,null,null,null,null,null,null,null,null,null,null,null,null,null,null,null,null,null,null,null,null,null,null,null,null,null,null,null,null,null,null,null,null,null,null,null,null,null,null,null,null,null,null,null,null,null,null,null,null,null,null,null,null,null,null,null,null,null,null,null,null,null,null,null,null,null,null,null,null,null,null,null,null,null,null,null,null,null,null,null,null,null,null,null,null,null,null,null,null,null,null,null,null,null,null,null,null,null,null,null,null,null,null,null,null,null,null,null,null,{"$f":"IF($AB142=\"有\",\"レ\",\"\")","v":""},{"$f":"IF($AB142=\"無\",\"レ\",\"\")","v":""},null,{"$f":"IF(AB143=\"有\",\"レ\",\"\")","v":""},{"$f":"IF(AB143=\"無\",\"レ\",\"\")","v":""},null,null,null,null,null,"↓結合","↓結合"]
[null,null,null,null,null,null,null,null,null,null,null,null,"不具合等を把握した年月",null,null,null,null,null,null,null,null,"不具合等の概要",null,null,null,null,null,null,null,null,null,null,null,"考えられる要因",null,null,null,null,null,null,null,null,null,null,null,"改善の状況",null,null,null,null,null,"改善（予定）年月",null,null,null,null,null,"改善措置の概要等",null,null,null,null,null,null,null,null,null,null,null,null,null,null,null,null,null,null,null,null,null,null,null,null,null,null,null,null,null,null,null,null,null,null,null,null,null,null,null,null,null,null,null,null,null,null,null,null,null,null,null,null,null,null,null,null,null,null,null,null,null,null,null,null,null,null,null,null,null,null,null,null,null,null,null,null,null,null,null,"元号",null,"実施済・改善予定合計",null,null,null,"改善予定",null,"実施済",null,"実施済みか改善予定合計行単位",null,{"$f":"SUBSTITUTE(TRIM(V146&\"　\"&V147&\"　\"&V148&\"　\"&V149&\"　\"&V150&\"　\"&V151&\"　\"&V152&\"　\"&V153),\"　\",\",\")","v":""},{"$f":"SUBSTITUTE(TRIM(BF146&\"　\"&BF147&\"　\"&BF148&\"　\"&BF149&\"　\"&BF150&\"　\"&BF151&\"　\"&BF152&\"　\"&BF153),\"　\",\",\")","v":""}]
[null,null,null,null,null,null,null,null,null,null,null,null,"年",null,null,null,null,null,"月",null,null,null,null,null,null,null,null,null,null,null,null,null,null,null,null,null,null,null,null,null,null,null,null,null,null,null,null,null,null,null,null,"年\n（令和）",null,null,"月",null,null,null,null,null,null,null,null,null,null,null,null,null,null,null,null,null,null,null,null,null,null,null,null,null,null,null,null,null,null,null,null,null,null,null,null,null,null,null,null,null,null,null,null,null,null,null,null,null,null,null,null,null,null,null,null,null,null,null,null,null,null,null,null,null,null,null,null,null,null,null,null,null,null,null,null,null,null,null,null,"予定なし",null,"項目","年月","実施済み","改善予定","予定なし","概要または改善未記入","年\n(令和)","月","年\n(令和)","月","実施済・改善予定","有で実施済・改善予定","予定無し","改善予定年月の入力状況判定（2でOK）"]
[null,null,null,null,null,null,null,null,null,null,null,null,null,null,null,null,null,null,null,null,null,null,null,null,null,null,null,null,null,null,null,null,null,null,null,null,null,null,null,null,null,null,null,null,null,null,null,null,null,null,null,null,null,null,null,null,null,null,null,null,null,null,null,null,null,null,null,null,null,null,null,null,null,null,null,null,null,null,null,null,null,null,null,null,null,null,null,null,null,null,null,null,null,null,null,null,null,null,null,null,null,null,null,null,null,null,null,null,null,null,null,null,null,null,null,null,null,null,null,null,null,null,null,null,null,null,null,null,null,null,null,null,null,null,null,{"$f":"IF(AT146=\"予定なし\",1,0)","v":0},{"$f":"IF(OR($AT146=\"改善予定\",$AT146=\"実施済\"),1,0)","v":0},{"$f":"COUNTA(P146:AY146)+COUNTA(BF146)","v":0},{"$f":"COUNTA(P146:U146)","v":0},{"$f":"COUNTIF($AT146:$AY153,\"実施済\")","v":0},{"$f":"COUNTIF($AT146:$AY153,\"改善予定\")","v":0},{"$f":"COUNTIF($AT146:$AY153,\"予定なし\")","v":0},{"$f":"COUNTA(AZ146:BE146)","v":0},{"$f":"IF(AND($AT146=\"改善予定\",EU146=2),\"令和\"&$AZ146&\"年\"&$BC146&\"月1日\",\"\")","v":""},{"$f":"IF(EN146=\"\",\"0\",DATEVALUE(EN146))","v":"0"},{"$f":"IF($AT146=\"実施済\",\"令和\"&$AZ146&\"年\"&$BC146&\"月1日\",\"\")","v":""},{"$f":"IF(EP146=\"\",\"0\",DATEVALUE(EP146))","v":"0"},{"$f":"IF(OR(AT146=\"実施済\",AT146=\"改善予定\"),1,0)","v":0},{"$f":"IF(AND($AB$142=\"有\",ER146=1),1,0)","v":0},{"$f":"IF(AT146=\"予定なし\",1,0)","v":0},{"$f":"COUNTA(AZ146:BE146)","v":0}]
[null,null,null,null,null,null,null,null,null,null,null,null,null,null,null,null,null,null,null,null,null,null,null,null,null,null,null,null,null,null,null,null,null,null,null,null,null,null,null,null,null,null,null,null,null,null,null,null,null,null,null,null,null,null,null,null,null,null,null,null,null,null,null,null,null,null,null,null,null,null,null,null,null,null,null,null,null,null,null,null,null,null,null,null,null,null,null,null,null,null,null,null,null,null,null,null,null,null,null,null,null,null,null,null,null,null,null,null,null,null,null,null,null,null,null,null,null,null,null,null,null,null,null,null,null,null,null,null,null,null,null,null,null,null,null,{"$f":"IF(AT147=\"予定なし\",1,0)","v":0},{"$f":"IF(OR($AT147=\"改善予定\",$AT147=\"実施済\"),1,0)","v":0},{"$f":"COUNTA(P147:AY147)+COUNTA(BF147)","v":0},{"$f":"COUNTA(P147:U147)","v":0},{"$f":"IF(AND(EJ146>0,EK146=0),\"レ\",\"\")","v":""},{"$f":"IF(EK146>0,\"レ\",\"\")","v":""},{"$f":"IF(AND(EJ146=0,EK146=0,EL146>0),\"レ\",\"\")","v":""},0,{"$f":"IF(AND($AT147=\"改善予定\",EU147=2),\"令和\"&$AZ147&\"年\"&$BC147&\"月1日\",\"\")","v":""},"0",{"$f":"IF($AT147=\"実施済\",\"令和\"&$AZ147&\"年\"&$BC147&\"月1日\",\"\")","v":""},"0",{"$f":"IF(OR(AT147=\"実施済\",AT147=\"改善予定\"),1,0)","v":0},{"$f":"IF(AND($AB$142=\"有\",ER147=1),1,0)","v":0},{"$f":"IF(AT147=\"予定なし\",1,0)","v":0},{"$f":"COUNTA(AZ147:BE147)","v":0}]
[null,null,null,null,null,null,null,null,null,null,null,null,null,null,null,null,null,null,null,null,null,null,null,null,null,null,null,null,null,null,null,null,null,null,null,null,null,null,null,null,null,null,null,null,null,null,null,null,null,null,null,null,null,null,null,null,null,null,null,null,null,null,null,null,null,null,null,null,null,null,null,null,null,null,null,null,null,null,null,null,null,null,null,null,null,null,null,null,null,null,null,null,null,null,null,null,null,null,null,null,null,null,null,null,null,null,null,null,null,null,null,null,null,null,null,null,null,null,null,null,null,null,null,null,null,null,null,null,null,null,null,null,null,null,null,0,{"$f":"IF(OR($AT148=\"改善予定\",$AT148=\"実施済\"),1,0)","v":0},{"$f":"COUNTA(P148:AY148)+COUNTA(BF148)","v":0},0,"年\n(令和)","月",null,0,"","0","","0",0,{"$f":"IF(AND($AB$142=\"有\",ER148=1),1,0)","v":0},0,0]
[null,null,null,null,null,null,null,null,null,null,null,null,null,null,null,null,null,null,null,null,null,null,null,null,null,null,null,null,null,null,null,null,null,null,null,null,null,null,null,null,null,null,null,null,null,null,null,null,null,null,null,null,null,null,null,null,null,null,null,null,null,null,null,null,null,null,null,null,null,null,null,null,null,null,null,null,null,null,null,null,null,null,null,null,null,null,null,null,null,null,null,null,null,null,null,null,null,null,null,null,null,null,null,null,null,null,null,null,null,null,null,null,null,null,null,null,null,null,null,null,null,null,null,null,null,null,null,null,null,null,null,null,null,null,null,0,0,0,0,{"$f":"IF(AND($EK$147=\"レ\",EO155<>\"0\"),TEXT(EO154,\"e\"),\"\")","v":""},{"$f":"IF(AND($EK$147=\"レ\",EO155<>\"0\"),TEXT(EO154,\"m\"),\"\")","v":""},null,0,"","0","","0",0,0,0,0]
[null,null,null,null,null,null,null,null,null,null,null,null,null,null,null,null,null,null,null,null,null,null,null,null,null,null,null,null,null,null,null,null,null,null,null,null,null,null,null,null,null,null,null,null,null,null,null,null,null,null,null,null,null,null,null,null,null,null,null,null,null,null,null,null,null,null,null,null,null,null,null,null,null,null,null,null,null,null,null,null,null,null,null,null,null,null,null,null,null,null,null,null,null,null,null,null,null,null,null,null,null,null,null,null,null,null,null,null,null,null,null,null,null,null,null,null,null,null,null,null,null,null,null,null,null,null,null,null,null,null,null,null,null,null,null,0,0,0,0,null,null,null,0,"","0","","0",0,0,0,0]
[null,null,null,null,null,null,null,null,null,null,null,null,null,null,null,null,null,null,null,null,null,null,null,null,null,null,null,null,null,null,null,null,null,null,null,null,null,null,null,null,null,null,null,null,null,null,null,null,null,null,null,null,null,null,null,null,null,null,null,null,null,null,null,null,null,null,null,null,null,null,null,null,null,null,null,null,null,null,null,null,null,null,null,null,null,null,null,null,null,null,null,null,null,null,null,null,null,null,null,null,null,null,null,null,null,null,null,null,null,null,null,null,null,null,null,null,null,null,null,null,null,null,null,null,null,null,null,null,null,null,null,null,null,null,null,0,0,0,0,{"$f":"IF(AND(EJ150>0,EK150=0),\"レ\",\"\")","v":""},{"$f":"IF(EK150>0,\"レ\",\"\")","v":""},{"$f":"IF(AND(EJ150=0,EK150=0,EL150>0),\"レ\",\"\")","v":""},0,"","0","","0",0,0,0,0]
[null,null,null,null,null,null,null,null,null,null,null,null,null,null,null,null,null,null,null,null,null,null,null,null,null,null,null,null,null,null,null,null,null,null,null,null,null,null,null,null,null,null,null,null,null,null,null,null,null,null,null,null,null,null,null,null,null,null,null,null,null,null,null,null,null,null,null,null,null,null,null,null,null,null,null,null,null,null,null,null,null,null,null,null,null,null,null,null,null,null,null,null,null,null,null,null,null,null,null,null,null,null,null,null,null,null,null,null,null,null,null,null,null,null,null,null,null,null,null,null,null,null,null,null,null,null,null,null,null,null,null,null,null,null,null,0,0,0,0,null,null,null,0,"","0","","0",0,0,0,0]
[null,null,null,null,null,null,null,null,null,null,null,null,null,null,null,null,null,null,null,null,null,null,null,null,null,null,null,null,null,null,null,null,null,null,null,null,null,null,null,null,null,null,null,null,null,null,null,null,null,null,null,null,null,null,null,null,null,null,null,null,null,null,null,null,null,null,null,null,null,null,null,null,null,null,null,null,null,null,null,null,null,null,null,null,null,null,null,null,null,null,null,null,null,null,null,null,null,null,null,null,null,null,null,null,null,null,null,null,null,null,null,null,null,null,null,null,null,null,null,null,null,null,null,null,null,null,null,null,null,null,null,null,null,null,null,0,0,0,0,null,null,null,0,"","0","","0",0,0,{"$f":"IF(AND(AB146=\"有\",ES153=1),1,0)","v":0},0]
[null,null,null,null,null,null,null,null,null,null,null,null,null,null,null,null,null,null,null,null,null,null,null,null,null,null,null,null,null,null,null,null,null,null,null,null,null,null,null,null,null,null,null,null,null,null,null,null,null,null,null,null,null,null,null,null,null,null,null,null,null,null,null,null,null,null,null,null,null,null,null,null,null,null,null,null,null,null,null,null,null,null,null,null,null,null,null,null,null,null,null,null,null,null,null,null,null,null,null,null,null,null,null,null,null,null,null,null,null,null,null,null,null,null,null,null,null,null,null,null,null,null,null,null,null,null,null,null,null,null,null,null,null,null,null,null,null,null,null,null,null,null,null,null,{"$f":"INDEX(EO146:EO153,MATCH(MIN(ABS(EO146:EO153-$EL$10)),ABS(EO146:EO153-$EL$10),0))","v":"0"},null,{"$f":"INDEX(EQ146:EQ153,MATCH(MIN(ABS(EQ146:EQ153-$EL$10)),ABS(EQ146:EQ153-$EL$10),0))","v":"0"}]
[null,null,null,null,null,null,null,null,null,null,null,null,null,null,null,null,null,null,null,null,null,null,null,null,null,null,null,null,null,null,null,null,null,null,null,null,null,null,null,null,null,null,null,null,null,null,null,null,null,null,null,null,null,null,null,null,null,null,null,null,null,null,null,null,null,null,null,null,null,null,null,null,null,null,null,null,null,null,null,null,null,null,null,null,null,null,null,null,null,null,null,null,null,null,null,null,null,null,null,null,null,null,null,null,null,null,null,null,null,null,null,null,null,null,null,null,null,null,null,null,null,null,null,null,null,null,null,null,null,null,null,null,null,null,null,null,null,null,null,null,null,null,null,null,{"$f":"TEXT(EO154,\"G/標準\")","v":"0"},"←直近の日付のテキスト化（0は、エラー扱い）"]
[null,null,null,null,null,null,null,null,null,null,null,null,null,null,null,null,null,null,null,null,null,null,null,null,null,null,null,null,null,null,null,null,null,null,null,null,null,null,null,null,null,null,null,null,null,null,null,null,null,null,null,null,null,null,null,null,null,null,null,null,null,null,null,null,null,null,null,null,null,null,null,null,null,null,null,null,null,null,null,null,null,null,null,null,null,null,null,null,null,null,null,null,null,null,null,null,null,null,null,null,null,null,null,null,null,null,null,null,null,null,null,null,null,null,null,null,null,null,null,null,null,null,null,null,null,null,null,null,null,null,null,null,null,null,null,null,null,null,null,null,null,null,null,null,null,null,null,null,null,null,null,null,null,null,null,null,null,null,null,null,null,null,null,null,null,null,null,null,null,null,null,null,null,null,null,null,null,null,null,null,1]
[null,null,null,null,null,null,null,null,null,null,null,null,null,null,null,null,null,null,null,null,null,null,null,null,null,null,null,null,null,null,null,null,null,null,null,null,null,null,null,null,null,null,null,null,null,null,null,null,null,null,null,null,null,null,null,null,null,null,null,null,null,null,null,null,null,null,null,null,null,null,null,null,null,null,null,null,null,null,null,null,null,null,null,null,null,null,null,null,null,null,null,null,null,null,null,null,null,null,null,null,null,null,null,null,null,null,null,null,null,null,null,null,null,null,null,null,null,null,null,null,null,null,null,null,null,null,null,null,null,null,null,null,null,null,null,null,null,{"$f":"IF(AT146=\"改善予定\",1,0)","v":0}]
[null,null,null,null,null,null,null,null,null,null,null,null,null,null,null,null,null,null,null,null,null,null,null,null,null,null,null,null,null,null,null,null,null,null,null,null,null,null,null,null,null,null,null,null,null,null,null,null,null,null,null,null,null,null,null,null,null,null,null,null,null,null,null,null,null,null,null,null,null,null,null,null,null,null,null,null,null,null,null,null,null,null,null,null,null,null,null,null,null,null,null,null,null,null,null,null,null,null,null,null,null,null,null,null,null,null,null,null,null,null,null,null,null,null,null,null,null,null,null,null,null,null,null,null,null,null,null,null,null,null,null,null,null,null,null,null,null,{"$f":"IF(AT147=\"改善予定\",1,0)","v":0}]
[null,null,null,null,null,null,null,null,null,null,null,null,null,null,null,null,null,null,null,null,null,null,null,null,null,null,null,null,null,null,null,null,null,null,null,null,null,null,null,null,null,null,null,null,null,null,null,null,null,null,null,null,null,null,null,null,null,null,null,null,null,null,null,null,null,null,null,null,null,null,null,null,null,null,null,null,null,null,null,null,null,null,null,null,null,null,null,null,null,null,null,null,null,null,null,null,null,null,null,null,null,null,null,null,null,null,null,null,null,null,null,null,null,null,null,null,null,null,null,null,null,null,null,null,null,null,null,null,null,null,null,null,null,null,null,null,null,{"$f":"IF(AT148=\"改善予定\",1,0)","v":0}]
[null,null,null,null,null,null,null,null,null,null,null,null,null,null,null,null,null,null,null,null,null,null,null,null,null,null,null,null,null,null,null,null,null,null,null,null,null,null,null,null,null,null,null,null,null,null,null,null,null,null,null,null,null,null,null,null,null,null,null,null,null,null,null,null,null,null,null,null,null,null,null,null,null,null,null,null,null,null,null,null,null,null,null,null,null,null,null,null,null,null,null,null,null,null,null,null,null,null,null,null,null,null,null,null,null,null,null,null,null,null,null,null,null,null,null,null,null,null,null,null,null,null,null,null,null,null,null,null,null,null,null,null,null,null,null,null,null,{"$f":"IF(AT149=\"改善予定\",1,0)","v":0}]

{"sheet":"2_入力シート【検査結果表】 防火扉","index":1,"n_rows":90,"n_cols":210,"rows_kept":90,"cut":false,"hidden":false,"merged":[[15,192,15,196],[38,100,39,119],[16,100,16,119],[19,100,19,119],[48,182,48,186],[48,192,48,196],[38,192,38,196],[38,158,38,163],[38,164,38,166],[37,148,39,148],[20,100,20,119],[21,100,21,119],[48,149,49,149],[48,150,49,150],[48,152,48,157],[48,158,48,163],[48,172,48,176],[48,164,48,166],[48,167,48,170],[47,148,49,148],[38,199,38,203],[48,199,48,203],[10,205,10,207],[11,205,11,207],[13,150,15,150],[13,151,15,151],[12,148,15,148],[11,148,11,163],[12,177,12,187],[10,199,10,203],[11,199,11,203],[12,199,12,203],[14,199,14,203],[38,167,38,170],[38,172,38,176],[38,177,38,181],[38,182,38,186],[14,167,14,170],[14,172,14,176],[14,177,14,181],[14,182,14,186],[14,152,14,157],[14,158,14,163],[14,164,14,166],[39,91,39,93],[39,94,39,96],[39,97,39,99],[38,149,39,149],[38,150,39,150],[38,152,38,157],[20,66,20,75],[20,76,20,90],[22,94,22,96],[22,97,22,99],[22,100,22,119],[23,76,23,90],[23,91,23,93],[23,94,23,96],[23,97,23,99],[23,100,23,119],[22,76,22,90],[22,91,22,93],[24,100,24,119],[25,100,25,119],[26,76,26,90],[25,94,25,96],[25,97,25,99],[24,76,24,90],[48,66,49,75],[48,76,49,90],[48,91,48,99],[42,94,42,96],[42,97,42,99],[40,91,40,93],[40,94,40,96],[41,94,41,96],[41,97,41,99],[49,91,49,93],[49,94,49,96],[49,97,49,99],[16,12,16,14],[16,64,16,65],[15,91,15,93],[15,94,15,96],[15,97,15,99],[14,100,15,119],[14,149,15,149],[17,97,17,99],[1,44,1,46],[1,52,1,54],[1,60,1,62],[1,72,1,74],[16,66,16,75],[16,76,16,90],[16,91,16,93],[16,94,16,96],[17,91,17,93],[17,94,17,96],[17,64,17,65],[12,12,12,20],[17,12,17,14],[17,20,18,26],[17,27,17,51],[17,52,17,63],[12,152,12,157],[12,158,12,163],[14,12,15,14],[14,15,15,26],[14,27,15,51],[14,76,15,90],[14,91,14,99],[14,64,15,65],[14,52,15,63],[12,21,12,112],[13,21,13,99],[18,12,18,14],[18,27,18,51],[18,52,18,63],[18,64,18,65],[18,66,18,75],[19,76,19,90],[19,66,19,75],[18,94,18,96],[19,12,19,14],[18,97,18,99],[19,27,19,51],[18,100,18,119],[16,15,19,19],[16,20,16,26],[16,27,16,51],[16,52,16,63],[17,100,17,119],[17,76,17,90],[18,91,18,93],[18,76,18,90],[19,20,19,26],[16,97,16,99],[19,52,19,63],[19,64,19,65],[19,91,19,93],[19,94,19,96],[19,97,19,99],[17,66,17,75],[20,12,20,14],[20,15,30,19],[20,20,21,26],[20,27,20,51],[20,52,20,63],[20,64,20,65],[24,12,24,14],[24,27,24,51],[23,12,23,14],[28,12,28,14],[27,20,28,26],[27,27,27,51],[27,52,27,63],[30,12,30,14],[28,27,28,51],[28,52,28,63],[28,64,28,65],[26,52,26,63],[29,12,29,14],[29,20,30,26],[29,27,29,51],[27,64,27,65],[29,64,29,65],[29,52,29,63],[22,12,22,14],[22,20,22,26],[22,27,22,51],[22,52,22,63],[22,64,22,65],[22,66,22,75],[21,12,21,14],[21,27,21,51],[21,52,21,63],[21,64,21,65],[21,66,21,75],[26,12,26,14],[25,12,25,14],[27,12,27,14],[23,20,26,26],[26,64,26,65],[26,66,26,75],[26,27,26,51],[25,27,25,51],[24,52,24,63],[24,64,24,65],[23,27,23,51],[24,66,24,75],[23,52,23,63],[23,64,23,65],[23,66,23,75],[25,52,25,63],[25,64,25,65],[25,66,25,75],[20,94,20,96],[20,97,20,99],[21,76,21,90],[21,91,21,93],[21,94,21,96],[21,97,21,99],[24,91,24,93],[24,94,24,96],[24,97,24,99],[25,76,25,90],[25,91,25,93],[20,91,20,93],[29,76,29,90],[29,91,29,93],[29,94,29,96],[29,97,29,99],[29,100,29,119],[28,66,28,75],[26,97,26,99],[26,100,26,119],[27,66,27,75],[27,91,27,93],[27,94,27,96],[27,97,27,99],[27,100,27,119],[27,76,27,90],[28,76,28,90],[28,91,28,93],[28,94,28,96],[28,97,28,99],[28,100,28,119],[29,66,29,75],[26,91,26,93],[26,94,26,96],[31,27,31,51],[31,52,31,63],[31,64,31,65],[31,66,31,75],[31,97,31,99],[31,100,31,119],[31,94,31,96],[30,27,30,51],[30,52,30,63],[30,66,30,75],[31,91,31,93],[42,32,42,51],[41,100,41,119],[40,97,40,99],[40,100,40,119],[40,32,40,51],[32,27,32,51],[32,52,32,63],[32,64,32,65],[32,66,32,75],[32,76,32,90],[32,91,32,93],[32,100,32,119],[38,15,39,31],[38,32,39,51],[38,52,39,63],[38,64,39,65],[38,66,39,75],[38,76,39,90],[38,91,38,99],[37,12,37,119],[32,12,32,14],[38,12,39,14],[40,12,40,14],[40,52,40,63],[48,32,49,51],[48,12,49,14],[48,15,49,31],[48,52,49,63],[48,64,49,65],[47,12,47,119],[48,177,48,181],[48,100,49,119],[41,12,41,14],[41,52,41,63],[41,64,41,65],[41,66,41,75],[41,76,41,90],[41,91,41,93],[42,12,42,14],[42,52,42,63],[42,64,42,65],[42,66,42,75],[42,76,42,90],[42,91,42,93],[42,100,42,119],[41,15,41,31],[42,15,42,31],[41,32,41,51],[61,12,61,14],[61,15,61,31],[61,52,61,63],[61,64,61,65],[61,66,61,75],[50,12,50,14],[50,15,50,31],[50,52,50,63],[50,64,50,65],[50,66,50,75],[50,32,50,51],[61,32,61,51],[52,12,52,14],[52,15,52,31],[52,32,52,51],[52,52,52,63],[52,64,52,65],[53,12,53,14],[53,15,53,31],[53,32,53,51],[53,52,53,63],[53,64,53,65],[55,12,55,14],[55,15,55,31],[50,91,50,93],[50,94,50,96],[50,97,50,99],[50,100,50,119],[62,66,62,75],[61,76,61,90],[61,91,61,93],[61,94,61,96],[61,97,61,99],[61,100,61,119],[62,76,62,90],[50,76,50,90],[62,100,62,119],[52,66,52,75],[52,76,52,90],[52,91,52,93],[52,94,52,96],[52,97,52,99],[52,100,52,119],[53,66,53,75],[53,76,53,90],[53,91,53,93],[53,94,53,96],[53,97,53,99],[63,100,63,119],[64,76,64,90],[63,66,63,75],[63,76,63,90],[63,91,63,93],[62,12,62,14],[62,15,62,31],[62,52,62,63],[62,64,62,65],[62,32,62,51],[63,32,63,51],[64,12,64,14],[64,15,64,31],[64,52,64,63],[64,64,64,65],[64,32,64,51],[63,12,63,14],[63,15,63,31],[63,52,63,63],[63,64,63,65],[64,100,64,119],[66,66,66,75],[65,76,65,90],[65,91,65,93],[65,94,65,96],[65,97,65,99],[65,100,65,119],[66,76,66,90],[65,66,65,75],[64,66,64,75],[66,91,66,93],[66,94,66,96],[66,97,66,99],[68,76,68,90],[67,66,67,75],[69,66,69,75],[69,100,69,119],[68,94,68,96],[68,97,68,99],[68,100,68,119],[68,66,68,75],[67,100,67,119],[67,76,67,90],[67,91,67,93],[67,94,67,96],[67,97,67,99],[54,15,54,31],[54,32,54,51],[65,32,65,51],[62,91,62,93],[62,94,62,96],[62,97,62,99],[64,91,64,93],[64,94,64,96],[64,97,64,99],[63,94,63,96],[63,97,63,99],[55,32,55,51],[55,52,55,63],[55,64,55,65],[55,66,55,75],[55,76,55,90],[55,91,55,93],[55,94,55,96],[55,97,55,99],[58,97,58,99],[60,97,60,99],[58,15,58,31],[58,32,58,51],[58,52,58,63],[65,12,65,14],[65,15,65,31],[65,52,65,63],[65,64,65,65],[67,12,67,14],[67,15,67,31],[67,52,67,63],[67,64,67,65],[66,12,66,14],[66,15,66,31],[66,52,66,63],[66,64,66,65],[66,32,66,51],[67,32,67,51],[69,12,69,14],[69,15,69,31],[69,52,69,63],[69,64,69,65],[81,137,81,139],[84,137,84,139],[40,64,40,65],[40,66,40,75],[40,76,40,90],[40,15,40,31],[68,12,68,14],[68,15,68,31],[68,52,68,63],[68,64,68,65],[68,32,68,51],[69,32,69,51],[69,76,69,90],[69,91,69,93],[68,91,68,93],[69,94,69,96],[69,97,69,99],[66,100,66,119],[53,100,53,119],[54,12,54,14],[31,12,31,14],[9,12,9,116],[10,12,10,20],[10,21,10,59],[11,12,11,16],[11,17,11,19],[11,21,11,42],[11,49,11,53],[11,54,11,56],[11,57,11,79],[11,82,11,86],[11,87,11,89],[11,90,11,112],[31,15,32,26],[30,76,30,90],[30,91,30,93],[30,94,30,96],[30,97,30,99],[30,100,30,119],[31,76,31,90],[32,94,32,96],[30,64,30,65],[14,66,15,75],[32,97,32,99],[51,12,51,14],[51,15,51,31],[51,32,51,51],[51,52,51,63],[51,64,51,65],[51,66,51,75],[51,76,51,90],[51,91,51,93],[51,94,51,96],[51,97,51,99],[51,100,51,119],[54,52,54,63],[54,64,54,65],[54,66,54,75],[54,76,54,90],[54,91,54,93],[54,94,54,96],[54,97,54,99],[54,100,54,119],[56,12,56,14],[56,15,56,31],[56,32,56,51],[56,52,56,63],[56,64,56,65],[56,66,56,75],[56,76,56,90],[56,91,56,93],[56,94,56,96],[57,12,57,14],[57,15,57,31],[57,32,57,51],[57,52,57,63],[57,64,57,65],[57,66,57,75],[57,76,57,90],[57,91,57,93],[57,94,57,96],[58,64,58,65],[58,66,58,75],[58,76,58,90],[58,91,58,93],[58,94,58,96],[55,100,55,119],[56,97,56,99],[56,100,56,119],[57,97,57,99],[57,100,57,119],[7,9,7,33],[60,100,60,119],[60,12,60,14],[60,15,60,31],[60,32,60,51],[60,52,60,63],[60,64,60,65],[60,66,60,75],[60,76,60,90],[60,91,60,93],[60,94,60,96],[58,100,58,119],[59,12,59,14],[59,15,59,31],[59,32,59,51],[59,52,59,63],[59,64,59,65],[59,66,59,75],[59,76,59,90],[59,91,59,93],[59,94,59,96],[59,97,59,99],[59,100,59,119],[58,12,58,14]]}
[]
[null,null,null,null,null,null,null,null,null,null,null,null,null,null,null,null,null,null,null,null,null,null,null,null,null,null,null,null,null,null,null,null,null,null,null,null,null,null,null,null,null,null,null,null,null,null,null,"必須入力",null,null,null,null,null,null,null,"任意入力",null,null,null,null,null,null,null,"入力済み・入力不要",null,null,null,null,null,null,null,null,null,null,null,"エラー入力（入力不要な箇所に入力がある等）",null,null,null,null,null,null,null,null,null,null,null,null,null,null,null,null,null,null,null,null,null,null,null,null,null,null,null,null,null,null,null,null,null,null,null,null,null,null,null,null,null,null,null,null,null,null,null,null,null,null,null,null,null,null,null,null,null,null,null,null,null,"関数1","関数2","レ","レ",null,null,"チェックボックス","チェックボックス","チェックボックス",null,null,null,null,null,null,"報告書　第三面別紙",null,null,"配列関数（セルを選択した際はCtrl+Shift+Enterで）",null,null,null,null,null,null,null,null,null,null,null,null,null,null,null,null,null,null,null,null,null,"報告書　第一面5",null,"配列関数（セルを選択した際はCtrl+Shift+Enterで）",null,null,null,null,null,null,null,null,null,null,null,"選択肢候補1","選択肢候補2","選択肢候補3","選択肢候補4","選択肢候補5","選択肢候補6"]
[null,null,null,null,null,null,null,null,null,null,null,null,null,null,null,null,null,null,null,null,null,null,null,null,null,null,null,null,null,null,null,null,null,null,null,null,null,null,null,null,null,null,null,null,null,null,null,null,null,null,null,null,null,null,null,null,null,null,null,null,null,null,null,null,null,null,null,null,null,null,null,null,null,null,null,null,null,null,null,null,null,null,null,null,null,null,null,null,null,null,null,null,null,null,null,null,null,null,null,null,null,null,null,null,null,null,null,null,null,null,null,null,null,null,null,null,null,null,null,null,null,null,null,null,null,null,null,null,null,null,null,null,null,null,null,null,null,null,null,"基準日付",null,null,null,null,null,null,null,null,null,"全体"]
[null,null,null,null,null,null,null,null,null,null,null,null,null,null,null,null,null,null,null,null,null,null,null,null,null,null,null,null,null,null,null,null,null,null,null,null,null,null,null,null,null,null,null,null,null,null,null,null,null,null,null,null,null,null,null,null,null,null,null,null,null,null,null,null,null,null,null,null,null,null,null,null,null,null,null,null,null,null,null,null,null,null,null,null,null,null,null,null,null,null,null,null,null,null,null,null,null,null,null,null,null,null,null,null,null,null,null,null,null,null,null,null,null,null,null,null,null,null,null,null,null,null,null,null,null,null,null,null,null,null,null,null,null,null,null,null,null,null,null,"2018-12-31"]
[]
[]
[]
[null,null,null,null,null,null,null,null,null,"１２　検査結果表　（防火扉）別記第一号",null,null,null,null,null,null,null,null,null,null,null,null,null,null,null,null,null,null,null,null,null,null,null,null,null,null,null,null,null,null,null,null,null,null,null,null,null,null,null,null,null,null,null,null,null,null,null,null,null,null,null,null,null,null,null,null,null,null,null,null,null,null,null,null,null,null,null,null,null,null,null,null,null,null,null,null,null,null,null,null,null,null,null,null,null,null,null,null,null,null,null,null,null,null,null,null,null,null,null,null,null,null,null,null,null,null,null,null,null,null,null,null,null,null,null,null,null,null,null,null,null,null,null,null,null,null,null,{"$f":"$V$12","v":0},{"$f":"$BF$12","v":0},{"$f":"$CM$12","v":0},null,null,null,null,null,null,null,null,null,{"$f":"SUBSTITUTE(TRIM(ET14&\"　\"&ET38&\"　\"&ET48),\"　\",\",\")","v":""},"指摘Ａ,指摘Ｃ,指摘ｄｄｄ,22 ｆｓがｇ,1 特別指摘３",null,null,null,null,null,null,null,null,null,null,null,null,null,null,null,null,null,null,null,null,null,null,null,null,null,null,null,null,null,null,null,null,null,null,null,null,null,null,null,null,null,null,null,null,null,null,null,{"$f":"GQ12","v":"　"}]
[null,null,null,null,null,null,null,null,null,null,null,null,null,null,null,null,null,null,null,null,null,null,null,null,null,null,null,null,null,null,null,null,null,null,null,null,null,null,null,null,null,null,null,null,null,null,null,null,null,null,null,null,null,null,null,null,null,null,null,null,null,null,null,null,null,null,null,null,null,null,null,null,null,null,null,null,null,null,null,null,null,null,null,null,null,null,null,null,null,null,null,null,null,null,null,null,null,null,null,null,null,null,null,null,null,null,null,null,null,null,null,null,null,null,null,null,null,null,null,null,null,null,null,null,null,null,null,null,null,null,null,null,null,null,null,null,null,"検査者番号1","検査者番号2","検査者番号3",null,null,"完全未入力（検査結果未入力）判定"]
[null,null,null,null,null,null,null,null,null,null,null,null,null,null,null,null,null,null,null,null,null,null,null,null,null,null,null,null,null,null,null,null,null,null,null,null,null,null,null,null,null,null,null,null,null,null,null,null,null,null,null,null,null,null,null,null,null,null,null,null,null,null,null,null,null,null,null,null,null,null,null,null,null,null,null,null,null,null,null,null,null,null,null,null,null,null,null,null,null,null,null,null,null,null,null,null,null,null,null,null,null,null,null,null,null,null,null,null,null,null,null,null,null,null,null,null,null,null,null,null,null,null,null,null,null,null,null,null,null,null,null,null,null,null,null,null,null,"いない検査者番号を排除"]
[null,null,null,null,null,null,null,null,null,null,null,null,null,null,null,null,null,null,null,null,null,null,null,null,null,null,null,null,null,null,null,null,null,null,null,null,null,null,null,null,null,null,null,null,null,null,null,null,null,null,null,null,null,null,null,null,null,null,null,null,null,null,null,null,null,null,null,null,null,null,null,null,null,null,null,null,null,null,null,null,null,null,null,null,null,null,null,null,null,null,null,null,null,null,null,null,null,null,null,null,null,null,null,null,null,null,null,null,null,null,null,null,null,null,null,null,null,null,null,null,null,null,null,null,null,null,null,null,null,null,null,null,null,null,null,null,null,"検査者の選任数",null,null,null,null,null,null,null,null,null,null,null,null,null,null,null,null,null,null,null,null,null,null,null,null,null,null,null,null,null,null,null,null,null,null,null,null,null,null,null,null,null,null,null,null,null,null,null,null,null,null,null,null,null,null,null,"×要是正（既存不適格以外）",null,null,null,null,null,"国交省検査結果表別パターン転記用",null,null,null,null,null,"指摘の具体的内容等"]
[null,null,null,null,null,null,null,null,null,null,null,null,"検査者番号",null,null,null,null,1,null,null,null,{"$f":"'1_入力シート【基本情報】'!$AB$81","v":0},null,null,null,null,null,null,null,null,null,null,null,null,null,null,null,null,null,null,null,null,null,null,null,null,null,null,null,"検査者番号",null,null,null,null,2,null,null,{"$f":"'1_入力シート【基本情報】'!$AB$95","v":0},null,null,null,null,null,null,null,null,null,null,null,null,null,null,null,null,null,null,null,null,null,null,null,null,"検査者番号",null,null,null,null,3,null,null,{"$f":"'1_入力シート【基本情報】'!$AB$109","v":0},null,null,null,null,null,null,null,null,null,null,null,null,null,null,null,null,null,null,null,null,null,null,null,null,null,null,null,null,null,null,null,null,null,null,null,null,null,null,null,null,null,null,null,null,null,null,{"$f":"COUNTIFS(EH8:EJ8,\"<>0\")","v":0},"←検査者が1名の場合は検査者番号の入力は不要。",null,null,null,{"$f":"COUNTA(BA17:BL33,BA41:BL43,BA51:BL70)","v":0},null,null,null,null,null,"追加集計・別フォーム転記向け（紫）",null,null,null,null,null,null,null,null,null,null,null,null,null,null,null,null,null,null,null,null,null,null,null,null,null,null,null,null,null,null,null,null,null,null,null,null,null,null,null,null,null,null,null,null,"○指摘なし",null,null,null,null,{"$f":"\"　\"&TRIM(GQ14&\"　\"&GQ38&\"　\"&GQ48)","v":"　"},"和暦変換（予定は（）付き）の編集",null,null,null,null,null,"（既存不適格）を付ける"]
[null,null,null,null,null,null,null,null,null,null,null,null,null,null,null,null,null,null,null,null,null,"検査者1，2，3それぞれの氏名は検査者の入力欄から自動反映されます。（検査者2及び3はいない場合もあります）",null,null,null,null,null,null,null,null,null,null,null,null,null,null,null,null,null,null,null,null,null,null,null,null,null,null,null,null,null,null,null,null,null,null,null,null,null,null,null,null,null,null,null,null,null,null,null,null,null,null,null,null,null,null,null,null,null,null,null,null,null,null,null,null,null,null,null,null,null,null,null,null,null,null,null,null,null,null,null,null,null,null,null,null,null,null,null,null,null,null,null,null,null,null,null,null,null,null,null,null,null,null,null,null,null,null,null,null,null,null,null,null,null,null,null,"↓17行目～33行目結果の変換",null,null,null,null,null,null,null,null,null,null,"項目\n要是正＆\n既存不適格","結合↓","要是正",null,"要是正ありの場合",null,null,null,null,null,"既存不適格のみの場合",null,null,null,null,null,null,null,null,null,null,null,null,null,null,null,null,null,null,"追加集計・別フォーム転記向け（紫）",null,null,null,null,null,null,null,null,null,null,null,null,null,null,null,"△既存不適格",null,null,null,null,"結合↓","要是正ありの場合"]
[null,null,null,null,null,null,null,null,null,null,null,null,null,null,null,null,null,null,null,null,null,"検査者が1名のみの場合は検査者番号は入力不要です。",null,null,null,null,null,null,null,null,null,null,null,null,null,null,null,null,null,null,null,null,null,null,null,null,null,null,null,null,null,null,null,null,null,null,null,null,null,null,null,null,null,null,null,null,null,null,null,null,null,null,null,null,null,null,null,null,null,null,null,null,null,null,null,null,null,null,null,null,null,null,null,null,null,null,null,null,null,null,null,null,null,null,null,null,null,null,null,null,null,null,null,null,null,null,null,null,null,null,null,null,null,null,null,null,null,null,null,null,null,null,null,null,null,null,null,{"$f":"IF(AND(EI14=\"\",EJ14=\"\",EK14=\"\",EH34<>0),\"レ\",\"\")","v":""},{"$f":"IF(AND(EJ14=\"\",EK14=\"\",EI34<>0),\"レ\",\"\")","v":""},{"$f":"IF(EJ34<>0,\"レ\",\"\")","v":""},{"$f":"IF(AND(EJ14=\"\",EK34<>0),\"レ\",\"\")","v":""},null,null,null,null,null,null,null,null,{"$f":"SUBSTITUTE(TRIM(ET17&\"　\"&ET18&\"　\"&ET19&\"　\"&ET20&\"　\"&ET21&\"　\"&ET22&\"　\"&ET23&\"　\"&ET24&\"　\"&ET25&\"　\"&ET26&\"　\"&ET27&\"　\"&ET28&\"　\"&ET29&\"　\"&ET30&\"　\"&ET31&\"　\"&ET32&\"　\"&ET33),\"　\",\",\")","v":""},"改善策の具体的内容等","和暦変換（予定は( )付き）",{"$f":"IF(COUNTIF(EY17:EY33,1)>0,\"レ\",\"\")","v":""},null,{"$f":"IF(EW14=\"レ\",TEXT(EZ34,\"ee\"),\"\")","v":""},{"$f":"IF(EW14=\"レ\",MONTH(EZ34),IF(AND(EJ14=\"レ\",FB14=\"レ\",FB34=0),\"\",IF(AND(EJ14=\"レ\",FB14=\"レ\",FB34>0),\"未定\",\"\")))","v":""},null,{"$f":"IF(EW14=\"\",IF(OR(FB34>0,EJ14=\"レ\"),\"レ\",\"\"),\"\")","v":""},{"$f":"IF(AND(COUNTIF(EO17:EO33,\"要是正\")=0,COUNTIF(FE17:FE33,1)>0),\"レ\",\"\")","v":""},null,{"$f":"IF(FC14=\"レ\",TEXT(FF34,\"ee\"),\"\")","v":""},{"$f":"IF(FC14=\"レ\",MONTH(FF34),IF(AND(EK14=\"レ\",FH14=\"レ\",FH34=0),\"\",IF(AND(EK14=\"レ\",FH14=\"レ\",FH34>0),\"未定\",\"\")))","v":""},null,{"$f":"IF(FC14=\"\",IF(OR(FH34>0,EK14=\"レ\"),\"レ\",\"\"),\"\")","v":""},null,null,null,null,null,null,null,null,null,null,null,null,null,{"$f":"IF(OR(EW14=\"レ\",EW38=\"レ\",EW48=\"レ\"),\"レ\",\"\")","v":""},{"$f":"IF(AND(FV14=\"\",FZ14=\"\",OR(EX14=\"レ\",EX38=\"レ\",EX48=\"レ\")),\"レ\",\"\")","v":""},{"$f":"IF(FT20=\"レ\",IF(FV14=\"レ\",TEXT(FV20,\"ee\"),IF(FW14=\"レ\",TEXT(FW20,\"ee\"),\"\")),\"\")","v":""},{"$f":"IF(FT20=\"レ\",IF(FV14=\"レ\",MONTH(FV20),IF(FW14=\"レ\",MONTH(FW20),\"未定\")),\"\")","v":""},{"$f":"IF(AND(FV14=\"\",COUNTIF(FX17:FX19,\"未定\")>0),\"レ\",\"\")","v":""},{"$f":"IF(AND(FT20=\"\",OR(FC14=\"レ\",FC38=\"レ\",FC48=\"レ\")),\"レ\",\"\")","v":""},{"$f":"IF(AND(FT20=\"\",GA14=\"\",GE14=\"\",OR(FD14=\"レ\",FD38=\"レ\",FD48=\"レ\")),\"レ\",\"\")","v":""},{"$f":"IF(FU20=\"レ\",IF(GA14=\"レ\",TEXT(GA20,\"ee\"),IF(GB14=\"レ\",TEXT(GB20,\"ee\"),\"\")),\"\")","v":""},{"$f":"IF(FU20=\"レ\",IF(GA14=\"レ\",MONTH(GA20),IF(GB14=\"レ\",MONTH(GB20),\"未定\")),\"\")","v":""},{"$f":"IF(AND(FT20=\"\",GA14=\"\",COUNTIF(GC17:GC19,\"未定\")>0),\"レ\",\"\")","v":""},null,null,null,null,null,null,"―対象外",null,null,null,null,{"$f":"TRIM(GQ17&\"　\"&GQ18&\"　\"&GQ19&\"　\"&GQ20&\"　\"&GQ21&\"　\"&GQ22&\"　\"&GQ23&\"　\"&GQ24&\"　\"&GQ25&\"　\"&GQ26&\"　\"&GQ27&\"　\"&GQ28&\"　\"&GQ29&\"　\"&GQ30&\"　\"&GQ31&\"　\"&GQ32&\"　\"&GQ33)","v":""},{"$f":"IF(COUNTIF(GT17:GT32,1)>0,\"レ\",\"\")","v":""},null,{"$f":"IF(GR14=\"レ\",TEXT(GU33,\"ee\"),\"\")","v":""},{"$f":"IF(GR14=\"レ\",MONTH(GU33),IF(AND(GD15=\"レ\",GV14=\"レ\",GV33=0),\"\",IF(AND(GD15=\"レ\",GV14=\"レ\",GV33>0),\"未定\",\"\")))","v":""},{"$f":"IF(GR14=\"\",IF(OR(GV33>0,GD15=\"レ\"),\"レ\",\"\"),\"\")","v":"レ"}]
[null,null,null,null,null,null,null,null,null,null,null,null,"番号",null,null,"検　査　項　目　",null,null,null,null,null,null,null,null,null,null,null,"検査事項",null,null,null,null,null,null,null,null,null,null,null,null,null,null,null,null,null,null,null,null,null,null,null,null,"検査結果",null,null,null,null,null,null,null,null,null,null,null,"検査者番号",null,"指摘の具体的内容等",null,null,null,null,null,null,null,null,null,"改善策の具体的内容等",null,null,null,null,null,null,null,null,null,null,null,null,null,null,"改善（予定）年月",null,null,null,null,null,null,null,null,"該当法令・注意事項",null,null,null,null,null,null,null,null,null,null,null,null,null,null,null,null,null,null,null,null,null,null,null,null,null,null,null,null,null,null,null,null,null,null,null,null,null,null,null,null,null,null,null,null,null,null,null,null,"指摘の具体的内容等\n要是正＋（既存不適格）",null,null,"改善（予定）\n年月",null,null,null,null,null,"改善（予定）\n年月",null,null,null,null,null,"関連写真添付　リンク指定先",null,null,"関連写真添付　リンク指定先一覧",null,null,null,null,"報告書１面5欄用",null,null,null,null,"要是正",null,null,null,null,"既存不適格",null,null,null,null,null,null,null,null,null,"指摘なし","要是正","既存不適格","担当者番号","線引き",null,null,"改善（予定）\n年月"]
[null,null,null,null,null,null,null,null,null,null,null,null,null,null,null,null,null,null,null,null,null,null,null,null,null,null,null,null,null,null,null,null,null,null,null,null,null,null,null,null,null,null,null,null,null,null,null,null,null,null,null,null,null,null,null,null,null,null,null,null,null,null,null,null,null,null,null,null,null,null,null,null,null,null,null,null,null,null,null,null,null,null,null,null,null,null,null,null,null,null,null,"年\n(令和)",null,null,"月",null,null,"状況",null,null,null,null,null,null,null,null,null,null,null,null,null,null,null,null,null,null,null,null,null,null,null,null,null,null,null,null,null,null,null,null,null,null,null,null,null,null,null,"対象外項目","指摘なし","要是正","既存不適格","項目番号\n関数なし","項目","年月カウント","要是正と既存不適格","要是正カウント（別添2リンク先）","カウント\n報告書用","項目番号",null,null,null,null,"変換\n/有(予定)","西暦変換\n/有（済）","未来の年月\nカウント/年","未来の直近/月","過去の直近","未定/無","変換/有","西暦変換/(有)","未来の年月\nカウント/年","未来の直近/月","過去の直近","未定/無","シート","セル　上端","セル　下端",null,"シート","セル　上端","セル　下端",null,null,"対象外項目","指摘なし","要是正","既存不適格","未来の直近","過去の直近","未定/年","　/月","　/無","未来の直近","過去の直近","未定/年","　/月","　/無",null,null,null,null,null,"国交省検査結果表転記用",null,null,null,null,null,"指摘の具体的内容等\n要是正","変換\n/有(予定)","西暦変換\n","未来の年月\nカウント/年","未来の直近\n/月","未定/無",null,null,null,null,null,"項目"]
[null,null,null,null,null,null,null,null,null,null,null,null,"1（1）",null,null,"防火扉",null,null,null,null,"設置場所の周囲状況",null,null,null,null,null,null,"閉鎖の障害となる物品の放置の状況",null,null,null,null,null,null,null,null,null,null,null,null,null,null,null,null,null,null,null,null,null,null,null,null,null,null,null,null,null,null,null,null,null,null,null,null,null,null,null,null,null,null,null,null,null,null,null,null,null,null,null,null,null,null,null,null,null,null,null,null,null,null,null,null,null,null,null,null,null,null,null,null,null,null,null,null,null,null,null,null,null,null,null,null,null,null,null,null,null,null,null,null,null,null,null,null,null,null,null,null,null,null,null,null,null,null,null,null,null,{"$f":"COUNTIFS(BA17,\"ー対象外\")","v":0},{"$f":"COUNTIFS(BA17,\"○指摘なし\")","v":0},{"$f":"COUNTIFS(BA17,\"×要是正（既存不適格以外）\")","v":0},{"$f":"COUNTIFS(BA17,\"△既存不適格\")","v":0},"1(1)",{"$f":"IF($U17=\"\",P17,U17)","v":"設置場所の周囲状況"},{"$f":"COUNTA(CN17:CS17)","v":0},{"$f":"IF(BA17=\"×要是正（既存不適格以外）\",\"要是正\",\"\")&IF(BA17=\"△既存不適格\",\"既存不適格\",\"\")","v":""},{"$f":"IF($EO17=\"要是正\",MAX($EP13:EP$14)+1,\"\")","v":""},{"$f":"IF($EO17=\"要是正\",MAX($EQ13:EQ$14)+1,\"\")","v":""},{"$f":"IF(OR(BA17=\"×要是正（既存不適格以外）\",BA17=\"△既存不適格\"),EL17,\"\")","v":""},{"$f":"IF(OR($EO17=\"要是正\",$EO17=\"既存不適格\"),$EM17,\"\")","v":""},{"$f":"IF($EO17=\"要是正\",IF(BO17=\"\",\"\",BO17),\"\")","v":""},{"$f":"IF($EO17=\"要是正\",IF(BY17=\"\",\"\",BY17),\"\")","v":""},{"$f":"IF(CT17=\"未定\",\"未定\",IF(GS17=\"0\",\"\",IF(CT17=\"予定\",TEXT(GS17,\"([$-ja-JP]ge.m);@\"),IF(CT17=\"改善済\",TEXT(GS17,\"[$-ja-JP]ge.m;@\"),TEXT(EX17,\"[$-ja-JP]ge.m;@\")))))","v":""},{"$f":"IF(OR(EO17=\"要是正\",EO17=\"既存不適格\"),IF(OR(EN17<2,CT17<>\"予定\"),\"\",\"令和\"&CN17&\"年\"&CQ17&\"月1日\"),\"\")","v":""},{"$f":"IF(EW17=\"\",\"0\",DATEVALUE(EW17))","v":"0"},{"$f":"IF(EO17=\"要是正\",IF(AND(CT17=\"予定\",EN17=2),1,IF(CT17=\"改善済\",2,\"\")),\"\")","v":""},{"$f":"IF(EY17=1,EX17,\"0\")","v":"0"},{"$f":"IF(EY17=2,EX17,\"0\")","v":"0"},{"$f":"IF(AND(EO17=\"要是正\",AND(EN17=0,CT17=\"未定\")),CT17,\"\")","v":""},{"$f":"IF(EO17=\"既存不適格\",IF(OR(EN17<2,CT17<>\"予定\"),\"\",\"令和\"&CN17&\"年\"&CQ17&\"月1日\"),\"\")","v":""},{"$f":"IF(FC17=\"\",\"0\",DATEVALUE(FC17))","v":"0"},{"$f":"IF(EO17=\"既存不適格\",IF(AND(CT17=\"予定\",EN17=2),1,IF(CT17=\"改善済\",2,\"\")),\"\")","v":""},{"$f":"IF(FE17=1,FD17,\"0\")","v":"0"},{"$f":"IF(FE17=2,FD17,\"0\")","v":"0"},{"$f":"IF(AND(EO17=\"既存不適格\",AND(EN17=0,CT17=\"未定\")),CT17,\"\")","v":""},null,null,null,2,"#'3_入力シート【写真】'","A33","AU54",null,1,{"$f":"EH14","v":""},{"$f":"EI14","v":""},{"$f":"EJ14","v":""},"",{"$f":"EZ34","v":"0"},"対象外",{"$f":"$FB$14","v":""},"現在不使用","現在不使用",{"$f":"FF34","v":"0"},"対象外",{"$f":"$FH$14","v":""},"現在不使用","現在不使用",null,null,null,{"$f":"IF(EO17=\"要是正\",IF(BO17=\"\",\"\",EL17 &\" \" & BO17),\"\")","v":""},null,{"$f":"IF($BA17=\"○指摘なし\",\"○\",IF($BA17=\"―対象外\",\"－\",\"\"))","v":""},{"$f":"IF(OR($BA17=\"×要是正（既存不適格以外）\",$BA17=\"△既存不適格\"),\"○\",\"\")","v":""},{"$f":"IF($BA17=\"△既存不適格\",\"○\",\"\")","v":""},{"$f":"BM17","v":0},{"$f":"IF($BA17=\"―対象外\",\"○\",\"\")","v":""},null,{"$f":"IF(EO17=\"要是正\",IF(BO17=\"\",\"\",ER17&\" \"&HB17&\" \"&BO17&CHAR(10)),\"\")","v":""},{"$f":"IF(NOT(OR(CT17=\"未定\",CT17=\"\")),\"令和\"&CN17&\"年\"&CQ17&\"月1日\",\"\")","v":""},{"$f":"IF(GR17=\"\",\"0\",DATEVALUE(GR17))","v":"0"},{"$f":"IF(OR(CT17=\"予定\",CT17=\"改善済\"),1,\"\")","v":""},{"$f":"IF(GT17=1,GS17,\"0\")","v":"0"},{"$f":"IF(AND(EP18=\"要是正\",AND(EO18=0,CT17=\"未定\")),CY17:CY18,\"\")","v":""},null,{"$f":"IF(BA17=\"△既存不適格\",BO17&\"(既存不適格)\",BO17)","v":0},null,null,null,{"$f":"$U$17","v":"設置場所の周囲状況"}]
[null,null,null,null,null,null,null,null,null,null,null,null,"1（2）",null,null,null,null,null,null,null,"扉、枠及び金物",null,null,null,null,null,null,"扉の取付けの状況",null,null,null,null,null,null,null,null,null,null,null,null,null,null,null,null,null,null,null,null,null,null,null,null,null,null,null,null,null,null,null,null,null,null,null,null,null,null,null,null,null,null,null,null,null,null,null,null,null,null,null,null,null,null,null,null,null,null,null,null,null,null,null,null,null,null,null,null,null,null,null,null,null,null,null,null,null,null,null,null,null,null,null,null,null,null,null,null,null,null,null,null,null,null,null,null,null,null,null,null,null,null,null,null,null,null,null,null,null,{"$f":"COUNTIFS(BA18,\"ー対象外\")","v":0},0,0,0,"1(2)",{"$f":"IF($U18=\"\",P18,U18)","v":"扉、枠及び金物"},{"$f":"COUNTA(CN18:CS18)","v":0},{"$f":"IF(BA18=\"×要是正（既存不適格以外）\",\"要是正\",\"\")&IF(BA18=\"△既存不適格\",\"既存不適格\",\"\")","v":""},{"$f":"IF($EO18=\"要是正\",MAX($EP14:EP$17)+1,\"\")","v":""},{"$f":"IF($EO18=\"要是正\",MAX($EQ$16:EQ17)+1,\"\")","v":""},"","",{"$f":"IF($EO18=\"要是正\",IF(BO18=\"\",\"\",BO18),\"\")","v":""},"",{"$f":"IF(CT18=\"未定\",\"未定\",IF(GS18=\"0\",\"\",IF(CT18=\"予定\",TEXT(GS18,\"([$-ja-JP]ge.m);@\"),IF(CT18=\"改善済\",TEXT(GS18,\"[$-ja-JP]ge.m;@\"),TEXT(EX18,\"[$-ja-JP]ge.m;@\")))))","v":""},{"$f":"IF(OR(EO18=\"要是正\",EO18=\"既存不適格\"),IF(OR(EN18<2,CT18<>\"予定\"),\"\",\"令和\"&CN18&\"年\"&CQ18&\"月1日\"),\"\")","v":""},{"$f":"IF(EW18=\"\",\"0\",DATEVALUE(EW18))","v":"0"},{"$f":"IF(EO18=\"要是正\",IF(AND(CT18=\"予定\",EN18=2),1,IF(CT18=\"改善済\",2,\"\")),\"\")","v":""},{"$f":"IF(EY18=1,EX18,\"0\")","v":"0"},{"$f":"IF(EY18=2,EX18,\"0\")","v":"0"},"",{"$f":"IF(EO18=\"既存不適格\",IF(OR(EN18<2,CT18<>\"予定\"),\"\",\"令和\"&CN18&\"年\"&CQ18&\"月1日\"),\"\")","v":""},{"$f":"IF(FC18=\"\",\"0\",DATEVALUE(FC18))","v":"0"},{"$f":"IF(EO18=\"既存不適格\",IF(AND(CT18=\"予定\",EN18=2),1,IF(CT18=\"改善済\",2,\"\")),\"\")","v":""},{"$f":"IF(FE18=1,FD18,\"0\")","v":"0"},"0","",null,null,null,4,"#'3_入力シート【写真】'","A92","AU73",null,3,{"$f":"EH38","v":""},{"$f":"EI38","v":""},{"$f":"EJ38","v":""},"",{"$f":"EZ44","v":"0"},"対象外",{"$f":"$FB$38","v":""},"現在不使用","現在不使用",{"$f":"FF44","v":"0"},"対象外",{"$f":"$FH$38","v":""},"現在不使用","現在不使用",null,null,null,"",null,{"$f":"IF($BA18=\"○指摘なし\",\"○\",IF($BA18=\"―対象外\",\"－\",\"\"))","v":""},"","",0,"",null,{"$f":"IF(EO18=\"要是正\",IF(BO18=\"\",\"\",ER18&\" \"&HB18&\" \"&BO18&CHAR(10)),\"\")","v":""},{"$f":"IF(NOT(OR(CT18=\"未定\",CT18=\"\")),\"令和\"&CN18&\"年\"&CQ18&\"月1日\",\"\")","v":""},{"$f":"IF(GR18=\"\",\"0\",DATEVALUE(GR18))","v":"0"},{"$f":"IF(OR(CT18=\"予定\",CT18=\"改善済\"),1,\"\")","v":""},{"$f":"IF(GT18=1,GS18,\"0\")","v":"0"},{"$f":"IF(AND(EP19=\"要是正\",AND(EO19=0,CT18=\"未定\")),CU19,\"\")","v":""},null,{"$f":"IF(BA18=\"△既存不適格\",BO18&\"(既存不適格)\",BO18)","v":0},null,null,null,{"$f":"$U$18","v":"扉、枠及び金物"}]
[null,null,null,null,null,null,null,null,null,null,null,null,"1（3）",null,null,null,null,null,null,null,null,null,null,null,null,null,null,"扉、枠及び金物の劣化及び損傷の状況",null,null,null,null,null,null,null,null,null,null,null,null,null,null,null,null,null,null,null,null,null,null,null,null,null,null,null,null,null,null,null,null,null,null,null,null,null,null,null,null,null,null,null,null,null,null,null,null,null,null,null,null,null,null,null,null,null,null,null,null,null,null,null,null,null,null,null,null,null,null,null,null,null,null,null,null,null,null,null,null,null,null,null,null,null,null,null,null,null,null,null,null,null,null,null,null,null,null,null,null,null,null,null,null,null,null,null,null,null,0,0,0,0,"1(3)",{"$f":"IF($U19=\"\",P17,U18)","v":"防火扉"},0,"",{"$f":"IF($EO19=\"要是正\",MAX($EP16:EP$18)+1,\"\")","v":""},{"$f":"IF($EO19=\"要是正\",MAX($EQ$16:EQ18)+1,\"\")","v":""},"","","","","","","0","","0","0","","","0","","0","0","",null,null,null,4,"#'3_入力シート【写真】'","A92","AU73",null,3,{"$f":"EH48","v":""},{"$f":"EI48","v":""},{"$f":"EJ48","v":""},"",{"$f":"EZ71","v":"0"},"対象外",{"$f":"$FB$48","v":""},"現在不使用","現在不使用",{"$f":"FF71","v":"0"},"対象外",{"$f":"$FH$48","v":""},"現在不使用","現在不使用",null,null,null,"",null,"","","",0,"",null,"","","0","","0","",null,0,null,null,null,{"$f":"$U$18","v":"扉、枠及び金物"}]
[null,null,null,null,null,null,null,null,null,null,null,null,"1（4）",null,null,null,null,null,null,null,"危害防止装置",null,null,null,null,null,null,"作動の状況",null,null,null,null,null,null,null,null,null,null,null,null,null,null,null,null,null,null,null,null,null,null,null,null,null,null,null,null,null,null,null,null,null,null,null,null,null,null,null,null,null,null,null,null,null,null,null,null,null,null,null,null,null,null,null,null,null,null,null,null,null,null,null,null,null,null,null,null,null,null,null,null,null,null,null,null,null,null,null,null,null,null,null,null,null,null,null,null,null,null,null,null,null,null,null,null,null,null,null,null,null,null,null,null,null,null,null,null,null,0,0,0,0,"1(4)","危害防止装置",0,"",{"$f":"IF($EO20=\"要是正\",MAX($EP$16:EP19)+1,\"\")","v":""},{"$f":"IF($EO20=\"要是正\",MAX($EQ$16:EQ19)+1,\"\")","v":""},"","","","","","","0","","0","0","","","0","","0","0","",null,null,null,5,"#'3_入力シート【写真】'","A19","AU150",null,4,{"$f":"IF(AND(FS20<>\"レ\",FT20<>\"レ\",FU20<>\"レ\",COUNTIF(FR17:FR19,\"レ\")>0),\"レ\",\"\")","v":""},{"$f":"IF(AND(FT20<>\"レ\",FU20<>\"レ\",COUNTIF(FS17:FS19,\"レ\")>0),\"レ\",\"\")","v":""},{"$f":"IF(COUNTIF(FT17:FT19,\"レ\")>0,\"レ\",\"\")","v":""},{"$f":"IF(AND(FT20<>\"レ\",COUNTIF(FU17:FU19,\"レ\")>0),\"レ\",\"\")","v":""},{"$f":"INDEX(FV17:FV19,MATCH(MIN(ABS(FV17:FV19-$EJ$4)),ABS(FV17:FV19-$EJ$4),0))","v":"0"},null,null,"現在不使用","現在不使用",{"$f":"INDEX(GA17:GA19,MATCH(MIN(ABS(GA17:GA19-$EJ$4)),ABS(GA17:GA19-$EJ$4),0))","v":"0"},null,null,"現在不使用","現在不使用",null,null,null,"",null,"","","",0,"",null,"","","0","","0","",null,0,null,null,null,{"$f":"$U$20","v":"危害防止装置"}]
[null,null,null,null,null,null,null,null,null,null,null,null,"1（5）",null,null,"連動機構　　　",null,null,null,null,"煙感知器、熱煙複合式感知器及び熱感知器",null,null,null,null,null,null,"設置位置",null,null,null,null,null,null,null,null,null,null,null,null,null,null,null,null,null,null,null,null,null,null,null,null,null,null,null,null,null,null,null,null,null,null,null,null,null,null,null,null,null,null,null,null,null,null,null,null,null,null,null,null,null,null,null,null,null,null,null,null,null,null,null,null,null,null,null,null,null,null,null,null,null,null,null,null,null,null,null,null,null,null,null,null,null,null,null,null,null,null,null,null,null,null,null,null,null,null,null,null,null,null,null,null,null,null,null,null,null,0,0,0,0,"1(5)","煙感知器、熱煙複合式感知器及び熱感知器",0,"",{"$f":"IF($EO21=\"要是正\",MAX($EP$16:EP20)+1,\"\")","v":""},{"$f":"IF($EO21=\"要是正\",MAX($EQ$16:EQ20)+1,\"\")","v":""},"","","","","","","0","",{"$f":"IF(EY21=1,EX21,\"0\")","v":"0"},"0","","","0","","0","0","",null,null,null,6,"#'3_入力シート【写真】'","A152","AU173",null,null,null,null,null,null,null,null,null,null,null,null,null,null,null,null,null,null,null,"",null,"","","",0,"",null,"","","0","","0","",null,0,null,null,null,{"$f":"$U$21","v":"煙感知器、熱煙複合式感知器及び熱感知器"}]
[null,null,null,null,null,null,null,null,null,null,null,null,"1（6）",null,null,null,null,null,null,null,null,null,null,null,null,null,null,"感知の状況",null,null,null,null,null,null,null,null,null,null,null,null,null,null,null,null,null,null,null,null,null,null,null,null,null,null,null,null,null,null,null,null,null,null,null,null,null,null,null,null,null,null,null,null,null,null,null,null,null,null,null,null,null,null,null,null,null,null,null,null,null,null,null,null,null,null,null,null,null,null,null,null,null,null,null,null,null,null,null,null,null,null,null,null,null,null,null,null,null,null,null,null,null,null,null,null,null,null,null,null,null,null,null,null,null,null,null,null,null,0,0,0,0,"1(6)",{"$f":"IF($U22=\"\",P21,U21)","v":"連動機構　　　"},0,"",{"$f":"IF($EO22=\"要是正\",MAX($EP$16:EP21)+1,\"\")","v":""},{"$f":"IF($EO22=\"要是正\",MAX($EQ$16:EQ21)+1,\"\")","v":""},"","","","","","","0","","0","0","","","0","","0","0","",null,null,null,2,"#'3_入力シート【写真】'","A33","AU54",null,null,null,null,null,null,null,null,null,null,null,null,null,null,null,null,null,null,null,"",null,"","","",0,"",null,"","","0","","0","",null,0,null,null,null,{"$f":"$U$21","v":"煙感知器、熱煙複合式感知器及び熱感知器"}]
[null,null,null,null,null,null,null,null,null,null,null,null,"1（7）",null,null,null,null,null,null,null,"温度ヒューズ装置",null,null,null,null,null,null,"設置の状況",null,null,null,null,null,null,null,null,null,null,null,null,null,null,null,null,null,null,null,null,null,null,null,null,null,null,null,null,null,null,null,null,null,null,null,null,null,null,null,null,null,null,null,null,null,null,null,null,null,null,null,null,null,null,null,null,null,null,null,null,null,null,null,null,null,null,null,null,null,null,null,null,null,null,null,null,null,null,null,null,null,null,null,null,null,null,null,null,null,null,null,null,null,null,null,null,null,null,null,null,null,null,null,null,null,null,null,null,null,0,0,0,0,"1(7)","温度ヒューズ装置",0,"",{"$f":"IF($EO23=\"要是正\",MAX($EP$16:EP22)+1,\"\")","v":""},{"$f":"IF($EO23=\"要是正\",MAX($EQ$16:EQ22)+1,\"\")","v":""},"",{"$f":"IF(OR($EO23=\"要是正\",$EO23=\"既存不適格\"),$EM23,\"\")","v":""},"","","","","0","","0","0","","","0","","0","0","",null,null,null,3,"#'3_入力シート【写真】'","A69","AU90",null,null,null,null,null,null,null,null,null,null,null,null,null,null,null,null,null,null,null,"",null,"","","",0,"",null,"","","0","","0","",null,0,null,null,null,{"$f":"$U$23","v":"温度ヒューズ装置"}]
[null,null,null,null,null,null,null,null,null,null,null,null,"1（8）",null,null,null,null,null,null,null,"連動制御器",null,null,null,null,null,null,"スイッチ類及び表示灯の状況",null,null,null,null,null,null,null,null,null,null,null,null,null,null,null,null,null,null,null,null,null,null,null,null,null,null,null,null,null,null,null,null,null,null,null,null,null,null,null,null,null,null,null,null,null,null,null,null,null,null,null,null,null,null,null,null,null,null,null,null,null,null,null,null,null,null,null,null,null,null,null,null,null,null,null,null,null,null,null,null,null,null,null,null,null,null,null,null,null,null,null,null,null,null,null,null,null,null,null,null,null,null,null,null,null,null,null,null,null,0,0,0,0,"1(8)","連動制御器",0,"",{"$f":"IF($EO24=\"要是正\",MAX($EP$16:EP23)+1,\"\")","v":""},{"$f":"IF($EO24=\"要是正\",MAX($EQ$16:EQ23)+1,\"\")","v":""},"","","","","","","0","","0","0","","","0","","0","0","",null,null,null,4,"#'3_入力シート【写真】'","A92","AU73",null,null,null,null,null,null,null,null,null,null,null,null,null,null,null,null,null,null,null,"",null,"","","",0,"",null,"","","0","","0","",null,0,null,null,null,{"$f":"$U$24","v":"連動制御器"}]
[null,null,null,null,null,null,null,null,null,null,null,null,"1（9）",null,null,null,null,null,null,null,null,null,null,null,null,null,null,"結線接続の状況　　　",null,null,null,null,null,null,null,null,null,null,null,null,null,null,null,null,null,null,null,null,null,null,null,null,null,null,null,null,null,null,null,null,null,null,null,null,null,null,null,null,null,null,null,null,null,null,null,null,null,null,null,null,null,null,null,null,null,null,null,null,null,null,null,null,null,null,null,null,null,null,null,null,null,null,null,null,null,null,null,null,null,null,null,null,null,null,null,null,null,null,null,null,null,null,null,null,null,null,null,null,null,null,null,null,null,null,null,null,null,0,0,0,0,"1(9)",{"$f":"IF($U25=\"\",P21,U24)","v":"連動機構　　　"},0,"",{"$f":"IF($EO25=\"要是正\",MAX($EP$16:EP24)+1,\"\")","v":""},{"$f":"IF($EO25=\"要是正\",MAX($EQ$16:EQ24)+1,\"\")","v":""},"","","","","","","0","","0","0","","","0","","0","0","",null,null,null,5,"#'3_入力シート【写真】'","A19","AU150",null,null,null,null,null,null,null,null,null,null,null,null,null,null,null,null,null,null,null,"",null,"","","",0,"",null,"","","0","","0","",null,0,null,null,null,{"$f":"$U$24","v":"連動制御器"}]
[null,null,null,null,null,null,null,null,null,null,null,null,"1（10）",null,null,null,null,null,null,null,null,null,null,null,null,null,null,"接地の状況",null,null,null,null,null,null,null,null,null,null,null,null,null,null,null,null,null,null,null,null,null,null,null,null,null,null,null,null,null,null,null,null,null,null,null,null,null,null,null,null,null,null,null,null,null,null,null,null,null,null,null,null,null,null,null,null,null,null,null,null,null,null,null,null,null,null,null,null,null,null,null,null,null,null,null,null,null,null,null,null,null,null,null,null,null,null,null,null,null,null,null,null,null,null,null,null,null,null,null,null,null,null,null,null,null,null,null,null,null,0,0,0,0,"1(10)",{"$f":"IF($U26=\"\",P21,U24)","v":"連動機構　　　"},0,"",{"$f":"IF($EO26=\"要是正\",MAX($EP$16:EP25)+1,\"\")","v":""},{"$f":"IF($EO26=\"要是正\",MAX($EQ$16:EQ25)+1,\"\")","v":""},"","","","","","","0","","0","0","","","0","","0","0","",null,null,null,6,"#'3_入力シート【写真】'","A152","AU173",null,null,null,null,null,null,null,null,null,null,null,null,null,null,null,null,null,null,null,"",null,{"$f":"IF($BA26=\"○指摘なし\",\"○\",IF($BA26=\"―対象外\",\"－\",\"\"))","v":""},"","",0,"",null,"","","0","",{"$f":"IF(GT26=1,GS26,\"0\")","v":"0"},"",null,0,null,null,null,"連動制御器"]
[null,null,null,null,null,null,null,null,null,null,null,null,"1（11）",null,null,null,null,null,null,null,null,null,null,null,null,null,null,"予備電源への切り替えの状況",null,null,null,null,null,null,null,null,null,null,null,null,null,null,null,null,null,null,null,null,null,null,null,null,null,null,null,null,null,null,null,null,null,null,null,null,null,null,null,null,null,null,null,null,null,null,null,null,null,null,null,null,null,null,null,null,null,null,null,null,null,null,null,null,null,null,null,null,null,null,null,null,null,null,null,null,null,null,null,null,null,null,null,null,null,null,null,null,null,null,null,null,null,null,null,null,null,null,null,null,null,null,null,null,null,null,null,null,null,0,0,0,0,"1(11)",{"$f":"IF($U27=\"\",P21,U24)","v":"連動機構　　　"},0,"",{"$f":"IF($EO27=\"要是正\",MAX($EP$16:EP26)+1,\"\")","v":""},{"$f":"IF($EO27=\"要是正\",MAX($EQ$16:EQ26)+1,\"\")","v":""},"","","","","","","0","","0","0","","","0","","0","0","",null,null,null,2,"#'3_入力シート【写真】'","A33","AU54",null,null,null,null,null,null,null,null,null,null,null,null,null,null,null,null,null,null,null,"",null,"","","",0,"",null,"","","0","","0","",null,0,null,null,null,"連動制御器"]
[null,null,null,null,null,null,null,null,null,null,null,null,"1（12）",null,null,null,null,null,null,null,"連動機構用予備電源",null,null,null,null,null,null,"劣化及び損傷の状況",null,null,null,null,null,null,null,null,null,null,null,null,null,null,null,null,null,null,null,null,null,null,null,null,null,null,null,null,null,null,null,null,null,null,null,null,null,null,null,null,null,null,null,null,null,null,null,null,null,null,null,null,null,null,null,null,null,null,null,null,null,null,null,null,null,null,null,null,null,null,null,null,null,null,null,null,null,null,null,null,null,null,null,null,null,null,null,null,null,null,null,null,null,null,null,null,null,null,null,null,null,null,null,null,null,null,null,null,null,0,0,0,0,"1(12)","連動機構用予備電源",0,"",{"$f":"IF($EO28=\"要是正\",MAX($EP$16:EP27)+1,\"\")","v":""},{"$f":"IF($EO28=\"要是正\",MAX($EQ$16:EQ27)+1,\"\")","v":""},"","","","","","","0","","0","0","","","0","","0","0","",null,null,null,4,"#'3_入力シート【写真】'","A92","AU73",null,null,null,null,null,null,null,null,null,null,null,null,null,null,null,null,null,null,null,"",null,"","","",0,"",null,"","","0","","0","",null,0,null,null,null,{"$f":"$U$28","v":"連動機構用予備電源"}]
[null,null,null,null,null,null,null,null,null,null,null,null,"1（13）",null,null,null,null,null,null,null,null,null,null,null,null,null,null,"容量の状況",null,null,null,null,null,null,null,null,null,null,null,null,null,null,null,null,null,null,null,null,null,null,null,null,null,null,null,null,null,null,null,null,null,null,null,null,null,null,null,null,null,null,null,null,null,null,null,null,null,null,null,null,null,null,null,null,null,null,null,null,null,null,null,null,null,null,null,null,null,null,null,null,null,null,null,null,null,null,null,null,null,null,null,null,null,null,null,null,null,null,null,null,null,null,null,null,null,null,null,null,null,null,null,null,null,null,null,null,null,0,0,0,0,"1(13)",{"$f":"IF($U29=\"\",P21,U28)","v":"連動機構　　　"},0,"",{"$f":"IF($EO29=\"要是正\",MAX($EP$16:EP28)+1,\"\")","v":""},{"$f":"IF($EO29=\"要是正\",MAX($EQ$16:EQ28)+1,\"\")","v":""},"","","","","","","0","","0","0","","","0","","0","0","",null,null,null,4,"#'3_入力シート【写真】'","A92","AU73",null,null,null,null,null,null,null,null,null,null,null,null,null,null,null,null,null,null,null,"",null,"","","",0,"",null,"","","0","","0","",null,0,null,null,null,{"$f":"$U$28","v":"連動機構用予備電源"}]
[null,null,null,null,null,null,null,null,null,null,null,null,"1（14）",null,null,null,null,null,null,null,"自動閉鎖装置",null,null,null,null,null,null,"設置の状況",null,null,null,null,null,null,null,null,null,null,null,null,null,null,null,null,null,null,null,null,null,null,null,null,null,null,null,null,null,null,null,null,null,null,null,null,null,null,null,null,null,null,null,null,null,null,null,null,null,null,null,null,null,null,null,null,null,null,null,null,null,null,null,null,null,null,null,null,null,null,null,null,null,null,null,null,null,null,null,null,null,null,null,null,null,null,null,null,null,null,null,null,null,null,null,null,null,null,null,null,null,null,null,null,null,null,null,null,null,0,0,0,0,"1(14)","自動閉鎖装置",0,"",{"$f":"IF($EO30=\"要是正\",MAX($EP$16:EP29)+1,\"\")","v":""},{"$f":"IF($EO30=\"要是正\",MAX($EQ$16:EQ29)+1,\"\")","v":""},"","","","","","","0","","0","0","","","0","","0","0","",null,null,null,5,"#'3_入力シート【写真】'","A19","AU150",null,null,null,null,null,null,null,null,null,null,null,null,null,null,null,null,null,null,null,"",null,"","","",0,"",null,"","","0","","0","",null,0,null,null,null,{"$f":"$U$30","v":"自動閉鎖装置"}]
[null,null,null,null,null,null,null,null,null,null,null,null,"1（15）",null,null,null,null,null,null,null,null,null,null,null,null,null,null,"再ロック防止機構の作動の状況",null,null,null,null,null,null,null,null,null,null,null,null,null,null,null,null,null,null,null,null,null,null,null,null,null,null,null,null,null,null,null,null,null,null,null,null,null,null,null,null,null,null,null,null,null,null,null,null,null,null,null,null,null,null,null,null,null,null,null,null,null,null,null,null,null,null,null,null,null,null,null,null,null,null,null,null,null,null,null,null,null,null,null,null,null,null,null,null,null,null,null,null,null,null,null,null,null,null,null,null,null,null,null,null,null,null,null,null,null,0,0,0,0,"1(15)",{"$f":"IF($U31=\"\",P21,U30)","v":"連動機構　　　"},0,"",{"$f":"IF($EO31=\"要是正\",MAX($EP$16:EP30)+1,\"\")","v":""},{"$f":"IF($EO31=\"要是正\",MAX($EQ$16:EQ30)+1,\"\")","v":""},"","","","","","","0","","0","0","","","0","","0","0","",null,null,null,6,"#'3_入力シート【写真】'","A152","AU173",null,null,null,null,null,null,null,null,null,null,null,null,null,null,null,null,null,null,null,"",null,"","","",0,"",null,"","","0","","0","",null,0,null,null,null,{"$f":"$U$30","v":"自動閉鎖装置"}]
[null,null,null,null,null,null,null,null,null,null,null,null,"1（16）",null,null,"総合的な作動の状況　",null,null,null,null,null,null,null,null,null,null,null,"防火扉の閉鎖の状況",null,null,null,null,null,null,null,null,null,null,null,null,null,null,null,null,null,null,null,null,null,null,null,null,null,null,null,null,null,null,null,null,null,null,null,null,null,null,null,null,null,null,null,null,null,null,null,null,null,null,null,null,null,null,null,null,null,null,null,null,null,null,null,null,null,null,null,null,null,null,null,null,null,null,null,null,null,null,null,null,null,null,null,null,null,null,null,null,null,null,null,null,null,null,null,null,null,null,null,null,null,null,null,null,null,null,null,null,null,0,0,0,0,"1(16)","総合的な作動の状況　",0,"",{"$f":"IF($EO32=\"要是正\",MAX($EP$16:EP31)+1,\"\")","v":""},{"$f":"IF($EO32=\"要是正\",MAX($EQ$16:EQ31)+1,\"\")","v":""},"","","","","","","0","","0","0","","","0","","0","0","",null,null,null,2,"#'3_入力シート【写真】'","A33","AU54",null,null,null,null,null,null,null,null,null,null,null,null,null,null,null,null,null,null,null,"",null,"","","",0,"",null,"","","0","","0","",null,0,null,null,null,{"$f":"$P$32","v":"総合的な作動の状況　"}]
[null,null,null,null,null,null,null,null,null,null,null,null,"1（17）",null,null,null,null,null,null,null,null,null,null,null,null,null,null,"防火区画の形成の状況",null,null,null,null,null,null,null,null,null,null,null,null,null,null,null,null,null,null,null,null,null,null,null,null,null,null,null,null,null,null,null,null,null,null,null,null,null,null,null,null,null,null,null,null,null,null,null,null,null,null,null,null,null,null,null,null,null,null,null,null,null,null,null,null,null,null,null,null,null,null,null,null,null,null,null,null,null,null,null,null,null,null,null,null,null,null,null,null,null,null,null,null,null,null,null,null,null,null,null,null,null,null,null,null,null,null,null,null,null,0,0,0,0,"1(17)",{"$f":"IF($U33=\"\",P32,P32)","v":"総合的な作動の状況　"},0,"",{"$f":"IF($EO33=\"要是正\",MAX($EP$16:EP32)+1,\"\")","v":""},{"$f":"IF($EO33=\"要是正\",MAX($EQ$16:EQ32)+1,\"\")","v":""},"","","","",{"$f":"IF(CT33=\"未定\",\"未定\",IF(GS33=\"0\",\"\",IF(CT33=\"予定\",TEXT(GS33,\"([$-ja-JP]ge.m);@\"),IF(CT33=\"改善済\",TEXT(GS33,\"[$-ja-JP]ge.m;@\"),TEXT(EX33,\"[$-ja-JP]ge.m;@\")))))","v":""},"","0","","0","0","","","0","","0","0","",null,null,null,6,"#'3_入力シート【写真】'","A152","AU173",null,null,null,null,null,null,null,null,null,null,null,null,null,null,null,null,null,null,null,"",null,"","","",0,"",null,"","","0","","0","",null,0,null,null,null,{"$f":"$P$32","v":"総合的な作動の状況　"}]
[null,null,null,null,null,null,null,null,null,null,null,null,null,null,null,null,null,null,null,null,null,null,null,null,null,null,null,null,null,null,null,null,null,null,null,null,null,null,null,null,null,null,null,null,null,null,null,null,null,null,null,null,null,null,null,null,null,null,null,null,null,null,null,null,null,null,null,null,null,null,null,null,null,null,null,null,null,null,null,null,null,null,null,null,null,null,null,null,null,null,null,null,null,null,null,null,null,null,null,null,null,null,null,null,null,null,null,null,null,null,null,null,null,null,null,null,null,null,null,null,null,null,null,null,null,null,null,null,null,null,null,null,null,null,null,null,null,{"$f":"SUM(EH17:EH33)","v":0},{"$f":"SUM(EI17:EI33)","v":0},{"$f":"SUM(EJ17:EJ33)","v":0},{"$f":"SUM(EK17:EK33)","v":0},null,null,null,null,{"$f":"IF($EO34=\"要是正\",MAX($EP$16:EP33)+1,\"\")","v":""},null,null,null,null,null,null,null,null,{"$f":"COUNTIF(EY17:EY33,\"1\")","v":0},{"$f":"INDEX(EZ17:EZ33,MATCH(MIN(ABS(EZ17:EZ33-EJ4)),ABS(EZ17:EZ33-EJ4),0))","v":"0"},{"$f":"INDEX(FA17:FA33,MATCH(MIN(ABS(FA17:FA33-EJ4)),ABS(FA17:FA33-EJ4),0))","v":"0"},{"$f":"COUNTIF(FB17:FB33,\"未定\")","v":0},null,null,{"$f":"COUNTIF(FE17:FE33,\"1\")","v":0},{"$f":"INDEX(FF17:FF33,MATCH(MIN(ABS(FF17:FF33-EJ4)),ABS(FF17:FF33-EJ4),0))","v":"0"},{"$f":"INDEX(FG17:FG33,MATCH(MIN(ABS(FG17:FG33-EJ4)),ABS(FG17:FG33-EJ4),0))","v":"0"},{"$f":"COUNTIF(FH17:FH33,\"未定\")","v":0},null,null,null,null,null,null,null,null,null,null,null,null,null,null,null,null,null,null,null,null,null,null,null,null,null,null,null,null,null,null,null,null,null,null,null,null,"0",{"$f":"COUNTIF(GT17:GT33,\"1\")","v":0},{"$f":"INDEX(GU17:GU33,MATCH(MIN(ABS(GU17:GU33-$EJ$4)),ABS(GU17:GU33-$EJ$4),0))","v":"0"},{"$f":"COUNTIF(GV17:GV33,\"未定\")","v":0}]
[]
[]
[]
[null,null,null,null,null,null,null,null,null,null,null,null,"上記以外の検査項目等",null,null,null,null,null,null,null,null,null,null,null,null,null,null,null,null,null,null,null,null,null,null,null,null,null,null,null,null,null,null,null,null,null,null,null,null,null,null,null,null,null,null,null,null,null,null,null,null,null,null,null,null,null,null,null,null,null,null,null,null,null,null,null,null,null,null,null,null,null,null,null,null,null,null,null,null,null,null,null,null,null,null,null,null,null,null,null,null,null,null,null,null,null,null,null,null,null,null,null,null,null,null,null,null,null,null,null,null,null,null,null,null,null,null,null,null,null,null,null,null,null,null,null,null,{"$f":"IF(AND(EI38=\"\",EJ38=\"\",EK38=\"\",EH44<>0),\"レ\",\"\")","v":""},{"$f":"IF(AND(EJ38=\"\",EK38=\"\",EI44<>0),\"レ\",\"\")","v":""},{"$f":"IF(EJ44<>0,\"レ\",\"\")","v":""},{"$f":"IF(AND(EJ38=\"\",EK44<>0),\"レ\",\"\")","v":""},null,null,null,null,null,null,null,"項目\n\n要是正＆\n既存不適格",{"$f":"SUBSTITUTE(TRIM(ET41&\"　\"&ET42&\"　\"&ET43),\"　\",\",\")","v":""},null,null,{"$f":"IF(COUNTIF(EY41:EY43,1)>0,\"レ\",\"\")","v":""},null,{"$f":"IF(EW38=\"レ\",TEXT(EZ44,\"ee\"),\"\")","v":""},{"$f":"IF(EW38=\"レ\",MONTH(EZ44),IF(AND(EJ38=\"レ\",FB38=\"レ\",FB44=0),\"\",IF(AND(EJ38=\"レ\",FB38=\"レ\",FA44>0),\"未定\",\"\")))","v":""},null,{"$f":"IF(EW38=\"\",IF(OR(FB44>0,EJ38=\"レ\"),\"レ\",\"\"),\"\")","v":""},{"$f":"IF(AND(COUNTIF(EO41:EO43,\"要是正\")=0,COUNTIF(FE41:FE43,1)>0),\"レ\",\"\")","v":""},null,{"$f":"IF(FC38=\"レ\",TEXT(FF44,\"ee\"),\"\")","v":""},{"$f":"IF(FC38=\"レ\",MONTH(FF44),IF(AND(EK38=\"レ\",FH38=\"レ\",FH44=0),\"\",IF(AND(EK38=\"レ\",FH38=\"レ\",FH44>0),\"未定\",\"\")))","v":""},null,{"$f":"IF(FC38=\"\",IF(OR(FH44>0,EK38=\"レ\"),\"レ\",\"\"),\"\")","v":""},null,null,null,null,null,null,null,null,null,null,null,null,null,null,null,null,null,null,null,null,null,null,null,null,null,null,null,null,null,null,null,null,null,null,{"$f":"TRIM(GQ41&\"　\"&GQ42&\"　\"&GQ43)","v":""},{"$f":"IF(COUNTIF(GT41:GT56,1)>0,\"レ\",\"\")","v":""},null,{"$f":"IF(GR38=\"レ\",TEXT(GU57,\"ee\"),\"\")","v":""},{"$f":"IF(GR38=\"レ\",MONTH(GU57),IF(AND(GD39=\"レ\",GV38=\"レ\",GV57=0),\"\",IF(AND(GD39=\"レ\",GV38=\"レ\",GV57>0),\"未定\",\"\")))","v":""},{"$f":"IF(GR38=\"\",IF(OR(GV57>0,GD39=\"レ\"),\"レ\",\"\"),\"\")","v":"レ"}]
[null,null,null,null,null,null,null,null,null,null,null,null,"番号",null,null,"検　査　項　目　",null,null,null,null,null,null,null,null,null,null,null,null,null,null,null,null,"検　査　事　項",null,null,null,null,null,null,null,null,null,null,null,null,null,null,null,null,null,null,null,"検査結果",null,null,null,null,null,null,null,null,null,null,null,"検査者番号",null,"指摘の具体的内容等",null,null,null,null,null,null,null,null,null,"改善策の具体的内容等",null,null,null,null,null,null,null,null,null,null,null,null,null,null,"改善（予定）年月",null,null,null,null,null,null,null,null,"該当法令・注意事項",null,null,null,null,null,null,null,null,null,null,null,null,null,null,null,null,null,null,null,null,null,null,null,null,null,null,null,null,null,null,null,null,null,null,null,null,"↓41行目～43行目結果の変換",null,null,null,null,null,null,null,null,null,null,null,"指摘の具体的内容等\n要是正＋（既存不適格）","改善策の具体的内容等",null,"改善（予定）\n年月",null,null,null,null,null,"改善（予定）\n年月",null,null,null,null,null,"関連写真添付　リンク指定先",null,null,null,null,null,null,null,null,null,null,null,null,null,null,null,null,null,null,null,null,null,null,null,null,null,null,null,"国交省検査結果表転記用",null,null,null,null,null,null,"改善（予定）\n年月",null,null,null,null,null,"指摘の具体的内容等"]
[null,null,null,null,null,null,null,null,null,null,null,null,null,null,null,null,null,null,null,null,null,null,null,null,null,null,null,null,null,null,null,null,null,null,null,null,null,null,null,null,null,null,null,null,null,null,null,null,null,null,null,null,null,null,null,null,null,null,null,null,null,null,null,null,null,null,null,null,null,null,null,null,null,null,null,null,null,null,null,null,null,null,null,null,null,null,null,null,null,null,null,"年\n(令和)",null,null,"月",null,null,"状況",null,null,null,null,null,null,null,null,null,null,null,null,null,null,null,null,null,null,null,null,null,null,null,null,null,null,null,null,null,null,null,null,null,null,null,null,null,null,null,"対象外項目","指摘なし","要是正","既存不適格","項目番号\n関数なし","項目","年月カウント","要是正と既存不適格","要是正カウント（別添2リンク先）","カウント\n報告書用","項目番号",null,null,null,null,"変換\n/有(予定)","西暦変換\n/有（済）","未来の年月\nカウント/年","未来の直近/月","過去の直近","未定/無","変換/有","西暦変換/(有)","未来の年月\nカウント/年","未来の直近/月","過去の直近","未定/無","シート","セル　上端","セル　下端",null,null,null,null,null,null,null,null,null,null,null,null,null,null,null,null,null,null,null,null,null,null,null,{"$f":"SUBSTITUTE(TRIM(GI41&\"　\"&GI42&\"　\"&GI43),\"　\",\",\")","v":""},null,"指摘なし","要是正","既存不適格","担当者番号","線引き",null,"指摘の具体的内容等\n要是正","変換\n/有(予定)","西暦変換\n","未来の年月\nカウント/年","未来の直近\n/月","未定/無",null,0]
[null,null,null,null,null,null,null,null,null,null,null,null,null,null,null,null,null,null,null,null,null,null,null,null,null,null,null,null,null,null,null,null,null,null,null,null,null,null,null,null,null,null,null,null,null,null,null,null,null,null,null,null,null,null,null,null,null,null,null,null,null,null,null,null,null,null,null,null,null,null,null,null,null,null,null,null,null,null,null,null,null,null,null,null,null,null,null,null,null,null,null,null,null,null,null,null,null,null,null,null,null,null,null,null,null,null,null,null,null,null,null,null,null,null,null,null,null,null,null,null,null,null,null,null,null,null,null,null,null,null,null,null,null,null,null,null,null,{"$f":"COUNTIFS(BA41,\"ー対象外\")","v":0},{"$f":"COUNTIFS(BA41,\"○指摘なし\")","v":0},{"$f":"COUNTIFS(BA41,\"×要是正（既存不適格以外）\")","v":0},{"$f":"COUNTIFS(BA41,\"△既存不適格\")","v":0},{"$f":"M41","v":0},{"$f":"P41","v":0},{"$f":"COUNTA(CN41:CS41)","v":0},{"$f":"IF(BA41=\"×要是正（既存不適格以外）\",\"要是正\",\"\")&IF(BA41=\"△既存不適格\",\"既存不適格\",\"\")","v":""},{"$f":"IF($EO41=\"要是正\",MAX($EP$16:EP39)+1,\"\")","v":""},{"$f":"IF($EO41=\"要是正\",MAX($EQ$17:EQ38)+1,\"\")","v":""},{"$f":"IF(OR(BA41=\"×要是正（既存不適格以外）\",BA41=\"△既存不適格\"),EL41,\"\")","v":""},{"$f":"IF(OR($EO41=\"要是正\",$EO41=\"既存不適格\"),$EM41,\"\")","v":""},{"$f":"IF($EO41=\"要是正\",IF(BO41=\"\",\"\",BO41),\"\")","v":""},{"$f":"IF($EO41=\"要是正\",IF(BY41=\"\",\"\",BY41),\"\")","v":""},{"$f":"IF(CT41=\"未定\",\"未定\",IF(GS41=\"0\",\"\",IF(CT41=\"予定\",TEXT(GS41,\"([$-ja-JP]ge.m);@\"),IF(CT41=\"改善済\",TEXT(GS41,\"[$-ja-JP]ge.m;@\"),TEXT(EX41,\"[$-ja-JP]ge.m;@\")))))","v":""},{"$f":"IF(OR(EO41=\"要是正\",EO41=\"既存不適格\"),IF(OR(EN41<2,CT41<>\"予定\"),\"\",\"令和\"&CN41&\"年\"&CQ41&\"月1日\"),\"\")","v":""},{"$f":"IF(EW41=\"\",\"0\",DATEVALUE(EW41))","v":"0"},{"$f":"IF(EO41=\"要是正\",IF(AND(CT41=\"予定\",EN41=2),1,IF(CT41=\"改善済\",2,\"\")),\"\")","v":""},{"$f":"IF(EY41=1,EX41,\"0\")","v":"0"},{"$f":"IF(EY41=2,EX41,\"0\")","v":"0"},{"$f":"IF(AND(EO41=\"要是正\",AND(EN41=0,CT41=\"未定\")),CT41,\"\")","v":""},{"$f":"IF(EO41=\"既存不適格\",IF(OR(EN41<2,CT41<>\"予定\"),\"\",\"令和\"&CN41&\"年\"&CQ41&\"月1日\"),\"\")","v":""},{"$f":"IF(FC41=\"\",\"0\",DATEVALUE(FC41))","v":"0"},{"$f":"IF(EO41=\"既存不適格\",IF(AND(CT41=\"予定\",EN41=2),1,IF(CT41=\"改善済\",2,\"\")),\"\")","v":""},{"$f":"IF(FE41=1,FD41,\"0\")","v":"0"},{"$f":"IF(FE41=2,FD41,\"0\")","v":"0"},{"$f":"IF(AND(EO41=\"既存不適格\",AND(EN41=0,CT41=\"未定\")),CT41,\"\")","v":""},null,null,null,null,null,null,null,null,null,null,null,null,null,null,null,null,null,null,null,null,null,null,null,null,null,null,{"$f":"IF(EO41=\"要是正\",IF(BO41=\"\",\"\",EL41 &\" \" & BO41),\"\")","v":""},null,{"$f":"IF($BA41=\"○指摘なし\",\"○\",IF($BA41=\"―対象外\",\"－\",\"\"))","v":""},"","",{"$f":"BM41","v":0},{"$f":"IF($BA41=\"―対象外\",\"○\",\"\")","v":""},null,{"$f":"IF(EO41=\"要是正\",IF(BO41=\"\",\"\",ER41&\" \"&HB41&\" \" &BO41&CHAR(10)),\"\")","v":""},{"$f":"IF(NOT(OR(CT41=\"未定\",CN41=\"\")),\"令和\"&CQ41&\"年\"&CQ41&\"月1日\",\"\")","v":""},{"$f":"IF(GR41=\"\",\"0\",DATEVALUE(GR41))","v":"0"},{"$f":"IF(OR(CT41=\"予定\",CT41=\"改善済\"),1,\"\")","v":""},{"$f":"IF(GT41=1,GS41,\"0\")","v":"0"},{"$f":"IF(AND(EP42=\"要是正\",AND(EO42=0,CT41=\"未定\")),CY41:CY42,\"\")","v":""},null,0,null,null,null,{"$f":"P41","v":0}]
[null,null,null,null,null,null,null,null,null,null,null,null,null,null,null,null,null,null,null,null,null,null,null,null,null,null,null,null,null,null,null,null,null,null,null,null,null,null,null,null,null,null,null,null,null,null,null,null,null,null,null,null,null,null,null,null,null,null,null,null,null,null,null,null,null,null,null,null,null,null,null,null,null,null,null,null,null,null,null,null,null,null,null,null,null,null,null,null,null,null,null,null,null,null,null,null,null,null,null,null,null,null,null,null,null,null,null,null,null,null,null,null,null,null,null,null,null,null,null,null,null,null,null,null,null,null,null,null,null,null,null,null,null,null,null,null,null,{"$f":"COUNTIFS(BA42,\"ー対象外\")","v":0},{"$f":"COUNTIFS(BA42,\"○指摘なし\")","v":0},{"$f":"COUNTIFS(BA42,\"×要是正（既存不適格以外）\")","v":0},{"$f":"COUNTIFS(BA42,\"△既存不適格\")","v":0},{"$f":"M42","v":0},{"$f":"P42","v":0},{"$f":"COUNTA(CN42:CS42)","v":0},{"$f":"IF(BA42=\"×要是正（既存不適格以外）\",\"要是正\",\"\")&IF(BA42=\"△既存不適格\",\"既存不適格\",\"\")","v":""},{"$f":"IF($EO42=\"要是正\",MAX($EP$16:EP40)+1,\"\")","v":""},{"$f":"IF($EO42=\"要是正\",MAX($EQ$38:EQ41)+1,\"\")","v":""},{"$f":"IF(OR(BA42=\"×要是正（既存不適格以外）\",BA42=\"△既存不適格\"),EL42,\"\")","v":""},{"$f":"IF(OR($EO42=\"要是正\",$EO42=\"既存不適格\"),$EM42,\"\")","v":""},{"$f":"IF($EO42=\"要是正\",IF(BO42=\"\",\"\",BO42),\"\")","v":""},{"$f":"IF($EO42=\"要是正\",IF(BY42=\"\",\"\",BY42),\"\")","v":""},{"$f":"IF(CT42=\"未定\",\"未定\",IF(GS42=\"0\",\"\",IF(CT42=\"予定\",TEXT(GS42,\"([$-ja-JP]ge.m);@\"),IF(CT42=\"改善済\",TEXT(GS42,\"[$-ja-JP]ge.m;@\"),TEXT(EX42,\"[$-ja-JP]ge.m;@\")))))","v":""},"",{"$f":"IF(EW42=\"\",\"0\",DATEVALUE(EW42))","v":"0"},"",{"$f":"IF(EY42=1,EX42,\"0\")","v":"0"},{"$f":"IF(EY42=2,EX42,\"0\")","v":"0"},"","",{"$f":"IF(FC42=\"\",\"0\",DATEVALUE(FC42))","v":"0"},{"$f":"IF(EO42=\"既存不適格\",IF(AND(CT42=\"予定\",EN42=2),1,IF(CT42=\"改善済\",2,\"\")),\"\")","v":""},{"$f":"IF(FE42=1,FD42,\"0\")","v":"0"},{"$f":"IF(FE42=2,FD42,\"0\")","v":"0"},{"$f":"IF(AND(EO42=\"既存不適格\",AND(EN42=0,CT42=\"未定\")),CT42,\"\")","v":""},null,null,null,null,null,null,null,null,null,null,null,null,null,null,null,null,null,null,null,null,null,null,null,null,null,null,{"$f":"IF(EO42=\"要是正\",IF(BO42=\"\",\"\",EL42 &\" \" & BO42),\"\")","v":""},null,"","","",{"$f":"BM42","v":0},{"$f":"IF($BA42=\"―対象外\",\"○\",\"\")","v":""},null,{"$f":"IF(EO42=\"要是正\",IF(BO42=\"\",\"\",ER42&\" \"&HB42&\" \" &BO42&CHAR(10)),\"\")","v":""},{"$f":"IF(NOT(OR(CT42=\"未定\",CN42=\"\")),\"令和\"&CN42&\"年\"&CQ42&\"月1日\",\"\")","v":""},"0",{"$f":"IF(OR(CT42=\"予定\",CT42=\"改善済\"),1,\"\")","v":""},{"$f":"IF(GT42=1,GS42,\"0\")","v":"0"},{"$f":"IF(AND(EP43=\"要是正\",AND(EO43=0,CT42=\"未定\")),CU43,\"\")","v":""},null,0,null,null,null,{"$f":"P42","v":0}]
[null,null,null,null,null,null,null,null,null,null,null,null,null,null,null,null,null,null,null,null,null,null,null,null,null,null,null,null,null,null,null,null,null,null,null,null,null,null,null,null,null,null,null,null,null,null,null,null,null,null,null,null,null,null,null,null,null,null,null,null,null,null,null,null,null,null,null,null,null,null,null,null,null,null,null,null,null,null,null,null,null,null,null,null,null,null,null,null,null,null,null,null,null,null,null,null,null,null,null,null,null,null,null,null,null,null,null,null,null,null,null,null,null,null,null,null,null,null,null,null,null,null,null,null,null,null,null,null,null,null,null,null,null,null,null,null,null,{"$f":"COUNTIFS(BA43,\"ー対象外\")","v":0},{"$f":"COUNTIFS(BA43,\"○指摘なし\")","v":0},{"$f":"COUNTIFS(BA43,\"×要是正（既存不適格以外）\")","v":0},{"$f":"COUNTIFS(BA43,\"△既存不適格\")","v":0},0,0,{"$f":"COUNTA(CN43:CS43)","v":0},{"$f":"IF(BA43=\"×要是正（既存不適格以外）\",\"要是正\",\"\")&IF(BA43=\"△既存不適格\",\"既存不適格\",\"\")","v":""},{"$f":"IF($EO43=\"要是正\",MAX($EP$16:EP41)+1,\"\")","v":""},{"$f":"IF($EO43=\"要是正\",MAX($EQ$38:EQ42)+1,\"\")","v":""},{"$f":"IF(OR(BA43=\"×要是正（既存不適格以外）\",BA43=\"△既存不適格\"),EL43,\"\")","v":""},{"$f":"IF(OR($EO43=\"要是正\",$EO43=\"既存不適格\"),$EM43,\"\")","v":""},"",{"$f":"IF($EO43=\"要是正\",IF(BY43=\"\",\"\",BY43),\"\")","v":""},{"$f":"IF(CT43=\"未定\",\"未定\",IF(GS43=\"0\",\"\",IF(CT43=\"予定\",TEXT(GS43,\"([$-ja-JP]ge.m);@\"),IF(CT43=\"改善済\",TEXT(GS43,\"[$-ja-JP]ge.m;@\"),TEXT(EX43,\"[$-ja-JP]ge.m;@\")))))","v":""},"",{"$f":"IF(EW43=\"\",\"0\",DATEVALUE(EW43))","v":"0"},"",{"$f":"IF(EY43=1,EX43,\"0\")","v":"0"},{"$f":"IF(EY43=2,EX43,\"0\")","v":"0"},"","",{"$f":"IF(FC43=\"\",\"0\",DATEVALUE(FC43))","v":"0"},"",{"$f":"IF(FE43=1,FD43,\"0\")","v":"0"},{"$f":"IF(FE43=2,FD43,\"0\")","v":"0"},{"$f":"IF(AND(EO43=\"既存不適格\",AND(EN43=0,CT43=\"未定\")),CT43,\"\")","v":""},null,null,null,null,null,null,null,null,null,null,null,null,null,null,null,null,null,null,null,null,null,null,null,null,null,null,{"$f":"IF(EO43=\"要是正\",IF(BO43=\"\",\"\",EL43 &\" \" & BO43),\"\")","v":""},null,"","","",0,"",null,"",{"$f":"IF(NOT(OR(CT43=\"未定\",CN43=\"\")),\"令和\"&CN43&\"年\"&CQ43&\"月1日\",\"\")","v":""},"0","","0",{"$f":"IF(AND(EP44=\"要是正\",AND(EO44=0,CT43=\"未定\")),CU44,\"\")","v":""},null,0,null,null,null,0]
[null,null,null,null,null,null,null,null,null,null,null,null,null,null,null,null,null,null,null,null,null,null,null,null,null,null,null,null,null,null,null,null,null,null,null,null,null,null,null,null,null,null,null,null,null,null,null,null,null,null,null,null,null,null,null,null,null,null,null,null,null,null,null,null,null,null,null,null,null,null,null,null,null,null,null,null,null,null,null,null,null,null,null,null,null,null,null,null,null,null,null,null,null,null,null,null,null,null,null,null,null,null,null,null,null,null,null,null,null,null,null,null,null,null,null,null,null,null,null,null,null,null,null,null,null,null,null,null,null,null,null,null,null,null,null,null,null,{"$f":"SUM(EH41:EH43)","v":0},{"$f":"SUM(EI41:EI43)","v":0},{"$f":"SUM(EJ41:EJ43)","v":0},{"$f":"SUM(EK41:EK43)","v":0},null,null,null,null,{"$f":"IF($EO44=\"要是正\",MAX($EP$16:EP43)+1,\"\")","v":""},null,null,null,null,null,null,null,null,{"$f":"COUNTIF(EY41:EY43,\"1\")","v":0},{"$f":"INDEX(EZ41:EZ43,MATCH(MIN(ABS(EZ41:EZ43-EJ4)),ABS(EZ41:EZ43-EJ4),0))","v":"0"},{"$f":"INDEX(FA41:FA43,MATCH(MIN(ABS(FA41:FA43-EJ4)),ABS(FA41:FA43-EJ4),0))","v":"0"},{"$f":"COUNTIF(FB41:FB43,\"未定\")","v":0},null,null,{"$f":"COUNTIF(FE41:FE43,\"1\")","v":0},{"$f":"INDEX(FF41:FF43,MATCH(MIN(ABS(FF41:FF43-EJ4)),ABS(FF41:FF43-EJ4),0))","v":"0"},{"$f":"INDEX(FG41:FG43,MATCH(MIN(ABS(FG41:FG43-EJ4)),ABS(FG41:FG43-EJ4),0))","v":"0"},{"$f":"COUNTIF(FH41:FH43,\"未定\")","v":0},null,null,null,null,null,null,null,null,null,null,null,null,null,null,null,null,null,null,null,null,null,null,null,null,null,null,null,null,null,null,null,null,null,null,null,null,null,{"$f":"COUNTIF(GT41:GT43,\"1\")","v":0},{"$f":"INDEX(GU41:GU43,MATCH(MIN(ABS(GU41:GU43-$EJ$4)),ABS(GU41:GU43-$EJ$4),0))","v":"0"},{"$f":"COUNTIF(GV41:GV43,\"未定\")","v":0},null,0]
[null,null,null,null,null,null,null,null,null,null,null,null,null,null,null,null,null,null,null,null,null,null,null,null,null,null,null,null,null,null,null,null,null,null,null,null,null,null,null,null,null,null,null,null,null,null,null,null,null,null,null,null,null,null,null,null,null,null,null,null,null,null,null,null,null,null,null,null,null,null,null,null,null,null,null,null,null,null,null,null,null,null,null,null,null,null,null,null,null,null,null,null,null,null,null,null,null,null,null,null,null,null,null,null,null,null,null,null,null,null,null,null,null,null,null,null,null,null,null,null,null,null,null,null,null,null,null,null,null,null,null,null,null,null,null,null,null,null,null,null,null,null,null,null,null,null,null,null,null,null,null,null,null,null,null,null,null,null,null,null,null,null,null,null,null,null,null,null,null,null,null,null,null,null,null,null,null,null,null,null,null,null,null,null,null,null,null,null,null,null,null,null,null,null,null,null,null,null,null,null,null,null,null,null,null,0]
[null,null,null,null,null,null,null,null,null,null,null,null,null,null,null,null,null,null,null,null,null,null,null,null,null,null,null,null,null,null,null,null,null,null,null,null,null,null,null,null,null,null,null,null,null,null,null,null,null,null,null,null,null,null,null,null,null,null,null,null,null,null,null,null,null,null,null,null,null,null,null,null,null,null,null,null,null,null,null,null,null,null,null,null,null,null,null,null,null,null,null,null,null,null,null,null,null,null,null,null,null,null,null,null,null,null,null,null,null,null,null,null,null,null,null,null,null,null,null,null,null,null,null,null,null,null,null,null,null,null,null,null,null,null,null,null,null,null,null,null,null,null,null,null,null,null,null,null,null,null,null,null,null,null,null,null,null,null,null,null,null,null,null,null,null,null,null,null,null,null,null,null,null,null,null,null,null,null,null,null,null,null,null,null,null,null,null,null,null,null,null,null,null,null,null,null,null,null,null,null,null,null,null,null,null,0]
[null,null,null,null,null,null,null,null,null,null,null,null,null,null,null,null,null,null,null,null,null,null,null,null,null,null,null,null,null,null,null,null,null,null,null,null,null,null,null,null,null,null,null,null,null,null,null,null,null,null,null,null,null,null,null,null,null,null,null,null,null,null,null,null,null,null,null,null,null,null,null,null,null,null,null,null,null,null,null,null,null,null,null,null,null,null,null,null,null,null,null,null,null,null,null,null,null,null,null,null,null,null,null,null,null,null,null,null,null,null,null,null,null,null,null,null,null,null,null,null,null,null,null,null,null,null,null,null,null,null,null,null,null,null,null,null,null,null,null,null,null,null,null,null,null,null,null,null,null,null,null,null,null,null,null,null,null,null,null,null,null,null,null,null,null,null,null,null,null,null,null,null,null,null,null,null,null,null,null,null,null,null,null,null,null,null,null,null,null,null,null,null,null,null,null,null,null,null,null,null,null,null,null,null,null,0]
[null,null,null,null,null,null,null,null,null,null,null,null,"上記に記載のない事項",null,null,null,null,null,null,null,null,null,null,null,null,null,null,null,null,null,null,null,null,null,null,null,null,null,null,null,null,null,null,null,null,null,null,null,null,null,null,null,null,null,null,null,null,null,null,null,null,null,null,null,null,null,null,null,null,null,null,null,null,null,null,null,null,null,null,null,null,null,null,null,null,null,null,null,null,null,null,null,null,null,null,null,null,null,null,null,null,null,null,null,null,null,null,null,null,null,null,null,null,null,null,null,null,null,null,null,null,null,null,null,null,null,null,null,null,null,null,null,null,null,null,null,null,{"$f":"IF(AND(EI48=\"\",EJ48=\"\",EK48=\"\",EH71<>0),\"レ\",\"\")","v":""},{"$f":"IF(AND(EJ48=\"\",EK48=\"\",EI71<>0),\"レ\",\"\")","v":""},{"$f":"IF(EJ71<>0,\"レ\",\"\")","v":""},{"$f":"IF(AND(EJ48=\"\",EK71<>0),\"レ\",\"\")","v":""},null,null,null,null,null,null,null,"項目\n\n要是正＆\n既存不適格",{"$f":"SUBSTITUTE(TRIM(ET51&\"　\"&ET52&\"　\"&ET53&\"　\"&ET54&\"　\"&ET55&\"　\"&ET56&\"　\"&ET57&\"　\"&ET58&\"　\"&ET600&\"　\"&ET59&\"　\"&ET60&\"　\"&ET61&\"　\"&ET62&\"　\"&ET63&\"　\"&ET64&\"　\"&ET65&\"　\"&ET66&\"　\"&ET67&\"　\"&ET68&\"　\"&ET69&\"　\"&ET70),\"　\",\",\")","v":""},null,null,{"$f":"IF(COUNTIF(EY51:EY70,1)>0,\"レ\",\"\")","v":""},null,{"$f":"IF(EW48=\"レ\",TEXT(EZ71,\"ee\"),\"\")","v":""},{"$f":"IF(EW48=\"レ\",MONTH(EZ71),IF(AND(EJ48=\"レ\",FB48=\"レ\",FB71=0),\"\",IF(AND(EJ48=\"レ\",FB48=\"レ\",FB71>0),\"未定\",\"\")))","v":""},null,{"$f":"IF(EW48=\"\",IF(OR(FB71>0,EJ48=\"レ\"),\"レ\",\"\"),\"\")","v":""},{"$f":"IF(AND(COUNTIF(EO51:EO70,\"要是正\")=0,COUNTIF(FE51:FE70,1)>0),\"レ\",\"\")","v":""},null,{"$f":"IF(FC48=\"レ\",TEXT(FF71,\"ee\"),\"\")","v":""},{"$f":"IF(FC48=\"レ\",MONTH(FF71),IF(AND(EK48=\"レ\",FH48=\"レ\",FH71=0),\"\",IF(AND(EK48=\"レ\",FH48=\"レ\",FH71>0),\"未定\",\"\")))","v":""},null,{"$f":"IF(FC48=\"\",IF(OR(FH71>0,EK48=\"レ\"),\"レ\",\"\"),\"\")","v":""},null,null,null,null,null,null,null,null,null,null,null,null,null,null,null,null,null,null,null,null,null,null,null,null,null,null,null,null,null,null,null,null,null,null,{"$f":"TRIM(GQ51&\"　\"&GQ52&\"　\"&GQ53&\"　\"&GQ54&\"　\"&GQ55&\"　\"&GQ56&\"　\"&GQ57&\"　\"&GQ58&\"　\"&GQ59&\"　\"&GQ60&\"　\"&GQ61&\"　\"&GQ62&\"　\"&GQ63&\"　\"&GQ64&\"　\"&GQ65&\"　\"&GQ66&\"　\"&GQ67&\"　\"&GQ68&\"　\"&GQ69&\"　\"&GQ70)","v":""},{"$f":"IF(COUNTIF(GT51:GT66,1)>0,\"レ\",\"\")","v":""},null,{"$f":"IF(GR48=\"レ\",TEXT(GU67,\"ee\"),\"\")","v":""},{"$f":"IF(GR48=\"レ\",MONTH(GU67),IF(AND(GD49=\"レ\",GV48=\"レ\",GV67=0),\"\",IF(AND(GD49=\"レ\",GV48=\"レ\",GV67>0),\"未定\",\"\")))","v":""},{"$f":"IF(GR48=\"\",IF(OR(GV67>0,GD49=\"レ\"),\"レ\",\"\"),\"\")","v":"レ"},null,0]
[null,null,null,null,null,null,null,null,null,null,null,null,"番号",null,null,"検　査　項　目　",null,null,null,null,null,null,null,null,null,null,null,null,null,null,null,null,"検　査　事　項",null,null,null,null,null,null,null,null,null,null,null,null,null,null,null,null,null,null,null,"検査結果",null,null,null,null,null,null,null,null,null,null,null,"検査者番号",null,"指摘の具体的内容等",null,null,null,null,null,null,null,null,null,"改善策の具体的内容等",null,null,null,null,null,null,null,null,null,null,null,null,null,null,"改善（予定）年月",null,null,null,null,null,null,null,null,"該当法令・注意事項",null,null,null,null,null,null,null,null,null,null,null,null,null,null,null,null,null,null,null,null,null,null,null,null,null,null,null,null,null,null,null,null,null,null,null,null,"↓51行目～70行目結果の変換",null,null,null,null,null,null,null,"要是正カウント（別添2リンク先）","カウント\n報告書用",null,null,"指摘の具体的内容等\n要是正＋（既存不適格）","改善策の具体的内容等",null,"改善（予定）\n年月",null,null,null,null,null,"改善（予定）\n年月",null,null,null,null,null,"関連写真添付　リンク指定先",null,null,null,null,null,null,null,null,null,null,null,null,null,null,null,null,null,null,null,null,null,null,null,null,null,null,null,"国交省検査結果表転記用",null,null,null,null,null,null,"改善（予定）\n年月",null,null,null,null,null,"指摘の具体的内容等"]
[null,null,null,null,null,null,null,null,null,null,null,null,null,null,null,null,null,null,null,null,null,null,null,null,null,null,null,null,null,null,null,null,null,null,null,null,null,null,null,null,null,null,null,null,null,null,null,null,null,null,null,null,null,null,null,null,null,null,null,null,null,null,null,null,null,null,null,null,null,null,null,null,null,null,null,null,null,null,null,null,null,null,null,null,null,null,null,null,null,null,null,"年\n(令和)",null,null,"月",null,null,"状況",null,null,null,null,null,null,null,null,null,null,null,null,null,null,null,null,null,null,null,null,null,null,null,null,null,null,null,null,null,null,null,null,null,null,null,null,null,null,null,"対象外項目","指摘なし","要是正","既存不適格","項目番号\n関数なし","項目","年月カウント","要是正と既存不適格",null,null,"項目番号",null,null,null,null,"変換\n/有(予定)","西暦変換\n/有（済）","未来の年月\nカウント/年","未来の直近/月","過去の直近","未定/無","変換/有","西暦変換/(有)","未来の年月\nカウント/年","未来の直近/月","過去の直近","未定/無","シート","セル　上端","セル　下端",null,null,null,null,null,null,null,null,null,null,null,null,null,null,null,null,null,null,null,null,null,null,null,null,null,"指摘なし","要是正","既存不適格","担当者番号","線引き",null,"指摘の具体的内容等\n要是正","変換\n/有(予定)","西暦変換\n","未来の年月\nカウント/年","未来の直近\n/月","未定/無",null,0]
[null,null,null,null,null,null,null,null,null,null,null,null,null,null,null,null,null,null,null,null,null,null,null,null,null,null,null,null,null,null,null,null,null,null,null,null,null,null,null,null,null,null,null,null,null,null,null,null,null,null,null,null,null,null,null,null,null,null,null,null,null,null,null,null,null,null,null,null,null,null,null,null,null,null,null,null,null,null,null,null,null,null,null,null,null,null,null,null,null,null,null,null,null,null,null,null,null,null,null,null,null,null,null,null,null,null,null,null,null,null,null,null,null,null,null,null,null,null,null,null,null,null,null,null,null,null,null,null,null,null,null,null,null,null,null,null,null,{"$f":"COUNTIFS(BA51,\"ー対象外\")","v":0},{"$f":"COUNTIFS(BA51,\"○指摘なし\")","v":0},{"$f":"COUNTIFS(BA51,\"×要是正（既存不適格以外）\")","v":0},{"$f":"COUNTIFS(BA51,\"△既存不適格\")","v":0},{"$f":"M51","v":0},{"$f":"P51","v":0},{"$f":"COUNTA(CN51:CS51)","v":0},{"$f":"IF(BA51=\"×要是正（既存不適格以外）\",\"要是正\",\"\")&IF(BA51=\"△既存不適格\",\"既存不適格\",\"\")","v":""},{"$f":"IF($EO51=\"要是正\",MAX($EP$16:EP50)+1,\"\")","v":""},{"$f":"IF($EO51=\"要是正\",MAX($EQ$43:EQ50)+1,\"\")","v":""},{"$f":"IF(OR(BA51=\"×要是正（既存不適格以外）\",BA51=\"△既存不適格\"),EL51,\"\")","v":""},{"$f":"IF(OR($EO51=\"要是正\",$EO51=\"既存不適格\"),$EM51,\"\")","v":""},{"$f":"IF($EO51=\"要是正\",IF(BO51=\"\",\"\",BO51),\"\")","v":""},{"$f":"IF($EO51=\"要是正\",IF(BY51=\"\",\"\",BY51),\"\")","v":""},{"$f":"IF(CT51=\"未定\",\"未定\",IF(GS51=\"0\",\"\",IF(CT51=\"予定\",TEXT(GS51,\"([$-ja-JP]ge.m);@\"),IF(CT51=\"改善済\",TEXT(GS51,\"[$-ja-JP]ge.m;@\"),TEXT(EX51,\"[$-ja-JP]ge.m;@\")))))","v":""},{"$f":"IF(OR(EO51=\"要是正\",EO51=\"既存不適格\"),IF(OR(EN51<2,CT51<>\"予定\"),\"\",\"令和\"&CN51&\"年\"&CQ51&\"月1日\"),\"\")","v":""},{"$f":"IF(EW51=\"\",\"0\",DATEVALUE(EW51))","v":"0"},{"$f":"IF(EO51=\"要是正\",IF(AND(CT51=\"予定\",EN51=2),1,IF(CT51=\"改善済\",2,\"\")),\"\")","v":""},{"$f":"IF(EY51=1,EX51,\"0\")","v":"0"},{"$f":"IF(EY51=2,EX51,\"0\")","v":"0"},{"$f":"IF(AND(EO51=\"要是正\",AND(EN51=0,CT51=\"未定\")),CT51,\"\")","v":""},{"$f":"IF(EO51=\"既存不適格\",IF(OR(EN51<2,CT51<>\"予定\"),\"\",\"令和\"&CN51&\"年\"&CQ51&\"月1日\"),\"\")","v":""},{"$f":"IF(FC51=\"\",\"0\",DATEVALUE(FC51))","v":"0"},{"$f":"IF(EO51=\"既存不適格\",IF(AND(CT51=\"予定\",EN51=2),1,IF(CT51=\"改善済\",2,\"\")),\"\")","v":""},{"$f":"IF(FE51=1,FD51,\"0\")","v":"0"},{"$f":"IF(FE51=2,FD51,\"0\")","v":"0"},{"$f":"IF(AND(EO51=\"既存不適格\",AND(EN51=0,CT51=\"未定\")),CT51,\"\")","v":""},null,null,null,null,null,null,null,null,null,null,null,null,null,null,null,null,null,null,null,null,null,null,null,null,null,null,null,null,{"$f":"IF($BA51=\"○指摘なし\",\"○\",IF($BA51=\"―対象外\",\"－\",\"\"))","v":""},{"$f":"IF(OR($BA51=\"×要是正（既存不適格以外）\",$BA51=\"△既存不適格\"),\"○\",\"\")","v":""},{"$f":"IF($BA51=\"△既存不適格\",\"○\",\"\")","v":""},{"$f":"BM51","v":0},{"$f":"IF($BA51=\"―対象外\",\"○\",\"\")","v":""},null,{"$f":"IF(EO51=\"要是正\",IF(BO51=\"\",\"\",ER51&\" \"&HB51&\" \" &BO51&CHAR(10)),\"\")","v":""},{"$f":"IF(NOT(OR(CT51=\"未定\",CN51=\"\")),\"令和\"&CQ51&\"年\"&CQ51&\"月1日\",\"\")","v":""},{"$f":"IF(GR51=\"\",\"0\",DATEVALUE(GR51))","v":"0"},{"$f":"IF(OR(CT51=\"予定\",CT51=\"改善済\"),1,\"\")","v":""},{"$f":"IF(GT51=1,GS51,\"0\")","v":"0"},{"$f":"IF(AND(EP52=\"要是正\",AND(EO52=0,CT51=\"未定\")),CY51:CY52,\"\")","v":""},null,0,null,null,null,{"$f":"P51","v":0}]
[null,null,null,null,null,null,null,null,null,null,null,null,null,null,null,null,null,null,null,null,null,null,null,null,null,null,null,null,null,null,null,null,null,null,null,null,null,null,null,null,null,null,null,null,null,null,null,null,null,null,null,null,null,null,null,null,null,null,null,null,null,null,null,null,null,null,null,null,null,null,null,null,null,null,null,null,null,null,null,null,null,null,null,null,null,null,null,null,null,null,null,null,null,null,null,null,null,null,null,null,null,null,null,null,null,null,null,null,null,null,null,null,null,null,null,null,null,null,null,null,null,null,null,null,null,null,null,null,null,null,null,null,null,null,null,null,null,0,0,0,0,0,{"$f":"P52","v":0},0,"",{"$f":"IF($EO52=\"要是正\",MAX($EP$16:EP51)+1,\"\")","v":""},{"$f":"IF($EO52=\"要是正\",MAX($EQ$48:EQ51)+1,\"\")","v":""},"",{"$f":"IF(OR($EO52=\"要是正\",$EO52=\"既存不適格\"),$EM52,\"\")","v":""},{"$f":"IF($EO52=\"要是正\",IF(BO52=\"\",\"\",BO52),\"\")","v":""},{"$f":"IF($EO52=\"要是正\",IF(BY52=\"\",\"\",BY52),\"\")","v":""},{"$f":"IF(CT52=\"未定\",\"未定\",IF(GS52=\"0\",\"\",IF(CT52=\"予定\",TEXT(GS52,\"([$-ja-JP]ge.m);@\"),IF(CT52=\"改善済\",TEXT(GS52,\"[$-ja-JP]ge.m;@\"),TEXT(EX52,\"[$-ja-JP]ge.m;@\")))))","v":""},"",{"$f":"IF(EW52=\"\",\"0\",DATEVALUE(EW52))","v":"0"},"",{"$f":"IF(EY52=1,EX52,\"0\")","v":"0"},{"$f":"IF(EY52=2,EX52,\"0\")","v":"0"},"","",{"$f":"IF(FC52=\"\",\"0\",DATEVALUE(FC52))","v":"0"},{"$f":"IF(EO52=\"既存不適格\",IF(AND(CT52=\"予定\",EN52=2),1,IF(CT52=\"改善済\",2,\"\")),\"\")","v":""},{"$f":"IF(FE52=1,FD52,\"0\")","v":"0"},{"$f":"IF(FE52=2,FD52,\"0\")","v":"0"},"",null,null,null,null,null,null,null,null,null,null,null,null,null,null,null,null,null,null,null,null,null,null,null,null,null,null,null,null,"","","",{"$f":"BM52","v":0},"",null,{"$f":"IF(EO52=\"要是正\",IF(BO52=\"\",\"\",ER52&\" \"&HB52&\" \" &BO52&CHAR(10)),\"\")","v":""},{"$f":"IF(NOT(OR(CT52=\"未定\",CN52=\"\")),\"令和\"&CQ52&\"年\"&CQ52&\"月1日\",\"\")","v":""},"0",{"$f":"IF(OR(CT52=\"予定\",CT52=\"改善済\"),1,\"\")","v":""},{"$f":"IF(GT52=1,GS52,\"0\")","v":"0"},{"$f":"IF(AND(EP53=\"要是正\",AND(EO53=0,CT52=\"未定\")),CU53,\"\")","v":""},null,0,null,null,null,{"$f":"P52","v":0}]
[null,null,null,null,null,null,null,null,null,null,null,null,null,null,null,null,null,null,null,null,null,null,null,null,null,null,null,null,null,null,null,null,null,null,null,null,null,null,null,null,null,null,null,null,null,null,null,null,null,null,null,null,null,null,null,null,null,null,null,null,null,null,null,null,null,null,null,null,null,null,null,null,null,null,null,null,null,null,null,null,null,null,null,null,null,null,null,null,null,null,null,null,null,null,null,null,null,null,null,null,null,null,null,null,null,null,null,null,null,null,null,null,null,null,null,null,null,null,null,null,null,null,null,null,null,null,null,null,null,null,null,null,null,null,null,null,null,0,0,0,0,0,0,0,"",{"$f":"IF($EO53=\"要是正\",MAX($EP$16:EP52)+1,\"\")","v":""},{"$f":"IF($EO53=\"要是正\",MAX($EQ$48:EQ52)+1,\"\")","v":""},"","","","","","","0","","0","0","","","0","","0","0","",null,null,null,null,null,null,null,null,null,null,null,null,null,null,null,null,null,null,null,null,null,null,null,null,null,null,null,null,"","","",0,"",null,"","","0","","0","",null,0,null,null,null,0]
[null,null,null,null,null,null,null,null,null,null,null,null,null,null,null,null,null,null,null,null,null,null,null,null,null,null,null,null,null,null,null,null,null,null,null,null,null,null,null,null,null,null,null,null,null,null,null,null,null,null,null,null,null,null,null,null,null,null,null,null,null,null,null,null,null,null,null,null,null,null,null,null,null,null,null,null,null,null,null,null,null,null,null,null,null,null,null,null,null,null,null,null,null,null,null,null,null,null,null,null,null,null,null,null,null,null,null,null,null,null,null,null,null,null,null,null,null,null,null,null,null,null,null,null,null,null,null,null,null,null,null,null,null,null,null,null,null,0,0,0,0,0,0,0,"",{"$f":"IF($EO54=\"要是正\",MAX($EP$16:EP53)+1,\"\")","v":""},{"$f":"IF($EO54=\"要是正\",MAX($EQ$48:EQ53)+1,\"\")","v":""},"",{"$f":"IF(OR($EO54=\"要是正\",$EO54=\"既存不適格\"),$EM54,\"\")","v":""},"","","","","0","","0","0","","","0","","0","0","",null,null,null,null,null,null,null,null,null,null,null,null,null,null,null,null,null,null,null,null,null,null,null,null,null,null,null,null,"","","",0,"",null,"","","0","","0","",null,0,null,null,null,0]
[null,null,null,null,null,null,null,null,null,null,null,null,null,null,null,null,null,null,null,null,null,null,null,null,null,null,null,null,null,null,null,null,null,null,null,null,null,null,null,null,null,null,null,null,null,null,null,null,null,null,null,null,null,null,null,null,null,null,null,null,null,null,null,null,null,null,null,null,null,null,null,null,null,null,null,null,null,null,null,null,null,null,null,null,null,null,null,null,null,null,null,null,null,null,null,null,null,null,null,null,null,null,null,null,null,null,null,null,null,null,null,null,null,null,null,null,null,null,null,null,null,null,null,null,null,null,null,null,null,null,null,null,null,null,null,null,null,0,0,0,0,0,0,0,"",{"$f":"IF($EO55=\"要是正\",MAX($EP$16:EP54)+1,\"\")","v":""},{"$f":"IF($EO55=\"要是正\",MAX($EQ$48:EQ54)+1,\"\")","v":""},"","","","","","","0","","0","0","","","0","","0","0","",null,null,null,null,null,null,null,null,null,null,null,null,null,null,null,null,null,null,null,null,null,null,null,null,null,null,null,null,"","","",0,"",null,"","","0","","0","",null,0,null,null,null,0]
[null,null,null,null,null,null,null,null,null,null,null,null,null,null,null,null,null,null,null,null,null,null,null,null,null,null,null,null,null,null,null,null,null,null,null,null,null,null,null,null,null,null,null,null,null,null,null,null,null,null,null,null,null,null,null,null,null,null,null,null,null,null,null,null,null,null,null,null,null,null,null,null,null,null,null,null,null,null,null,null,null,null,null,null,null,null,null,null,null,null,null,null,null,null,null,null,null,null,null,null,null,null,null,null,null,null,null,null,null,null,null,null,null,null,null,null,null,null,null,null,null,null,null,null,null,null,null,null,null,null,null,null,null,null,null,null,null,0,0,0,0,0,0,0,"",{"$f":"IF($EO56=\"要是正\",MAX($EP$16:EP55)+1,\"\")","v":""},{"$f":"IF($EO56=\"要是正\",MAX($EQ$48:EQ55)+1,\"\")","v":""},"","","","","","","0","","0","0","","","0","","0","0","",null,null,null,null,null,null,null,null,null,null,null,null,null,null,null,null,null,null,null,null,null,null,null,null,null,null,null,null,"","","",0,"",null,"","","0","","0","",null,0,null,null,null,0]
[null,null,null,null,null,null,null,null,null,null,null,null,null,null,null,null,null,null,null,null,null,null,null,null,null,null,null,null,null,null,null,null,null,null,null,null,null,null,null,null,null,null,null,null,null,null,null,null,null,null,null,null,null,null,null,null,null,null,null,null,null,null,null,null,null,null,null,null,null,null,null,null,null,null,null,null,null,null,null,null,null,null,null,null,null,null,null,null,null,null,null,null,null,null,null,null,null,null,null,null,null,null,null,null,null,null,null,null,null,null,null,null,null,null,null,null,null,null,null,null,null,null,null,null,null,null,null,null,null,null,null,null,null,null,null,null,null,0,0,0,0,0,0,0,"",{"$f":"IF($EO57=\"要是正\",MAX($EP$16:EP56)+1,\"\")","v":""},{"$f":"IF($EO57=\"要是正\",MAX($EQ$48:EQ56)+1,\"\")","v":""},"","","","","","","0","","0","0","","","0","","0","0","",null,null,null,null,null,null,null,null,null,null,null,null,null,null,null,null,null,null,null,null,null,null,null,null,null,null,null,null,"","","",0,"",null,"","","0","","0","",null,0,null,null,null,0]
[null,null,null,null,null,null,null,null,null,null,null,null,null,null,null,null,null,null,null,null,null,null,null,null,null,null,null,null,null,null,null,null,null,null,null,null,null,null,null,null,null,null,null,null,null,null,null,null,null,null,null,null,null,null,null,null,null,null,null,null,null,null,null,null,null,null,null,null,null,null,null,null,null,null,null,null,null,null,null,null,null,null,null,null,null,null,null,null,null,null,null,null,null,null,null,null,null,null,null,null,null,null,null,null,null,null,null,null,null,null,null,null,null,null,null,null,null,null,null,null,null,null,null,null,null,null,null,null,null,null,null,null,null,null,null,null,null,0,0,0,0,0,0,0,"",{"$f":"IF($EO58=\"要是正\",MAX($EP$16:EP57)+1,\"\")","v":""},{"$f":"IF($EO58=\"要是正\",MAX($EQ$48:EQ57)+1,\"\")","v":""},"","","","","","","0","","0","0","","","0","","0","0","",null,null,null,null,null,null,null,null,null,null,null,null,null,null,null,null,null,null,null,null,null,null,null,null,null,null,null,null,"","","",0,"",null,"","","0","","0","",null,0,null,null,null,0]
[null,null,null,null,null,null,null,null,null,null,null,null,null,null,null,null,null,null,null,null,null,null,null,null,null,null,null,null,null,null,null,null,null,null,null,null,null,null,null,null,null,null,null,null,null,null,null,null,null,null,null,null,null,null,null,null,null,null,null,null,null,null,null,null,null,null,null,null,null,null,null,null,null,null,null,null,null,null,null,null,null,null,null,null,null,null,null,null,null,null,null,null,null,null,null,null,null,null,null,null,null,null,null,null,null,null,null,null,null,null,null,null,null,null,null,null,null,null,null,null,null,null,null,null,null,null,null,null,null,null,null,null,null,null,null,null,null,0,0,0,0,0,0,0,"",{"$f":"IF($EO59=\"要是正\",MAX($EP$16:EP58)+1,\"\")","v":""},{"$f":"IF($EO59=\"要是正\",MAX($EQ$48:EQ58)+1,\"\")","v":""},"","","","","","","0","","0","0","","","0","","0","0","",null,null,null,null,null,null,null,null,null,null,null,null,null,null,null,null,null,null,null,null,null,null,null,null,null,null,null,null,"","","",0,"",null,"","","0","","0","",null,0,null,null,null,0]
[null,null,null,null,null,null,null,null,null,null,null,null,null,null,null,null,null,null,null,null,null,null,null,null,null,null,null,null,null,null,null,null,null,null,null,null,null,null,null,null,null,null,null,null,null,null,null,null,null,null,null,null,null,null,null,null,null,null,null,null,null,null,null,null,null,null,null,null,null,null,null,null,null,null,null,null,null,null,null,null,null,null,null,null,null,null,null,null,null,null,null,null,null,null,null,null,null,null,null,null,null,null,null,null,null,null,null,null,null,null,null,null,null,null,null,null,null,null,null,null,null,null,null,null,null,null,null,null,null,null,null,null,null,null,null,null,null,0,0,0,0,0,0,0,"",{"$f":"IF($EO60=\"要是正\",MAX($EP$16:EP59)+1,\"\")","v":""},{"$f":"IF($EO60=\"要是正\",MAX($EQ$48:EQ59)+1,\"\")","v":""},"","","","","","","0","","0","0","","","0","","0","0","",null,null,null,null,null,null,null,null,null,null,null,null,null,null,null,null,null,null,null,null,null,null,null,null,null,null,null,null,"","","",0,"",null,"","","0","","0","",null,0,null,null,null,0]
[null,null,null,null,null,null,null,null,null,null,null,null,null,null,null,null,null,null,null,null,null,null,null,null,null,null,null,null,null,null,null,null,null,null,null,null,null,null,null,null,null,null,null,null,null,null,null,null,null,null,null,null,null,null,null,null,null,null,null,null,null,null,null,null,null,null,null,null,null,null,null,null,null,null,null,null,null,null,null,null,null,null,null,null,null,null,null,null,null,null,null,null,null,null,null,null,null,null,null,null,null,null,null,null,null,null,null,null,null,null,null,null,null,null,null,null,null,null,null,null,null,null,null,null,null,null,null,null,null,null,null,null,null,null,null,null,null,0,0,0,0,0,0,0,"",{"$f":"IF($EO61=\"要是正\",MAX($EP$16:EP60)+1,\"\")","v":""},{"$f":"IF($EO61=\"要是正\",MAX($EQ$48:EQ60)+1,\"\")","v":""},"",{"$f":"IF(OR($EO61=\"要是正\",$EO61=\"既存不適格\"),$EM61,\"\")","v":""},"",{"$f":"IF($EO61=\"要是正\",IF(BY61=\"\",\"\",BY61),\"\")","v":""},"","","0","","0","0","","","0","","0","0","",null,null,null,null,null,null,null,null,null,null,null,null,null,null,null,null,null,null,null,null,null,null,null,null,null,null,null,null,"","","",0,"",null,"","","0","","0","",null,0,null,null,null,0]
[null,null,null,null,null,null,null,null,null,null,null,null,null,null,null,null,null,null,null,null,null,null,null,null,null,null,null,null,null,null,null,null,null,null,null,null,null,null,null,null,null,null,null,null,null,null,null,null,null,null,null,null,null,null,null,null,null,null,null,null,null,null,null,null,null,null,null,null,null,null,null,null,null,null,null,null,null,null,null,null,null,null,null,null,null,null,null,null,null,null,null,null,null,null,null,null,null,null,null,null,null,null,null,null,null,null,null,null,null,null,null,null,null,null,null,null,null,null,null,null,null,null,null,null,null,null,null,null,null,null,null,null,null,null,null,null,null,0,0,0,0,0,0,0,"",{"$f":"IF($EO62=\"要是正\",MAX($EP$16:EP61)+1,\"\")","v":""},{"$f":"IF($EO62=\"要是正\",MAX($EQ$48:EQ61)+1,\"\")","v":""},"","","","","","","0","","0","0","","","0","","0","0","",null,null,null,null,null,null,null,null,null,null,null,null,null,null,null,null,null,null,null,null,null,null,null,null,null,null,null,null,"","","",{"$f":"BM62","v":0},"",null,"","","0","","0","",null,0,null,null,null,0]
[null,null,null,null,null,null,null,null,null,null,null,null,null,null,null,null,null,null,null,null,null,null,null,null,null,null,null,null,null,null,null,null,null,null,null,null,null,null,null,null,null,null,null,null,null,null,null,null,null,null,null,null,null,null,null,null,null,null,null,null,null,null,null,null,null,null,null,null,null,null,null,null,null,null,null,null,null,null,null,null,null,null,null,null,null,null,null,null,null,null,null,null,null,null,null,null,null,null,null,null,null,null,null,null,null,null,null,null,null,null,null,null,null,null,null,null,null,null,null,null,null,null,null,null,null,null,null,null,null,null,null,null,null,null,null,null,null,0,0,0,0,0,0,0,"",{"$f":"IF($EO63=\"要是正\",MAX($EP$16:EP62)+1,\"\")","v":""},{"$f":"IF($EO63=\"要是正\",MAX($EQ$48:EQ62)+1,\"\")","v":""},"","","",{"$f":"IF($EO63=\"要是正\",IF(BY63=\"\",\"\",BY63),\"\")","v":""},"","","0","","0","0","","","0","","0","0","",null,null,null,null,null,null,null,null,null,null,null,null,null,null,null,null,null,null,null,null,null,null,null,null,null,null,null,null,"","","",0,"",null,"","","0","","0","",null,0,null,null,null,0]
[null,null,null,null,null,null,null,null,null,null,null,null,null,null,null,null,null,null,null,null,null,null,null,null,null,null,null,null,null,null,null,null,null,null,null,null,null,null,null,null,null,null,null,null,null,null,null,null,null,null,null,null,null,null,null,null,null,null,null,null,null,null,null,null,null,null,null,null,null,null,null,null,null,null,null,null,null,null,null,null,null,null,null,null,null,null,null,null,null,null,null,null,null,null,null,null,null,null,null,null,null,null,null,null,null,null,null,null,null,null,null,null,null,null,null,null,null,null,null,null,null,null,null,null,null,null,null,null,null,null,null,null,null,null,null,null,null,0,0,0,0,0,0,0,"",{"$f":"IF($EO64=\"要是正\",MAX($EP$16:EP63)+1,\"\")","v":""},{"$f":"IF($EO64=\"要是正\",MAX($EQ$48:EQ63)+1,\"\")","v":""},"","","","","","","0","","0","0","","","0","","0","0","",null,null,null,null,null,null,null,null,null,null,null,null,null,null,null,null,null,null,null,null,null,null,null,null,null,null,null,null,"","","",0,"",null,"","","0","","0","",null,0,null,null,null,0]
[null,null,null,null,null,null,null,null,null,null,null,null,null,null,null,null,null,null,null,null,null,null,null,null,null,null,null,null,null,null,null,null,null,null,null,null,null,null,null,null,null,null,null,null,null,null,null,null,null,null,null,null,null,null,null,null,null,null,null,null,null,null,null,null,null,null,null,null,null,null,null,null,null,null,null,null,null,null,null,null,null,null,null,null,null,null,null,null,null,null,null,null,null,null,null,null,null,null,null,null,null,null,null,null,null,null,null,null,null,null,null,null,null,null,null,null,null,null,null,null,null,null,null,null,null,null,null,null,null,null,null,null,null,null,null,null,null,0,0,0,0,0,0,0,"",{"$f":"IF($EO65=\"要是正\",MAX($EP$16:EP64)+1,\"\")","v":""},{"$f":"IF($EO65=\"要是正\",MAX($EQ$48:EQ64)+1,\"\")","v":""},"","","","","","","0","","0","0","","","0","","0","0","",null,null,null,null,null,null,null,null,null,null,null,null,null,null,null,null,null,null,null,null,null,null,null,null,null,null,null,null,"","","",0,"",null,"","","0","","0","",null,0,null,null,null,0]
[null,null,null,null,null,null,null,null,null,null,null,null,null,null,null,null,null,null,null,null,null,null,null,null,null,null,null,null,null,null,null,null,null,null,null,null,null,null,null,null,null,null,null,null,null,null,null,null,null,null,null,null,null,null,null,null,null,null,null,null,null,null,null,null,null,null,null,null,null,null,null,null,null,null,null,null,null,null,null,null,null,null,null,null,null,null,null,null,null,null,null,null,null,null,null,null,null,null,null,null,null,null,null,null,null,null,null,null,null,null,null,null,null,null,null,null,null,null,null,null,null,null,null,null,null,null,null,null,null,null,null,null,null,null,null,null,null,0,0,0,0,0,0,0,"",{"$f":"IF($EO66=\"要是正\",MAX($EP$16:EP65)+1,\"\")","v":""},{"$f":"IF($EO66=\"要是正\",MAX($EQ$48:EQ65)+1,\"\")","v":""},"","","","","","","0","","0","0","","","0","","0","0","",null,null,null,null,null,null,null,null,null,null,null,null,null,null,null,null,null,null,null,null,null,null,null,null,null,null,null,null,"","","",0,"",null,"","","0","","0","",null,0,null,null,null,0]
[null,null,null,null,null,null,null,null,null,null,null,null,null,null,null,null,null,null,null,null,null,null,null,null,null,null,null,null,null,null,null,null,null,null,null,null,null,null,null,null,null,null,null,null,null,null,null,null,null,null,null,null,null,null,null,null,null,null,null,null,null,null,null,null,null,null,null,null,null,null,null,null,null,null,null,null,null,null,null,null,null,null,null,null,null,null,null,null,null,null,null,null,null,null,null,null,null,null,null,null,null,null,null,null,null,null,null,null,null,null,null,null,null,null,null,null,null,null,null,null,null,null,null,null,null,null,null,null,null,null,null,null,null,null,null,null,null,0,0,0,0,0,0,0,"",{"$f":"IF($EO67=\"要是正\",MAX($EP$16:EP66)+1,\"\")","v":""},{"$f":"IF($EO67=\"要是正\",MAX($EQ$48:EQ66)+1,\"\")","v":""},"","","","","","","0","","0","0","","","0","","0","0","",null,null,null,null,null,null,null,null,null,null,null,null,null,null,null,null,null,null,null,null,null,null,null,null,null,null,null,null,"","","",0,"",null,"","","0",{"$f":"IF(OR(CT67=\"予定\",CT67=\"改善済\"),1,\"\")","v":""},{"$f":"IF(GT67=1,GS67,\"0\")","v":"0"},{"$f":"IF(AND(EP68=\"要是正\",AND(EO68=0,CT67=\"未定\")),CU68,\"\")","v":""},null,0,null,null,null,0]
[null,null,null,null,null,null,null,null,null,null,null,null,null,null,null,null,null,null,null,null,null,null,null,null,null,null,null,null,null,null,null,null,null,null,null,null,null,null,null,null,null,null,null,null,null,null,null,null,null,null,null,null,null,null,null,null,null,null,null,null,null,null,null,null,null,null,null,null,null,null,null,null,null,null,null,null,null,null,null,null,null,null,null,null,null,null,null,null,null,null,null,null,null,null,null,null,null,null,null,null,null,null,null,null,null,null,null,null,null,null,null,null,null,null,null,null,null,null,null,null,null,null,null,null,null,null,null,null,null,null,null,null,null,null,null,null,null,0,0,0,0,0,0,0,"",{"$f":"IF($EO68=\"要是正\",MAX($EP$16:EP67)+1,\"\")","v":""},{"$f":"IF($EO68=\"要是正\",MAX($EQ$48:EQ67)+1,\"\")","v":""},"","","","","","","0","","0","0","","","0","","0","0","",null,null,null,null,null,null,null,null,null,null,null,null,null,null,null,null,null,null,null,null,null,null,null,null,null,null,null,null,"","","",0,"",null,"","","0","","0","",null,0,null,null,null,0]
[null,null,null,null,null,null,null,null,null,null,null,null,null,null,null,null,null,null,null,null,null,null,null,null,null,null,null,null,null,null,null,null,null,null,null,null,null,null,null,null,null,null,null,null,null,null,null,null,null,null,null,null,null,null,null,null,null,null,null,null,null,null,null,null,null,null,null,null,null,null,null,null,null,null,null,null,null,null,null,null,null,null,null,null,null,null,null,null,null,null,null,null,null,null,null,null,null,null,null,null,null,null,null,null,null,null,null,null,null,null,null,null,null,null,null,null,null,null,null,null,null,null,null,null,null,null,null,null,null,null,null,null,null,null,null,null,null,0,0,0,0,0,0,0,"",{"$f":"IF($EO69=\"要是正\",MAX($EP$16:EP68)+1,\"\")","v":""},{"$f":"IF($EO69=\"要是正\",MAX($EQ$48:EQ68)+1,\"\")","v":""},"","","","","","","0","","0","0","","","0","","0","0","",null,null,null,null,null,null,null,null,null,null,null,null,null,null,null,null,null,null,null,null,null,null,null,null,null,null,null,null,"","","",0,"",null,"","","0","","0","",null,0,null,null,null,0]
[null,null,null,null,null,null,null,null,null,null,null,null,null,null,null,null,null,null,null,null,null,null,null,null,null,null,null,null,null,null,null,null,null,null,null,null,null,null,null,null,null,null,null,null,null,null,null,null,null,null,null,null,null,null,null,null,null,null,null,null,null,null,null,null,null,null,null,null,null,null,null,null,null,null,null,null,null,null,null,null,null,null,null,null,null,null,null,null,null,null,null,null,null,null,null,null,null,null,null,null,null,null,null,null,null,null,null,null,null,null,null,null,null,null,null,null,null,null,null,null,null,null,null,null,null,null,null,null,null,null,null,null,null,null,null,null,null,0,0,0,0,0,0,0,"",{"$f":"IF($EO70=\"要是正\",MAX($EP$16:EP69)+1,\"\")","v":""},{"$f":"IF($EO70=\"要是正\",MAX($EQ$48:EQ69)+1,\"\")","v":""},"","","","","","","0","","0","0","",{"$f":"IF(EO70=\"既存不適格\",IF(OR(EN70<2,CT70<>\"\"),\"\",\"令和\"&CN70&\"年\"&CQ70&\"月1日\"),\"\")","v":""},"0","","0","0","",null,null,null,null,null,null,null,null,null,null,null,null,null,null,null,null,null,null,null,null,null,null,null,null,null,null,null,null,"","","",0,"",null,"","","0","","0","",null,0,null,null,null,0]
[null,null,null,null,null,null,null,null,null,null,null,null,null,null,null,null,null,null,null,null,null,null,null,null,null,null,null,null,null,null,null,null,null,null,null,null,null,null,null,null,null,null,null,null,null,null,null,null,null,null,null,null,null,null,null,null,null,null,null,null,null,null,null,null,null,null,null,null,null,null,null,null,null,null,null,null,null,null,null,null,null,null,null,null,null,null,null,null,null,null,null,null,null,null,null,null,null,null,null,null,null,null,null,null,null,null,null,null,null,null,null,null,null,null,null,null,null,null,null,null,null,null,null,null,null,null,null,null,null,null,null,null,null,null,null,null,null,{"$f":"SUM(EH51:EH70)","v":0},{"$f":"SUM(EI51:EI70)","v":0},{"$f":"SUM(EJ51:EJ70)","v":0},{"$f":"SUM(EK51:EK70)","v":0},null,null,null,null,null,null,null,null,null,null,null,null,null,{"$f":"COUNTIF(EY51:EY70,\"1\")","v":0},{"$f":"INDEX(EZ51:EZ70,MATCH(MIN(ABS(EZ51:EZ70-EJ4)),ABS(EZ51:EZ70-EJ4),0))","v":"0"},{"$f":"INDEX(FA51:FA70,MATCH(MIN(ABS(FA51:FA70-EK31)),ABS(FA51:FA70-EK31),0))","v":"0"},{"$f":"COUNTIF(FB51:FB70,\"未定\")","v":0},null,null,{"$f":"COUNTIF(FE68:FE70,\"1\")","v":0},{"$f":"INDEX(FF51:FF70,MATCH(MIN(ABS(FF51:FF70-$EJ$4)),ABS(FF51:FF70-$EJ$4),0))","v":"0"},{"$f":"INDEX(FG51:FG70,MATCH(MIN(ABS(FG51:FG70-EJ31)),ABS(FG51:FG70-EJ31),0))","v":"0"},{"$f":"COUNTIF(FH51:FH70,\"未定\")","v":0},null,null,null,null,null,null,null,null,null,null,null,null,null,null,null,null,null,null,null,null,null,null,null,null,null,null,null,null,null,null,null,null,null,null,null,null,null,{"$f":"COUNTIF(GT51:GT70,\"1\")","v":0},{"$f":"INDEX(GU51:GU70,MATCH(MIN(ABS(GU51:GU70-$EJ$4)),ABS(GU51:GU70-$EJ$4),0))","v":"0"},{"$f":"COUNTIF(GV51:GV70,\"未定\")","v":0}]
[]
[]
[]
[]
[]
[]
[null,null,null,null,null,null,null,null,null,null,null,null,null,null,null,null,null,null,null,null,null,null,null,null,null,null,null,null,null,null,null,null,null,null,null,null,null,null,null,null,null,null,null,null,null,null,null,null,null,null,null,null,null,null,null,null,null,null,null,null,null,null,null,null,null,null,null,null,null,null,null,null,null,null,null,null,null,null,null,null,null,null,null,null,null,null,null,null,null,null,null,null,null,null,null,null,null,null,null,null,null,null,null,null,null,null,null,null,null,null,null,null,null,null,null,null,null,null,null,null,null,null,null,null,null,null,null,null,null,null,null,null,null,null,null,null,null,{"$f":"SUM(EH34,EH44)","v":0},{"$f":"SUM(EI34,EI44)","v":0},{"$f":"SUM(EJ34,EJ44)","v":0},{"$f":"SUM(EK34,EK44)","v":0}]
[null,null,null,null,null,null,null,null,null,null,null,null,null,null,null,null,null,null,null,null,null,null,null,null,null,null,null,null,null,null,null,null,null,null,null,null,null,null,null,null,null,null,null,null,null,null,null,null,null,null,null,null,null,null,null,null,null,null,null,null,null,null,null,null,null,null,null,null,null,null,null,null,null,null,null,null,null,null,null,null,null,null,null,null,null,null,null,null,null,null,null,null,null,null,null,null,null,null,null,null,null,null,null,null,null,null,null,null,null,null,null,null,null,null,null,null,null,null,null,null,null,null,null,null,null,null,null,null,null,null,null,null,null,null,null,null,null,{"$f":"IF(EH78<>0,\"レ\",\"\")","v":""},"","",{"$f":"IF(EK78<>0,\"レ\",\"\")","v":""}]
[]
[]
[null,null,null,null,null,null,null,null,null,null,null,null,null,null,null,null,null,null,null,null,null,null,null,null,null,null,null,null,null,null,null,null,null,null,null,null,null,null,null,null,null,null,null,null,null,null,null,null,null,null,null,null,null,null,null,null,null,null,null,null,null,null,null,null,null,null,null,null,null,null,null,null,null,null,null,null,null,null,null,null,null,null,null,null,null,null,null,null,null,null,null,null,null,null,null,null,null,null,null,null,null,null,null,null,null,null,null,null,null,null,null,null,null,null,null,null,null,null,null,null,null,null,null,null,null,null,null,null,null,null,null,null,null,null,null,null,null,"1　法第28条第2項又は第3項に基づき換気設備が設けられた居室"]
[null,null,null,null,null,null,null,null,null,null,null,null,null,null,null,null,null,null,null,null,null,null,null,null,null,null,null,null,null,null,null,null,null,null,null,null,null,null,null,null,null,null,null,null,null,null,null,null,null,null,null,null,null,null,null,null,null,null,null,null,null,null,null,null,null,null,null,null,null,null,null,null,null,null,null,null,null,null,null,null,null,null,null,null,null,null,null,null,null,null,null,null,null,null,null,null,null,null,null,null,null,null,null,null,null,null,null,null,null,null,null,null,null,null,null,null,null,null,null,null,null,null,null,null,null,null,null,null,null,null,null,null,null,null,null,null,null,"改善予定","改善済","未定"]
[null,null,null,null,null,null,null,null,null,null,null,null,null,null,null,null,null,null,null,null,null,null,null,null,null,null,null,null,null,null,null,null,null,null,null,null,null,null,null,null,null,null,null,null,null,null,null,null,null,null,null,null,null,null,null,null,null,null,null,null,null,null,null,null,null,null,null,null,null,null,null,null,null,null,null,null,null,null,null,null,null,null,null,null,null,null,null,null,null,null,null,null,null,null,null,null,null,null,null,null,null,null,null,null,null,null,null,null,null,null,null,null,null,null,null,null,null,null,null,null,null,null,null,null,null,null,null,null,null,null,null,null,null,null,null,null,null,{"$f":"COUNTIF($CT17:$CV33,\"改善予定\")","v":0},{"$f":"COUNTIF($CT17:$CV33,\"改善済\")","v":0},{"$f":"COUNTIF($CT17:$CV33,\"未定\")","v":0}]
[null,null,null,null,null,null,null,null,null,null,null,null,null,null,null,null,null,null,null,null,null,null,null,null,null,null,null,null,null,null,null,null,null,null,null,null,null,null,null,null,null,null,null,null,null,null,null,null,null,null,null,null,null,null,null,null,null,null,null,null,null,null,null,null,null,null,null,null,null,null,null,null,null,null,null,null,null,null,null,null,null,null,null,null,null,null,null,null,null,null,null,null,null,null,null,null,null,null,null,null,null,null,null,null,null,null,null,null,null,null,null,null,null,null,null,null,null,null,null,null,null,null,null,null,null,null,null,null,null,null,null,null,null,null,null,null,null,"2　換気設備を設けるべき調理室等"]
[null,null,null,null,null,null,null,null,null,null,null,null,null,null,null,null,null,null,null,null,null,null,null,null,null,null,null,null,null,null,null,null,null,null,null,null,null,null,null,null,null,null,null,null,null,null,null,null,null,null,null,null,null,null,null,null,null,null,null,null,null,null,null,null,null,null,null,null,null,null,null,null,null,null,null,null,null,null,null,null,null,null,null,null,null,null,null,null,null,null,null,null,null,null,null,null,null,null,null,null,null,null,null,null,null,null,null,null,null,null,null,null,null,null,null,null,null,null,null,null,null,null,null,null,null,null,null,null,null,null,null,null,null,null,null,null,null,"改善予定","改善済","未定"]
[null,null,null,null,null,null,null,null,null,null,null,null,null,null,null,null,null,null,null,null,null,null,null,null,null,null,null,null,null,null,null,null,null,null,null,null,null,null,null,null,null,null,null,null,null,null,null,null,null,null,null,null,null,null,null,null,null,null,null,null,null,null,null,null,null,null,null,null,null,null,null,null,null,null,null,null,null,null,null,null,null,null,null,null,null,null,null,null,null,null,null,null,null,null,null,null,null,null,null,null,null,null,null,null,null,null,null,null,null,null,null,null,null,null,null,null,null,null,null,null,null,null,null,null,null,null,null,null,null,null,null,null,null,null,null,null,null,{"$f":"COUNTIF($CT41:$CV43,\"改善予定\")","v":0},{"$f":"COUNTIF($CT41:$CV43,\"改善済\")","v":0},{"$f":"COUNTIF($CT41:$CV43,\"未定\")","v":0}]
[null,null,null,null,null,null,null,null,null,null,null,null,null,null,null,null,null,null,null,null,null,null,null,null,null,null,null,null,null,null,null,null,null,null,null,null,null,null,null,null,null,null,null,null,null,null,null,null,null,null,null,null,null,null,null,null,null,null,null,null,null,null,null,null,null,null,null,null,null,null,null,null,null,null,null,null,null,null,null,null,null,null,null,null,null,null,null,null,null,null,null,null,null,null,null,null,null,null,null,null,null,null,null,null,null,null,null,null,null,null,null,null,null,null,null,null,null,null,null,null,null,null,null,null,null,null,null,null,null,null,null,null,null,null,null,null,null,{"$f":"SUM(EH84:EH87)","v":0},{"$f":"SUM(EI84:EI87)","v":0},{"$f":"SUM(EJ84:EJ87)","v":0},{"$f":"SUM(EH88:EJ88)","v":0}]
[]
[null,null,null,null,null,null,null,null,null,null,null,null,null,null,null,null,null,null,null,null,null,null,null,null,null,null,null,null,null,null,null,null,null,null,null,null,null,null,null,null,null,null,null,null,null,null,null,null,null,null,null,null,null,null,null,null,null,null,null,null,null,null,null,null,null,null,null,null,null,null,null,null,null,null,null,null,null,null,null,null,null,null,null,null,null,null,null,null,null,null,null,null,null,null,null,null,null,null,null,null,null,null,null,null,null,null,null,null,null,null,null,null,null,null,null,null,null,null,null,null,null,null,null,null,null,null,null,null,null,null,null,null,null,null,null,null,null,{"$f":"IF(EH88<>0,\"レ\",\"\")","v":""},{"$f":"IF(EI88<>0,\"レ\",\"\")","v":""},{"$f":"IF(EJ88<>0,\"レ\",\"\")","v":""}]

{"sheet":"3_入力シート【検査結果表】防火シャッター","index":2,"n_rows":91,"n_cols":209,"rows_kept":91,"cut":false,"hidden":false,"merged":[[15,191,15,195],[58,191,58,195],[48,191,48,195],[10,204,10,206],[11,204,11,206],[12,198,12,202],[14,198,14,202],[11,148,11,161],[12,150,12,151],[12,177,12,187],[11,198,11,202],[10,197,10,202],[48,198,48,202],[58,198,58,202],[58,182,58,186],[14,182,14,186],[14,177,14,181],[12,152,12,157],[14,151,15,151],[47,148,49,148],[57,148,59,148],[58,150,59,150],[58,172,58,176],[58,177,58,181],[14,172,14,176],[48,150,49,150],[48,182,48,186],[58,152,58,157],[58,158,58,163],[58,149,59,149],[40,97,40,99],[48,91,48,99],[48,100,49,119],[48,149,49,149],[57,12,57,119],[58,12,59,14],[58,52,59,63],[58,64,59,65],[58,66,59,75],[58,76,59,90],[58,91,58,99],[58,100,59,119],[59,91,59,93],[59,94,59,96],[59,97,59,99],[50,97,50,99],[51,52,51,63],[51,64,51,65],[52,100,52,119],[51,100,51,119],[50,100,50,119],[37,66,37,75],[32,64,32,65],[32,66,32,75],[49,91,49,93],[49,94,49,96],[49,97,49,99],[33,94,33,96],[48,172,48,176],[48,177,48,181],[48,152,48,157],[48,158,48,163],[35,66,35,75],[37,64,37,65],[39,76,39,90],[39,91,39,93],[39,100,39,119],[38,91,38,93],[41,76,41,90],[41,91,41,93],[41,94,41,96],[42,91,42,93],[42,94,42,96],[40,91,40,93],[40,94,40,96],[38,66,38,75],[52,52,52,63],[52,91,52,93],[52,94,52,96],[52,97,52,99],[52,64,52,65],[52,66,52,75],[52,76,52,90],[50,64,50,65],[50,66,50,75],[50,76,50,90],[51,94,51,96],[51,97,51,99],[50,94,50,96],[51,66,51,75],[51,76,51,90],[51,91,51,93],[72,32,72,51],[73,32,73,51],[74,32,74,51],[37,12,37,14],[31,12,31,14],[31,27,31,51],[72,12,72,14],[72,15,72,31],[48,15,49,31],[58,15,59,31],[58,32,59,51],[50,15,50,31],[50,32,50,51],[51,15,51,31],[51,32,51,51],[52,15,52,31],[52,32,52,51],[60,32,60,51],[71,32,71,51],[37,27,37,51],[39,27,39,51],[63,12,63,14],[63,15,63,31],[63,32,63,51],[71,66,71,75],[41,12,41,14],[41,15,42,26],[41,27,41,51],[41,52,41,63],[41,64,41,65],[41,66,41,75],[38,27,38,51],[38,52,38,63],[38,12,38,14],[38,64,38,65],[62,66,62,75],[64,12,64,14],[64,15,64,31],[64,32,64,51],[64,52,64,63],[64,64,64,65],[64,66,64,75],[66,12,66,14],[66,15,66,31],[66,32,66,51],[66,52,66,63],[66,64,66,65],[66,66,66,75],[71,91,71,93],[50,91,50,93],[47,12,47,119],[38,94,38,96],[38,97,38,99],[41,97,41,99],[41,100,41,119],[35,100,35,119],[71,94,71,96],[71,97,71,99],[71,76,71,90],[39,12,39,14],[39,20,39,26],[42,12,42,14],[42,27,42,51],[40,12,40,14],[40,20,40,26],[40,27,40,51],[71,12,71,14],[71,15,71,31],[52,12,52,14],[48,12,49,14],[50,12,50,14],[51,12,51,14],[72,66,72,75],[72,76,72,90],[74,12,74,14],[74,15,74,31],[74,52,74,63],[74,64,74,65],[74,66,74,75],[32,20,32,26],[33,20,36,26],[37,20,38,26],[42,52,42,63],[42,64,42,65],[42,66,42,75],[39,64,39,65],[48,76,49,90],[40,66,40,75],[40,76,40,90],[48,32,49,51],[40,64,40,65],[48,66,49,75],[48,52,49,63],[48,64,49,65],[39,52,39,63],[40,52,40,63],[60,91,60,93],[60,94,60,96],[60,97,60,99],[60,100,60,119],[60,12,60,14],[60,15,60,31],[60,52,60,63],[60,64,60,65],[60,66,60,75],[60,76,60,90],[71,100,71,119],[74,94,74,96],[74,97,74,99],[74,100,74,119],[73,12,73,14],[73,15,73,31],[73,52,73,63],[73,64,73,65],[73,66,73,75],[73,76,73,90],[71,52,71,63],[71,64,71,65],[73,91,73,93],[73,94,73,96],[73,97,73,99],[73,100,73,119],[72,91,72,93],[72,94,72,96],[72,97,72,99],[72,100,72,119],[74,76,74,90],[74,91,74,93],[72,52,72,63],[72,64,72,65],[31,94,31,96],[33,76,33,90],[33,91,33,93],[31,66,31,75],[42,97,42,99],[42,100,42,119],[42,76,42,90],[35,64,35,65],[32,100,32,119],[31,91,31,93],[33,100,33,119],[32,94,32,96],[32,97,32,99],[33,97,33,99],[31,97,31,99],[31,76,31,90],[32,91,32,93],[31,64,31,65],[36,66,36,75],[34,66,34,75],[33,64,33,65],[36,64,36,65],[33,66,33,75],[32,76,32,90],[30,15,40,19],[30,20,31,26],[30,27,30,51],[30,52,30,63],[30,64,30,65],[36,91,36,93],[34,76,34,90],[34,27,34,51],[34,52,34,63],[34,64,34,65],[34,91,34,93],[35,91,35,93],[35,27,35,51],[36,76,36,90],[35,76,35,90],[38,76,38,90],[39,66,39,75],[35,52,35,63],[37,52,37,63],[33,27,33,51],[33,52,33,63],[36,27,36,51],[36,52,36,63],[30,100,30,119],[30,66,30,75],[30,76,30,90],[30,91,30,93],[30,97,30,99],[27,52,27,63],[27,64,27,65],[28,64,28,65],[27,100,27,119],[28,100,28,119],[27,94,27,96],[27,97,27,99],[30,94,30,96],[28,52,28,63],[29,52,29,63],[29,64,29,65],[24,91,24,93],[24,94,24,96],[26,27,26,51],[26,52,26,63],[26,64,26,65],[26,66,26,75],[26,76,26,90],[26,91,26,93],[29,100,29,119],[28,27,28,51],[28,66,28,75],[25,66,25,75],[25,76,25,90],[25,91,25,93],[27,27,27,51],[25,100,25,119],[26,100,26,119],[18,64,18,65],[23,100,23,119],[24,100,24,119],[28,94,28,96],[28,97,28,99],[29,94,29,96],[29,91,29,93],[27,66,27,75],[27,76,27,90],[27,91,27,93],[20,97,20,99],[20,64,20,65],[20,66,20,75],[20,76,20,90],[20,91,20,93],[20,94,20,96],[22,64,22,65],[22,66,22,75],[22,76,22,90],[22,91,22,93],[22,94,22,96],[24,64,24,65],[24,66,24,75],[23,94,23,96],[19,66,19,75],[19,76,19,90],[19,91,19,93],[17,94,17,96],[17,97,17,99],[17,100,17,119],[16,66,16,75],[16,91,16,93],[16,100,16,119],[16,76,16,90],[19,94,19,96],[19,97,19,99],[19,100,19,119],[18,94,18,96],[18,97,18,99],[18,100,18,119],[17,91,17,93],[17,66,17,75],[18,91,18,93],[17,76,17,90],[18,66,18,75],[18,76,18,90],[16,97,16,99],[16,94,16,96],[14,52,15,63],[14,76,15,90],[14,91,14,99],[12,158,12,163],[14,149,15,149],[14,150,15,150],[14,152,14,157],[14,158,14,163],[14,64,15,65],[14,66,15,75],[12,148,15,148],[15,91,15,93],[15,94,15,96],[15,97,15,99],[1,44,1,46],[1,52,1,54],[1,60,1,62],[1,72,1,74],[14,15,15,26],[11,12,11,16],[9,12,9,116],[10,12,10,20],[10,21,10,59],[11,57,11,79],[11,82,11,86],[11,87,11,89],[11,90,11,112],[12,12,12,20],[11,17,11,19],[11,21,11,42],[11,49,11,53],[11,54,11,56],[12,21,12,112],[13,21,13,99],[14,12,15,14],[14,27,15,51],[14,100,15,119],[7,9,7,119],[20,100,20,119],[21,94,21,96],[21,97,21,99],[21,100,21,119],[26,94,26,96],[26,97,26,99],[22,100,22,119],[37,76,37,90],[37,91,37,93],[37,94,37,96],[23,76,23,90],[23,91,23,93],[23,97,23,99],[37,97,37,99],[37,100,37,119],[36,100,36,119],[35,94,35,96],[35,97,35,99],[34,100,34,119],[36,94,36,96],[36,97,36,99],[25,94,25,96],[25,97,25,99],[29,97,29,99],[82,137,82,139],[85,137,85,139],[29,76,29,90],[61,97,61,99],[61,100,61,119],[62,100,62,119],[63,97,63,99],[63,100,63,119],[64,76,64,90],[64,91,64,93],[64,94,64,96],[64,97,64,99],[64,100,64,119],[65,97,65,99],[40,100,40,119],[39,94,39,96],[39,97,39,99],[38,100,38,119],[31,100,31,119],[34,94,34,96],[34,97,34,99],[62,97,62,99],[65,91,65,93],[65,94,65,96],[21,66,21,75],[21,76,21,90],[22,27,22,51],[22,52,22,63],[29,27,29,51],[24,97,24,99],[21,91,21,93],[22,97,22,99],[29,66,29,75],[23,27,23,51],[25,27,25,51],[25,52,25,63],[24,27,24,51],[24,52,24,63],[23,52,23,63],[23,64,23,65],[23,66,23,75],[25,64,25,65],[21,27,21,51],[21,52,21,63],[28,76,28,90],[28,91,28,93],[21,64,21,65],[24,76,24,90],[17,64,17,65],[22,12,22,14],[21,12,21,14],[17,12,17,14],[17,27,17,51],[16,20,16,26],[16,27,16,51],[18,12,18,14],[18,27,18,51],[19,64,19,65],[16,52,16,63],[16,64,16,65],[16,12,16,14],[16,15,29,19],[20,12,20,14],[17,20,20,26],[25,12,25,14],[25,20,29,26],[29,12,29,14],[19,27,19,51],[19,52,19,63],[17,52,17,63],[18,52,18,63],[23,20,23,26],[23,12,23,14],[24,12,24,14],[26,12,26,14],[61,12,61,14],[61,15,61,31],[61,32,61,51],[61,52,61,63],[20,27,20,51],[19,12,19,14],[21,20,22,26],[24,20,24,26],[20,52,20,63],[32,12,32,14],[32,27,32,51],[32,52,32,63],[34,12,34,14],[35,12,35,14],[50,52,50,63],[27,12,27,14],[31,52,31,63],[28,12,28,14],[30,12,30,14],[33,12,33,14],[36,12,36,14],[61,64,61,65],[61,66,61,75],[61,76,61,90],[61,91,61,93],[61,94,61,96],[62,12,62,14],[62,15,62,31],[62,32,62,51],[62,52,62,63],[62,64,62,65],[62,76,62,90],[62,91,62,93],[62,94,62,96],[63,52,63,63],[63,64,63,65],[63,66,63,75],[63,76,63,90],[63,91,63,93],[63,94,63,96],[65,100,65,119],[66,76,66,90],[66,91,66,93],[66,94,66,96],[66,97,66,99],[66,100,66,119],[67,97,67,99],[67,100,67,119],[65,12,65,14],[65,15,65,31],[65,32,65,51],[65,52,65,63],[65,64,65,65],[65,66,65,75],[65,76,65,90],[67,12,67,14],[67,15,67,31],[67,32,67,51],[67,52,67,63],[67,64,67,65],[67,66,67,75],[67,76,67,90],[67,91,67,93],[67,94,67,96],[69,100,69,119],[68,12,68,14],[68,15,68,31],[68,32,68,51],[68,52,68,63],[68,64,68,65],[68,66,68,75],[68,76,68,90],[68,91,68,93],[68,94,68,96],[68,97,68,99],[68,100,68,119],[69,12,69,14],[69,15,69,31],[69,32,69,51],[69,52,69,63],[69,64,69,65],[69,66,69,75],[69,76,69,90],[69,91,69,93],[69,94,69,96],[69,97,69,99],[70,97,70,99],[70,100,70,119],[70,12,70,14],[70,15,70,31],[70,32,70,51],[70,52,70,63],[70,64,70,65],[70,66,70,75],[70,76,70,90],[70,91,70,93],[70,94,70,96]]}
[]
[null,null,null,null,null,null,null,null,null,null,null,null,null,null,null,null,null,null,null,null,null,null,null,null,null,null,null,null,null,null,null,null,null,null,null,null,null,null,null,null,null,null,null,null,null,null,null,"必須入力",null,null,null,null,null,null,null,"任意入力",null,null,null,null,null,null,null,"入力済み・入力不要",null,null,null,null,null,null,null,null,null,null,null,"エラー入力（入力不要な箇所に入力がある等）",null,null,null,null,null,null,null,null,null,null,null,null,null,null,null,null,null,null,null,null,null,null,null,null,null,null,null,null,null,null,null,null,null,null,null,null,null,null,null,null,null,null,null,null,null,null,null,null,null,null,null,null,null,null,null,null,null,null,null,null,null,"関数1","関数2","レ","レ",null,null,"チェックボックス","チェックボックス","チェックボックス",null,null,null,null,null,null,"報告書　第三面別紙",null,null,"配列関数（セルを選択した際はCtrl+Shift+Enterで）",null,null,null,null,null,null,null,null,null,null,null,null,null,null,null,null,null,null,null,null,null,"報告書　第一面5",null,"配列関数（セルを選択した際はCtrl+Shift+Enterで）",null,null,null,null,null,null,null,null,null,null,"選択肢候補1","選択肢候補2","選択肢候補3","選択肢候補4","選択肢候補5","選択肢候補6"]
[null,null,null,null,null,null,null,null,null,null,null,null,null,null,null,null,null,null,null,null,null,null,null,null,null,null,null,null,null,null,null,null,null,null,null,null,null,null,null,null,null,null,null,null,null,null,null,null,null,null,null,null,null,null,null,null,null,null,null,null,null,null,null,null,null,null,null,null,null,null,null,null,null,null,null,null,null,null,null,null,null,null,null,null,null,null,null,null,null,null,null,null,null,null,null,null,null,null,null,null,null,null,null,null,null,null,null,null,null,null,null,null,null,null,null,null,null,null,null,null,null,null,null,null,null,null,null,null,null,null,null,null,null,null,null,null,null,null,null,"日付基準",null,null,null,null,null,null,null,null,null,"全体"]
[null,null,null,null,null,null,null,null,null,null,null,null,null,null,null,null,null,null,null,null,null,null,null,null,null,null,null,null,null,null,null,null,null,null,null,null,null,null,null,null,null,null,null,null,null,null,null,null,null,null,null,null,null,null,null,null,null,null,null,null,null,null,null,null,null,null,null,null,null,null,null,null,null,null,null,null,null,null,null,null,null,null,null,null,null,null,null,null,null,null,null,null,null,null,null,null,null,null,null,null,null,null,null,null,null,null,null,null,null,null,null,null,null,null,null,null,null,null,null,null,null,null,null,null,null,null,null,null,null,null,null,null,null,null,null,null,null,null,null,"2018-12-31"]
[]
[]
[]
[null,null,null,null,null,null,null,null,null,"１３　検査結果表　（防火シャッター）別記第二号",null,null,null,null,null,null,null,null,null,null,null,null,null,null,null,null,null,null,null,null,null,null,null,null,null,null,null,null,null,null,null,null,null,null,null,null,null,null,null,null,null,null,null,null,null,null,null,null,null,null,null,null,null,null,null,null,null,null,null,null,null,null,null,null,null,null,null,null,null,null,null,null,null,null,null,null,null,null,null,null,null,null,null,null,null,null,null,null,null,null,null,null,null,null,null,null,null,null,null,null,null,null,null,null,null,null,null,null,null,null,null,null,null,null,null,null,null,null,null,null,null,null,null,null,null,null,null,{"$f":"$V$12","v":0},{"$f":"$BF$12","v":0},{"$f":"$CM$12","v":0},null,null,null,null,null,null,null,null,null,{"$f":"SUBSTITUTE(TRIM(ET14&\"　\"&ET48&\"　\"&ET58),\"　\",\",\")","v":""},"してき９８８,ｈんｊｌだｋ"]
[null,null,null,null,null,null,null,null,null,null,null,null,null,null,null,null,null,null,null,null,null,null,null,null,null,null,null,null,null,null,null,null,null,null,null,null,null,null,null,null,null,null,null,null,null,null,null,null,null,null,null,null,null,null,null,null,null,null,null,null,null,null,null,null,null,null,null,null,null,null,null,null,null,null,null,null,null,null,null,null,null,null,null,null,null,null,null,null,null,null,null,null,null,null,null,null,null,null,null,null,null,null,null,null,null,null,null,null,null,null,null,null,null,null,null,null,null,null,null,null,null,null,null,null,null,null,null,null,null,null,null,null,null,null,null,null,null,"検査者番号1","検査者番号2","検査者番号3"]
[]
[null,null,null,null,null,null,null,null,null,null,null,null,null,null,null,null,null,null,null,null,null,null,null,null,null,null,null,null,null,null,null,null,null,null,null,null,null,null,null,null,null,null,null,null,null,null,null,null,null,null,null,null,null,null,null,null,null,null,null,null,null,null,null,null,null,null,null,null,null,null,null,null,null,null,null,null,null,null,null,null,null,null,null,null,null,null,null,null,null,null,null,null,null,null,null,null,null,null,null,null,null,null,null,null,null,null,null,null,null,null,null,null,null,null,null,null,null,null,null,null,null,null,null,null,null,null,null,null,null,null,null,null,null,null,null,null,null,"検査者の人数",null,"完全未入力（検査結果未入力）判定",null,null,null,null,null,null,null,null,null,null,null,null,null,null,null,null,null,null,null,null,null,null,null,null,null,null,null,null,null,null,null,null,null,null,null,null,null,null,null,null,null,null,null,null,null,null,null,null,null,null,null,null,"×要是正（既存不適格以外）",null,null,null,null,"国交省検査結果表別パターン転記用",null,null,null,null,null,null,"指摘の具体的内容等"]
[null,null,null,null,null,null,null,null,null,null,null,null,"検査者番号",null,null,null,null,1,null,null,null,{"$f":"'1_入力シート【基本情報】'!$AB$81","v":0},null,null,null,null,null,null,null,null,null,null,null,null,null,null,null,null,null,null,null,null,null,null,null,null,null,null,null,"検査者番号",null,null,null,null,2,null,null,{"$f":"'1_入力シート【基本情報】'!$AB$95","v":0},null,null,null,null,null,null,null,null,null,null,null,null,null,null,null,null,null,null,null,null,null,null,null,null,"検査者番号",null,null,null,null,3,null,null,{"$f":"'1_入力シート【基本情報】'!$AB$109","v":0},null,null,null,null,null,null,null,null,null,null,null,null,null,null,null,null,null,null,null,null,null,null,null,null,null,null,null,null,null,null,null,null,null,null,null,null,null,null,null,null,null,null,null,null,null,null,{"$f":"COUNTIFS(EH8:EJ8,\"<>0\")","v":0},"←検査者が1名の場合は検査者番号の入力は不要。",{"$f":"COUNTA(BA17:BL43,BA51:BL53,BA61:BL75)","v":0},null,null,null,null,null,null,null,null,"追加集計・別フォーム転記向け（紫）",null,null,null,null,null,null,null,null,null,null,null,null,null,null,null,null,null,null,null,null,null,null,null,null,null,null,null,null,null,null,null,null,null,null,null,null,null,null,null,null,null,null,null,"○指摘なし",null,null,null,null,null,"和暦変換（予定は（）付き）の編集",null,null,null,null,null,"（既存不適格）を付ける"]
[null,null,null,null,null,null,null,null,null,null,null,null,null,null,null,null,null,null,null,null,null,"検査者1，2，3それぞれの氏名は検査者の入力欄から自動反映されます。（検査者2及び3はいない場合もあります）",null,null,null,null,null,null,null,null,null,null,null,null,null,null,null,null,null,null,null,null,null,null,null,null,null,null,null,null,null,null,null,null,null,null,null,null,null,null,null,null,null,null,null,null,null,null,null,null,null,null,null,null,null,null,null,null,null,null,null,null,null,null,null,null,null,null,null,null,null,null,null,null,null,null,null,null,null,null,null,null,null,null,null,null,null,null,null,null,null,null,null,null,null,null,null,null,null,null,null,null,null,null,null,null,null,null,null,null,null,null,null,null,null,null,null,null,null,null,null,null,null,null,null,null,null,null,"項目\n\n要是正＆\n既存不適格","結合↓","要是正",null,"要是正ありの場合",null,null,null,null,null,"既存不適格のみの場合",null,null,null,null,null,null,null,null,null,null,null,null,null,null,null,null,null,null,"追加集計・別フォーム転記向け（紫）",null,null,null,null,null,null,null,null,null,null,null,null,null,null,"△既存不適格",null,null,null,null,"結合↓","要是正ありの場合"]
[null,null,null,null,null,null,null,null,null,null,null,null,null,null,null,null,null,null,null,null,null,"検査者が1名のみの場合は検査者番号は入力不要です。",null,null,null,null,null,null,null,null,null,null,null,null,null,null,null,null,null,null,null,null,null,null,null,null,null,null,null,null,null,null,null,null,null,null,null,null,null,null,null,null,null,null,null,null,null,null,null,null,null,null,null,null,null,null,null,null,null,null,null,null,null,null,null,null,null,null,null,null,null,null,null,null,null,null,null,null,null,null,null,null,null,null,null,null,null,null,null,null,null,null,null,null,null,null,null,null,null,null,null,null,null,null,null,null,null,null,null,null,null,null,null,null,null,null,null,{"$f":"IF(AND(EI14=\"\",EJ14=\"\",EK14=\"\",EH44<>0),\"レ\",\"\")","v":""},{"$f":"IF(AND(EJ14=\"\",EK14=\"\",EI44<>0),\"レ\",\"\")","v":""},{"$f":"IF(EJ44<>0,\"レ\",\"\")","v":""},{"$f":"IF(AND(EJ14=\"\",EK44<>0),\"レ\",\"\")","v":""},null,null,null,null,null,null,null,null,{"$f":"SUBSTITUTE(TRIM(ET17&\"　\"&ET18&\"　\"&ET19&\"　\"&ET20&\"　\"&ET21&\"　\"&ET22&\"　\"&ET23&\"　\"&ET24&\"　\"&ET25&\"　\"&ET26&\"　\"&ET27&\"　\"&ET28&\"　\"&ET29&\"　\"&ET30&\"　\"&ET31&\"　\"&ET32&\"　\"&ET33&\"　\"&ET34&\"　\"&ET35&\"　\"&ET36&\"　\"&ET37&\"　\"&ET38&\"　\"&ET39&\"　\"&ET40&\"　\"&ET41&\"　\"&ET42&\"　\"&ET43&\"　\"&ET43),\"　\",\",\")","v":""},null,null,{"$f":"IF(COUNTIF(EY17:EY43,1)>0,\"レ\",\"\")","v":""},null,{"$f":"IF(EW14=\"レ\",TEXT(EZ44,\"ee\"),\"\")","v":""},{"$f":"IF(EW14=\"レ\",MONTH(EZ44),IF(AND(EJ14=\"レ\",FB14=\"レ\",FB44=0),\"\",IF(AND(EJ14=\"レ\",FB14=\"レ\",FB44>0),\"未定\",\"\")))","v":""},null,{"$f":"IF(EW14=\"\",IF(OR(FB44>0,EJ14=\"レ\"),\"レ\",\"\"),\"\")","v":""},{"$f":"IF(AND(COUNTIF(EO17:EO43,\"要是正\")=0,COUNTIF(FE17:FE43,1)>0),\"レ\",\"\")","v":""},null,{"$f":"IF(FC14=\"レ\",TEXT(FF44,\"ee\"),\"\")","v":""},{"$f":"IF(FC14=\"レ\",MONTH(FF44),IF(AND(EK14=\"レ\",FH14=\"レ\",FH44=0),\"\",IF(AND(EK14=\"レ\",FH14=\"レ\",FH44>0),\"未定\",\"\")))","v":""},null,{"$f":"IF(FC14=\"\",IF(OR(FH44>0,EK14=\"レ\"),\"レ\",\"\"),\"\")","v":""},null,null,null,null,null,null,null,null,null,null,null,null,null,{"$f":"IF(OR(EW14=\"レ\",EW48=\"レ\",EW58=\"レ\"),\"レ\",\"\")","v":""},{"$f":"IF(AND(FV14=\"\",FZ14=\"\",OR(EX14=\"レ\",EX48=\"レ\",EX58=\"レ\")),\"レ\",\"\")","v":""},{"$f":"IF(FT20=\"レ\",IF(FV14=\"レ\",TEXT(FV20,\"ee\"),IF(FW14=\"レ\",TEXT(FW20,\"ee\"),\"\")),\"\")","v":""},{"$f":"IF(FT20=\"レ\",IF(FV14=\"レ\",MONTH(FV20),IF(FW14=\"レ\",MONTH(FW20),\"未定\")),\"\")","v":""},{"$f":"IF(AND(FV14=\"\",COUNTIF(FX17:FX19,\"未定\")>0),\"レ\",\"\")","v":""},{"$f":"IF(AND(FT20=\"\",OR(FC14=\"レ\",FC48=\"レ\",FC58=\"レ\")),\"レ\",\"\")","v":""},{"$f":"IF(AND(FT20=\"\",GA14=\"\",GE14=\"\",OR(FC14=\"レ\",FC38=\"レ\",FC48=\"レ\")),\"レ\",\"\")","v":""},{"$f":"IF(FU20=\"レ\",IF(GA14=\"レ\",TEXT(GA20,\"ee\"),IF(GB14=\"レ\",TEXT(GB20,\"ee\"),\"\")),\"\")","v":""},{"$f":"IF(FU20=\"レ\",IF(GA14=\"レ\",MONTH(GA20),IF(GB14=\"レ\",MONTH(GB20),\"未定\")),\"\")","v":""},{"$f":"IF(AND(FT20=\"\",GA14=\"\",COUNTIF(GC17:GC19,\"未定\")>0),\"レ\",\"\")","v":""},null,null,null,null,null,"―対象外",null,null,null,null,{"$f":"\"　\"&TRIM(GP16&\"　\"&GP48&\"　\"&GP58)","v":"　"},{"$f":"IF(COUNTIF(GS17:GS43,1)>0,\"レ\",\"\")","v":""},null,{"$f":"IF(GQ14=\"レ\",TEXT(GT44,\"ee\"),\"\")","v":""},{"$f":"IF(GQ14=\"レ\",MONTH(GT44),IF(AND(GG15=\"レ\",GU14=\"レ\",GU44=0),\"\",IF(AND(GG15=\"レ\",GU14=\"レ\",GU44>0),\"未定\",\"\")))","v":""},{"$f":"IF(GQ14=\"\",IF(OR(GU44>0,GG15=\"レ\"),\"レ\",\"\"),\"\")","v":""}]
[null,null,null,null,null,null,null,null,null,null,null,null,"番号",null,null,"検　査　項　目　",null,null,null,null,null,null,null,null,null,null,null,"検　査　事　項",null,null,null,null,null,null,null,null,null,null,null,null,null,null,null,null,null,null,null,null,null,null,null,null,"検査結果",null,null,null,null,null,null,null,null,null,null,null,"検査者番号",null,"指摘の具体的内容等",null,null,null,null,null,null,null,null,null,"改善策の具体的内容等",null,null,null,null,null,null,null,null,null,null,null,null,null,null,"改善（予定）年月",null,null,null,null,null,null,null,null,"該当法令・注意事項",null,null,null,null,null,null,null,null,null,null,null,null,null,null,null,null,null,null,null,null,null,null,null,null,null,null,null,null,null,null,null,null,null,null,null,null,null,null,null,null,null,null,null,null,null,null,null,null,"指摘の具体的内容等\n要是正＋（既存不適格）","改善策の具体的内容等","和暦変換（予定は( )付き）","改善（予定）\n年月",null,null,null,null,null,"改善（予定）\n年月",null,null,null,null,null,"関連写真添付　リンク指定先",null,null,"関連写真添付　リンク指定先一覧",null,null,null,null,"報告書１面5欄用",null,null,null,null,"要是正",null,null,null,null,"既存不適格",null,null,null,null,null,null,null,null,"指摘なし","要是正","既存不適格","担当者番号","線引き",null,"指摘の具体的内容等\n要是正＋（既存不適格）","改善（予定）\n年月"]
[null,null,null,null,null,null,null,null,null,null,null,null,null,null,null,null,null,null,null,null,null,null,null,null,null,null,null,null,null,null,null,null,null,null,null,null,null,null,null,null,null,null,null,null,null,null,null,null,null,null,null,null,null,null,null,null,null,null,null,null,null,null,null,null,null,null,null,null,null,null,null,null,null,null,null,null,null,null,null,null,null,null,null,null,null,null,null,null,null,null,null,"年\n(令和)",null,null,"月",null,null,"状況",null,null,null,null,null,null,null,null,null,null,null,null,null,null,null,null,null,null,null,null,null,null,null,null,null,null,null,null,null,null,null,null,null,null,null,null,null,null,null,"対象外項目","指摘なし","要是正","既存不適格","項目番号\n関数なし","項目","年月カウント","要是正と既存不適格","要是正カウント（別添2リンク先）","カウント\n報告書用","項目番号",null,null,null,null,"変換\n/有(予定)","西暦変換\n/有（済）","未来の年月\nカウント/年","未来の直近/月","過去の直近","未定/無","変換/有","西暦変換/(有)","未来の年月\nカウント/年","未来の直近/月","過去の直近","未定/無","シート","セル　上端","セル　下端",null,"シート","セル　上端","セル　下端",null,null,"対象外項目","指摘なし","要是正","既存不適格","未来の直近","過去の直近","未定/年","　/月","　/無","未来の直近","過去の直近","未定/年","　/月","　/無",null,null,null,null,"国交省検査結果表転記用",null,null,null,null,null,{"$f":"TRIM(GP17&\"　\"&GP18&\"　\"&GP19&\"　\"&GP20&\"　\"&GP21&\"　\"&GP22&\"　\"&GP23&\"　\"&GP24&\"　\"&GP25&\"　\"&GP26&\"　\"&GP27&\"　\"&GP28&\"　\"&GP29&\"　\"&GP30&\"　\"&GP31&\"　\"&GP32&\"　\"&GP33&\"　\"&GP34&\"　\"&GP35&\"　\"&GP36&\"　\"&GP37&\"　\"&GP38&\"　\"&GP39&\"　　\"&GP40&\"　\"&GP41&\"　\"&GP42&\"　\"&GP43)","v":""},"変換\n/有(予定)","西暦変換\n","未来の年月\nカウント/年","未来の直近\n/月","未定/無",null,null,null,null,null,"項目"]
[null,null,null,null,null,null,null,null,null,null,null,null,"1(1)",null,null,"防火シャッター",null,null,null,null,"設置場所の周囲状況",null,null,null,null,null,null,"閉鎖の障害となる物品の放置の状況 ",null,null,null,null,null,null,null,null,null,null,null,null,null,null,null,null,null,null,null,null,null,null,null,null,null,null,null,null,null,null,null,null,null,null,null,null,null,null,null,null,null,null,null,null,null,null,null,null,null,null,null,null,null,null,null,null,null,null,null,null,null,null,null,null,null,null,null,null,null,null,null,null,null,null,null,null,null,null,null,null,null,null,null,null,null,null,null,null,null,null,null,null,null,null,null,null,null,null,null,null,null,null,null,null,null,null,null,null,null,{"$f":"COUNTIFS(BA17,\"ー対象外\")","v":0},{"$f":"COUNTIFS(BA17,\"○指摘なし\")","v":0},{"$f":"COUNTIFS(BA17,\"×要是正（既存不適格以外）\")","v":0},{"$f":"COUNTIFS(BA17,\"△既存不適格\")","v":0},"1(1)",{"$f":"IF($AB17=\"\",U17,AB17)","v":"閉鎖の障害となる物品の放置の状況 "},{"$f":"COUNTA(CN17:CS17)","v":0},{"$f":"IF(BA17=\"×要是正（既存不適格以外）\",\"要是正\",\"\")&IF(BA17=\"△既存不適格\",\"既存不適格\",\"\")","v":""},{"$f":"IF($EO17=\"要是正\",MAX($EP13:EP$14)+1,\"\")","v":""},{"$f":"IF($EO17=\"要是正\",MAX($EQ13:EQ$14)+1,\"\")","v":""},{"$f":"IF(OR(BA17=\"×要是正（既存不適格以外）\",BA17=\"△既存不適格\"),EL17,\"\")","v":""},{"$f":"IF(OR($EO17=\"要是正\",$EO17=\"既存不適格\"),$EM17,\"\")","v":""},{"$f":"IF($EO17=\"要是正\",IF(BO17=\"\",\"\",BO17),\"\")","v":""},{"$f":"IF($EO17=\"要是正\",IF(BY17=\"\",\"\",BY17),\"\")","v":""},{"$f":"IF(CT17=\"未定\",\"未定\",IF(GR17=\"0\",\"\",IF(CT17=\"予定\",TEXT(GR17,\"([$-ja-JP]ge.m);@\"),IF(CT17=\"改善済\",TEXT(GR17,\"[$-ja-JP]ge.m;@\"),TEXT(EX17,\"[$-ja-JP]ge.m;@\")))))","v":""},{"$f":"IF(OR(EO17=\"要是正\",EO17=\"既存不適格\"),IF(OR(EN17<2,CT17<>\"予定\"),\"\",\"令和\"&CN17&\"年\"&CQ17&\"月1日\"),\"\")","v":""},{"$f":"IF(EW17=\"\",\"0\",DATEVALUE(EW17))","v":"0"},{"$f":"IF(EO17=\"要是正\",IF(AND(CT17=\"予定\",EN17=2),1,IF(CT17=\"改善済\",2,\"\")),\"\")","v":""},{"$f":"IF(EY17=1,EX17,\"0\")","v":"0"},{"$f":"IF(EY17=2,EX17,\"0\")","v":"0"},{"$f":"IF(AND(EO17=\"要是正\",AND(EN17=0,CT17=\"未定\")),CT17,\"\")","v":""},{"$f":"IF(EO17=\"既存不適格\",IF(OR(EN17<2,CT17<>\"予定\"),\"\",\"令和\"&CN17&\"年\"&CQ17&\"月1日\"),\"\")","v":""},{"$f":"IF(FC17=\"\",\"0\",DATEVALUE(FC17))","v":"0"},{"$f":"IF(EO17=\"既存不適格\",IF(AND(CT17=\"予定\",EN17=2),1,IF(CT17=\"改善済\",2,\"\")),\"\")","v":""},{"$f":"IF(FE17=1,FD17,\"0\")","v":"0"},{"$f":"IF(FE17=2,FD17,\"0\")","v":"0"},{"$f":"IF(AND(EO17=\"既存不適格\",AND(EN17=0,CT17=\"未定\")),CT17,\"\")","v":""},null,null,null,2,"#'3_入力シート【写真】'","A33","AU54",null,1,{"$f":"EH14","v":""},{"$f":"EI14","v":""},{"$f":"EJ14","v":""},"",{"$f":"EZ44","v":"0"},"対象外",{"$f":"$FB$14","v":""},"現在不使用","現在不使用",{"$f":"FF44","v":"0"},"対象外",{"$f":"$FH$14","v":""},"現在不使用","現在不使用",null,null,null,null,{"$f":"IF($BA17=\"○指摘なし\",\"○\",IF($BA17=\"―対象外\",\"－\",\"\"))","v":""},{"$f":"IF(OR($BA17=\"×要是正（既存不適格以外）\",$BA17=\"△既存不適格\"),\"○\",\"\")","v":""},{"$f":"IF($BA17=\"△既存不適格\",\"○\",\"\")","v":""},{"$f":"BM17","v":0},{"$f":"IF($BA17=\"―対象外\",\"○\",\"\")","v":""},null,{"$f":"IF(EO17=\"要是正\",IF(BO17=\"\",\"\",ER17&\" \"&HA17&\" \" &BO17&CHAR(10)),\"\")","v":""},{"$f":"IF(NOT(OR(CT17=\"未定\",CT17=\"\")),\"令和\"&CN17&\"年\"&CQ17&\"月1日\",\"\")","v":""},{"$f":"IF(GQ17=\"\",\"0\",DATEVALUE(GQ17))","v":"0"},{"$f":"IF(OR(CT17=\"予定\",CT17=\"改善済\"),1,\"\")","v":""},{"$f":"IF(GS17=1,GR17,\"0\")","v":"0"},{"$f":"IF(AND(EO17=\"要是正\",AND(EN17=0,CT17=\"未定\")),CT17,\"\")","v":""},null,{"$f":"IF(BA17=\"△既存不適格\",BO17&\"(既存不適格)\",BO17)","v":0},null,null,null,{"$f":"$U$17","v":"設置場所の周囲状況"}]
[null,null,null,null,null,null,null,null,null,null,null,null,"1(2)",null,null,null,null,null,null,null,"駆動装置",null,null,null,null,null,null,"軸受け部のブラケット、巻取りシャフト及び開閉機の取付けの状況※",null,null,null,null,null,null,null,null,null,null,null,null,null,null,null,null,null,null,null,null,null,null,null,null,null,null,null,null,null,null,null,null,null,null,null,null,null,null,null,null,null,null,null,null,null,null,null,null,null,null,null,null,null,null,null,null,null,null,null,null,null,null,null,null,null,null,null,null,null,null,null,null,null,null,null,null,null,null,null,null,null,null,null,null,null,null,null,null,null,null,null,null,null,null,null,null,null,null,null,null,null,null,null,null,null,null,null,null,null,0,0,0,0,"1(2)",{"$f":"IF($AB18=\"\",U18,AB18)","v":"軸受け部のブラケット、巻取りシャフト及び開閉機の取付けの状況※"},{"$f":"COUNTA(CN18:CS18)","v":0},{"$f":"IF(BA18=\"×要是正（既存不適格以外）\",\"要是正\",\"\")&IF(BA18=\"△既存不適格\",\"既存不適格\",\"\")","v":""},{"$f":"IF($EO18=\"要是正\",MAX($EP14:EP$14)+1,\"\")","v":""},{"$f":"IF($EO18=\"要是正\",MAX($EQ14:EQ$14)+1,\"\")","v":""},"",{"$f":"IF(OR($EO18=\"要是正\",$EO18=\"既存不適格\"),$EM18,\"\")","v":""},{"$f":"IF($EO18=\"要是正\",IF(BO18=\"\",\"\",BO18),\"\")","v":""},{"$f":"IF($EO18=\"要是正\",IF(BY18=\"\",\"\",BY18),\"\")","v":""},{"$f":"IF(CT18=\"未定\",\"未定\",IF(GR18=\"0\",\"\",IF(CT18=\"予定\",TEXT(GR18,\"([$-ja-JP]ge.m);@\"),IF(CT18=\"改善済\",TEXT(GR18,\"[$-ja-JP]ge.m;@\"),TEXT(EX18,\"[$-ja-JP]ge.m;@\")))))","v":""},{"$f":"IF(OR(EO18=\"要是正\",EO18=\"既存不適格\"),IF(OR(EN18<2,CT18<>\"予定\"),\"\",\"令和\"&CN18&\"年\"&CQ18&\"月1日\"),\"\")","v":""},{"$f":"IF(EW18=\"\",\"0\",DATEVALUE(EW18))","v":"0"},{"$f":"IF(EO18=\"要是正\",IF(AND(CT18=\"予定\",EN18=2),1,IF(CT18=\"改善済\",2,\"\")),\"\")","v":""},{"$f":"IF(EY18=1,EX18,\"0\")","v":"0"},{"$f":"IF(EY18=2,EX18,\"0\")","v":"0"},{"$f":"IF(AND(EO18=\"要是正\",AND(EN18=0,CT18=\"未定\")),CT18,\"\")","v":""},"",{"$f":"IF(FC18=\"\",\"0\",DATEVALUE(FC18))","v":"0"},{"$f":"IF(EO18=\"既存不適格\",IF(AND(CT18=\"予定\",EN18=2),1,IF(CT18=\"改善済\",2,\"\")),\"\")","v":""},{"$f":"IF(FE18=1,FD18,\"0\")","v":"0"},{"$f":"IF(FE18=2,FD18,\"0\")","v":"0"},{"$f":"IF(AND(EO18=\"既存不適格\",AND(EN18=0,CT18=\"未定\")),CT18,\"\")","v":""},null,null,null,6,"#'3_入力シート【写真】'","A152","AU173",null,2,{"$f":"EH48","v":""},{"$f":"EI48","v":""},{"$f":"EJ48","v":""},{"$f":"EK48","v":""},{"$f":"EZ54","v":"0"},"対象外",{"$f":"$FB$48","v":""},"現在不使用","現在不使用",{"$f":"FF54","v":"0"},"対象外",{"$f":"$FH$48","v":""},"現在不使用","現在不使用",null,null,null,null,{"$f":"IF($BA18=\"○指摘なし\",\"○\",IF($BA18=\"―対象外\",\"－\",\"\"))","v":""},{"$f":"IF(OR($BA18=\"×要是正（既存不適格以外）\",$BA18=\"△既存不適格\"),\"○\",\"\")","v":""},"",0,"",null,{"$f":"IF(EO18=\"要是正\",IF(BO18=\"\",\"\",ER18&\" \"&HA18&\" \" &BO18&CHAR(10)),\"\")","v":""},{"$f":"IF(NOT(OR(CT18=\"未定\",CT18=\"\")),\"令和\"&CN18&\"年\"&CQ18&\"月1日\",\"\")","v":""},{"$f":"IF(GQ18=\"\",\"0\",DATEVALUE(GQ18))","v":"0"},{"$f":"IF(OR(CT18=\"予定\",CT18=\"改善済\"),1,\"\")","v":""},{"$f":"IF(GS18=1,GR18,\"0\")","v":"0"},{"$f":"IF(AND(ER18=\"要是正\",AND(EQ18=0,CT18=\"未定\")),CT18,\"\")","v":""},null,{"$f":"IF(BA18=\"△既存不適格\",BO18&\"(既存不適格)\",BO18)","v":0},null,null,null,{"$f":"$U$18","v":"駆動装置"}]
[null,null,null,null,null,null,null,null,null,null,null,null,"1(3)",null,null,null,null,null,null,null,null,null,null,null,null,null,null,"スプロケットの設置の状況※",null,null,null,null,null,null,null,null,null,null,null,null,null,null,null,null,null,null,null,null,null,null,null,null,null,null,null,null,null,null,null,null,null,null,null,null,null,null,null,null,null,null,null,null,null,null,null,null,null,null,null,null,null,null,null,null,null,null,null,null,null,null,null,null,null,null,null,null,null,null,null,null,null,null,null,null,null,null,null,null,null,null,null,null,null,null,null,null,null,null,null,null,null,null,null,null,null,null,null,null,null,null,null,null,null,null,null,null,null,0,0,0,0,"1(3)",{"$f":"IF($AB19=\"\",U19,AB19)","v":"スプロケットの設置の状況※"},0,"",{"$f":"IF($EO19=\"要是正\",MAX($EP$14:EP15)+1,\"\")","v":""},{"$f":"IF($EO19=\"要是正\",MAX($EQ$14:EQ15)+1,\"\")","v":""},"","","","","","","0","","0","0","","","0","","0","0","",null,null,null,2,"#'3_入力シート【写真】'","A33","AU54",null,3,{"$f":"EH58","v":""},{"$f":"EI58","v":""},{"$f":"EJ58","v":""},{"$f":"EK58","v":""},{"$f":"EZ76","v":"0"},"対象外",{"$f":"$FB$58","v":""},"現在不使用","現在不使用",{"$f":"FF76","v":"0"},"対象外",{"$f":"$FH$58","v":""},"現在不使用","現在不使用",null,null,null,null,"","","",0,"",null,"","","0","","0","",null,{"$f":"IF(BA19=\"△既存不適格\",BO19&\"(既存不適格)\",BO19)","v":0},null,null,null,{"$f":"$U$18","v":"駆動装置"}]
[null,null,null,null,null,null,null,null,null,null,null,null,"1(4)",null,null,null,null,null,null,null,null,null,null,null,null,null,null,"軸受け部のブラケット、ベアリング及びスプロケット又はロープ車の劣化及び損傷の状況※",null,null,null,null,null,null,null,null,null,null,null,null,null,null,null,null,null,null,null,null,null,null,null,null,null,null,null,null,null,null,null,null,null,null,null,null,null,null,null,null,null,null,null,null,null,null,null,null,null,null,null,null,null,null,null,null,null,null,null,null,null,null,null,null,null,null,null,null,null,null,null,null,null,null,null,null,null,null,null,null,null,null,null,null,null,null,null,null,null,null,null,null,null,null,null,null,null,null,null,null,null,null,null,null,null,null,null,null,null,0,0,0,0,"1(4)",{"$f":"IF($AB20=\"\",U20,AB20)","v":"軸受け部のブラケット、ベアリング及びスプロケット又はロープ車の劣化及び損傷の状況※"},0,"",{"$f":"IF($EO20=\"要是正\",MAX($EP$14:EP16)+1,\"\")","v":""},{"$f":"IF($EO20=\"要是正\",MAX($EQ$14:EQ16)+1,\"\")","v":""},"","","","","","","0","","0","0","","","0","","0","0","",null,null,null,6,"#'3_入力シート【写真】'","A152","AU173",null,null,{"$f":"IF(AND(FS20<>\"レ\",FT20<>\"レ\",FU20<>\"レ\",COUNTIF(FR17:FR19,\"レ\")>0),\"レ\",\"\")","v":""},{"$f":"IF(AND(FT20<>\"レ\",FU20<>\"レ\",COUNTIF(FS17:FS19,\"レ\")>0),\"レ\",\"\")","v":""},{"$f":"IF(COUNTIF(FT17:FT19,\"レ\")>0,\"レ\",\"\")","v":""},{"$f":"IF(AND(FT20<>\"レ\",COUNTIF(FU17:FU19,\"レ\")>0),\"レ\",\"\")","v":""},{"$f":"INDEX(FV17:FV19,MATCH(MIN(ABS(FV17:FV19-$EJ$4)),ABS(FV17:FV19-$EJ$4),0))","v":"0"},null,null,"現在不使用","現在不使用",{"$f":"INDEX(GA17:GA19,MATCH(MIN(ABS(GA17:GA19-$EJ$4)),ABS(GA17:GA19-$EJ$4),0))","v":"0"},null,null,"現在不使用","現在不使用",null,null,null,null,"","","",0,"",null,"","","0","","0","",null,{"$f":"IF(BA20=\"△既存不適格\",BO20&\"(既存不適格)\",BO20)","v":0},null,null,null,"駆動装置"]
[null,null,null,null,null,null,null,null,null,null,null,null,"1(5)",null,null,null,null,null,null,null,null,null,null,null,null,null,null,"ローラチェーン又はワイヤーロープの劣化及び損傷の状況",null,null,null,null,null,null,null,null,null,null,null,null,null,null,null,null,null,null,null,null,null,null,null,null,null,null,null,null,null,null,null,null,null,null,null,null,null,null,null,null,null,null,null,null,null,null,null,null,null,null,null,null,null,null,null,null,null,null,null,null,null,null,null,null,null,null,null,null,null,null,null,null,null,null,null,null,null,null,null,null,null,null,null,null,null,null,null,null,null,null,null,null,null,null,null,null,null,null,null,null,null,null,null,null,null,null,null,null,null,0,0,0,0,"1(5)",{"$f":"IF($AB21=\"\",U21,AB21)","v":"ローラチェーン又はワイヤーロープの劣化及び損傷の状況"},0,{"$f":"IF(BA21=\"×要是正（既存不適格以外）\",\"要是正\",\"\")&IF(BA21=\"△既存不適格\",\"既存不適格\",\"\")","v":""},{"$f":"IF($EO21=\"要是正\",MAX($EP$14:EP17)+1,\"\")","v":""},{"$f":"IF($EO21=\"要是正\",MAX($EQ$14:EQ17)+1,\"\")","v":""},{"$f":"IF(OR(BA21=\"×要是正（既存不適格以外）\",BA21=\"△既存不適格\"),EL21,\"\")","v":""},"","","","","","0","","0","0","","","0","","0","0","",null,null,null,2,"#'3_入力シート【写真】'","A33","AU54",null,null,null,null,null,null,null,null,null,null,null,null,null,null,null,null,null,null,null,null,"","","",0,"",null,"","","0","","0","",null,0,null,null,null,"駆動装置"]
[null,null,null,null,null,null,null,null,null,null,null,null,"1(6)",null,null,null,null,null,null,null,"カーテン部 ",null,null,null,null,null,null,"スラット及び座板の劣化等の状況",null,null,null,null,null,null,null,null,null,null,null,null,null,null,null,null,null,null,null,null,null,null,null,null,null,null,null,null,null,null,null,null,null,null,null,null,null,null,null,null,null,null,null,null,null,null,null,null,null,null,null,null,null,null,null,null,null,null,null,null,null,null,null,null,null,null,null,null,null,null,null,null,null,null,null,null,null,null,null,null,null,null,null,null,null,null,null,null,null,null,null,null,null,null,null,null,null,null,null,null,null,null,null,null,null,null,null,null,null,0,0,0,0,"1(6)",{"$f":"IF($AB22=\"\",U22,AB22)","v":"スラット及び座板の劣化等の状況"},0,"",{"$f":"IF($EO22=\"要是正\",MAX($EP$14:EP18)+1,\"\")","v":""},{"$f":"IF($EO22=\"要是正\",MAX($EQ$14:EQ18)+1,\"\")","v":""},"","","","","","","0","","0","0","","","0","","0","0","",null,null,null,6,"#'3_入力シート【写真】'","A152","AU173",null,null,null,null,null,null,null,null,null,null,null,null,null,null,null,null,null,null,null,null,"","","",0,"",null,"","","0","","0","",null,0,null,null,null,{"$f":"$U$22","v":"カーテン部 "}]
[null,null,null,null,null,null,null,null,null,null,null,null,"1(7)",null,null,null,null,null,null,null,null,null,null,null,null,null,null,"吊り元の劣化及び損傷並びに固定の状況",null,null,null,null,null,null,null,null,null,null,null,null,null,null,null,null,null,null,null,null,null,null,null,null,null,null,null,null,null,null,null,null,null,null,null,null,null,null,null,null,null,null,null,null,null,null,null,null,null,null,null,null,null,null,null,null,null,null,null,null,null,null,null,null,null,null,null,null,null,null,null,null,null,null,null,null,null,null,null,null,null,null,null,null,null,null,null,null,null,null,null,null,null,null,null,null,null,null,null,null,null,null,null,null,null,null,null,null,null,0,0,0,0,"1(7)","吊り元の劣化及び損傷並びに固定の状況",0,"",{"$f":"IF($EO23=\"要是正\",MAX($EP$14:EP19)+1,\"\")","v":""},{"$f":"IF($EO23=\"要是正\",MAX($EQ$14:EQ19)+1,\"\")","v":""},"","","","","","","0","","0","0","","","0","","0","0","",null,null,null,2,"#'3_入力シート【写真】'","A33","AU54",null,null,null,null,null,null,null,null,null,null,null,null,null,null,null,null,null,null,null,null,"","","",0,"",null,"","","0","","0","",null,0,null,null,null,{"$f":"$U$22","v":"カーテン部 "}]
[null,null,null,null,null,null,null,null,null,null,null,null,"1(8)",null,null,null,null,null,null,null,"ケース",null,null,null,null,null,null,"劣化及び損傷の状況",null,null,null,null,null,null,null,null,null,null,null,null,null,null,null,null,null,null,null,null,null,null,null,null,null,null,null,null,null,null,null,null,null,null,null,null,null,null,null,null,null,null,null,null,null,null,null,null,null,null,null,null,null,null,null,null,null,null,null,null,null,null,null,null,null,null,null,null,null,null,null,null,null,null,null,null,null,null,null,null,null,null,null,null,null,null,null,null,null,null,null,null,null,null,null,null,null,null,null,null,null,null,null,null,null,null,null,null,null,0,0,0,0,"1(8)","劣化及び損傷の状況",0,"",{"$f":"IF($EO24=\"要是正\",MAX($EP$14:EP20)+1,\"\")","v":""},{"$f":"IF($EO24=\"要是正\",MAX($EQ$14:EQ20)+1,\"\")","v":""},"","","","","","","0","","0","0","","","0","","0","0","",null,null,null,6,"#'3_入力シート【写真】'","A152","AU173",null,null,null,null,null,null,null,null,null,null,null,null,null,null,null,null,null,null,null,null,"","","",0,"",null,"","","0","","0","",null,0,null,null,null,{"$f":"$U$24","v":"ケース"}]
[null,null,null,null,null,null,null,null,null,null,null,null,"1(9)",null,null,null,null,null,null,null,"まぐさ及びガイドレール",null,null,null,null,null,null,"劣化及び損傷の状況",null,null,null,null,null,null,null,null,null,null,null,null,null,null,null,null,null,null,null,null,null,null,null,null,null,null,null,null,null,null,null,null,null,null,null,null,null,null,null,null,null,null,null,null,null,null,null,null,null,null,null,null,null,null,null,null,null,null,null,null,null,null,null,null,null,null,null,null,null,null,null,null,null,null,null,null,null,null,null,null,null,null,null,null,null,null,null,null,null,null,null,null,null,null,null,null,null,null,null,null,null,null,null,null,null,null,null,null,null,0,0,0,0,"1(9)","劣化及び損傷の状況",0,"",{"$f":"IF($EO25=\"要是正\",MAX($EP$14:EP21)+1,\"\")","v":""},{"$f":"IF($EO25=\"要是正\",MAX($EQ$14:EQ21)+1,\"\")","v":""},"","","","","","","0","","0","0","","","0","","0","0","",null,null,null,2,"#'3_入力シート【写真】'","A33","AU54",null,null,null,null,null,null,null,null,null,null,null,null,null,null,null,null,null,null,null,null,"","","",0,"",null,"","","0","","0","",null,0,null,null,null,{"$f":"$U$25","v":"まぐさ及びガイドレール"}]
[null,null,null,null,null,null,null,null,null,null,null,null,"1(10)",null,null,null,null,null,null,null,"危害防止装置",null,null,null,null,null,null,"危害防止用連動中継器の配線の状況",null,null,null,null,null,null,null,null,null,null,null,null,null,null,null,null,null,null,null,null,null,null,null,null,null,null,null,null,null,null,null,null,null,null,null,null,null,null,null,null,null,null,null,null,null,null,null,null,null,null,null,null,null,null,null,null,null,null,null,null,null,null,null,null,null,null,null,null,null,null,null,null,null,null,null,null,null,null,null,null,null,null,null,null,null,null,null,null,null,null,null,null,null,null,null,null,null,null,null,null,null,null,null,null,null,null,null,null,null,0,0,0,0,"1(10)","危害防止用連動中継器の配線の状況",0,"",{"$f":"IF($EO26=\"要是正\",MAX($EP$14:EP22)+1,\"\")","v":""},{"$f":"IF($EO26=\"要是正\",MAX($EQ$14:EQ22)+1,\"\")","v":""},"","","","","","","0","","0","0","","","0","","0","0","",null,null,null,6,"#'3_入力シート【写真】'","A152","AU173",null,null,null,null,null,null,null,null,null,null,null,null,null,null,null,null,null,null,null,null,"","","",0,"",null,"","","0","","0","",null,0,null,null,null,{"$f":"$U$26","v":"危害防止装置"}]
[null,null,null,null,null,null,null,null,null,null,null,null,"1(11)",null,null,null,null,null,null,null,null,null,null,null,null,null,null,"危害防止装置用予備電源の劣化及び損傷の状況",null,null,null,null,null,null,null,null,null,null,null,null,null,null,null,null,null,null,null,null,null,null,null,null,null,null,null,null,null,null,null,null,null,null,null,null,null,null,null,null,null,null,null,null,null,null,null,null,null,null,null,null,null,null,null,null,null,null,null,null,null,null,null,null,null,null,null,null,null,null,null,null,null,null,null,null,null,null,null,null,null,null,null,null,null,null,null,null,null,null,null,null,null,null,null,null,null,null,null,null,null,null,null,null,null,null,null,null,null,0,0,0,0,"1(11)","危害防止装置用予備電源の劣化及び損傷の状況",0,"",{"$f":"IF($EO27=\"要是正\",MAX($EP$14:EP23)+1,\"\")","v":""},{"$f":"IF($EO27=\"要是正\",MAX($EQ$14:EQ23)+1,\"\")","v":""},"","","","","","","0","","0","0","","","0","","0","0","",null,null,null,2,"#'3_入力シート【写真】'","A33","AU54",null,null,null,null,null,null,null,null,null,null,null,null,null,null,null,null,null,null,null,null,"","","",0,"",null,"","","0","","0","",null,0,null,null,null,{"$f":"$U$26","v":"危害防止装置"}]
[null,null,null,null,null,null,null,null,null,null,null,null,"1(12)",null,null,null,null,null,null,null,null,null,null,null,null,null,null,"危害防止装置用予備電源の容量の状況",null,null,null,null,null,null,null,null,null,null,null,null,null,null,null,null,null,null,null,null,null,null,null,null,null,null,null,null,null,null,null,null,null,null,null,null,null,null,null,null,null,null,null,null,null,null,null,null,null,null,null,null,null,null,null,null,null,null,null,null,null,null,null,null,null,null,null,null,null,null,null,null,null,null,null,null,null,null,null,null,null,null,null,null,null,null,null,null,null,null,null,null,null,null,null,null,null,null,null,null,null,null,null,null,null,null,null,null,null,0,0,0,0,"1(12)","危害防止装置用予備電源の容量の状況",0,"",{"$f":"IF($EO28=\"要是正\",MAX($EP$14:EP24)+1,\"\")","v":""},{"$f":"IF($EO28=\"要是正\",MAX($EQ$14:EQ24)+1,\"\")","v":""},"","","","","","","0","","0","0","","","0","","0","0","",null,null,null,6,"#'3_入力シート【写真】'","A152","AU173",null,null,null,null,null,null,null,null,null,null,null,null,null,null,null,null,null,null,null,null,"","","",0,"",null,"","","0","","0","",null,0,null,null,null,"危害防止装置"]
[null,null,null,null,null,null,null,null,null,null,null,null,"1(13)",null,null,null,null,null,null,null,null,null,null,null,null,null,null,"座板感知部の劣化及び損傷並びに作動の状況",null,null,null,null,null,null,null,null,null,null,null,null,null,null,null,null,null,null,null,null,null,null,null,null,null,null,null,null,null,null,null,null,null,null,null,null,null,null,null,null,null,null,null,null,null,null,null,null,null,null,null,null,null,null,null,null,null,null,null,null,null,null,null,null,null,null,null,null,null,null,null,null,null,null,null,null,null,null,null,null,null,null,null,null,null,null,null,null,null,null,null,null,null,null,null,null,null,null,null,null,null,null,null,null,null,null,null,null,null,0,0,0,0,"1(13)","座板感知部の劣化及び損傷並びに作動の状況",0,"",{"$f":"IF($EO29=\"要是正\",MAX($EP$14:EP25)+1,\"\")","v":""},{"$f":"IF($EO29=\"要是正\",MAX($EQ$14:EQ25)+1,\"\")","v":""},"","","","","","","0","","0","0","","","0","","0","0","",null,null,null,2,"#'3_入力シート【写真】'","A33","AU54",null,null,null,null,null,null,null,null,null,null,null,null,null,null,null,null,null,null,null,null,"","","",0,"",null,"","","0","","0","",null,0,null,null,null,"危害防止装置"]
[null,null,null,null,null,null,null,null,null,null,null,null,"1(14)",null,null,null,null,null,null,null,null,null,null,null,null,null,null,"作動の状況",null,null,null,null,null,null,null,null,null,null,null,null,null,null,null,null,null,null,null,null,null,null,null,null,null,null,null,null,null,null,null,null,null,null,null,null,null,null,null,null,null,null,null,null,null,null,null,null,null,null,null,null,null,null,null,null,null,null,null,null,null,null,null,null,null,null,null,null,null,null,null,null,null,null,null,null,null,null,null,null,null,null,null,null,null,null,null,null,null,null,null,null,null,null,null,null,null,null,null,null,null,null,null,null,null,null,null,null,null,0,0,0,0,"1(14)","作動の状況",0,"",{"$f":"IF($EO30=\"要是正\",MAX($EP$14:EP26)+1,\"\")","v":""},{"$f":"IF($EO30=\"要是正\",MAX($EQ$14:EQ26)+1,\"\")","v":""},"","","","","","","0","","0","0","","","0","","0","0","",null,null,null,6,"#'3_入力シート【写真】'","A152","AU173",null,null,null,null,null,null,null,null,null,null,null,null,null,null,null,null,null,null,null,null,"","","",0,"",null,"","","0","","0","",null,0,null,null,null,"危害防止装置"]
[null,null,null,null,null,null,null,null,null,null,null,null,"1(15)",null,null,"連動機構",null,null,null,null,"煙感知器、熱煙複合式感知器及び熱感知器",null,null,null,null,null,null,"設置位置",null,null,null,null,null,null,null,null,null,null,null,null,null,null,null,null,null,null,null,null,null,null,null,null,null,null,null,null,null,null,null,null,null,null,null,null,null,null,null,null,null,null,null,null,null,null,null,null,null,null,null,null,null,null,null,null,null,null,null,null,null,null,null,null,null,null,null,null,null,null,null,null,null,null,null,null,null,null,null,null,null,null,null,null,null,null,null,null,null,null,null,null,null,null,null,null,null,null,null,null,null,null,null,null,null,null,null,null,null,0,0,0,0,"1(15)","設置位置",0,"",{"$f":"IF($EO31=\"要是正\",MAX($EP$14:EP27)+1,\"\")","v":""},{"$f":"IF($EO31=\"要是正\",MAX($EQ$14:EQ27)+1,\"\")","v":""},"","","","","","","0","","0","0","","","0","","0","0","",null,null,null,2,"#'3_入力シート【写真】'","A33","AU54",null,null,null,null,null,null,null,null,null,null,null,null,null,null,null,null,null,null,null,null,"","","",0,"",null,"","","0","","0","",null,0,null,null,null,{"$f":"$U$31","v":"煙感知器、熱煙複合式感知器及び熱感知器"}]
[null,null,null,null,null,null,null,null,null,null,null,null,"1(16)",null,null,null,null,null,null,null,null,null,null,null,null,null,null,"感知の状況",null,null,null,null,null,null,null,null,null,null,null,null,null,null,null,null,null,null,null,null,null,null,null,null,null,null,null,null,null,null,null,null,null,null,null,null,null,null,null,null,null,null,null,null,null,null,null,null,null,null,null,null,null,null,null,null,null,null,null,null,null,null,null,null,null,null,null,null,null,null,null,null,null,null,null,null,null,null,null,null,null,null,null,null,null,null,null,null,null,null,null,null,null,null,null,null,null,null,null,null,null,null,null,null,null,null,null,null,null,0,0,0,0,"1(16)","感知の状況",0,"",{"$f":"IF($EO32=\"要是正\",MAX($EP$14:EP28)+1,\"\")","v":""},{"$f":"IF($EO32=\"要是正\",MAX($EQ$14:EQ28)+1,\"\")","v":""},"",{"$f":"IF(OR($EO32=\"要是正\",$EO32=\"既存不適格\"),$EM32,\"\")","v":""},"","","","","0","","0","0","","","0","","0","0","",null,null,null,6,"#'3_入力シート【写真】'","A152","AU173",null,null,null,null,null,null,null,null,null,null,null,null,null,null,null,null,null,null,null,null,"","","",0,"",null,"","","0","","0","",null,0,null,null,null,{"$f":"$U$31","v":"煙感知器、熱煙複合式感知器及び熱感知器"}]
[null,null,null,null,null,null,null,null,null,null,null,null,"1(17)",null,null,null,null,null,null,null,"温度ヒューズ装置",null,null,null,null,null,null,"設置の状況",null,null,null,null,null,null,null,null,null,null,null,null,null,null,null,null,null,null,null,null,null,null,null,null,null,null,null,null,null,null,null,null,null,null,null,null,null,null,null,null,null,null,null,null,null,null,null,null,null,null,null,null,null,null,null,null,null,null,null,null,null,null,null,null,null,null,null,null,null,null,null,null,null,null,null,null,null,null,null,null,null,null,null,null,null,null,null,null,null,null,null,null,null,null,null,null,null,null,null,null,null,null,null,null,null,null,null,null,null,0,0,0,0,"1(17)","設置の状況",0,"",{"$f":"IF($EO33=\"要是正\",MAX($EP$14:EP29)+1,\"\")","v":""},{"$f":"IF($EO33=\"要是正\",MAX($EQ$14:EQ29)+1,\"\")","v":""},"","","","","","","0","","0","0","","","0","","0","0","",null,null,null,2,"#'3_入力シート【写真】'","A33","AU54",null,null,null,null,null,null,null,null,null,null,null,null,null,null,null,null,null,null,null,null,"","","",0,"",null,"","","0","","0","",null,0,null,null,null,{"$f":"$U$33","v":"温度ヒューズ装置"}]
[null,null,null,null,null,null,null,null,null,null,null,null,"1(18)",null,null,null,null,null,null,null,"連動制御器",null,null,null,null,null,null,"スイッチ類及び表示灯の状況",null,null,null,null,null,null,null,null,null,null,null,null,null,null,null,null,null,null,null,null,null,null,null,null,null,null,null,null,null,null,null,null,null,null,null,null,null,null,null,null,null,null,null,null,null,null,null,null,null,null,null,null,null,null,null,null,null,null,null,null,null,null,null,null,null,null,null,null,null,null,null,null,null,null,null,null,null,null,null,null,null,null,null,null,null,null,null,null,null,null,null,null,null,null,null,null,null,null,null,null,null,null,null,null,null,null,null,null,null,0,0,0,0,"1(18)","スイッチ類及び表示灯の状況",0,"",{"$f":"IF($EO34=\"要是正\",MAX($EP$14:EP30)+1,\"\")","v":""},{"$f":"IF($EO34=\"要是正\",MAX($EQ$14:EQ30)+1,\"\")","v":""},"","","","","","","0","","0","0","","","0","","0","0","",null,null,null,6,"#'3_入力シート【写真】'","A152","AU173",null,null,null,null,null,null,null,null,null,null,null,null,null,null,null,null,null,null,null,null,"","","",0,"",null,"","","0","","0","",null,0,null,null,null,{"$f":"$U$34","v":"連動制御器"}]
[null,null,null,null,null,null,null,null,null,null,null,null,"1(19)",null,null,null,null,null,null,null,null,null,null,null,null,null,null,"結線接続の状況",null,null,null,null,null,null,null,null,null,null,null,null,null,null,null,null,null,null,null,null,null,null,null,null,null,null,null,null,null,null,null,null,null,null,null,null,null,null,null,null,null,null,null,null,null,null,null,null,null,null,null,null,null,null,null,null,null,null,null,null,null,null,null,null,null,null,null,null,null,null,null,null,null,null,null,null,null,null,null,null,null,null,null,null,null,null,null,null,null,null,null,null,null,null,null,null,null,null,null,null,null,null,null,null,null,null,null,null,null,0,0,0,0,"1(19)","結線接続の状況",0,"",{"$f":"IF($EO35=\"要是正\",MAX($EP$14:EP31)+1,\"\")","v":""},{"$f":"IF($EO35=\"要是正\",MAX($EQ$14:EQ31)+1,\"\")","v":""},"","","","","","","0","","0","0","","","0","","0","0","",null,null,null,2,"#'3_入力シート【写真】'","A33","AU54",null,null,null,null,null,null,null,null,null,null,null,null,null,null,null,null,null,null,null,null,"","","",0,"",null,"","","0","","0","",null,0,null,null,null,{"$f":"$U$34","v":"連動制御器"}]
[null,null,null,null,null,null,null,null,null,null,null,null,"1(20)",null,null,null,null,null,null,null,null,null,null,null,null,null,null,"接地の状況",null,null,null,null,null,null,null,null,null,null,null,null,null,null,null,null,null,null,null,null,null,null,null,null,null,null,null,null,null,null,null,null,null,null,null,null,null,null,null,null,null,null,null,null,null,null,null,null,null,null,null,null,null,null,null,null,null,null,null,null,null,null,null,null,null,null,null,null,null,null,null,null,null,null,null,null,null,null,null,null,null,null,null,null,null,null,null,null,null,null,null,null,null,null,null,null,null,null,null,null,null,null,null,null,null,null,null,null,null,0,0,0,0,"1(20)","接地の状況",0,"",{"$f":"IF($EO36=\"要是正\",MAX($EP$14:EP32)+1,\"\")","v":""},{"$f":"IF($EO36=\"要是正\",MAX($EQ$14:EQ32)+1,\"\")","v":""},"","","","","","","0","","0","0","","","0","","0","0","",null,null,null,6,"#'3_入力シート【写真】'","A152","AU173",null,null,null,null,null,null,null,null,null,null,null,null,null,null,null,null,null,null,null,null,"","","",0,"",null,"","","0","","0","",null,0,null,null,null,"連動制御器"]
[null,null,null,null,null,null,null,null,null,null,null,null,"1(21)",null,null,null,null,null,null,null,null,null,null,null,null,null,null,"予備電源への切り替えの状況",null,null,null,null,null,null,null,null,null,null,null,null,null,null,null,null,null,null,null,null,null,null,null,null,null,null,null,null,null,null,null,null,null,null,null,null,null,null,null,null,null,null,null,null,null,null,null,null,null,null,null,null,null,null,null,null,null,null,null,null,null,null,null,null,null,null,null,null,null,null,null,null,null,null,null,null,null,null,null,null,null,null,null,null,null,null,null,null,null,null,null,null,null,null,null,null,null,null,null,null,null,null,null,null,null,null,null,null,null,0,0,0,0,"1(21)","予備電源への切り替えの状況",0,"",{"$f":"IF($EO37=\"要是正\",MAX($EP$14:EP33)+1,\"\")","v":""},{"$f":"IF($EO37=\"要是正\",MAX($EQ$14:EQ33)+1,\"\")","v":""},"","","","","","","0","","0","0","","","0","","0","0","",null,null,null,2,"#'3_入力シート【写真】'","A33","AU54",null,null,null,null,null,null,null,null,null,null,null,null,null,null,null,null,null,null,null,null,"","","",0,"",null,"","","0","","0","",null,0,null,null,null,"連動制御器"]
[null,null,null,null,null,null,null,null,null,null,null,null,"1(22)",null,null,null,null,null,null,null,"連動機構用予備電源",null,null,null,null,null,null,"劣化及び損傷の状況",null,null,null,null,null,null,null,null,null,null,null,null,null,null,null,null,null,null,null,null,null,null,null,null,null,null,null,null,null,null,null,null,null,null,null,null,null,null,null,null,null,null,null,null,null,null,null,null,null,null,null,null,null,null,null,null,null,null,null,null,null,null,null,null,null,null,null,null,null,null,null,null,null,null,null,null,null,null,null,null,null,null,null,null,null,null,null,null,null,null,null,null,null,null,null,null,null,null,null,null,null,null,null,null,null,null,null,null,null,0,0,0,0,"1(22)","劣化及び損傷の状況",0,"",{"$f":"IF($EO38=\"要是正\",MAX($EP$14:EP34)+1,\"\")","v":""},{"$f":"IF($EO38=\"要是正\",MAX($EQ$14:EQ34)+1,\"\")","v":""},"","","","",{"$f":"IF(CT38=\"未定\",\"未定\",IF(GR38=\"0\",\"\",IF(CT38=\"予定\",TEXT(GR38,\"([$-ja-JP]ge.m);@\"),IF(CT38=\"改善済\",TEXT(GR38,\"[$-ja-JP]ge.m;@\"),TEXT(EX38,\"[$-ja-JP]ge.m;@\")))))","v":""},"","0","","0","0","","","0","","0","0","",null,null,null,6,"#'3_入力シート【写真】'","A152","AU173",null,null,null,null,null,null,null,null,null,null,null,null,null,null,null,null,null,null,null,null,"","","",0,"",null,"","","0","","0","",null,0,null,null,null,{"$f":"$U$38","v":"連動機構用予備電源"}]
[null,null,null,null,null,null,null,null,null,null,null,null,"1(23)",null,null,null,null,null,null,null,null,null,null,null,null,null,null,"容量の状況",null,null,null,null,null,null,null,null,null,null,null,null,null,null,null,null,null,null,null,null,null,null,null,null,null,null,null,null,null,null,null,null,null,null,null,null,null,null,null,null,null,null,null,null,null,null,null,null,null,null,null,null,null,null,null,null,null,null,null,null,null,null,null,null,null,null,null,null,null,null,null,null,null,null,null,null,null,null,null,null,null,null,null,null,null,null,null,null,null,null,null,null,null,null,null,null,null,null,null,null,null,null,null,null,null,null,null,null,null,0,0,0,0,"1(23)","容量の状況",0,"",{"$f":"IF($EO39=\"要是正\",MAX($EP$14:EP35)+1,\"\")","v":""},{"$f":"IF($EO39=\"要是正\",MAX($EQ$14:EQ35)+1,\"\")","v":""},"","","","",{"$f":"IF(CT39=\"未定\",\"未定\",IF(GR39=\"0\",\"\",IF(CT39=\"予定\",TEXT(GR39,\"([$-ja-JP]ge.m);@\"),IF(CT39=\"改善済\",TEXT(GR39,\"[$-ja-JP]ge.m;@\"),TEXT(EX39,\"[$-ja-JP]ge.m;@\")))))","v":""},"","0","","0","0","","","0","","0","0","",null,null,null,6,"#'3_入力シート【写真】'","A152","AU173",null,null,null,null,null,null,null,null,null,null,null,null,null,null,null,null,null,null,null,null,"","","",0,"",null,"","","0","","0","",null,0,null,null,null,{"$f":"$U$38","v":"連動機構用予備電源"}]
[null,null,null,null,null,null,null,null,null,null,null,null,"1(24)",null,null,null,null,null,null,null,"自動閉鎖装置",null,null,null,null,null,null,"設置の状況",null,null,null,null,null,null,null,null,null,null,null,null,null,null,null,null,null,null,null,null,null,null,null,null,null,null,null,null,null,null,null,null,null,null,null,null,null,null,null,null,null,null,null,null,null,null,null,null,null,null,null,null,null,null,null,null,null,null,null,null,null,null,null,null,null,null,null,null,null,null,null,null,null,null,null,null,null,null,null,null,null,null,null,null,null,null,null,null,null,null,null,null,null,null,null,null,null,null,null,null,null,null,null,null,null,null,null,null,null,0,0,0,0,"1(24)","設置の状況",0,"",{"$f":"IF($EO40=\"要是正\",MAX($EP$14:EP36)+1,\"\")","v":""},{"$f":"IF($EO40=\"要是正\",MAX($EQ$14:EQ36)+1,\"\")","v":""},"","","","","","","0","","0","0","","","0","","0","0","",null,null,null,2,"#'3_入力シート【写真】'","A33","AU54",null,null,null,null,null,null,null,null,null,null,null,null,null,null,null,null,null,null,null,null,"","","",0,"",null,"","","0","","0","",null,0,null,null,null,{"$f":"$U$40","v":"自動閉鎖装置"}]
[null,null,null,null,null,null,null,null,null,null,null,null,"1(25)",null,null,null,null,null,null,null,"手動閉鎖装置",null,null,null,null,null,null,"設置の状況",null,null,null,null,null,null,null,null,null,null,null,null,null,null,null,null,null,null,null,null,null,null,null,null,null,null,null,null,null,null,null,null,null,null,null,null,null,null,null,null,null,null,null,null,null,null,null,null,null,null,null,null,null,null,null,null,null,null,null,null,null,null,null,null,null,null,null,null,null,null,null,null,null,null,null,null,null,null,null,null,null,null,null,null,null,null,null,null,null,null,null,null,null,null,null,null,null,null,null,null,null,null,null,null,null,null,null,null,null,0,0,0,0,"1(25)","設置の状況",0,"",{"$f":"IF($EO41=\"要是正\",MAX($EP$14:EP37)+1,\"\")","v":""},{"$f":"IF($EO41=\"要是正\",MAX($EQ$14:EQ37)+1,\"\")","v":""},"","","","","","","0","","0","0","","","0","","0","0","",null,null,null,6,"#'3_入力シート【写真】'","A152","AU173",null,null,null,null,null,null,null,null,null,null,null,null,null,null,null,null,null,null,null,null,"","","",0,"",null,"","","0","","0","",null,0,null,null,null,{"$f":"$U$41","v":"手動閉鎖装置"}]
[null,null,null,null,null,null,null,null,null,null,null,null,"1(26)",null,null,"総合的な作動の状況",null,null,null,null,null,null,null,null,null,null,null,"防火シャッターの閉鎖の状況",null,null,null,null,null,null,null,null,null,null,null,null,null,null,null,null,null,null,null,null,null,null,null,null,null,null,null,null,null,null,null,null,null,null,null,null,null,null,null,null,null,null,null,null,null,null,null,null,null,null,null,null,null,null,null,null,null,null,null,null,null,null,null,null,null,null,null,null,null,null,null,null,null,null,null,null,null,null,null,null,null,null,null,null,null,null,null,null,null,null,null,null,null,null,null,null,null,null,null,null,null,null,null,null,null,null,null,null,null,0,0,0,0,"1(26)","防火シャッターの閉鎖の状況",0,"",{"$f":"IF($EO42=\"要是正\",MAX($EP$14:EP38)+1,\"\")","v":""},{"$f":"IF($EO42=\"要是正\",MAX($EQ$14:EQ38)+1,\"\")","v":""},"","","","","","","0","","0","0","","","0","","0","0","",null,null,null,2,"#'3_入力シート【写真】'","A33","AU54",null,null,null,null,null,null,null,null,null,null,null,null,null,null,null,null,null,null,null,null,"","","",0,"",null,"","","0","","0","",null,0,null,null,null,{"$f":"$P$42","v":"総合的な作動の状況"}]
[null,null,null,null,null,null,null,null,null,null,null,null,"1(27)",null,null,null,null,null,null,null,null,null,null,null,null,null,null,"防火区画の形成の状況",null,null,null,null,null,null,null,null,null,null,null,null,null,null,null,null,null,null,null,null,null,null,null,null,null,null,null,null,null,null,null,null,null,null,null,null,null,null,null,null,null,null,null,null,null,null,null,null,null,null,null,null,null,null,null,null,null,null,null,null,null,null,null,null,null,null,null,null,null,null,null,null,null,null,null,null,null,null,null,null,null,null,null,null,null,null,null,null,null,null,null,null,null,null,null,null,null,null,null,null,null,null,null,null,null,null,null,null,null,0,0,0,0,"1(27)","防火区画の形成の状況",0,"",{"$f":"IF($EO43=\"要是正\",MAX($EP$14:EP39)+1,\"\")","v":""},{"$f":"IF($EO43=\"要是正\",MAX($EQ$14:EQ39)+1,\"\")","v":""},"","","","","","","0","","0","0","","","0","","0","0","",null,null,null,6,"#'3_入力シート【写真】'","A152","AU173",null,null,null,null,null,null,null,null,null,null,null,null,null,null,null,null,null,null,null,null,"","","",0,"",null,"",{"$f":"IF(NOT(OR(CT43=\"未定\",CT43=\"\")),\"令和\"&CN43&\"年\"&CQ43&\"月1日\",\"\")","v":""},{"$f":"IF(GQ43=\"\",\"0\",DATEVALUE(GQ43))","v":"0"},{"$f":"IF(OR(CT43=\"予定\",CT43=\"改善済\"),1,\"\")","v":""},{"$f":"IF(GS43=1,GR43,\"0\")","v":"0"},{"$f":"IF(AND(ER43=\"要是正\",AND(EQ43=0,CT43=\"未定\")),CT43,\"\")","v":""},null,0,null,null,null,{"$f":"$P$42","v":"総合的な作動の状況"}]
[null,null,null,null,null,null,null,null,null,null,null,null,null,null,null,null,null,null,null,null,null,null,null,null,null,null,null,null,null,null,null,null,null,null,null,null,null,null,null,null,null,null,null,null,null,null,null,null,null,null,null,null,null,null,null,null,null,null,null,null,null,null,null,null,null,null,null,null,null,null,null,null,null,null,null,null,null,null,null,null,null,null,null,null,null,null,null,null,null,null,null,null,null,null,null,null,null,null,null,null,null,null,null,null,null,null,null,null,null,null,null,null,null,null,null,null,null,null,null,null,null,null,null,null,null,null,null,null,null,null,null,null,null,null,null,null,null,{"$f":"SUM(EH17:EH43)","v":0},{"$f":"SUM(EI17:EI43)","v":0},{"$f":"SUM(EJ17:EJ43)","v":0},{"$f":"SUM(EK17:EK43)","v":0},null,null,null,null,null,null,null,null,null,null,null,null,null,{"$f":"COUNTIF(EY17:EY43,\"1\")","v":0},{"$f":"INDEX(EZ17:EZ43,MATCH(MIN(ABS(EZ17:EZ43-$EJ$4)),ABS(EZ17:EZ43-$EJ$4),0))","v":"0"},{"$f":"INDEX(FA17:FA43,MATCH(MIN(ABS(FA17:FA43-$EJ$4)),ABS(FA17:FA43-$EJ$4),0))","v":"0"},{"$f":"COUNTIF(FB17:FB43,\"未定\")","v":0},null,null,{"$f":"COUNTIF(FE17:FE43,\"1\")","v":0},{"$f":"INDEX(FF17:FF43,MATCH(MIN(ABS(FF17:FF43-$EJ$4)),ABS(FF17:FF43-$EJ$4),0))","v":"0"},{"$f":"INDEX(FG17:FG43,MATCH(MIN(ABS(FG17:FG43-$EJ$4)),ABS(FG17:FG43-$EJ$4),0))","v":"0"},{"$f":"COUNTIF(FH17:FH43,\"未定\")","v":0},null,null,null,null,null,null,null,null,null,null,null,null,null,null,null,null,null,null,null,null,null,null,null,null,null,null,null,null,null,null,null,null,null,null,{"$f":"IF(NOT(OR(CW26=\"未定\",CQ26=\"\")),\"令和\"&CT26&\"年\"&CU27&\"月1日\",\"\")","v":""},null,{"$f":"COUNTIF(GS17:GS43,\"1\")","v":0},{"$f":"INDEX(GT17:GT43,MATCH(MIN(ABS(GT17:GT43-$EJ$4)),ABS(GT17:GT43-$EJ$4),0))","v":"0"},{"$f":"COUNTIF(GU17:GU43,\"未定\")","v":0},null,0]
[null,null,null,null,null,null,null,null,null,null,null,null,null,null,null,null,null,null,null,null,null,null,null,null,null,null,null,null,null,null,null,null,null,null,null,null,null,null,null,null,null,null,null,null,null,null,null,null,null,null,null,null,null,null,null,null,null,null,null,null,null,null,null,null,null,null,null,null,null,null,null,null,null,null,null,null,null,null,null,null,null,null,null,null,null,null,null,null,null,null,null,null,null,null,null,null,null,null,null,null,null,null,null,null,null,null,null,null,null,null,null,null,null,null,null,null,null,null,null,null,null,null,null,null,null,null,null,null,null,null,null,null,null,null,null,null,null,null,null,null,null,null,null,null,null,null,null,null,null,null,null,null,null,null,null,null,null,null,null,null,null,null,null,null,null,null,null,null,null,null,null,null,null,null,null,null,null,null,null,null,null,null,null,null,null,null,null,null,null,null,null,null,null,null,null,null,null,null,null,null,null,null,null,null,0]
[null,null,null,null,null,null,null,null,null,null,null,null,null,null,null,null,null,null,null,null,null,null,null,null,null,null,null,null,null,null,null,null,null,null,null,null,null,null,null,null,null,null,null,null,null,null,null,null,null,null,null,null,null,null,null,null,null,null,null,null,null,null,null,null,null,null,null,null,null,null,null,null,null,null,null,null,null,null,null,null,null,null,null,null,null,null,null,null,null,null,null,null,null,null,null,null,null,null,null,null,null,null,null,null,null,null,null,null,null,null,null,null,null,null,null,null,null,null,null,null,null,null,null,null,null,null,null,null,null,null,null,null,null,null,null,null,null,null,null,null,null,null,null,null,null,null,null,null,null,null,null,null,null,null,null,null,null,null,null,null,null,null,null,null,null,null,null,null,null,null,null,null,null,null,null,null,null,null,null,null,null,null,null,null,null,null,null,null,null,null,null,null,null,null,null,null,null,"結合↓",null,null,null,null,null,null,0]
[null,null,null,null,null,null,null,null,null,null,null,null,null,null,null,null,null,null,null,null,null,null,null,null,null,null,null,null,null,null,null,null,null,null,null,null,null,null,null,null,null,null,null,null,null,null,null,null,null,null,null,null,null,null,null,null,null,null,null,null,null,null,null,null,null,null,null,null,null,null,null,null,null,null,null,null,null,null,null,null,null,null,null,null,null,null,null,null,null,null,null,null,null,null,null,null,null,null,null,null,null,null,null,null,null,null,null,null,null,null,null,null,null,null,null,null,null,null,null,null,null,null,null,null,null,null,null,null,null,null,null,null,null,null,null,null,null,null,null,null,null,null,null,null,null,null,null,null,null,null,null,null,null,null,null,null,null,null,null,null,null,null,null,null,null,null,null,null,null,null,null,null,null,null,null,null,null,null,null,null,null,null,null,null,null,null,null,null,null,null,null,null,null,null,null,null,null,null,null,null,null,null,null,null,0]
[null,null,null,null,null,null,null,null,null,null,null,null,"上記以外の検査項目等",null,null,null,null,null,null,null,null,null,null,null,null,null,null,null,null,null,null,null,null,null,null,null,null,null,null,null,null,null,null,null,null,null,null,null,null,null,null,null,null,null,null,null,null,null,null,null,null,null,null,null,null,null,null,null,null,null,null,null,null,null,null,null,null,null,null,null,null,null,null,null,null,null,null,null,null,null,null,null,null,null,null,null,null,null,null,null,null,null,null,null,null,null,null,null,null,null,null,null,null,null,null,null,null,null,null,null,null,null,null,null,null,null,null,null,null,null,null,null,null,null,null,null,null,{"$f":"IF(AND(EI48=\"\",EJ48=\"\",EK48=\"\",EH54<>0),\"レ\",\"\")","v":""},{"$f":"IF(AND(EJ48=\"\",EK48=\"\",EI54<>0),\"レ\",\"\")","v":""},{"$f":"IF(EJ54<>0,\"レ\",\"\")","v":""},{"$f":"IF(AND(EJ48=\"\",EK54<>0),\"レ\",\"\")","v":""},null,null,null,null,{"$f":"IF($EO48=\"要是正\",MAX($EP$17:EP45)+1,\"\")","v":""},null,null,"項目\n\n要是正＆\n既存不適格",{"$f":"SUBSTITUTE(TRIM(ET51&\"　\"&ET52&\"　\"&ET53),\"　\",\",\")","v":""},null,null,{"$f":"IF(COUNTIF(EY51:EY53,1)>0,\"レ\",\"\")","v":""},null,{"$f":"IF(EW48=\"レ\",TEXT(EZ54,\"ee\"),\"\")","v":""},{"$f":"IF(EW48=\"レ\",MONTH(EZ54),IF(AND(EJ48=\"レ\",FB48=\"レ\",FB54=0),\"\",IF(AND(EJ48=\"レ\",FB48=\"レ\",FA68>0),\"未定\",\"\")))","v":""},null,{"$f":"IF(EW48=\"\",IF(OR(FB54>0,EJ48=\"レ\"),\"レ\",\"\"),\"\")","v":""},{"$f":"IF(AND(COUNTIF(EO51:EO53,\"要是正\")=0,COUNTIF(FE51:FE53,1)>0),\"レ\",\"\")","v":""},null,{"$f":"IF(FC48=\"レ\",TEXT(FF54,\"ee\"),\"\")","v":""},{"$f":"IF(FC48=\"レ\",MONTH(FF54),IF(AND(EK48=\"レ\",FH48=\"レ\",FH54=0),\"\",IF(AND(EK48=\"レ\",FH48=\"レ\",FH68>0),\"未定\",\"\")))","v":""},null,{"$f":"IF(FC48=\"\",IF(OR(FH54>0,EK48=\"レ\"),\"レ\",\"\"),\"\")","v":""},null,null,null,null,null,null,null,null,null,null,null,null,null,null,null,null,null,null,null,null,null,null,null,null,null,null,null,null,null,null,null,null,null,{"$f":"TRIM(GP51&\"　\"&GP52&\"　\"&GP53)","v":""},{"$f":"IF(COUNTIF(GS51:GS76,1)>0,\"レ\",\"\")","v":""},null,{"$f":"IF(GQ48=\"レ\",TEXT(GT77,\"ee\"),\"\")","v":""},{"$f":"IF(GQ48=\"レ\",MONTH(GT77),IF(AND(GG48=\"レ\",GU48=\"レ\",GU77=0),\"\",IF(AND(GG48=\"レ\",GU48=\"レ\",GU77>0),\"未定\",\"\")))","v":""},{"$f":"IF(GQ48=\"\",IF(OR(GU77>0,GG48=\"レ\"),\"レ\",\"\"),\"\")","v":""},null,0]
[null,null,null,null,null,null,null,null,null,null,null,null,"番号",null,null,"検　査　項　目　",null,null,null,null,null,null,null,null,null,null,null,null,null,null,null,null,"検　査　事　項",null,null,null,null,null,null,null,null,null,null,null,null,null,null,null,null,null,null,null,"検査結果",null,null,null,null,null,null,null,null,null,null,null,"検査者番号",null,"指摘の具体的内容等",null,null,null,null,null,null,null,null,null,"改善策の具体的内容等",null,null,null,null,null,null,null,null,null,null,null,null,null,null,"改善（予定）年月",null,null,null,null,null,null,null,null,"該当法令・注意事項",null,null,null,null,null,null,null,null,null,null,null,null,null,null,null,null,null,null,null,null,null,null,null,null,null,null,null,null,null,null,null,null,null,null,null,null,null,null,null,null,null,null,null,null,null,null,null,null,"指摘の具体的内容等\n要是正＋（既存不適格）","改善策の具体的内容等",null,"改善（予定）\n年月",null,null,null,null,null,"改善（予定）\n年月",null,null,null,null,null,"関連写真添付　リンク指定先",null,null,null,null,null,null,null,null,null,null,null,null,null,null,null,null,null,null,null,null,null,null,null,null,null,null,"国交省検査結果表転記用",null,null,null,null,null,null,"改善（予定）\n年月",null,null,null,null,null,"指摘の具体的内容等"]
[null,null,null,null,null,null,null,null,null,null,null,null,null,null,null,null,null,null,null,null,null,null,null,null,null,null,null,null,null,null,null,null,null,null,null,null,null,null,null,null,null,null,null,null,null,null,null,null,null,null,null,null,null,null,null,null,null,null,null,null,null,null,null,null,null,null,null,null,null,null,null,null,null,null,null,null,null,null,null,null,null,null,null,null,null,null,null,null,null,null,null,"年\n(令和)",null,null,"月",null,null,"状況",null,null,null,null,null,null,null,null,null,null,null,null,null,null,null,null,null,null,null,null,null,null,null,null,null,null,null,null,null,null,null,null,null,null,null,null,null,null,null,"対象外項目","指摘なし","要是正","既存不適格","項目番号\n関数なし","項目","年月カウント","要是正と既存不適格","要是正カウント（別添2リンク先）","カウント\n報告書用","項目番号",null,null,null,null,"変換\n/有(予定)","西暦変換\n/有（済）","未来の年月\nカウント/年","未来の直近/月","過去の直近","未定/無","変換/有","西暦変換/(有)","未来の年月\nカウント/年","未来の直近/月","過去の直近","未定/無","シート","セル　上端","セル　下端",null,null,null,null,null,null,null,null,null,null,null,null,null,null,null,null,null,null,null,null,null,null,null,null,"指摘なし","要是正","既存不適格","担当者番号","線引き",null,"指摘の具体的内容等\n要是正＋（既存不適格）","変換\n/有(予定)","西暦変換\n","未来の年月\nカウント/年","未来の直近\n/月","未定/無",null,0]
[null,null,null,null,null,null,null,null,null,null,null,null,null,null,null,null,null,null,null,null,null,null,null,null,null,null,null,null,null,null,null,null,null,null,null,null,null,null,null,null,null,null,null,null,null,null,null,null,null,null,null,null,null,null,null,null,null,null,null,null,null,null,null,null,null,null,null,null,null,null,null,null,null,null,null,null,null,null,null,null,null,null,null,null,null,null,null,null,null,null,null,null,null,null,null,null,null,null,null,null,null,null,null,null,null,null,null,null,null,null,null,null,null,null,null,null,null,null,null,null,null,null,null,null,null,null,null,null,null,null,null,null,null,null,null,null,null,{"$f":"COUNTIFS(BA51,\"ー対象外\")","v":0},{"$f":"COUNTIFS(BA51,\"○指摘なし\")","v":0},{"$f":"COUNTIFS(BA51,\"×要是正（既存不適格以外）\")","v":0},{"$f":"COUNTIFS(BA51,\"△既存不適格\")","v":0},{"$f":"M51","v":0},{"$f":"P51","v":0},{"$f":"COUNTA(CN51:CS51)","v":0},{"$f":"IF(BA51=\"×要是正（既存不適格以外）\",\"要是正\",\"\")&IF(BA51=\"△既存不適格\",\"既存不適格\",\"\")","v":""},{"$f":"IF($EO51=\"要是正\",MAX($EP$14:EP47)+1,\"\")","v":""},{"$f":"IF($EO51=\"要是正\",MAX($EQ$14:EQ47)+1,\"\")","v":""},{"$f":"IF(OR(BA51=\"×要是正（既存不適格以外）\",BA51=\"△既存不適格\"),EL51,\"\")","v":""},{"$f":"IF(OR($EO51=\"要是正\",$EO51=\"既存不適格\"),$EM51,\"\")","v":""},{"$f":"IF($EO51=\"要是正\",IF(BO51=\"\",\"\",BO51),\"\")","v":""},{"$f":"IF($EO51=\"要是正\",IF(BY51=\"\",\"\",BY51),\"\")","v":""},{"$f":"IF(CT51=\"未定\",\"未定\",IF(GR51=\"0\",\"\",IF(CT51=\"予定\",TEXT(GR51,\"([$-ja-JP]ge.m);@\"),IF(CT51=\"改善済\",TEXT(GR51,\"[$-ja-JP]ge.m;@\"),TEXT(EX51,\"[$-ja-JP]ge.m;@\")))))","v":""},{"$f":"IF(OR(EO51=\"要是正\",EO51=\"既存不適格\"),IF(OR(EN51<2,CT51<>\"予定\"),\"\",\"令和\"&CN51&\"年\"&CQ51&\"月1日\"),\"\")","v":""},{"$f":"IF(EW51=\"\",\"0\",DATEVALUE(EW51))","v":"0"},{"$f":"IF(EO51=\"要是正\",IF(AND(CT51=\"予定\",EN51=2),1,IF(CT51=\"改善済\",2,\"\")),\"\")","v":""},{"$f":"IF(EY51=1,EX51,\"0\")","v":"0"},{"$f":"IF(EY51=2,EX51,\"0\")","v":"0"},{"$f":"IF(AND(EO51=\"要是正\",AND(EN51=0,CT51=\"未定\")),CT51,\"\")","v":""},{"$f":"IF(EO51=\"既存不適格\",IF(OR(EN51<2,CT51<>\"予定\"),\"\",\"令和\"&CN51&\"年\"&CQ51&\"月1日\"),\"\")","v":""},{"$f":"IF(FC51=\"\",\"0\",DATEVALUE(FC51))","v":"0"},{"$f":"IF(EO51=\"既存不適格\",IF(AND(CT51=\"予定\",EN51=2),1,IF(CT51=\"改善済\",2,\"\")),\"\")","v":""},{"$f":"IF(FE51=1,FD51,\"0\")","v":"0"},{"$f":"IF(FE51=2,FD51,\"0\")","v":"0"},{"$f":"IF(AND(EO51=\"既存不適格\",AND(EN51=0,CT51=\"未定\")),CT51,\"\")","v":""},null,null,null,null,null,null,null,null,null,null,null,null,null,null,null,null,null,null,null,null,null,null,null,null,null,{"$f":"IF(EO51=\"要是正\",IF(BO51=\"\",\"\",EL51 &\" \" & BO51),\"\")","v":""},null,{"$f":"IF($BA51=\"○指摘なし\",\"○\",IF($BA51=\"―対象外\",\"－\",\"\"))","v":""},{"$f":"IF(OR($BA51=\"×要是正（既存不適格以外）\",$BA51=\"△既存不適格\"),\"○\",\"\")","v":""},{"$f":"IF($BA51=\"△既存不適格\",\"○\",\"\")","v":""},{"$f":"BM51","v":0},{"$f":"IF($BA51=\"―対象外\",\"○\",\"\")","v":""},null,{"$f":"IF(EO51=\"要是正\",IF(BO51=\"\",\"\",ER51&\" \"&HA51&\" \" &BO51&CHAR(10)),\"\")","v":""},{"$f":"IF(NOT(OR(CT51=\"未定\",CT51=\"\")),\"令和\"&CN51&\"年\"&CQ51&\"月1日\",\"\")","v":""},{"$f":"IF(GQ51=\"\",\"0\",DATEVALUE(GQ51))","v":"0"},{"$f":"IF(OR(CT51=\"予定\",CT51=\"改善済\"),1,\"\")","v":""},{"$f":"IF(GS51=1,GR51,\"0\")","v":"0"},{"$f":"IF(AND(ER50=\"要是正\",AND(EQ50=0,CT51=\"未定\")),CT51,\"\")","v":""},null,0,null,null,null,{"$f":"P51","v":0}]
[null,null,null,null,null,null,null,null,null,null,null,null,null,null,null,null,null,null,null,null,null,null,null,null,null,null,null,null,null,null,null,null,null,null,null,null,null,null,null,null,null,null,null,null,null,null,null,null,null,null,null,null,null,null,null,null,null,null,null,null,null,null,null,null,null,null,null,null,null,null,null,null,null,null,null,null,null,null,null,null,null,null,null,null,null,null,null,null,null,null,null,null,null,null,null,null,null,null,null,null,null,null,null,null,null,null,null,null,null,null,null,null,null,null,null,null,null,null,null,null,null,null,null,null,null,null,null,null,null,null,null,null,null,null,null,null,null,{"$f":"COUNTIFS(BA52,\"ー対象外\")","v":0},{"$f":"COUNTIFS(BA52,\"○指摘なし\")","v":0},{"$f":"COUNTIFS(BA52,\"×要是正（既存不適格以外）\")","v":0},{"$f":"COUNTIFS(BA52,\"△既存不適格\")","v":0},0,{"$f":"P52","v":0},{"$f":"COUNTA(CN52:CS52)","v":0},{"$f":"IF(BA52=\"×要是正（既存不適格以外）\",\"要是正\",\"\")&IF(BA52=\"△既存不適格\",\"既存不適格\",\"\")","v":""},{"$f":"IF($EO52=\"要是正\",MAX($EP$14:EP48)+1,\"\")","v":""},{"$f":"IF($EO52=\"要是正\",MAX($EQ$14:EQ48)+1,\"\")","v":""},{"$f":"IF(OR(BA52=\"×要是正（既存不適格以外）\",BA52=\"△既存不適格\"),EL52,\"\")","v":""},{"$f":"IF(OR($EO52=\"要是正\",$EO52=\"既存不適格\"),$EM52,\"\")","v":""},{"$f":"IF($EO52=\"要是正\",IF(BO52=\"\",\"\",BO52),\"\")","v":""},{"$f":"IF($EO52=\"要是正\",IF(BY52=\"\",\"\",BY52),\"\")","v":""},"",{"$f":"IF(OR(EO52=\"要是正\",EO52=\"既存不適格\"),IF(OR(EN52<2,CT52<>\"予定\"),\"\",\"令和\"&CN52&\"年\"&CQ52&\"月1日\"),\"\")","v":""},{"$f":"IF(EW52=\"\",\"0\",DATEVALUE(EW52))","v":"0"},{"$f":"IF(EO52=\"要是正\",IF(AND(CT52=\"予定\",EN52=2),1,IF(CT52=\"改善済\",2,\"\")),\"\")","v":""},{"$f":"IF(EY52=1,EX52,\"0\")","v":"0"},{"$f":"IF(EY52=2,EX52,\"0\")","v":"0"},{"$f":"IF(AND(EO52=\"要是正\",AND(EN52=0,CT52=\"未定\")),CT52,\"\")","v":""},{"$f":"IF(EO52=\"既存不適格\",IF(OR(EN52<2,CT52<>\"予定\"),\"\",\"令和\"&CN52&\"年\"&CQ52&\"月1日\"),\"\")","v":""},{"$f":"IF(FC52=\"\",\"0\",DATEVALUE(FC52))","v":"0"},{"$f":"IF(EO52=\"既存不適格\",IF(AND(CT52=\"予定\",EN52=2),1,IF(CT52=\"改善済\",2,\"\")),\"\")","v":""},{"$f":"IF(FE52=1,FD52,\"0\")","v":"0"},{"$f":"IF(FE52=2,FD52,\"0\")","v":"0"},{"$f":"IF(AND(EO52=\"既存不適格\",AND(EN52=0,CT52=\"未定\")),CT52,\"\")","v":""},null,null,null,null,null,null,null,null,null,null,null,null,null,null,null,null,null,null,null,null,null,null,null,null,null,{"$f":"IF(EO52=\"要是正\",IF(BO52=\"\",\"\",EL52 &\" \" & BO52),\"\")","v":""},null,"","","",{"$f":"BM52","v":0},{"$f":"IF($BA52=\"―対象外\",\"○\",\"\")","v":""},null,{"$f":"IF(EO52=\"要是正\",IF(BO52=\"\",\"\",ER52&\" \"&HA52&\" \" &BO52&CHAR(10)),\"\")","v":""},{"$f":"IF(NOT(OR(CT52=\"未定\",CT52=\"\")),\"令和\"&CN52&\"年\"&CQ52&\"月1日\",\"\")","v":""},{"$f":"IF(GQ52=\"\",\"0\",DATEVALUE(GQ52))","v":"0"},{"$f":"IF(OR(CT52=\"予定\",CT52=\"改善済\"),1,\"\")","v":""},{"$f":"IF(GS52=1,GR52,\"0\")","v":"0"},{"$f":"IF(AND(ER51=\"要是正\",AND(EQ51=0,CT52=\"未定\")),CT52,\"\")","v":""},null,0,null,null,null,{"$f":"P52","v":0}]
[null,null,null,null,null,null,null,null,null,null,null,null,null,null,null,null,null,null,null,null,null,null,null,null,null,null,null,null,null,null,null,null,null,null,null,null,null,null,null,null,null,null,null,null,null,null,null,null,null,null,null,null,null,null,null,null,null,null,null,null,null,null,null,null,null,null,null,null,null,null,null,null,null,null,null,null,null,null,null,null,null,null,null,null,null,null,null,null,null,null,null,null,null,null,null,null,null,null,null,null,null,null,null,null,null,null,null,null,null,null,null,null,null,null,null,null,null,null,null,null,null,null,null,null,null,null,null,null,null,null,null,null,null,null,null,null,null,{"$f":"COUNTIFS(BA53,\"ー対象外\")","v":0},{"$f":"COUNTIFS(BA53,\"○指摘なし\")","v":0},{"$f":"COUNTIFS(BA53,\"×要是正（既存不適格以外）\")","v":0},{"$f":"COUNTIFS(BA53,\"△既存不適格\")","v":0},0,0,0,"",{"$f":"IF($EO53=\"要是正\",MAX($EP$14:EP49)+1,\"\")","v":""},{"$f":"IF($EO53=\"要是正\",MAX($EQ$14:EQ49)+1,\"\")","v":""},{"$f":"IF(OR(BA53=\"×要是正（既存不適格以外）\",BA53=\"△既存不適格\"),EL53,\"\")","v":""},{"$f":"IF(OR($EO53=\"要是正\",$EO53=\"既存不適格\"),$EM53,\"\")","v":""},"",{"$f":"IF($EO53=\"要是正\",IF(BY53=\"\",\"\",BY53),\"\")","v":""},"","","0","","0","0","","","0","","0","0","",null,null,null,null,null,null,null,null,null,null,null,null,null,null,null,null,null,null,null,null,null,null,null,null,null,{"$f":"IF(EO53=\"要是正\",IF(BO53=\"\",\"\",EL53 &\" \" & BO53),\"\")","v":""},null,"","","",{"$f":"BM53","v":0},{"$f":"IF($BA53=\"―対象外\",\"○\",\"\")","v":""},null,"","","0",{"$f":"IF(OR(CT53=\"予定\",CT53=\"改善済\"),1,\"\")","v":""},"0",{"$f":"IF(AND(ER52=\"要是正\",AND(EQ52=0,CT53=\"未定\")),CT53,\"\")","v":""},null,0,null,null,null,0]
[null,null,null,null,null,null,null,null,null,null,null,null,null,null,null,null,null,null,null,null,null,null,null,null,null,null,null,null,null,null,null,null,null,null,null,null,null,null,null,null,null,null,null,null,null,null,null,null,null,null,null,null,null,null,null,null,null,null,null,null,null,null,null,null,null,null,null,null,null,null,null,null,null,null,null,null,null,null,null,null,null,null,null,null,null,null,null,null,null,null,null,null,null,null,null,null,null,null,null,null,null,null,null,null,null,null,null,null,null,null,null,null,null,null,null,null,null,null,null,null,null,null,null,null,null,null,null,null,null,null,null,null,null,null,null,null,null,{"$f":"SUM(EH51:EH53)","v":0},{"$f":"SUM(EI51:EI53)","v":0},{"$f":"SUM(EJ51:EJ53)","v":0},{"$f":"SUM(EK51:EK53)","v":0},null,null,null,null,{"$f":"IF($EO54=\"要是正\",MAX($EP$5:EP53)+1,\"\")","v":""},null,null,null,null,null,null,null,null,{"$f":"COUNTIF(EY51:EY53,\"1\")","v":0},{"$f":"INDEX(EZ51:EZ53,MATCH(MIN(ABS(EZ51:EZ53-$EJ$4)),ABS(EZ51:EZ53-$EJ$4),0))","v":"0"},{"$f":"INDEX(FA51:FA53,MATCH(MIN(ABS(FA51:FA53-$EJ$4)),ABS(FA51:FA53-$EJ$4),0))","v":"0"},{"$f":"COUNTIF(FB51:FB53,\"未定\")","v":0},null,null,{"$f":"COUNTIF(FE51:FE53,\"1\")","v":0},{"$f":"INDEX(FF51:FF53,MATCH(MIN(ABS(FF51:FF53-$EJ$4)),ABS(FF51:FF53-$EJ$4),0))","v":"0"},{"$f":"INDEX(FG51:FG53,MATCH(MIN(ABS(FG51:FG53-$EJ$4)),ABS(FG51:FG53-$EJ$4),0))","v":"0"},{"$f":"COUNTIF(FH51:FH53,\"未定\")","v":0},null,null,null,null,null,null,null,null,null,null,null,null,null,null,null,null,null,null,null,null,null,null,null,null,null,null,null,null,null,null,null,null,null,null,null,null,{"$f":"COUNTIF(GS51:GS53,\"1\")","v":0},{"$f":"INDEX(GT51:GT53,MATCH(MIN(ABS(GT51:GT53-$EJ$4)),ABS(GT51:GT53-$EJ$4),0))","v":"0"},{"$f":"COUNTIF(GU51:GU53,\"未定\")","v":0},null,0]
[null,null,null,null,null,null,null,null,null,null,null,null,null,null,null,null,null,null,null,null,null,null,null,null,null,null,null,null,null,null,null,null,null,null,null,null,null,null,null,null,null,null,null,null,null,null,null,null,null,null,null,null,null,null,null,null,null,null,null,null,null,null,null,null,null,null,null,null,null,null,null,null,null,null,null,null,null,null,null,null,null,null,null,null,null,null,null,null,null,null,null,null,null,null,null,null,null,null,null,null,null,null,null,null,null,null,null,null,null,null,null,null,null,null,null,null,null,null,null,null,null,null,null,null,null,null,null,null,null,null,null,null,null,null,null,null,null,null,null,null,null,null,null,null,null,null,null,null,null,null,null,null,null,null,null,null,null,null,null,null,null,null,null,null,null,null,null,null,null,null,null,null,null,null,null,null,null,null,null,null,null,null,null,null,null,null,null,null,null,null,null,{"$f":"IF($BA55=\"○指摘なし\",\"○\",\"\")","v":""},"","",null,null,null,null,null,null,null,null,null,null,0]
[null,null,null,null,null,null,null,null,null,null,null,null,null,null,null,null,null,null,null,null,null,null,null,null,null,null,null,null,null,null,null,null,null,null,null,null,null,null,null,null,null,null,null,null,null,null,null,null,null,null,null,null,null,null,null,null,null,null,null,null,null,null,null,null,null,null,null,null,null,null,null,null,null,null,null,null,null,null,null,null,null,null,null,null,null,null,null,null,null,null,null,null,null,null,null,null,null,null,null,null,null,null,null,null,null,null,null,null,null,null,null,null,null,null,null,null,null,null,null,null,null,null,null,null,null,null,null,null,null,null,null,null,null,null,null,null,null,null,null,null,null,null,null,null,null,null,null,null,null,null,null,null,null,null,null,null,null,null,null,null,null,null,null,null,null,null,null,null,null,null,null,null,null,null,null,null,null,null,null,null,null,null,null,null,null,null,null,null,null,null,null,null,null,null,null,null,null,null,null,null,null,null,null,null,0]
[null,null,null,null,null,null,null,null,null,null,null,null,null,null,null,null,null,null,null,null,null,null,null,null,null,null,null,null,null,null,null,null,null,null,null,null,null,null,null,null,null,null,null,null,null,null,null,null,null,null,null,null,null,null,null,null,null,null,null,null,null,null,null,null,null,null,null,null,null,null,null,null,null,null,null,null,null,null,null,null,null,null,null,null,null,null,null,null,null,null,null,null,null,null,null,null,null,null,null,null,null,null,null,null,null,null,null,null,null,null,null,null,null,null,null,null,null,null,null,null,null,null,null,null,null,null,null,null,null,null,null,null,null,null,null,null,null,null,null,null,null,null,null,null,null,null,null,null,null,null,null,null,null,null,{"$f":"COUNTIF(EY51:EY53,\"1\")","v":0},{"$f":"INDEX(EZ51:EZ53,MATCH(MIN(ABS(EZ51:EZ53-$EJ$4)),ABS(EZ51:EZ53-$EJ$4),0))","v":"0"},{"$f":"INDEX(FA51:FA53,MATCH(MIN(ABS(FA51:FA53-$EJ$4)),ABS(FA51:FA53-$EJ$4),0))","v":"0"},{"$f":"COUNTIF(FB51:FB53,\"未定\")","v":0},null,null,{"$f":"COUNTIF(FE42:FE56,\"1\")","v":0},{"$f":"INDEX(FF51:FF53,MATCH(MIN(ABS(FF51:FF53-$EJ$4)),ABS(FF51:FF53-$EJ$4),0))","v":"0"},{"$f":"INDEX(FG51:FG53,MATCH(MIN(ABS(FG51:FG53-$EJ$4)),ABS(FG51:FG53-$EJ$4),0))","v":"0"},{"$f":"COUNTIF(FH42:FH56,\"未定\")","v":0},null,null,null,null,null,null,null,null,null,null,null,null,null,null,null,null,null,null,null,null,null,null,null,null,null,null,null,null,null,null,null,null,null,null,null,null,null,null,null,null,0]
[null,null,null,null,null,null,null,null,null,null,null,null,"上記に記載のない事項",null,null,null,null,null,null,null,null,null,null,null,null,null,null,null,null,null,null,null,null,null,null,null,null,null,null,null,null,null,null,null,null,null,null,null,null,null,null,null,null,null,null,null,null,null,null,null,null,null,null,null,null,null,null,null,null,null,null,null,null,null,null,null,null,null,null,null,null,null,null,null,null,null,null,null,null,null,null,null,null,null,null,null,null,null,null,null,null,null,null,null,null,null,null,null,null,null,null,null,null,null,null,null,null,null,null,null,null,null,null,null,null,null,null,null,null,null,null,null,null,null,null,null,null,{"$f":"IF(AND(EI58=\"\",EJ58=\"\",EK58=\"\",EH76<>0),\"レ\",\"\")","v":""},{"$f":"IF(AND(EJ58=\"\",EK58=\"\",EI76<>0),\"レ\",\"\")","v":""},{"$f":"IF(EJ76<>0,\"レ\",\"\")","v":""},{"$f":"IF(AND(EJ58=\"\",EK76<>0),\"レ\",\"\")","v":""},null,null,null,null,null,null,null,"項目\n\n要是正＆\n既存不適格",{"$f":"SUBSTITUTE(TRIM(ET61&\"　\"&ET62&\"　\"&ET63&\"　\"&ET64&\"　\"&ET65&\"　\"&ET66&\"　\"&ET67&\"　\"&ET68&\"　\"&ET606&\"　\"&ET69&\"　\"&ET70&\"　\"&ET71&\"　\"&ET72&\"　\"&ET73&\"　\"&ET74&\"　\"&ET75),\"　\",\",\")","v":""},null,null,{"$f":"IF(COUNTIF(EY61:EY75,1)>0,\"レ\",\"\")","v":""},null,{"$f":"IF(EW58=\"レ\",TEXT(EZ76,\"ee\"),\"\")","v":""},{"$f":"IF(EW58=\"レ\",MONTH(EZ76),IF(AND(EJ58=\"レ\",FB58=\"レ\",FB76=0),\"\",IF(AND(EJ58=\"レ\",FB58=\"レ\",FB76>0),\"未定\",\"\")))","v":""},null,{"$f":"IF(EW58=\"\",IF(OR(FB76>0,EJ58=\"レ\"),\"レ\",\"\"),\"\")","v":""},{"$f":"IF(AND(COUNTIF(EO61:EO80,\"要是正\")=0,COUNTIF(FE61:FE80,1)>0),\"レ\",\"\")","v":""},null,{"$f":"IF(FC58=\"レ\",TEXT(FF76,\"ee\"),\"\")","v":""},{"$f":"IF(FC58=\"レ\",MONTH(FF76),IF(AND(EK58=\"レ\",FH58=\"レ\",FH76=0),\"\",IF(AND(EK58=\"レ\",FH58=\"レ\",FH76>0),\"未定\",\"\")))","v":""},null,{"$f":"IF(FC58=\"\",IF(OR(FH76>0,EK58=\"レ\"),\"レ\",\"\"),\"\")","v":""},null,null,null,null,null,null,null,null,null,null,null,null,null,null,null,null,null,null,null,null,null,null,null,null,null,null,null,null,null,null,null,null,null,{"$f":"TRIM(GP61&\"　\"&GP62&\"　\"&GP63&\"　\"&GP64&\"　\"&GP65&\"　\"&GP66&\"　\"&GP67&\"　\"&GP68&\"　\"&GP69&\"　\"&GP70&\"　\"&GP71&\"　\"&GP72&\"　\"&GP73&\"　\"&GP74&\"　\"&GP75)","v":""},{"$f":"IF(COUNTIF(GS61:GS86,1)>0,\"レ\",\"\")","v":""},null,{"$f":"IF(GQ58=\"レ\",TEXT(GT87,\"ee\"),\"\")","v":""},{"$f":"IF(GQ58=\"レ\",MONTH(GT87),IF(AND(GG58=\"レ\",GU58=\"レ\",GU87=0),\"\",IF(AND(GG58=\"レ\",GU58=\"レ\",GU87>0),\"未定\",\"\")))","v":""},{"$f":"IF(GQ58=\"\",IF(OR(GU87>0,GG58=\"レ\"),\"レ\",\"\"),\"\")","v":""},null,0]
[null,null,null,null,null,null,null,null,null,null,null,null,"番号",null,null,"検　査　項　目　",null,null,null,null,null,null,null,null,null,null,null,null,null,null,null,null,"検　査　事　項",null,null,null,null,null,null,null,null,null,null,null,null,null,null,null,null,null,null,null,"検査結果",null,null,null,null,null,null,null,null,null,null,null,"検査者番号",null,"指摘の具体的内容等",null,null,null,null,null,null,null,null,null,"改善策の具体的内容等",null,null,null,null,null,null,null,null,null,null,null,null,null,null,"改善（予定）年月",null,null,null,null,null,null,null,null,"該当法令・注意事項",null,null,null,null,null,null,null,null,null,null,null,null,null,null,null,null,null,null,null,null,null,null,null,null,null,null,null,null,null,null,null,null,null,null,null,null,null,null,null,null,null,null,null,null,"要是正カウント（別添2リンク先）","カウント\n報告書用",null,null,"指摘の具体的内容等\n要是正＋（既存不適格）","改善策の具体的内容等",null,"改善（予定）\n年月",null,null,null,null,null,"改善（予定）\n年月",null,null,null,null,null,"関連写真添付　リンク指定先",null,null,null,null,null,null,null,null,null,null,null,null,null,null,null,null,null,null,null,null,null,null,null,null,null,null,"国交省検査結果表転記用",null,null,null,null,null,null,"改善（予定）\n年月",null,null,null,null,null,"指摘の具体的内容等"]
[null,null,null,null,null,null,null,null,null,null,null,null,null,null,null,null,null,null,null,null,null,null,null,null,null,null,null,null,null,null,null,null,null,null,null,null,null,null,null,null,null,null,null,null,null,null,null,null,null,null,null,null,null,null,null,null,null,null,null,null,null,null,null,null,null,null,null,null,null,null,null,null,null,null,null,null,null,null,null,null,null,null,null,null,null,null,null,null,null,null,null,"年\n(令和)",null,null,"月",null,null,"状況",null,null,null,null,null,null,null,null,null,null,null,null,null,null,null,null,null,null,null,null,null,null,null,null,null,null,null,null,null,null,null,null,null,null,null,null,null,null,null,"対象外項目","指摘なし","要是正","既存不適格","項目番号\n関数なし","項目","年月カウント","要是正と既存不適格",null,null,"項目番号",null,null,null,null,"変換\n/有(予定)","西暦変換\n/有（済）","未来の年月\nカウント/年","未来の直近/月","過去の直近","未定/無","変換/有","西暦変換/(有)","未来の年月\nカウント/年","未来の直近/月","過去の直近","未定/無","シート","セル　上端","セル　下端",null,null,null,null,null,null,null,null,null,null,null,null,null,null,null,null,null,null,null,null,null,null,null,null,"指摘なし","要是正","既存不適格","担当者番号","線引き",null,"指摘の具体的内容等\n要是正＋（既存不適格）","変換\n/有(予定)","西暦変換\n","未来の年月\nカウント/年","未来の直近\n/月","未定/無",null,0]
[null,null,null,null,null,null,null,null,null,null,null,null,null,null,null,null,null,null,null,null,null,null,null,null,null,null,null,null,null,null,null,null,null,null,null,null,null,null,null,null,null,null,null,null,null,null,null,null,null,null,null,null,null,null,null,null,null,null,null,null,null,null,null,null,null,null,null,null,null,null,null,null,null,null,null,null,null,null,null,null,null,null,null,null,null,null,null,null,null,null,null,null,null,null,null,null,null,null,null,null,null,null,null,null,null,null,null,null,null,null,null,null,null,null,null,null,null,null,null,null,null,null,null,null,null,null,null,null,null,null,null,null,null,null,null,null,null,{"$f":"COUNTIFS(BA61,\"ー対象外\")","v":0},{"$f":"COUNTIFS(BA61,\"○指摘なし\")","v":0},{"$f":"COUNTIFS(BA61,\"×要是正（既存不適格以外）\")","v":0},{"$f":"COUNTIFS(BA61,\"△既存不適格\")","v":0},{"$f":"M61","v":0},{"$f":"P61","v":0},{"$f":"COUNTA(CN61:CS61)","v":0},{"$f":"IF(BA61=\"×要是正（既存不適格以外）\",\"要是正\",\"\")&IF(BA61=\"△既存不適格\",\"既存不適格\",\"\")","v":""},{"$f":"IF($EO61=\"要是正\",MAX($EP$14:EP57)+1,\"\")","v":""},{"$f":"IF($EO61=\"要是正\",MAX($EQ$14:EQ57)+1,\"\")","v":""},{"$f":"IF(OR(BA61=\"×要是正（既存不適格以外）\",BA61=\"△既存不適格\"),EL61,\"\")","v":""},{"$f":"IF(OR($EO61=\"要是正\",$EO61=\"既存不適格\"),$EM61,\"\")","v":""},{"$f":"IF($EO61=\"要是正\",IF(BO61=\"\",\"\",BO61),\"\")","v":""},{"$f":"IF($EO61=\"要是正\",IF(BY61=\"\",\"\",BY61),\"\")","v":""},{"$f":"IF(CT61=\"未定\",\"未定\",IF(GR61=\"0\",\"\",IF(CT61=\"予定\",TEXT(GR61,\"([$-ja-JP]ge.m);@\"),IF(CT61=\"改善済\",TEXT(GR61,\"[$-ja-JP]ge.m;@\"),TEXT(EX61,\"[$-ja-JP]ge.m;@\")))))","v":""},{"$f":"IF(OR(EO61=\"要是正\",EO61=\"既存不適格\"),IF(OR(EN61<2,CT61<>\"予定\"),\"\",\"令和\"&CN61&\"年\"&CQ61&\"月1日\"),\"\")","v":""},{"$f":"IF(EW61=\"\",\"0\",DATEVALUE(EW61))","v":"0"},{"$f":"IF(EO61=\"要是正\",IF(AND(CT61=\"予定\",EN61=2),1,IF(CT61=\"改善済\",2,\"\")),\"\")","v":""},{"$f":"IF(EY61=1,EX61,\"0\")","v":"0"},{"$f":"IF(EY61=2,EX61,\"0\")","v":"0"},{"$f":"IF(AND(EO61=\"要是正\",AND(EN61=0,CT61=\"未定\")),CT61,\"\")","v":""},{"$f":"IF(EO61=\"既存不適格\",IF(OR(EN61<2,CT61<>\"予定\"),\"\",\"令和\"&CN61&\"年\"&CQ61&\"月1日\"),\"\")","v":""},{"$f":"IF(FC61=\"\",\"0\",DATEVALUE(FC61))","v":"0"},{"$f":"IF(EO61=\"既存不適格\",IF(AND(CT61=\"予定\",EN61=2),1,IF(CT61=\"改善済\",2,\"\")),\"\")","v":""},{"$f":"IF(FE61=1,FD61,\"0\")","v":"0"},{"$f":"IF(FE61=2,FD61,\"0\")","v":"0"},{"$f":"IF(AND(EO61=\"既存不適格\",AND(EN61=0,CT61=\"未定\")),CT61,\"\")","v":""},null,null,null,null,null,null,null,null,null,null,null,null,null,null,null,null,null,null,null,null,null,null,null,null,null,null,null,{"$f":"IF($BA61=\"○指摘なし\",\"○\",\"\")","v":""},{"$f":"IF(OR($BA61=\"×要是正（既存不適格以外）\",$BA61=\"△既存不適格\"),\"○\",\"\")","v":""},{"$f":"IF($BA61=\"△既存不適格\",\"○\",\"\")","v":""},{"$f":"BM61","v":0},{"$f":"IF($BA61=\"―対象外\",\"○\",\"\")","v":""},null,{"$f":"IF(EO61=\"要是正\",IF(BO61=\"\",\"\",ER61&\" \"&HA61&\" \" &BO61&CHAR(10)),\"\")","v":""},{"$f":"IF(NOT(OR(CT61=\"未定\",CT61=\"\")),\"令和\"&CN61&\"年\"&CQ61&\"月1日\",\"\")","v":""},{"$f":"IF(GQ61=\"\",\"0\",DATEVALUE(GQ61))","v":"0"},{"$f":"IF(OR(CT61=\"予定\",CT61=\"改善済\"),1,\"\")","v":""},{"$f":"IF(GS61=1,GR61,\"0\")","v":"0"},{"$f":"IF(AND(ER60=\"要是正\",AND(EQ60=0,CT61=\"未定\")),CT61,\"\")","v":""},null,0,null,null,null,{"$f":"P61","v":0}]
[null,null,null,null,null,null,null,null,null,null,null,null,null,null,null,null,null,null,null,null,null,null,null,null,null,null,null,null,null,null,null,null,null,null,null,null,null,null,null,null,null,null,null,null,null,null,null,null,null,null,null,null,null,null,null,null,null,null,null,null,null,null,null,null,null,null,null,null,null,null,null,null,null,null,null,null,null,null,null,null,null,null,null,null,null,null,null,null,null,null,null,null,null,null,null,null,null,null,null,null,null,null,null,null,null,null,null,null,null,null,null,null,null,null,null,null,null,null,null,null,null,null,null,null,null,null,null,null,null,null,null,null,null,null,null,null,null,0,0,0,0,0,{"$f":"P62","v":0},{"$f":"COUNTA(CN62:CS62)","v":0},{"$f":"IF(BA62=\"×要是正（既存不適格以外）\",\"要是正\",\"\")&IF(BA62=\"△既存不適格\",\"既存不適格\",\"\")","v":""},{"$f":"IF($EO62=\"要是正\",MAX($EP$14:EP58)+1,\"\")","v":""},{"$f":"IF($EO62=\"要是正\",MAX($EQ$14:EQ58)+1,\"\")","v":""},"",{"$f":"IF(OR($EO62=\"要是正\",$EO62=\"既存不適格\"),$EM62,\"\")","v":""},{"$f":"IF($EO62=\"要是正\",IF(BO62=\"\",\"\",BO62),\"\")","v":""},"","",{"$f":"IF(OR(EO62=\"要是正\",EO62=\"既存不適格\"),IF(OR(EN62<2,CT62<>\"予定\"),\"\",\"令和\"&CN62&\"年\"&CQ62&\"月1日\"),\"\")","v":""},{"$f":"IF(EW62=\"\",\"0\",DATEVALUE(EW62))","v":"0"},{"$f":"IF(EO62=\"要是正\",IF(AND(CT62=\"予定\",EN62=2),1,IF(CT62=\"改善済\",2,\"\")),\"\")","v":""},{"$f":"IF(EY62=1,EX62,\"0\")","v":"0"},{"$f":"IF(EY62=2,EX62,\"0\")","v":"0"},{"$f":"IF(AND(EO62=\"要是正\",AND(EN62=0,CT62=\"未定\")),CT62,\"\")","v":""},{"$f":"IF(EO62=\"既存不適格\",IF(OR(EN62<2,CT62<>\"予定\"),\"\",\"令和\"&CN62&\"年\"&CQ62&\"月1日\"),\"\")","v":""},{"$f":"IF(FC62=\"\",\"0\",DATEVALUE(FC62))","v":"0"},{"$f":"IF(EO62=\"既存不適格\",IF(AND(CT62=\"予定\",EN62=2),1,IF(CT62=\"改善済\",2,\"\")),\"\")","v":""},{"$f":"IF(FE62=1,FD62,\"0\")","v":"0"},{"$f":"IF(FE62=2,FD62,\"0\")","v":"0"},{"$f":"IF(AND(EO62=\"既存不適格\",AND(EN62=0,CT62=\"未定\")),CT62,\"\")","v":""},null,null,null,null,null,null,null,null,null,null,null,null,null,null,null,null,null,null,null,null,null,null,null,null,null,null,null,"",{"$f":"IF(OR($BA62=\"×要是正（既存不適格以外）\",$BA62=\"△既存不適格\"),\"○\",\"\")","v":""},{"$f":"IF($BA62=\"△既存不適格\",\"○\",\"\")","v":""},0,{"$f":"IF($BA62=\"―対象外\",\"○\",\"\")","v":""},null,{"$f":"IF(EO62=\"要是正\",IF(BO62=\"\",\"\",ER62&\" \"&HA62&\" \" &BO62&CHAR(10)),\"\")","v":""},{"$f":"IF(NOT(OR(CT62=\"未定\",CT62=\"\")),\"令和\"&CN62&\"年\"&CQ62&\"月1日\",\"\")","v":""},{"$f":"IF(GQ62=\"\",\"0\",DATEVALUE(GQ62))","v":"0"},"",{"$f":"IF(GS62=1,GR62,\"0\")","v":"0"},"",null,0,null,null,null,{"$f":"P62","v":0}]
[null,null,null,null,null,null,null,null,null,null,null,null,null,null,null,null,null,null,null,null,null,null,null,null,null,null,null,null,null,null,null,null,null,null,null,null,null,null,null,null,null,null,null,null,null,null,null,null,null,null,null,null,null,null,null,null,null,null,null,null,null,null,null,null,null,null,null,null,null,null,null,null,null,null,null,null,null,null,null,null,null,null,null,null,null,null,null,null,null,null,null,null,null,null,null,null,null,null,null,null,null,null,null,null,null,null,null,null,null,null,null,null,null,null,null,null,null,null,null,null,null,null,null,null,null,null,null,null,null,null,null,null,null,null,null,null,null,0,0,0,0,0,0,0,"",{"$f":"IF($EO63=\"要是正\",MAX($EP$14:EP59)+1,\"\")","v":""},{"$f":"IF($EO63=\"要是正\",MAX($EQ$14:EQ59)+1,\"\")","v":""},"","","","","","","0","","0","0","","","0","","0","0","",null,null,null,null,null,null,null,null,null,null,null,null,null,null,null,null,null,null,null,null,null,null,null,null,null,null,null,"","","",0,"",null,"","","0","","0","",null,0,null,null,null,0]
[null,null,null,null,null,null,null,null,null,null,null,null,null,null,null,null,null,null,null,null,null,null,null,null,null,null,null,null,null,null,null,null,null,null,null,null,null,null,null,null,null,null,null,null,null,null,null,null,null,null,null,null,null,null,null,null,null,null,null,null,null,null,null,null,null,null,null,null,null,null,null,null,null,null,null,null,null,null,null,null,null,null,null,null,null,null,null,null,null,null,null,null,null,null,null,null,null,null,null,null,null,null,null,null,null,null,null,null,null,null,null,null,null,null,null,null,null,null,null,null,null,null,null,null,null,null,null,null,null,null,null,null,null,null,null,null,null,0,0,0,0,0,0,0,"",{"$f":"IF($EO64=\"要是正\",MAX($EP$14:EP60)+1,\"\")","v":""},{"$f":"IF($EO64=\"要是正\",MAX($EQ$14:EQ60)+1,\"\")","v":""},"","","","","","","0","","0","0","","","0","","0","0","",null,null,null,null,null,null,null,null,null,null,null,null,null,null,null,null,null,null,null,null,null,null,null,null,null,null,null,"","","",0,"",null,"","","0","","0","",null,0,null,null,null,0]
[null,null,null,null,null,null,null,null,null,null,null,null,null,null,null,null,null,null,null,null,null,null,null,null,null,null,null,null,null,null,null,null,null,null,null,null,null,null,null,null,null,null,null,null,null,null,null,null,null,null,null,null,null,null,null,null,null,null,null,null,null,null,null,null,null,null,null,null,null,null,null,null,null,null,null,null,null,null,null,null,null,null,null,null,null,null,null,null,null,null,null,null,null,null,null,null,null,null,null,null,null,null,null,null,null,null,null,null,null,null,null,null,null,null,null,null,null,null,null,null,null,null,null,null,null,null,null,null,null,null,null,null,null,null,null,null,null,0,0,0,0,0,0,0,"",{"$f":"IF($EO65=\"要是正\",MAX($EP$14:EP61)+1,\"\")","v":""},{"$f":"IF($EO65=\"要是正\",MAX($EQ$14:EQ61)+1,\"\")","v":""},"","","","","","","0","","0","0","","","0","","0","0","",null,null,null,null,null,null,null,null,null,null,null,null,null,null,null,null,null,null,null,null,null,null,null,null,null,null,null,"","","",0,"",null,"","","0","","0","",null,0,null,null,null,0]
[null,null,null,null,null,null,null,null,null,null,null,null,null,null,null,null,null,null,null,null,null,null,null,null,null,null,null,null,null,null,null,null,null,null,null,null,null,null,null,null,null,null,null,null,null,null,null,null,null,null,null,null,null,null,null,null,null,null,null,null,null,null,null,null,null,null,null,null,null,null,null,null,null,null,null,null,null,null,null,null,null,null,null,null,null,null,null,null,null,null,null,null,null,null,null,null,null,null,null,null,null,null,null,null,null,null,null,null,null,null,null,null,null,null,null,null,null,null,null,null,null,null,null,null,null,null,null,null,null,null,null,null,null,null,null,null,null,0,0,0,0,0,0,0,"",{"$f":"IF($EO66=\"要是正\",MAX($EP$14:EP62)+1,\"\")","v":""},{"$f":"IF($EO66=\"要是正\",MAX($EQ$14:EQ62)+1,\"\")","v":""},"","","","","","","0","","0","0","","","0","","0","0","",null,null,null,null,null,null,null,null,null,null,null,null,null,null,null,null,null,null,null,null,null,null,null,null,null,null,null,"","","",0,"",null,"","","0","","0","",null,0,null,null,null,0]
[null,null,null,null,null,null,null,null,null,null,null,null,null,null,null,null,null,null,null,null,null,null,null,null,null,null,null,null,null,null,null,null,null,null,null,null,null,null,null,null,null,null,null,null,null,null,null,null,null,null,null,null,null,null,null,null,null,null,null,null,null,null,null,null,null,null,null,null,null,null,null,null,null,null,null,null,null,null,null,null,null,null,null,null,null,null,null,null,null,null,null,null,null,null,null,null,null,null,null,null,null,null,null,null,null,null,null,null,null,null,null,null,null,null,null,null,null,null,null,null,null,null,null,null,null,null,null,null,null,null,null,null,null,null,null,null,null,0,0,0,0,0,0,0,"",{"$f":"IF($EO67=\"要是正\",MAX($EP$14:EP63)+1,\"\")","v":""},{"$f":"IF($EO67=\"要是正\",MAX($EQ$14:EQ63)+1,\"\")","v":""},"","","","","","","0","","0","0","","","0","","0","0","",null,null,null,null,null,null,null,null,null,null,null,null,null,null,null,null,null,null,null,null,null,null,null,null,null,null,null,"","","",0,"",null,"","","0","","0","",null,0,null,null,null,0]
[null,null,null,null,null,null,null,null,null,null,null,null,null,null,null,null,null,null,null,null,null,null,null,null,null,null,null,null,null,null,null,null,null,null,null,null,null,null,null,null,null,null,null,null,null,null,null,null,null,null,null,null,null,null,null,null,null,null,null,null,null,null,null,null,null,null,null,null,null,null,null,null,null,null,null,null,null,null,null,null,null,null,null,null,null,null,null,null,null,null,null,null,null,null,null,null,null,null,null,null,null,null,null,null,null,null,null,null,null,null,null,null,null,null,null,null,null,null,null,null,null,null,null,null,null,null,null,null,null,null,null,null,null,null,null,null,null,0,0,0,0,0,0,0,"",{"$f":"IF($EO68=\"要是正\",MAX($EP$14:EP64)+1,\"\")","v":""},{"$f":"IF($EO68=\"要是正\",MAX($EQ$14:EQ64)+1,\"\")","v":""},"","","","","","","0","","0","0","","","0","","0","0","",null,null,null,null,null,null,null,null,null,null,null,null,null,null,null,null,null,null,null,null,null,null,null,null,null,null,null,"","","",0,"",null,"","","0","","0","",null,0,null,null,null,0]
[null,null,null,null,null,null,null,null,null,null,null,null,null,null,null,null,null,null,null,null,null,null,null,null,null,null,null,null,null,null,null,null,null,null,null,null,null,null,null,null,null,null,null,null,null,null,null,null,null,null,null,null,null,null,null,null,null,null,null,null,null,null,null,null,null,null,null,null,null,null,null,null,null,null,null,null,null,null,null,null,null,null,null,null,null,null,null,null,null,null,null,null,null,null,null,null,null,null,null,null,null,null,null,null,null,null,null,null,null,null,null,null,null,null,null,null,null,null,null,null,null,null,null,null,null,null,null,null,null,null,null,null,null,null,null,null,null,0,0,0,0,0,0,0,"",{"$f":"IF($EO69=\"要是正\",MAX($EP$14:EP65)+1,\"\")","v":""},{"$f":"IF($EO69=\"要是正\",MAX($EQ$14:EQ65)+1,\"\")","v":""},"","","","","","","0","","0","0","","","0","","0","0","",null,null,null,null,null,null,null,null,null,null,null,null,null,null,null,null,null,null,null,null,null,null,null,null,null,null,null,"","","",0,"",null,"","","0","","0","",null,0,null,null,null,0]
[null,null,null,null,null,null,null,null,null,null,null,null,null,null,null,null,null,null,null,null,null,null,null,null,null,null,null,null,null,null,null,null,null,null,null,null,null,null,null,null,null,null,null,null,null,null,null,null,null,null,null,null,null,null,null,null,null,null,null,null,null,null,null,null,null,null,null,null,null,null,null,null,null,null,null,null,null,null,null,null,null,null,null,null,null,null,null,null,null,null,null,null,null,null,null,null,null,null,null,null,null,null,null,null,null,null,null,null,null,null,null,null,null,null,null,null,null,null,null,null,null,null,null,null,null,null,null,null,null,null,null,null,null,null,null,null,null,0,0,0,0,0,0,0,"",{"$f":"IF($EO70=\"要是正\",MAX($EP$14:EP66)+1,\"\")","v":""},{"$f":"IF($EO70=\"要是正\",MAX($EQ$14:EQ66)+1,\"\")","v":""},"","","","","","","0","","0","0","","","0","","0","0","",null,null,null,null,null,null,null,null,null,null,null,null,null,null,null,null,null,null,null,null,null,null,null,null,null,null,null,"","","",0,"",null,"","","0","","0","",null,0,null,null,null,0]
[null,null,null,null,null,null,null,null,null,null,null,null,null,null,null,null,null,null,null,null,null,null,null,null,null,null,null,null,null,null,null,null,null,null,null,null,null,null,null,null,null,null,null,null,null,null,null,null,null,null,null,null,null,null,null,null,null,null,null,null,null,null,null,null,null,null,null,null,null,null,null,null,null,null,null,null,null,null,null,null,null,null,null,null,null,null,null,null,null,null,null,null,null,null,null,null,null,null,null,null,null,null,null,null,null,null,null,null,null,null,null,null,null,null,null,null,null,null,null,null,null,null,null,null,null,null,null,null,null,null,null,null,null,null,null,null,null,0,0,0,0,0,0,0,"",{"$f":"IF($EO71=\"要是正\",MAX($EP$14:EP67)+1,\"\")","v":""},{"$f":"IF($EO71=\"要是正\",MAX($EQ$14:EQ67)+1,\"\")","v":""},"","","","","","","0","","0","0","","","0","","0","0","",null,null,null,null,null,null,null,null,null,null,null,null,null,null,null,null,null,null,null,null,null,null,null,null,null,null,null,"","","",0,"",null,"","","0","","0","",null,0,null,null,null,0]
[null,null,null,null,null,null,null,null,null,null,null,null,null,null,null,null,null,null,null,null,null,null,null,null,null,null,null,null,null,null,null,null,null,null,null,null,null,null,null,null,null,null,null,null,null,null,null,null,null,null,null,null,null,null,null,null,null,null,null,null,null,null,null,null,null,null,null,null,null,null,null,null,null,null,null,null,null,null,null,null,null,null,null,null,null,null,null,null,null,null,null,null,null,null,null,null,null,null,null,null,null,null,null,null,null,null,null,null,null,null,null,null,null,null,null,null,null,null,null,null,null,null,null,null,null,null,null,null,null,null,null,null,null,null,null,null,null,0,0,0,0,0,0,0,"",{"$f":"IF($EO72=\"要是正\",MAX($EP$14:EP68)+1,\"\")","v":""},{"$f":"IF($EO72=\"要是正\",MAX($EQ$14:EQ68)+1,\"\")","v":""},"",{"$f":"IF(OR($EO72=\"要是正\",$EO72=\"既存不適格\"),$EM72,\"\")","v":""},"","","","","0","","0","0","","","0","","0","0","",null,null,null,null,null,null,null,null,null,null,null,null,null,null,null,null,null,null,null,null,null,null,null,null,null,null,null,"","","",0,"",null,"","","0","","0","",null,0,null,null,null,0]
[null,null,null,null,null,null,null,null,null,null,null,null,null,null,null,null,null,null,null,null,null,null,null,null,null,null,null,null,null,null,null,null,null,null,null,null,null,null,null,null,null,null,null,null,null,null,null,null,null,null,null,null,null,null,null,null,null,null,null,null,null,null,null,null,null,null,null,null,null,null,null,null,null,null,null,null,null,null,null,null,null,null,null,null,null,null,null,null,null,null,null,null,null,null,null,null,null,null,null,null,null,null,null,null,null,null,null,null,null,null,null,null,null,null,null,null,null,null,null,null,null,null,null,null,null,null,null,null,null,null,null,null,null,null,null,null,null,0,0,0,0,0,0,0,"",{"$f":"IF($EO73=\"要是正\",MAX($EP$14:EP69)+1,\"\")","v":""},{"$f":"IF($EO73=\"要是正\",MAX($EQ$14:EQ69)+1,\"\")","v":""},"",{"$f":"IF(OR($EO73=\"要是正\",$EO73=\"既存不適格\"),$EM73,\"\")","v":""},"","","","","0","","0","0","","","0","","0","0","",null,null,null,null,null,null,null,null,null,null,null,null,null,null,null,null,null,null,null,null,null,null,null,null,null,null,null,{"$f":"IF($BA73=\"○指摘なし\",\"○\",\"\")","v":""},{"$f":"IF(OR($BA73=\"×要是正（既存不適格以外）\",$BA73=\"△既存不適格\"),\"○\",\"\")","v":""},{"$f":"IF($BA73=\"△既存不適格\",\"○\",\"\")","v":""},0,{"$f":"IF($BA73=\"―対象外\",\"○\",\"\")","v":""},null,"","","0","","0","",null,0,null,null,null,0]
[null,null,null,null,null,null,null,null,null,null,null,null,null,null,null,null,null,null,null,null,null,null,null,null,null,null,null,null,null,null,null,null,null,null,null,null,null,null,null,null,null,null,null,null,null,null,null,null,null,null,null,null,null,null,null,null,null,null,null,null,null,null,null,null,null,null,null,null,null,null,null,null,null,null,null,null,null,null,null,null,null,null,null,null,null,null,null,null,null,null,null,null,null,null,null,null,null,null,null,null,null,null,null,null,null,null,null,null,null,null,null,null,null,null,null,null,null,null,null,null,null,null,null,null,null,null,null,null,null,null,null,null,null,null,null,null,null,0,0,0,0,0,0,0,"",{"$f":"IF($EO74=\"要是正\",MAX($EP$14:EP70)+1,\"\")","v":""},{"$f":"IF($EO74=\"要是正\",MAX($EQ$14:EQ70)+1,\"\")","v":""},"",{"$f":"IF(OR($EO74=\"要是正\",$EO74=\"既存不適格\"),$EM74,\"\")","v":""},"","","","","0","","0","0","","","0","","0","0","",null,null,null,null,null,null,null,null,null,null,null,null,null,null,null,null,null,null,null,null,null,null,null,null,null,null,null,{"$f":"IF($BA74=\"○指摘なし\",\"○\",\"\")","v":""},{"$f":"IF(OR($BA74=\"×要是正（既存不適格以外）\",$BA74=\"△既存不適格\"),\"○\",\"\")","v":""},{"$f":"IF($BA74=\"△既存不適格\",\"○\",\"\")","v":""},0,{"$f":"IF($BA74=\"―対象外\",\"○\",\"\")","v":""},null,"","","0","","0","",null,0,null,null,null,0]
[null,null,null,null,null,null,null,null,null,null,null,null,null,null,null,null,null,null,null,null,null,null,null,null,null,null,null,null,null,null,null,null,null,null,null,null,null,null,null,null,null,null,null,null,null,null,null,null,null,null,null,null,null,null,null,null,null,null,null,null,null,null,null,null,null,null,null,null,null,null,null,null,null,null,null,null,null,null,null,null,null,null,null,null,null,null,null,null,null,null,null,null,null,null,null,null,null,null,null,null,null,null,null,null,null,null,null,null,null,null,null,null,null,null,null,null,null,null,null,null,null,null,null,null,null,null,null,null,null,null,null,null,null,null,null,null,null,0,0,0,0,0,0,0,"",{"$f":"IF($EO75=\"要是正\",MAX($EP$14:EP71)+1,\"\")","v":""},{"$f":"IF($EO75=\"要是正\",MAX($EQ$14:EQ71)+1,\"\")","v":""},"",{"$f":"IF(OR($EO75=\"要是正\",$EO75=\"既存不適格\"),$EM75,\"\")","v":""},"","","","","0","","0","0","","","0","","0","0","",null,null,null,null,null,null,null,null,null,null,null,null,null,null,null,null,null,null,null,null,null,null,null,null,null,null,null,{"$f":"IF($BA75=\"○指摘なし\",\"○\",\"\")","v":""},{"$f":"IF(OR($BA75=\"×要是正（既存不適格以外）\",$BA75=\"△既存不適格\"),\"○\",\"\")","v":""},{"$f":"IF($BA75=\"△既存不適格\",\"○\",\"\")","v":""},0,{"$f":"IF($BA75=\"―対象外\",\"○\",\"\")","v":""},null,"","","0","","0","",null,0,null,null,null,0]
[null,null,null,null,null,null,null,null,null,null,null,null,null,null,null,null,null,null,null,null,null,null,null,null,null,null,null,null,null,null,null,null,null,null,null,null,null,null,null,null,null,null,null,null,null,null,null,null,null,null,null,null,null,null,null,null,null,null,null,null,null,null,null,null,null,null,null,null,null,null,null,null,null,null,null,null,null,null,null,null,null,null,null,null,null,null,null,null,null,null,null,null,null,null,null,null,null,null,null,null,null,null,null,null,null,null,null,null,null,null,null,null,null,null,null,null,null,null,null,null,null,null,null,null,null,null,null,null,null,null,null,null,null,null,null,null,null,{"$f":"SUM(EH61:EH75)","v":0},{"$f":"SUM(EI61:EI75)","v":0},0,0,null,null,null,null,null,null,null,null,null,null,null,null,null,{"$f":"COUNTIF(EY61:EY75,\"1\")","v":0},{"$f":"INDEX(EZ61:EZ75,MATCH(MIN(ABS(EZ61:EZ75-$EJ$4)),ABS(EZ61:EZ75-$EJ$4),0))","v":"0"},{"$f":"INDEX(FA61:FA75,MATCH(MIN(ABS(FA61:FA75-$EJ$4)),ABS(FA61:FA75-$EJ$4),0))","v":"0"},{"$f":"COUNTIF(FB61:FB75,\"未定\")","v":0},null,null,{"$f":"COUNTIF(FE61:FE75,\"1\")","v":0},{"$f":"INDEX(FF61:FF75,MATCH(MIN(ABS(FF61:FF75-$EJ$4)),ABS(FF61:FF75-$EJ$4),0))","v":"0"},{"$f":"INDEX(FG61:FG75,MATCH(MIN(ABS(FG61:FG75-$EJ$4)),ABS(FG61:FG75-$EJ$4),0))","v":"0"},{"$f":"COUNTIF(FH61:FH75,\"未定\")","v":0},null,null,null,null,null,null,null,null,null,null,null,null,null,null,null,1,null,null,null,null,null,null,null,null,null,null,null,"↑「上記に記載のない事項」は基本的に「対象外」は",null,null,null,null,null,null,{"$f":"IF(NOT(OR(CW58=\"未定\",CQ58=\"\")),\"令和\"&CT58&\"年\"&CU59&\"月1日\",\"\")","v":""},{"$f":"IF(GQ76=\"\",\"0\",DATEVALUE(GQ76))","v":"0"},{"$f":"COUNTIF(GS61:GS75,\"1\")","v":0},{"$f":"INDEX(GT61:GT75,MATCH(MIN(ABS(GT61:GT75-$EJ$4)),ABS(GT61:GT75-$EJ$4),0))","v":"0"},{"$f":"COUNTIF(GU61:GU75,\"未定\")","v":0}]
[null,null,null,null,null,null,null,null,null,null,null,null,null,null,null,null,null,null,null,null,null,null,null,null,null,null,null,null,null,null,null,null,null,null,null,null,null,null,null,null,null,null,null,null,null,null,null,null,null,null,null,null,null,null,null,null,null,null,null,null,null,null,null,null,null,null,null,null,null,null,null,null,null,null,null,null,null,null,null,null,null,null,null,null,null,null,null,null,null,null,null,null,null,null,null,null,null,null,null,null,null,null,null,null,null,null,null,null,null,null,null,null,null,null,null,null,null,null,null,null,null,null,null,null,null,null,null,null,null,null,null,null,null,null,null,null,null,null,null,null,null,null,null,null,null,null,null,null,null,null,null,null,null,null,null,null,null,null,null,null,null,null,null,null,null,null,null,null,null,null,null,null,null,null,null,null,null,null,null,null,null,null,null,null,null,null,null,null,null,null,null,"発生しない。"]
[]
[null,null,null,null,null,null,null,null,null,null,null,null,null,null,null,null,null,null,null,null,null,null,null,null,null,null,null,null,null,null,null,null,null,null,null,null,null,null,null,null,null,null,null,null,null,null,null,null,null,null,null,null,null,null,null,null,null,null,null,null,null,null,null,null,null,null,null,null,null,null,null,null,null,null,null,null,null,null,null,null,null,null,null,null,null,null,null,null,null,null,null,null,null,null,null,null,null,null,null,null,null,null,null,null,null,null,null,null,null,null,null,null,null,null,null,null,null,null,null,null,null,null,null,null,null,null,null,null,null,null,null,null,null,null,null,null,null,{"$f":"SUM(EH44,EH54)","v":0},{"$f":"SUM(EI44,EI54)","v":0},{"$f":"SUM(EJ44,EJ54)","v":0},{"$f":"SUM(EK44,EK54)","v":0}]
[null,null,null,null,null,null,null,null,null,null,null,null,null,null,null,null,null,null,null,null,null,null,null,null,null,null,null,null,null,null,null,null,null,null,null,null,null,null,null,null,null,null,null,null,null,null,null,null,null,null,null,null,null,null,null,null,null,null,null,null,null,null,null,null,null,null,null,null,null,null,null,null,null,null,null,null,null,null,null,null,null,null,null,null,null,null,null,null,null,null,null,null,null,null,null,null,null,null,null,null,null,null,null,null,null,null,null,null,null,null,null,null,null,null,null,null,null,null,null,null,null,null,null,null,null,null,null,null,null,null,null,null,null,null,null,null,null,{"$f":"IF(EH79<>0,\"レ\",\"\")","v":""},{"$f":"IF(EI79<>0,\"レ\",\"\")","v":""},{"$f":"IF(EJ79<>0,\"レ\",\"\")","v":""},{"$f":"IF(EK79<>0,\"レ\",\"\")","v":""}]
[]
[]
[null,null,null,null,null,null,null,null,null,null,null,null,null,null,null,null,null,null,null,null,null,null,null,null,null,null,null,null,null,null,null,null,null,null,null,null,null,null,null,null,null,null,null,null,null,null,null,null,null,null,null,null,null,null,null,null,null,null,null,null,null,null,null,null,null,null,null,null,null,null,null,null,null,null,null,null,null,null,null,null,null,null,null,null,null,null,null,null,null,null,null,null,null,null,null,null,null,null,null,null,null,null,null,null,null,null,null,null,null,null,null,null,null,null,null,null,null,null,null,null,null,null,null,null,null,null,null,null,null,null,null,null,null,null,null,null,null,"1　法第28条第2項又は第3項に基づき換気設備が設けられた居室"]
[null,null,null,null,null,null,null,null,null,null,null,null,null,null,null,null,null,null,null,null,null,null,null,null,null,null,null,null,null,null,null,null,null,null,null,null,null,null,null,null,null,null,null,null,null,null,null,null,null,null,null,null,null,null,null,null,null,null,null,null,null,null,null,null,null,null,null,null,null,null,null,null,null,null,null,null,null,null,null,null,null,null,null,null,null,null,null,null,null,null,null,null,null,null,null,null,null,null,null,null,null,null,null,null,null,null,null,null,null,null,null,null,null,null,null,null,null,null,null,null,null,null,null,null,null,null,null,null,null,null,null,null,null,null,null,null,null,"改善予定","改善済","未定"]
[null,null,null,null,null,null,null,null,null,null,null,null,null,null,null,null,null,null,null,null,null,null,null,null,null,null,null,null,null,null,null,null,null,null,null,null,null,null,null,null,null,null,null,null,null,null,null,null,null,null,null,null,null,null,null,null,null,null,null,null,null,null,null,null,null,null,null,null,null,null,null,null,null,null,null,null,null,null,null,null,null,null,null,null,null,null,null,null,null,null,null,null,null,null,null,null,null,null,null,null,null,null,null,null,null,null,null,null,null,null,null,null,null,null,null,null,null,null,null,null,null,null,null,null,null,null,null,null,null,null,null,null,null,null,null,null,null,{"$f":"COUNTIF($CT17:$CV43,\"改善予定\")","v":0},{"$f":"COUNTIF($CT17:$CV43,\"改善済\")","v":0},{"$f":"COUNTIF($CT17:$CV43,\"予定なし\")","v":0}]
[null,null,null,null,null,null,null,null,null,null,null,null,null,null,null,null,null,null,null,null,null,null,null,null,null,null,null,null,null,null,null,null,null,null,null,null,null,null,null,null,null,null,null,null,null,null,null,null,null,null,null,null,null,null,null,null,null,null,null,null,null,null,null,null,null,null,null,null,null,null,null,null,null,null,null,null,null,null,null,null,null,null,null,null,null,null,null,null,null,null,null,null,null,null,null,null,null,null,null,null,null,null,null,null,null,null,null,null,null,null,null,null,null,null,null,null,null,null,null,null,null,null,null,null,null,null,null,null,null,null,null,null,null,null,null,null,null,"2　換気設備を設けるべき調理室等"]
[null,null,null,null,null,null,null,null,null,null,null,null,null,null,null,null,null,null,null,null,null,null,null,null,null,null,null,null,null,null,null,null,null,null,null,null,null,null,null,null,null,null,null,null,null,null,null,null,null,null,null,null,null,null,null,null,null,null,null,null,null,null,null,null,null,null,null,null,null,null,null,null,null,null,null,null,null,null,null,null,null,null,null,null,null,null,null,null,null,null,null,null,null,null,null,null,null,null,null,null,null,null,null,null,null,null,null,null,null,null,null,null,null,null,null,null,null,null,null,null,null,null,null,null,null,null,null,null,null,null,null,null,null,null,null,null,null,"改善予定","改善済","未定"]
[null,null,null,null,null,null,null,null,null,null,null,null,null,null,null,null,null,null,null,null,null,null,null,null,null,null,null,null,null,null,null,null,null,null,null,null,null,null,null,null,null,null,null,null,null,null,null,null,null,null,null,null,null,null,null,null,null,null,null,null,null,null,null,null,null,null,null,null,null,null,null,null,null,null,null,null,null,null,null,null,null,null,null,null,null,null,null,null,null,null,null,null,null,null,null,null,null,null,null,null,null,null,null,null,null,null,null,null,null,null,null,null,null,null,null,null,null,null,null,null,null,null,null,null,null,null,null,null,null,null,null,null,null,null,null,null,null,{"$f":"COUNTIF($CT51:$CV53,\"改善予定\")","v":0},{"$f":"COUNTIF($CT51:$CV53,\"改善済\")","v":0},{"$f":"COUNTIF($CT51:$CV53,\"予定なし\")","v":0}]
[null,null,null,null,null,null,null,null,null,null,null,null,null,null,null,null,null,null,null,null,null,null,null,null,null,null,null,null,null,null,null,null,null,null,null,null,null,null,null,null,null,null,null,null,null,null,null,null,null,null,null,null,null,null,null,null,null,null,null,null,null,null,null,null,null,null,null,null,null,null,null,null,null,null,null,null,null,null,null,null,null,null,null,null,null,null,null,null,null,null,null,null,null,null,null,null,null,null,null,null,null,null,null,null,null,null,null,null,null,null,null,null,null,null,null,null,null,null,null,null,null,null,null,null,null,null,null,null,null,null,null,null,null,null,null,null,null,{"$f":"SUM(EH85:EH88)","v":0},{"$f":"SUM(EI85:EI88)","v":0},{"$f":"SUM(EJ85:EJ88)","v":0},{"$f":"SUM(EH89:EJ89)","v":0}]
[]
[null,null,null,null,null,null,null,null,null,null,null,null,null,null,null,null,null,null,null,null,null,null,null,null,null,null,null,null,null,null,null,null,null,null,null,null,null,null,null,null,null,null,null,null,null,null,null,null,null,null,null,null,null,null,null,null,null,null,null,null,null,null,null,null,null,null,null,null,null,null,null,null,null,null,null,null,null,null,null,null,null,null,null,null,null,null,null,null,null,null,null,null,null,null,null,null,null,null,null,null,null,null,null,null,null,null,null,null,null,null,null,null,null,null,null,null,null,null,null,null,null,null,null,null,null,null,null,null,null,null,null,null,null,null,null,null,null,{"$f":"IF(EH89<>0,\"レ\",\"\")","v":""},{"$f":"IF(EI89<>0,\"レ\",\"\")","v":""},{"$f":"IF(EJ89<>0,\"レ\",\"\")","v":""}]

{"sheet":"4_入力シート【検査結果表】 耐火クロススクリーン","index":3,"n_rows":90,"n_cols":209,"rows_kept":90,"cut":false,"hidden":false,"merged":[[54,191,54,195],[53,148,55,148],[12,150,12,151],[13,150,15,150],[13,151,15,151],[54,198,54,202],[9,198,9,202],[9,204,9,206],[11,204,11,206],[13,197,14,197],[44,198,44,202],[12,152,12,157],[12,158,12,163],[12,148,15,148],[11,148,11,163],[12,177,12,187],[11,198,11,202],[12,198,12,202],[44,164,44,166],[44,167,44,170],[44,172,44,176],[44,177,44,181],[44,182,44,186],[14,158,14,163],[14,152,14,157],[43,148,45,148],[14,172,14,176],[14,177,14,181],[14,182,14,186],[44,191,44,195],[14,191,14,195],[45,94,45,96],[45,97,45,99],[44,91,44,99],[44,100,45,119],[44,149,45,149],[44,150,45,150],[44,152,44,157],[44,158,44,163],[14,167,14,170],[14,164,14,166],[21,97,21,99],[21,100,21,119],[23,94,23,96],[14,149,15,149],[22,94,22,96],[22,97,22,99],[22,100,22,119],[26,100,26,119],[24,100,24,119],[24,94,24,96],[24,97,24,99],[24,91,24,93],[34,94,34,96],[34,97,34,99],[12,12,12,20],[1,44,1,46],[1,52,1,54],[1,60,1,62],[1,72,1,74],[8,12,8,116],[9,12,9,20],[9,21,9,59],[11,12,11,16],[11,17,11,19],[11,21,11,42],[11,49,11,53],[11,54,11,56],[11,57,11,79],[11,82,11,86],[11,87,11,89],[11,90,11,112],[12,21,12,112],[7,9,7,119],[14,12,15,14],[14,15,15,26],[14,27,15,51],[14,52,15,63],[14,76,15,90],[14,91,14,99],[14,64,15,65],[15,97,15,99],[15,94,15,96],[15,91,15,93],[13,21,13,99],[16,64,16,65],[16,66,16,75],[16,76,16,90],[16,91,16,93],[16,94,16,96],[16,97,16,99],[17,97,17,99],[14,100,15,119],[16,100,16,119],[14,66,15,75],[16,12,16,14],[16,15,26,19],[16,20,16,26],[16,27,16,51],[16,52,16,63],[18,97,18,99],[17,100,17,119],[17,91,17,93],[17,94,17,96],[20,97,20,99],[20,100,20,119],[19,12,19,14],[19,27,19,51],[19,52,19,63],[19,64,19,65],[19,66,19,75],[19,76,19,90],[19,91,19,93],[19,94,19,96],[19,97,19,99],[20,12,20,14],[20,20,20,26],[20,27,20,51],[20,52,20,63],[18,12,18,14],[17,12,17,14],[17,66,17,75],[17,76,17,90],[20,91,20,93],[20,94,20,96],[17,27,17,51],[17,52,17,63],[17,64,17,65],[18,64,18,65],[18,66,18,75],[18,76,18,90],[18,91,18,93],[18,94,18,96],[17,20,17,26],[21,66,21,75],[21,76,21,90],[21,91,21,93],[21,94,21,96],[20,64,20,65],[20,66,20,75],[20,76,20,90],[19,100,19,119],[18,20,19,26],[18,27,18,51],[18,52,18,63],[18,100,18,119],[22,27,22,51],[22,52,22,63],[22,64,22,65],[25,12,25,14],[25,27,25,51],[25,52,25,63],[21,12,21,14],[21,20,21,26],[21,27,21,51],[21,52,21,63],[21,64,21,65],[25,91,25,93],[26,27,26,51],[26,52,26,63],[25,94,25,96],[25,97,25,99],[25,100,25,119],[22,76,22,90],[22,91,22,93],[24,12,24,14],[24,27,24,51],[24,52,24,63],[24,64,24,65],[24,66,24,75],[24,76,24,90],[22,66,22,75],[23,12,23,14],[23,27,23,51],[23,52,23,63],[23,64,23,65],[23,66,23,75],[23,91,23,93],[22,12,22,14],[22,20,26,26],[26,12,26,14],[23,76,23,90],[23,97,23,99],[23,100,23,119],[29,64,29,65],[28,76,28,90],[28,91,28,93],[27,100,27,119],[28,100,28,119],[26,64,26,65],[26,66,26,75],[26,76,26,90],[26,91,26,93],[26,94,26,96],[26,97,26,99],[28,94,28,96],[28,97,28,99],[27,66,27,75],[27,76,27,90],[27,91,27,93],[27,94,27,96],[27,97,27,99],[25,64,25,65],[25,66,25,75],[25,76,25,90],[28,27,28,51],[28,52,28,63],[28,64,28,65],[28,66,28,75],[32,64,32,65],[29,94,29,96],[29,97,29,99],[27,12,27,14],[27,15,36,19],[27,20,28,26],[27,27,27,51],[27,52,27,63],[27,64,27,65],[28,12,28,14],[29,76,29,90],[29,91,29,93],[31,12,31,14],[31,27,31,51],[31,52,31,63],[31,64,31,65],[31,66,31,75],[30,12,30,14],[30,27,30,51],[29,12,29,14],[29,20,32,26],[29,27,29,51],[29,52,29,63],[32,12,32,14],[34,100,34,119],[29,100,29,119],[31,76,31,90],[31,91,31,93],[31,94,31,96],[31,97,31,99],[31,100,31,119],[30,100,30,119],[34,27,34,51],[34,52,34,63],[34,64,34,65],[34,66,34,75],[34,76,34,90],[34,91,34,93],[29,66,29,75],[30,64,30,65],[30,66,30,75],[30,91,30,93],[30,94,30,96],[30,97,30,99],[30,76,30,90],[32,27,32,51],[32,52,32,63],[32,91,32,93],[32,94,32,96],[32,97,32,99],[32,100,32,119],[30,52,30,63],[33,100,33,119],[33,66,33,75],[33,76,33,90],[33,91,33,93],[33,94,33,96],[33,97,33,99],[32,66,32,75],[32,76,32,90],[34,12,34,14],[35,76,35,90],[35,91,35,93],[35,94,35,96],[35,97,35,99],[33,12,33,14],[33,20,34,26],[33,27,33,51],[33,52,33,63],[33,64,33,65],[35,12,35,14],[35,20,35,26],[35,27,35,51],[35,52,35,63],[35,64,35,65],[35,66,35,75],[35,100,35,119],[37,76,37,90],[37,91,37,93],[37,94,37,96],[37,97,37,99],[37,100,37,119],[36,94,36,96],[36,97,36,99],[36,100,36,119],[36,76,36,90],[36,91,36,93],[44,12,45,14],[44,52,45,63],[38,76,38,90],[38,91,38,93],[36,12,36,14],[36,20,36,26],[36,27,36,51],[36,52,36,63],[36,64,36,65],[36,66,36,75],[37,12,37,14],[37,15,38,26],[37,27,37,51],[37,52,37,63],[37,64,37,65],[37,66,37,75],[38,12,38,14],[38,27,38,51],[38,52,38,63],[38,64,38,65],[38,66,38,75],[45,91,45,93],[38,97,38,99],[38,100,38,119],[47,91,47,93],[47,94,47,96],[47,97,47,99],[47,100,47,119],[38,94,38,96],[46,76,46,90],[46,91,46,93],[46,94,46,96],[44,76,45,90],[43,12,43,119],[46,97,46,99],[46,100,46,119],[46,12,46,14],[46,52,46,63],[46,64,46,65],[46,66,46,75],[46,15,46,31],[46,32,46,51],[44,32,45,51],[44,15,45,31],[44,64,45,65],[44,66,45,75],[47,12,47,14],[47,52,47,63],[47,64,47,65],[47,66,47,75],[47,76,47,90],[47,15,47,31],[48,15,48,31],[47,32,47,51],[48,32,48,51],[48,12,48,14],[48,52,48,63],[48,76,48,90],[67,32,67,51],[54,167,54,170],[54,172,54,176],[54,177,54,181],[54,182,54,186],[55,91,55,93],[55,94,55,96],[55,97,55,99],[54,100,55,119],[54,149,55,149],[54,150,55,150],[54,152,54,157],[54,158,54,163],[54,164,54,166],[54,91,54,99],[67,94,67,96],[67,97,67,99],[67,100,67,119],[67,76,67,90],[67,91,67,93],[54,32,55,51],[59,97,59,99],[59,100,59,119],[60,97,60,99],[71,10,71,11],[71,12,71,13],[71,14,71,17],[70,12,70,14],[70,15,70,31],[70,52,70,63],[70,64,70,65],[70,66,70,75],[70,76,70,90],[70,32,70,51],[68,15,68,31],[68,52,68,63],[68,64,68,65],[68,66,68,75],[68,32,68,51],[69,32,69,51],[69,12,69,14],[69,15,69,31],[69,52,69,63],[69,64,69,65],[69,66,69,75],[48,100,48,119],[53,12,53,119],[54,12,55,14],[54,52,55,63],[54,64,55,65],[54,66,55,75],[54,76,55,90],[56,91,56,93],[56,94,56,96],[56,97,56,99],[56,100,56,119],[56,76,56,90],[56,52,56,63],[56,64,56,65],[56,66,56,75],[56,32,56,51],[48,64,48,65],[48,66,48,75],[54,15,55,31],[48,91,48,93],[48,94,48,96],[48,97,48,99],[67,12,67,14],[67,15,67,31],[67,52,67,63],[67,64,67,65],[67,66,67,75],[56,12,56,14],[56,15,56,31],[81,137,81,139],[84,137,84,139],[68,91,68,93],[68,94,68,96],[68,97,68,99],[68,100,68,119],[68,76,68,90],[69,76,69,90],[69,91,69,93],[69,94,69,96],[69,97,69,99],[69,100,69,119],[70,91,70,93],[70,94,70,96],[70,97,70,99],[70,100,70,119],[68,12,68,14],[57,97,57,99],[57,100,57,119],[58,12,58,14],[58,15,58,31],[58,32,58,51],[58,52,58,63],[58,64,58,65],[58,66,58,75],[58,76,58,90],[58,91,58,93],[58,94,58,96],[58,97,58,99],[58,100,58,119],[57,12,57,14],[57,15,57,31],[57,32,57,51],[57,52,57,63],[57,64,57,65],[57,66,57,75],[57,76,57,90],[57,91,57,93],[57,94,57,96],[59,12,59,14],[59,15,59,31],[59,32,59,51],[59,52,59,63],[59,64,59,65],[59,66,59,75],[59,76,59,90],[59,91,59,93],[59,94,59,96],[60,100,60,119],[61,12,61,14],[61,15,61,31],[61,32,61,51],[61,52,61,63],[61,64,61,65],[61,66,61,75],[61,76,61,90],[61,91,61,93],[61,94,61,96],[61,97,61,99],[61,100,61,119],[60,12,60,14],[60,15,60,31],[60,32,60,51],[60,52,60,63],[60,64,60,65],[60,66,60,75],[60,76,60,90],[60,91,60,93],[60,94,60,96],[62,97,62,99],[62,100,62,119],[63,12,63,14],[63,15,63,31],[63,32,63,51],[63,52,63,63],[63,64,63,65],[63,66,63,75],[63,76,63,90],[63,91,63,93],[63,94,63,96],[63,97,63,99],[63,100,63,119],[62,12,62,14],[62,15,62,31],[62,32,62,51],[62,52,62,63],[62,64,62,65],[62,66,62,75],[62,76,62,90],[62,91,62,93],[62,94,62,96],[64,97,64,99],[64,100,64,119],[65,12,65,14],[65,15,65,31],[65,32,65,51],[65,52,65,63],[65,64,65,65],[65,66,65,75],[65,76,65,90],[65,91,65,93],[65,94,65,96],[65,97,65,99],[65,100,65,119],[64,12,64,14],[64,15,64,31],[64,32,64,51],[64,52,64,63],[64,64,64,65],[64,66,64,75],[64,76,64,90],[64,91,64,93],[64,94,64,96],[66,97,66,99],[66,100,66,119],[66,12,66,14],[66,15,66,31],[66,32,66,51],[66,52,66,63],[66,64,66,65],[66,66,66,75],[66,76,66,90],[66,91,66,93],[66,94,66,96]]}
[]
[null,null,null,null,null,null,null,null,null,null,null,null,null,null,null,null,null,null,null,null,null,null,null,null,null,null,null,null,null,null,null,null,null,null,null,null,null,null,null,null,null,null,null,null,null,null,null,"必須入力",null,null,null,null,null,null,null,"任意入力",null,null,null,null,null,null,null,"入力済み・入力不要",null,null,null,null,null,null,null,null,null,null,null,"エラー入力（入力不要な箇所に入力がある等）",null,null,null,null,null,null,null,null,null,null,null,null,null,null,null,null,null,null,null,null,null,null,null,null,null,null,null,null,null,null,null,null,null,null,null,null,null,null,null,null,null,null,null,null,null,null,null,null,null,null,null,null,null,null,null,null,null,null,null,null,null,"関数1","関数2","レ","レ",null,null,"チェックボックス","チェックボックス","チェックボックス",null,null,null,null,null,null,"報告書　第三面別紙",null,null,"配列関数（セルを選択した際はCtrl+Shift+Enterで）",null,null,null,null,null,null,null,null,null,null,null,null,null,null,null,null,null,null,null,null,null,"報告書　第一面5",null,"配列関数（セルを選択した際はCtrl+Shift+Enterで）",null,null,null,null,null,null,null,null,null,null,"選択肢候補1","選択肢候補2","選択肢候補3","選択肢候補4","選択肢候補5",null,null,"1(1) 基本指摘事項Ａ,3(1) 応用指摘事項Ｂ"]
[null,null,null,null,null,null,null,null,null,null,null,null,null,null,null,null,null,null,null,null,null,null,null,null,null,null,null,null,null,null,null,null,null,null,null,null,null,null,null,null,null,null,null,null,null,null,null,null,null,null,null,null,null,null,null,null,null,null,null,null,null,null,null,null,null,null,null,null,null,null,null,null,null,null,null,null,null,null,null,null,null,null,null,null,null,null,null,null,null,null,null,null,null,null,null,null,null,null,null,null,null,null,null,null,null,null,null,null,null,null,null,null,null,null,null,null,null,null,null,null,null,null,null,null,null,null,null,null,null,null,null,null,null,null,null,null,null,null,null,"基準日付"]
[null,null,null,null,null,null,null,null,null,null,null,null,null,null,null,null,null,null,null,null,null,null,null,null,null,null,null,null,null,null,null,null,null,null,null,null,null,null,null,null,null,null,null,null,null,null,null,null,null,null,null,null,null,null,null,null,null,null,null,null,null,null,null,null,null,null,null,null,null,null,null,null,null,null,null,null,null,null,null,null,null,null,null,null,null,null,null,null,null,null,null,null,null,null,null,null,null,null,null,null,null,null,null,null,null,null,null,null,null,null,null,null,null,null,null,null,null,null,null,null,null,null,null,null,null,null,null,null,null,null,null,null,null,null,null,null,null,null,null,"2018-12-31"]
[]
[]
[null,null,null,null,null,null,null,null,null,null,null,null,null,null,null,null,null,null,null,null,null,null,null,null,null,null,null,null,null,null,null,null,null,null,null,null,null,null,null,null,null,null,null,null,null,null,null,null,null,null,null,null,null,null,null,null,null,null,null,null,null,null,null,null,null,null,null,null,null,null,null,null,null,null,null,null,null,null,null,null,null,null,null,null,null,null,null,null,null,null,null,null,null,null,null,null,null,null,null,null,null,null,null,null,null,null,null,null,null,null,null,null,null,null,null,null,null,null,null,null,null,null,null,null,null,null,null,null,null,null,null,null,null,null,null,null,null,"検査者番号1","検査者番号2","検査者番号3",null,null,null,null,null,null,null,null,null,"全体"]
[null,null,null,null,null,null,null,null,null,"１４　検査結果表（耐火クロススクリーン）別記第三号",null,null,null,null,null,null,null,null,null,null,null,null,null,null,null,null,null,null,null,null,null,null,null,null,null,null,null,null,null,null,null,null,null,null,null,null,null,null,null,null,null,null,null,null,null,null,null,null,null,null,null,null,null,null,null,null,null,null,null,null,null,null,null,null,null,null,null,null,null,null,null,null,null,null,null,null,null,null,null,null,null,null,null,null,null,null,null,null,null,null,null,null,null,null,null,null,null,null,null,null,null,null,null,null,null,null,null,null,null,null,null,null,null,null,null,null,null,null,null,null,null,null,null,null,null,null,null,{"$f":"$V$12","v":0},{"$f":"$BF$12","v":0},{"$f":"$CM$12","v":0},null,null,null,null,null,null,null,null,null,{"$f":"SUBSTITUTE(TRIM(ET14&\"　\"&ET44&\"　\"&ET54),\"　\",\",\")","v":""},"指摘Ｂ,指摘4,gsngskklg"]
[null,null,null,null,null,null,null,null,null,null,null,null,null,null,null,null,null,null,null,null,null,null,null,null,null,null,null,null,null,null,null,null,null,null,null,null,null,null,null,null,null,null,null,null,null,null,null,null,null,null,null,null,null,null,null,null,null,null,null,null,null,null,null,null,null,null,null,null,null,null,null,null,null,null,null,null,null,null,null,null,null,null,null,null,null,null,null,null,null,null,null,null,null,null,null,null,null,null,null,null,null,null,null,null,null,null,null,null,null,null,null,null,null,null,null,null,null,null,null,null,null,null,null,null,null,null,null,null,null,null,null,null,null,null,null,null,null,"いない検査者番号を排除"]
[null,null,null,null,null,null,null,null,null,null,null,null,null,null,null,null,null,null,null,null,null,null,null,null,null,null,null,null,null,null,null,null,null,null,null,null,null,null,null,null,null,null,null,null,null,null,null,null,null,null,null,null,null,null,null,null,null,null,null,null,null,null,null,null,null,null,null,null,null,null,null,null,null,null,null,null,null,null,null,null,null,null,null,null,null,null,null,null,null,null,null,null,null,null,null,null,null,null,null,null,null,null,null,null,null,null,null,null,null,null,null,null,null,null,null,null,null,null,null,null,null,null,null,null,null,null,null,null,null,null,null,null,null,null,null,null,null,"調査人の選任数",null,null,null,null,null,null,null,null,null,null,null,null,null,null,null,null,null,null,null,null,null,null,null,null,null,null,null,null,null,null,null,null,null,null,null,null,null,null,null,null,null,null,null,null,null,null,null,null,null,null,null,null,null,null,"×要是正（既存不適格以外）",null,null,null,null,{"$f":"SUBSTITUTE(TRIM(GP13&\"　\"&GH46),\"　\",\",\")","v":""},"国交省検査結果表別パターン転記用",null,null,null,null,null,"指摘の具体的内容等"]
[null,null,null,null,null,null,null,null,null,null,null,null,null,null,null,null,null,null,null,null,null,null,null,null,null,null,null,null,null,null,null,null,null,null,null,null,null,null,null,null,null,null,null,null,null,null,null,null,null,null,null,null,null,null,null,null,null,null,null,null,null,null,null,null,null,null,null,null,null,null,null,null,null,null,null,null,null,null,null,null,null,null,null,null,null,null,null,null,null,null,null,null,null,null,null,null,null,null,null,null,null,null,null,null,null,null,null,null,null,null,null,null,null,null,null,null,null,null,null,null,null,null,null,null,null,null,null,null,null,null,null,null,null,null,null,null,null,"検査者人数",null,"完全未入力（検査結果未入力）判定",null,null,null,null,null,null,null,null,null,null,null,null,null,null,null,null,null,null,null,null,null,null,null,null,null,null,null,null,null,null,null,null,null,null,null,null,null,null,null,null,null,null,null,null,null,null,null,null,null,null,null,null,null,null,null,null,null,{"$f":"\"　\"&TRIM(GP16&\"　\"&GP46&\"　\"&GP56)","v":"　"}]
[null,null,null,null,null,null,null,null,null,null,null,null,"検査者番号",null,null,null,null,1,null,null,null,{"$f":"'1_入力シート【基本情報】'!$AB$81","v":0},null,null,null,null,null,null,null,null,null,null,null,null,null,null,null,null,null,null,null,null,null,null,null,null,null,null,null,"検査者番号",null,null,null,null,2,null,null,{"$f":"'1_入力シート【基本情報】'!$AB$95","v":0},null,null,null,null,null,null,null,null,null,null,null,null,null,null,null,null,null,null,null,null,null,null,null,null,"検査者番号",null,null,null,null,3,null,null,{"$f":"'1_入力シート【基本情報】'!$AB$109","v":0},null,null,null,null,null,null,null,null,null,null,null,null,null,null,null,null,null,null,null,null,null,null,null,null,null,null,null,null,null,null,null,null,null,null,null,null,null,null,null,null,null,null,null,null,null,null,{"$f":"COUNTIFS(EH8:EJ8,\"<>0\")","v":0},"←検査者が1名の場合は検査者番号の入力は不要。",{"$f":"COUNTA(BA17:BL39,BA47:BL49,BA57:BL71)","v":0},null,null,null,null,null,null,null,null,"追加集計・別フォーム転記向け（紫）",null,null,null,null,null,null,null,null,null,null,null,null,null,null,null,null,null,null,null,null,null,null,null,null,null,null,null,null,null,null,null,null,null,null,null,null,null,null,null,null,null,null,null,"○指摘なし",null,null,null,null,"結合↓","和暦変換（予定は（）付き）の編集",null,null,null,null,null,"（既存不適格）を付ける"]
[null,null,null,null,null,null,null,null,null,null,null,null,null,null,null,null,null,null,null,null,null,"検査者1，2，3それぞれの氏名は検査者の入力欄から自動反映されます。（検査者2及び3はいない場合もあります）",null,null,null,null,null,null,null,null,null,null,null,null,null,null,null,null,null,null,null,null,null,null,null,null,null,null,null,null,null,null,null,null,null,null,null,null,null,null,null,null,null,null,null,null,null,null,null,null,null,null,null,null,null,null,null,null,null,null,null,null,null,null,null,null,null,null,null,null,null,null,null,null,null,null,null,null,null,null,null,null,null,null,null,null,null,null,null,null,null,null,null,null,null,null,null,null,null,null,null,null,null,null,null,null,null,null,null,null,null,null,null,null,null,null,null,null,null,null,null,null,null,null,null,null,null,null,"項目\n\n要是正＆\n既存不適格","結合↓","要是正",null,"要是正ありの場合",null,null,null,null,null,"既存不適格のみの場合",null,null,null,null,null,null,null,null,null,null,null,null,null,null,null,null,null,null,"追加集計・別フォーム転記向け（紫）",null,null,null,null,null,null,null,null,null,null,null,null,null,null,"△既存不適格",null,null,null,null,{"$f":"TRIM(GP17&\"　\"&GP18&\"　\"&GP19&\"　\"&GP20&\"　\"&GP21&\"　\"&GP22&\"　\"&GP23&\"　\"&GP24&\"　\"&GP25&\"　\"&GP26&\"　\"&GP27&\"　\"&GP28&\"　\"&GP29&\"　\"&GP30&\"　\"&GP31&\"　\"&GP32&\"　\"&GP33&\"　\"&GP34&\"　\"&GP35&\"　\"&GP36&\"　\"&GP37&\"　\"&GP38&\"　\"&GP39)","v":""},"要是正ありの場合"]
[null,null,null,null,null,null,null,null,null,null,null,null,null,null,null,null,null,null,null,null,null,"検査者が1名のみの場合は検査者番号は入力不要です。",null,null,null,null,null,null,null,null,null,null,null,null,null,null,null,null,null,null,null,null,null,null,null,null,null,null,null,null,null,null,null,null,null,null,null,null,null,null,null,null,null,null,null,null,null,null,null,null,null,null,null,null,null,null,null,null,null,null,null,null,null,null,null,null,null,null,null,null,null,null,null,null,null,null,null,null,null,null,null,null,null,null,null,null,null,null,null,null,null,null,null,null,null,null,null,null,null,null,null,null,null,null,null,null,null,null,null,null,null,null,null,null,null,null,null,{"$f":"IF(AND(EI14=\"\",EJ14=\"\",EK14=\"\",EH40<>0),\"レ\",\"\")","v":""},{"$f":"IF(AND(EJ14=\"\",EK14=\"\",EI40<>0),\"レ\",\"\")","v":""},{"$f":"IF(EJ40<>0,\"レ\",\"\")","v":""},{"$f":"IF(AND(EJ14=\"\",EK40<>0),\"レ\",\"\")","v":""},null,null,null,null,null,null,null,null,{"$f":"SUBSTITUTE(TRIM(ET17&\"　\"&ET18&\"　\"&ET19&\"　\"&ET20&\"　\"&ET21&\"　\"&ET22&\"　\"&ET23&\"　\"&ET24&\"　\"&ET25&\"　\"&ET26&\"　\"&ET27&\"　\"&ET28&\"　\"&ET29&\"　\"&ET30&\"　\"&ET31&\"　\"&ET32&\"　\"&ET33&\"　\"&ET34&\"　\"&ET35&\"　\"&ET36&\"　\"&ET37&\"　\"&ET38&\"　\"&ET39),\"　\",\",\")","v":""},"改善策の具体的内容等","和暦変換（予定は( )付き）",{"$f":"IF(COUNTIF(EY17:EY39,1)>0,\"レ\",\"\")","v":""},null,{"$f":"IF(EW14=\"レ\",TEXT(EZ40,\"e\"),\"\")","v":""},{"$f":"IF(EW14=\"レ\",MONTH(EZ40),IF(AND(EJ14=\"レ\",FB14=\"レ\",FB40=0),\"\",IF(AND(EJ14=\"レ\",FB14=\"レ\",FB40>0),\"未定\",\"\")))","v":""},null,{"$f":"IF(EW14=\"\",IF(OR(FB40>0,EJ14=\"レ\"),\"レ\",\"\"),\"\")","v":""},{"$f":"IF(AND(COUNTIF(EO17:EO39,\"要是正\")=0,COUNTIF(FE17:FE39,1)>0),\"レ\",\"\")","v":""},null,{"$f":"IF(FC14=\"レ\",TEXT(FF40,\"e\"),\"\")","v":""},{"$f":"IF(FC14=\"レ\",MONTH(FF40),IF(AND(EK14=\"レ\",FH14=\"レ\",FH40=0),\"\",IF(AND(EK14=\"レ\",FH14=\"レ\",FH40>0),\"未定\",\"\")))","v":""},null,{"$f":"IF(FC14=\"\",IF(OR(FH40>0,EK14=\"レ\"),\"レ\",\"\"),\"\")","v":""},null,null,null,null,null,null,null,null,null,null,null,null,null,{"$f":"IF(OR(EW14=\"レ\",EW44=\"レ\",EW54=\"レ\",),\"レ\",\"\")","v":""},{"$f":"IF(AND(FV14=\"\",FZ14=\"\",OR(EX14=\"レ\",EX44=\"レ\",EX54=\"レ\")),\"レ\",\"\")","v":""},{"$f":"IF(FT20=\"レ\",IF(FV14=\"レ\",TEXT(FV20,\"e\"),IF(FW14=\"レ\",TEXT(FW20,\"e\"),\"\")),\"\")","v":""},{"$f":"IF(FT20=\"レ\",IF(FV14=\"レ\",MONTH(FV20),IF(FW14=\"レ\",MONTH(FW20),\"未定\")),\"\")","v":""},{"$f":"IF(AND(FV14=\"\",COUNTIF(FX17:FX19,\"未定\")>0),\"レ\",\"\")","v":""},{"$f":"IF(AND(FT20=\"\",OR(FC14=\"レ\",FC44=\"レ\",FC54=\"レ\")),\"レ\",\"\")","v":""},{"$f":"IF(AND(FT20=\"\",GA14=\"\",GE14=\"\",OR(FD14=\"レ\",FD44=\"レ\",FD54=\"レ\")),\"レ\",\"\")","v":""},{"$f":"IF(FU20=\"レ\",IF(GA14=\"レ\",TEXT(GA20,\"e\"),IF(GB14=\"レ\",TEXT(GB20,\"e\"),\"\")),\"\")","v":""},{"$f":"IF(FU20=\"レ\",IF(GA14=\"レ\",MONTH(GA20),IF(GB14=\"レ\",MONTH(GB20),\"未定\")),\"\")","v":""},{"$f":"IF(AND(FT20=\"\",GA14=\"\",COUNTIF(GC17:GC19,\"未定\")>0),\"レ\",\"\")","v":""},null,null,null,null,null,"―対象外",null,null,null,null,"指摘の具体的内容等\n要是正＋（既存不適格）",{"$f":"IF(COUNTIF(GS17:GS39,1)>0,\"レ\",\"\")","v":""},null,{"$f":"IF(GQ14=\"レ\",TEXT(GT40,\"e\"),\"\")","v":""},{"$f":"IF(GQ14=\"レ\",MONTH(GT40),IF(AND(GC14=\"レ\",GU14=\"レ\",GU40=0),\"\",IF(AND(GU40=\"レ\",GU14=\"レ\",GU40>0),\"未定\",\"\")))","v":""},{"$f":"IF(GQ14=\"\",IF(OR(GU40>0,GE14=\"レ\"),\"レ\",\"\"),\"\")","v":""}]
[null,null,null,null,null,null,null,null,null,null,null,null,"番号",null,null,"検　査　項　目　",null,null,null,null,null,null,null,null,null,null,null,"検　査　事　項",null,null,null,null,null,null,null,null,null,null,null,null,null,null,null,null,null,null,null,null,null,null,null,null,"検査結果",null,null,null,null,null,null,null,null,null,null,null,"検査者番号",null,"指摘の具体的内容等",null,null,null,null,null,null,null,null,null,"改善策の具体的内容等",null,null,null,null,null,null,null,null,null,null,null,null,null,null,"改善（予定）年月",null,null,null,null,null,null,null,null,"該当法令・注意事項",null,null,null,null,null,null,null,null,null,null,null,null,null,null,null,null,null,null,null,null,null,null,null,null,null,null,null,null,null,null,null,null,null,null,null,null,null,null,null,null,null,null,null,null,null,null,null,null,"指摘の具体的内容等\n要是正＋（既存不適格）",null,null,"改善（予定）\n年月",null,null,null,null,null,"改善（予定）\n年月",null,null,null,null,null,"関連写真添付　リンク指定先",null,null,"関連写真添付　リンク指定先一覧",null,null,null,null,"報告書１面5欄用",null,null,null,null,"要是正",null,null,null,null,"既存不適格",null,null,null,null,null,null,null,null,"国交省検査結果表転記用",null,null,null,null,null,null,"改善（予定）\n年月"]
[null,null,null,null,null,null,null,null,null,null,null,null,null,null,null,null,null,null,null,null,null,null,null,null,null,null,null,null,null,null,null,null,null,null,null,null,null,null,null,null,null,null,null,null,null,null,null,null,null,null,null,null,null,null,null,null,null,null,null,null,null,null,null,null,null,null,null,null,null,null,null,null,null,null,null,null,null,null,null,null,null,null,null,null,null,null,null,null,null,null,null,"年\n(令和)",null,null,"月",null,null,"状況",null,null,null,null,null,null,null,null,null,null,null,null,null,null,null,null,null,null,null,null,null,null,null,null,null,null,null,null,null,null,null,null,null,null,null,null,null,null,null,"対象外項目","指摘なし","要是正","既存不適格","項目番号\n関数なし","項目","年月カウント","要是正と既存不適格","要是正カウント（別添2リンク先）","カウント\n報告書用","項目番号",null,null,null,null,"変換\n/有(予定)","西暦変換\n/有（済）","未来の年月\nカウント/年","未来の直近/月","過去の直近","未定/無","変換/有","西暦変換/(有)","未来の年月\nカウント/年","未来の直近/月","過去の直近","未定/無","シート","セル　上端","セル　下端",null,"シート","セル　上端","セル　下端",null,null,"対象外項目","指摘なし","要是正","既存不適格","未来の直近","過去の直近","未定/年","　/月","　/無","未来の直近","過去の直近","未定/年","　/月","　/無",null,null,null,null,"指摘なし","要是正","既存不適格","担当者番号","線引き",null,{"$f":"TRIM(GP17&\"　\"&GP18&\"　\"&GP19&\"　\"&GP20&\"　\"&GP21&\"　\"&GP22&\"　\"&GP23&\"　\"&GP24&\"　\"&GP25&\"　\"&GP26&\"　\"&GP27&\"　\"&GP28&\"　\"&GP29&\"　\"&GP30&\"　\"&GP31&\"　\"&GP32&\"　\"&GP33&\"　\"&GP34&\"　\"&GP35&\"　\"&GP36&\"　\"&GP37&\"　\"&GP38&\"　\"&GP39)","v":""},"変換\n/有(予定)","西暦変換\n","未来の年月\nカウント/年","未来の直近\n/月","未定/無",null,null,null,null,null,"項目"]
[null,null,null,null,null,null,null,null,null,null,null,null,"1(1)",null,null,"耐火クロススクリーン",null,null,null,null,"設置場所の周囲状況",null,null,null,null,null,null,"閉鎖の障害となる物品の放置の状況",null,null,null,null,null,null,null,null,null,null,null,null,null,null,null,null,null,null,null,null,null,null,null,null,null,null,null,null,null,null,null,null,null,null,null,null,null,null,null,null,null,null,null,null,null,null,null,null,null,null,null,null,null,null,null,null,null,null,null,null,null,null,null,null,null,null,null,null,null,null,null,null,null,null,null,null,null,null,null,null,null,null,null,null,null,null,null,null,null,null,null,null,null,null,null,null,null,null,null,null,null,null,null,null,null,null,null,null,null,{"$f":"COUNTIFS(BA17,\"ー対象外\")","v":0},{"$f":"COUNTIFS(BA17,\"○指摘なし\")","v":0},{"$f":"COUNTIFS(BA17,\"×要是正（既存不適格以外）\")","v":0},{"$f":"COUNTIFS(BA17,\"△既存不適格\")","v":0},"1(1)",{"$f":"IF($AB17=\"\",U17,AB17)","v":"閉鎖の障害となる物品の放置の状況"},{"$f":"COUNTA(CN17:CS17)","v":0},{"$f":"IF(BA17=\"×要是正（既存不適格以外）\",\"要是正\",\"\")&IF(BA17=\"△既存不適格\",\"既存不適格\",\"\")","v":""},{"$f":"IF($EO17=\"要是正\",MAX($EP13:EP$14)+1,\"\")","v":""},{"$f":"IF($EO17=\"要是正\",MAX($EQ13:EQ$14)+1,\"\")","v":""},{"$f":"IF(OR(BA17=\"×要是正（既存不適格以外）\",BA17=\"△既存不適格\"),EL17,\"\")","v":""},{"$f":"IF(OR($EO17=\"要是正\",$EO17=\"既存不適格\"),$EM17,\"\")","v":""},{"$f":"IF($EO17=\"要是正\",IF(BO17=\"\",\"\",BO17),\"\")","v":""},{"$f":"IF($EO17=\"要是正\",IF(BY17=\"\",\"\",BY17),\"\")","v":""},{"$f":"IF(CT17=\"未定\",\"未定\",IF(GR17=\"0\",\"\",IF(CT17=\"予定\",TEXT(GR17,\"([$-ja-JP]ge.m);@\"),IF(CT17=\"改善済\",TEXT(GR17,\"[$-ja-JP]ge.m;@\"),TEXT(EX17,\"[$-ja-JP]ge.m;@\")))))","v":""},{"$f":"IF(OR(EO17=\"要是正\",EO17=\"既存不適格\"),IF(OR(EN17<2,CT17<>\"予定\"),\"\",\"令和\"&CN17&\"年\"&CQ17&\"月1日\"),\"\")","v":""},{"$f":"IF(EW17=\"\",\"0\",DATEVALUE(EW17))","v":"0"},{"$f":"IF(EO17=\"要是正\",IF(AND(CT17=\"予定\",EN17=2),1,IF(CT17=\"改善済\",2,\"\")),\"\")","v":""},{"$f":"IF(EY17=1,EX17,\"0\")","v":"0"},{"$f":"IF(EY17=2,EX17,\"0\")","v":"0"},{"$f":"IF(AND(EO17=\"要是正\",AND(EN17=0,CT17=\"未定\")),CT17,\"\")","v":""},{"$f":"IF(EO17=\"既存不適格\",IF(OR(EN17<2,CT17<>\"予定\"),\"\",\"令和\"&CN17&\"年\"&CQ17&\"月1日\"),\"\")","v":""},{"$f":"IF(FC17=\"\",\"0\",DATEVALUE(FC17))","v":"0"},{"$f":"IF(EO17=\"既存不適格\",IF(AND(CT17=\"予定\",EN17=2),1,IF(CT17=\"改善済\",2,\"\")),\"\")","v":""},{"$f":"IF(FE17=1,FD17,\"0\")","v":"0"},{"$f":"IF(FE17=2,FD17,\"0\")","v":"0"},{"$f":"IF(AND(EO17=\"既存不適格\",AND(EN17=0,CT17=\"未定\")),CT17,\"\")","v":""},null,null,null,2,"#'3_入力シート【写真】'","A33","AU54",null,1,{"$f":"EH14","v":""},{"$f":"EI14","v":""},"","",{"$f":"EZ40","v":"0"},"対象外",{"$f":"$FB$14","v":""},"現在不使用","現在不使用",{"$f":"FF40","v":"0"},"対象外",{"$f":"$FH$14","v":""},"現在不使用","現在不使用",null,null,null,null,{"$f":"IF($BA17=\"○指摘なし\",\"○\",IF(BA17=\"―対象外\",\"－\",\"\"))","v":""},{"$f":"IF(OR($BA17=\"×要是正（既存不適格以外）\",$BA17=\"△既存不適格\"),\"○\",\"\")","v":""},{"$f":"IF($BA17=\"△既存不適格\",\"○\",\"\")","v":""},{"$f":"BM17","v":0},{"$f":"IF($BA17=\"―対象外\",\"○\",\"\")","v":""},null,{"$f":"IF(EO17=\"要是正\",IF(BO17=\"\",\"\",ER17&\" \"&HA17&\" \" &BO17&CHAR(10)),\"\")","v":""},{"$f":"IF(NOT(OR(CT17=\"未定\",CT17=\"\")),\"令和\"&CN17&\"年\"&CQ17&\"月1日\",\"\")","v":""},{"$f":"IF(GQ17=\"\",\"0\",DATEVALUE(GQ17))","v":"0"},{"$f":"IF(OR(CT17=\"予定\",CT17=\"改善済\"),1,\"\")","v":""},{"$f":"IF(GS17=1,GR17,\"0\")","v":"0"},{"$f":"IF(AND(EO17=\"要是正\",AND(EN17=0,CT17=\"未定\")),CT17,\"\")","v":""},null,{"$f":"IF(BA17=\"△既存不適格\",BO17&\"(既存不適格)\",BO17)","v":0},null,null,null,{"$f":"$U$17","v":"設置場所の周囲状況"}]
[null,null,null,null,null,null,null,null,null,null,null,null,"1(2)",null,null,null,null,null,null,null,"駆動装置",null,null,null,null,null,null,"ローラチェーンの劣化及び損傷の状況",null,null,null,null,null,null,null,null,null,null,null,null,null,null,null,null,null,null,null,null,null,null,null,null,null,null,null,null,null,null,null,null,null,null,null,null,null,null,null,null,null,null,null,null,null,null,null,null,null,null,null,null,null,null,null,null,null,null,null,null,null,null,null,null,null,null,null,null,null,null,null,null,null,null,null,null,null,null,null,null,null,null,null,null,null,null,null,null,null,null,null,null,null,null,null,null,null,null,null,null,null,null,null,null,null,null,null,null,null,0,0,0,0,"1(2)","ローラチェーンの劣化及び損傷の状況",{"$f":"COUNTA(CN18:CS18)","v":0},{"$f":"IF(BA18=\"×要是正（既存不適格以外）\",\"要是正\",\"\")&IF(BA18=\"△既存不適格\",\"既存不適格\",\"\")","v":""},{"$f":"IF($EO18=\"要是正\",MAX($EP14:EP$14)+1,\"\")","v":""},{"$f":"IF($EO18=\"要是正\",MAX($EQ14:EQ$14)+1,\"\")","v":""},{"$f":"IF(OR(BA18=\"×要是正（既存不適格以外）\",BA18=\"△既存不適格\"),EL18,\"\")","v":""},"",{"$f":"IF($EO18=\"要是正\",IF(BO18=\"\",\"\",BO18),\"\")","v":""},{"$f":"IF($EO18=\"要是正\",IF(BY18=\"\",\"\",BY18),\"\")","v":""},{"$f":"IF(CT18=\"未定\",\"未定\",IF(GR18=\"0\",\"\",IF(CT18=\"予定\",TEXT(GR18,\"([$-ja-JP]ge.m);@\"),IF(CT18=\"改善済\",TEXT(GR18,\"[$-ja-JP]ge.m;@\"),TEXT(EX18,\"[$-ja-JP]ge.m;@\")))))","v":""},"",{"$f":"IF(EW18=\"\",\"0\",DATEVALUE(EW18))","v":"0"},"",{"$f":"IF(EY18=1,EX18,\"0\")","v":"0"},"0","","",{"$f":"IF(FC18=\"\",\"0\",DATEVALUE(FC18))","v":"0"},"",{"$f":"IF(FE18=1,FD18,\"0\")","v":"0"},{"$f":"IF(FE18=2,FD18,\"0\")","v":"0"},"",null,null,null,4,"#'3_入力シート【写真】'","A92","AU73",null,3,{"$f":"EH44","v":""},{"$f":"EI44","v":""},"","",{"$f":"EZ50","v":"0"},"対象外",{"$f":"$FB$44","v":""},"現在不使用","現在不使用",{"$f":"FF50","v":"0"},"対象外",{"$f":"$FH$44","v":"レ"},"現在不使用","現在不使用",null,null,null,null,{"$f":"IF($BA18=\"○指摘なし\",\"○\",IF(BA18=\"―対象外\",\"－\",\"\"))","v":""},"","",0,"",null,{"$f":"IF(EO18=\"要是正\",IF(BO18=\"\",\"\",ER18&\" \"&HA18&\" \" &BO18&CHAR(10)),\"\")","v":""},{"$f":"IF(NOT(OR(CT18=\"未定\",CT18=\"\")),\"令和\"&CN18&\"年\"&CQ18&\"月1日\",\"\")","v":""},{"$f":"IF(GQ18=\"\",\"0\",DATEVALUE(GQ18))","v":"0"},"",{"$f":"IF(GS18=1,GR18,\"0\")","v":"0"},{"$f":"IF(AND(EO18=\"要是正\",AND(EN18=0,CT18=\"未定\")),CT18,\"\")","v":""},null,{"$f":"IF(BA18=\"△既存不適格\",BO18&\"(既存不適格)\",BO18)","v":0},null,null,null,{"$f":"$U$18","v":"駆動装置"}]
[null,null,null,null,null,null,null,null,null,null,null,null,"1(3)",null,null,null,null,null,null,null,"カーテン部",null,null,null,null,null,null,"耐火クロス及び座板の劣化及び損傷の状況",null,null,null,null,null,null,null,null,null,null,null,null,null,null,null,null,null,null,null,null,null,null,null,null,null,null,null,null,null,null,null,null,null,null,null,null,null,null,null,null,null,null,null,null,null,null,null,null,null,null,null,null,null,null,null,null,null,null,null,null,null,null,null,null,null,null,null,null,null,null,null,null,null,null,null,null,null,null,null,null,null,null,null,null,null,null,null,null,null,null,null,null,null,null,null,null,null,null,null,null,null,null,null,null,null,null,null,null,null,0,0,0,0,"1(3)","耐火クロス及び座板の劣化及び損傷の状況",0,"",{"$f":"IF($EO19=\"要是正\",MAX($EP$14:EP15)+1,\"\")","v":""},{"$f":"IF($EO19=\"要是正\",MAX($EQ$14:EQ15)+1,\"\")","v":""},"","","","","","","0","","0","0","","","0","","0","0","",null,null,null,4,"#'3_入力シート【写真】'","A92","AU73",null,3,{"$f":"EH54","v":""},{"$f":"EI54","v":""},"","",{"$f":"EZ72","v":"0"},"対象外",{"$f":"$FB$54","v":""},"現在不使用","現在不使用",{"$f":"FF72","v":"0"},"対象外",{"$f":"$FH$54","v":""},"現在不使用","現在不使用",null,null,null,null,{"$f":"IF($BA19=\"○指摘なし\",\"○\",IF(BA19=\"―対象外\",\"－\",\"\"))","v":""},"","",0,"",null,"","","0","","0","",null,{"$f":"IF(BA19=\"△既存不適格\",BO19&\"(既存不適格)\",BO19)","v":0},null,null,null,{"$f":"$U$19","v":"カーテン部"}]
[null,null,null,null,null,null,null,null,null,null,null,null,"1(4)",null,null,null,null,null,null,null,null,null,null,null,null,null,null,"吊り元の劣化及び損傷並びに固定の状況",null,null,null,null,null,null,null,null,null,null,null,null,null,null,null,null,null,null,null,null,null,null,null,null,null,null,null,null,null,null,null,null,null,null,null,null,null,null,null,null,null,null,null,null,null,null,null,null,null,null,null,null,null,null,null,null,null,null,null,null,null,null,null,null,null,null,null,null,null,null,null,null,null,null,null,null,null,null,null,null,null,null,null,null,null,null,null,null,null,null,null,null,null,null,null,null,null,null,null,null,null,null,null,null,null,null,null,null,null,0,0,0,0,"1(4)","吊り元の劣化及び損傷並びに固定の状況",0,"",{"$f":"IF($EO20=\"要是正\",MAX($EP$14:EP16)+1,\"\")","v":""},{"$f":"IF($EO20=\"要是正\",MAX($EQ$14:EQ16)+1,\"\")","v":""},"","","","","","","0","","0","0","","","0","","0","0","",null,null,null,5,"#'3_入力シート【写真】'","A19","AU150",null,4,{"$f":"IF(AND(FS20<>\"レ\",FT20<>\"レ\",FU20<>\"レ\",COUNTIF(FR17:FR19,\"レ\")>0),\"レ\",\"\")","v":""},{"$f":"IF(AND(FT20<>\"レ\",FU20<>\"レ\",COUNTIF(FS17:FS19,\"レ\")>0),\"レ\",\"\")","v":""},{"$f":"IF(COUNTIF(FT17:FT19,\"レ\")>0,\"レ\",\"\")","v":""},{"$f":"IF(AND(FT20<>\"レ\",COUNTIF(FU17:FU19,\"レ\")>0),\"レ\",\"\")","v":""},{"$f":"INDEX(FV17:FV19,MATCH(MIN(ABS(FV17:FV19-$EJ$4)),ABS(FV17:FV19-$EJ$4),0))","v":"0"},null,null,"現在不使用","現在不使用",{"$f":"INDEX(GA17:GA19,MATCH(MIN(ABS(GA17:GA19-$EJ$4)),ABS(GA17:GA19-$EJ$4),0))","v":"0"},null,null,"現在不使用","現在不使用",null,null,null,null,"","","",0,"",null,"","","0","","0","",null,0,null,null,null,{"$f":"$U$19","v":"カーテン部"}]
[null,null,null,null,null,null,null,null,null,null,null,null,"1(5)",null,null,null,null,null,null,null,"ケース",null,null,null,null,null,null,"劣化及び損傷の状況",null,null,null,null,null,null,null,null,null,null,null,null,null,null,null,null,null,null,null,null,null,null,null,null,null,null,null,null,null,null,null,null,null,null,null,null,null,null,null,null,null,null,null,null,null,null,null,null,null,null,null,null,null,null,null,null,null,null,null,null,null,null,null,null,null,null,null,null,null,null,null,null,null,null,null,null,null,null,null,null,null,null,null,null,null,null,null,null,null,null,null,null,null,null,null,null,null,null,null,null,null,null,null,null,null,null,null,null,null,0,0,0,0,"1(5)","劣化及び損傷の状況",0,"",{"$f":"IF($EO21=\"要是正\",MAX($EP$14:EP17)+1,\"\")","v":""},{"$f":"IF($EO21=\"要是正\",MAX($EQ$14:EQ17)+1,\"\")","v":""},"","","","","","","0","","0","0","","","0","","0","0","",null,null,null,6,"#'3_入力シート【写真】'","A152","AU173",null,null,null,null,null,null,null,null,null,null,null,null,null,null,null,null,null,null,null,null,"","","",0,"",null,"","","0","","0","",null,0,null,null,null,{"$f":"$U$21","v":"ケース"}]
[null,null,null,null,null,null,null,null,null,null,null,null,"1(6)",null,null,null,null,null,null,null,"まぐさ及びガイドレール",null,null,null,null,null,null,"劣化及び損傷の状況",null,null,null,null,null,null,null,null,null,null,null,null,null,null,null,null,null,null,null,null,null,null,null,null,null,null,null,null,null,null,null,null,null,null,null,null,null,null,null,null,null,null,null,null,null,null,null,null,null,null,null,null,null,null,null,null,null,null,null,null,null,null,null,null,null,null,null,null,null,null,null,null,null,null,null,null,null,null,null,null,null,null,null,null,null,null,null,null,null,null,null,null,null,null,null,null,null,null,null,null,null,null,null,null,null,null,null,null,null,0,0,0,0,"1(6)","劣化及び損傷の状況",0,"",{"$f":"IF($EO22=\"要是正\",MAX($EP$14:EP18)+1,\"\")","v":""},{"$f":"IF($EO22=\"要是正\",MAX($EQ$14:EQ18)+1,\"\")","v":""},"","","","","","","0","","0","0","","","0","","0","0","",null,null,null,2,"#'3_入力シート【写真】'","A33","AU54",null,null,null,null,null,null,null,null,null,null,null,null,null,null,null,null,null,null,null,null,"","","",0,"",null,"","","0","","0","",null,0,null,null,null,{"$f":"$U$22","v":"まぐさ及びガイドレール"}]
[null,null,null,null,null,null,null,null,null,null,null,null,"1(7)",null,null,null,null,null,null,null,"危害防止装置",null,null,null,null,null,null,"危害防止用連動中継器の配線の状況",null,null,null,null,null,null,null,null,null,null,null,null,null,null,null,null,null,null,null,null,null,null,null,null,null,null,null,null,null,null,null,null,null,null,null,null,null,null,null,null,null,null,null,null,null,null,null,null,null,null,null,null,null,null,null,null,null,null,null,null,null,null,null,null,null,null,null,null,null,null,null,null,null,null,null,null,null,null,null,null,null,null,null,null,null,null,null,null,null,null,null,null,null,null,null,null,null,null,null,null,null,null,null,null,null,null,null,null,null,0,0,0,0,"1(7)","危害防止用連動中継器の配線の状況",0,"",{"$f":"IF($EO23=\"要是正\",MAX($EP$14:EP19)+1,\"\")","v":""},{"$f":"IF($EO23=\"要是正\",MAX($EQ$14:EQ19)+1,\"\")","v":""},"","","","","","","0","","0","0","","","0","","0","0","",null,null,null,4,"#'3_入力シート【写真】'","A92","AU73",null,null,null,null,null,null,null,null,null,null,null,null,null,null,null,null,null,null,null,null,"","","",0,"",null,"","","0","","0","",null,0,null,null,null,{"$f":"$U$23","v":"危害防止装置"}]
[null,null,null,null,null,null,null,null,null,null,null,null,"1(8)",null,null,null,null,null,null,null,null,null,null,null,null,null,null,"危害防止装置用予備電源の劣化及び損傷の状況",null,null,null,null,null,null,null,null,null,null,null,null,null,null,null,null,null,null,null,null,null,null,null,null,null,null,null,null,null,null,null,null,null,null,null,null,null,null,null,null,null,null,null,null,null,null,null,null,null,null,null,null,null,null,null,null,null,null,null,null,null,null,null,null,null,null,null,null,null,null,null,null,null,null,null,null,null,null,null,null,null,null,null,null,null,null,null,null,null,null,null,null,null,null,null,null,null,null,null,null,null,null,null,null,null,null,null,null,null,0,0,0,0,"1(8)","危害防止装置用予備電源の劣化及び損傷の状況",0,"",{"$f":"IF($EO24=\"要是正\",MAX($EP$14:EP20)+1,\"\")","v":""},{"$f":"IF($EO24=\"要是正\",MAX($EQ$14:EQ20)+1,\"\")","v":""},"","","","","","","0","","0","0","","","0","","0","0","",null,null,null,4,"#'3_入力シート【写真】'","A92","AU73",null,null,null,null,null,null,null,null,null,null,null,null,null,null,null,null,null,null,null,null,"","","",0,"",null,"","","0","","0","",null,0,null,null,null,{"$f":"$U$23","v":"危害防止装置"}]
[null,null,null,null,null,null,null,null,null,null,null,null,"1(9)",null,null,null,null,null,null,null,null,null,null,null,null,null,null,"危害防止装置用予備電源の容量の状況",null,null,null,null,null,null,null,null,null,null,null,null,null,null,null,null,null,null,null,null,null,null,null,null,null,null,null,null,null,null,null,null,null,null,null,null,null,null,null,null,null,null,null,null,null,null,null,null,null,null,null,null,null,null,null,null,null,null,null,null,null,null,null,null,null,null,null,null,null,null,null,null,null,null,null,null,null,null,null,null,null,null,null,null,null,null,null,null,null,null,null,null,null,null,null,null,null,null,null,null,null,null,null,null,null,null,null,null,null,0,0,0,0,"1(9)","危害防止装置用予備電源の容量の状況",0,"",{"$f":"IF($EO25=\"要是正\",MAX($EP$14:EP21)+1,\"\")","v":""},{"$f":"IF($EO25=\"要是正\",MAX($EQ$14:EQ21)+1,\"\")","v":""},"","","","","","","0","","0","0","","","0","","0","0","",null,null,null,5,"#'3_入力シート【写真】'","A19","AU150",null,null,null,null,null,null,null,null,null,null,null,null,null,null,null,null,null,null,null,null,"","","",0,"",null,"","","0","","0","",null,0,null,null,null,"危害防止装置"]
[null,null,null,null,null,null,null,null,null,null,null,null,"1(10)",null,null,null,null,null,null,null,null,null,null,null,null,null,null,"座板感知部の劣化及び損傷並びに作動の状況",null,null,null,null,null,null,null,null,null,null,null,null,null,null,null,null,null,null,null,null,null,null,null,null,null,null,null,null,null,null,null,null,null,null,null,null,null,null,null,null,null,null,null,null,null,null,null,null,null,null,null,null,null,null,null,null,null,null,null,null,null,null,null,null,null,null,null,null,null,null,null,null,null,null,null,null,null,null,null,null,null,null,null,null,null,null,null,null,null,null,null,null,null,null,null,null,null,null,null,null,null,null,null,null,null,null,null,null,null,0,0,0,0,"1(10)","座板感知部の劣化及び損傷並びに作動の状況",0,"",{"$f":"IF($EO26=\"要是正\",MAX($EP$14:EP22)+1,\"\")","v":""},{"$f":"IF($EO26=\"要是正\",MAX($EQ$14:EQ22)+1,\"\")","v":""},"","","","","","","0","","0","0","","","0","","0","0","",null,null,null,6,"#'3_入力シート【写真】'","A152","AU173",null,null,null,null,null,null,null,null,null,null,null,null,null,null,null,null,null,null,null,null,"","","",0,"",null,"","","0","","0","",null,0,null,null,null,"危害防止装置"]
[null,null,null,null,null,null,null,null,null,null,null,null,"1(11)",null,null,null,null,null,null,null,null,null,null,null,null,null,null,"作動の状況",null,null,null,null,null,null,null,null,null,null,null,null,null,null,null,null,null,null,null,null,null,null,null,null,null,null,null,null,null,null,null,null,null,null,null,null,null,null,null,null,null,null,null,null,null,null,null,null,null,null,null,null,null,null,null,null,null,null,null,null,null,null,null,null,null,null,null,null,null,null,null,null,null,null,null,null,null,null,null,null,null,null,null,null,null,null,null,null,null,null,null,null,null,null,null,null,null,null,null,null,null,null,null,null,null,null,null,null,null,0,0,0,0,"1(11)","作動の状況",0,"",{"$f":"IF($EO27=\"要是正\",MAX($EP$14:EP23)+1,\"\")","v":""},{"$f":"IF($EO27=\"要是正\",MAX($EQ$14:EQ23)+1,\"\")","v":""},"","","","","","","0","","0","0","","","0","","0","0","",null,null,null,2,"#'3_入力シート【写真】'","A33","AU54",null,null,null,null,null,null,null,null,null,null,null,null,null,null,null,null,null,null,null,null,"","","",0,"",null,"","","0","","0","",null,0,null,null,null,"危害防止装置"]
[null,null,null,null,null,null,null,null,null,null,null,null,"1(12)",null,null,"連動機構",null,null,null,null,"煙感知器、熱煙複合式感知器及び熱感知器",null,null,null,null,null,null,"設置位置",null,null,null,null,null,null,null,null,null,null,null,null,null,null,null,null,null,null,null,null,null,null,null,null,null,null,null,null,null,null,null,null,null,null,null,null,null,null,null,null,null,null,null,null,null,null,null,null,null,null,null,null,null,null,null,null,null,null,null,null,null,null,null,null,null,null,null,null,null,null,null,null,null,null,null,null,null,null,null,null,null,null,null,null,null,null,null,null,null,null,null,null,null,null,null,null,null,null,null,null,null,null,null,null,null,null,null,null,null,0,0,0,0,"1(12)","設置位置",0,"",{"$f":"IF($EO28=\"要是正\",MAX($EP$14:EP24)+1,\"\")","v":""},{"$f":"IF($EO28=\"要是正\",MAX($EQ$14:EQ24)+1,\"\")","v":""},"","","","","","","0","","0","0","","","0","","0","0","",null,null,null,4,"#'3_入力シート【写真】'","A92","AU73",null,null,null,null,null,null,null,null,null,null,null,null,null,null,null,null,null,null,null,null,"","","",0,"",null,"","","0","","0","",null,0,null,null,null,{"$f":"$U$28","v":"煙感知器、熱煙複合式感知器及び熱感知器"}]
[null,null,null,null,null,null,null,null,null,null,null,null,"1(13)",null,null,null,null,null,null,null,null,null,null,null,null,null,null,"感知の状況",null,null,null,null,null,null,null,null,null,null,null,null,null,null,null,null,null,null,null,null,null,null,null,null,null,null,null,null,null,null,null,null,null,null,null,null,null,null,null,null,null,null,null,null,null,null,null,null,null,null,null,null,null,null,null,null,null,null,null,null,null,null,null,null,null,null,null,null,null,null,null,null,null,null,null,null,null,null,null,null,null,null,null,null,null,null,null,null,null,null,null,null,null,null,null,null,null,null,null,null,null,null,null,null,null,null,null,null,null,0,0,0,0,"1(13)","感知の状況",0,"",{"$f":"IF($EO29=\"要是正\",MAX($EP$14:EP25)+1,\"\")","v":""},{"$f":"IF($EO29=\"要是正\",MAX($EQ$14:EQ25)+1,\"\")","v":""},"","","","","","","0","","0","0","","","0","","0","0","",null,null,null,4,"#'3_入力シート【写真】'","A92","AU73",null,null,null,null,null,null,null,null,null,null,null,null,null,null,null,null,null,null,null,null,"","","",0,"",null,"","","0","","0","",null,0,null,null,null,{"$f":"$U$28","v":"煙感知器、熱煙複合式感知器及び熱感知器"}]
[null,null,null,null,null,null,null,null,null,null,null,null,"1(14)",null,null,null,null,null,null,null,"連動制御器",null,null,null,null,null,null,"スイッチ類及び表示灯の状況",null,null,null,null,null,null,null,null,null,null,null,null,null,null,null,null,null,null,null,null,null,null,null,null,null,null,null,null,null,null,null,null,null,null,null,null,null,null,null,null,null,null,null,null,null,null,null,null,null,null,null,null,null,null,null,null,null,null,null,null,null,null,null,null,null,null,null,null,null,null,null,null,null,null,null,null,null,null,null,null,null,null,null,null,null,null,null,null,null,null,null,null,null,null,null,null,null,null,null,null,null,null,null,null,null,null,null,null,null,0,0,0,0,"1(14)","スイッチ類及び表示灯の状況",0,"",{"$f":"IF($EO30=\"要是正\",MAX($EP$14:EP26)+1,\"\")","v":""},{"$f":"IF($EO30=\"要是正\",MAX($EQ$14:EQ26)+1,\"\")","v":""},"","","","","","","0","","0","0","","","0","","0","0","",null,null,null,5,"#'3_入力シート【写真】'","A19","AU150",null,null,null,null,null,null,null,null,null,null,null,null,null,null,null,null,null,null,null,null,"","","",0,"",null,"","","0","","0","",null,0,null,null,null,{"$f":"$U$30","v":"連動制御器"}]
[null,null,null,null,null,null,null,null,null,null,null,null,"1(15)",null,null,null,null,null,null,null,null,null,null,null,null,null,null,"結線接続の状況",null,null,null,null,null,null,null,null,null,null,null,null,null,null,null,null,null,null,null,null,null,null,null,null,null,null,null,null,null,null,null,null,null,null,null,null,null,null,null,null,null,null,null,null,null,null,null,null,null,null,null,null,null,null,null,null,null,null,null,null,null,null,null,null,null,null,null,null,null,null,null,null,null,null,null,null,null,null,null,null,null,null,null,null,null,null,null,null,null,null,null,null,null,null,null,null,null,null,null,null,null,null,null,null,null,null,null,null,null,0,0,0,0,"1(15)","結線接続の状況",0,"",{"$f":"IF($EO31=\"要是正\",MAX($EP$14:EP27)+1,\"\")","v":""},{"$f":"IF($EO31=\"要是正\",MAX($EQ$14:EQ27)+1,\"\")","v":""},"","","","","","","0","","0","0","","","0","","0","0","",null,null,null,6,"#'3_入力シート【写真】'","A152","AU173",null,null,null,null,null,null,null,null,null,null,null,null,null,null,null,null,null,null,null,null,"","","",0,"",null,"","","0","","0","",null,0,null,null,null,{"$f":"$U$30","v":"連動制御器"}]
[null,null,null,null,null,null,null,null,null,null,null,null,"1(16)",null,null,null,null,null,null,null,null,null,null,null,null,null,null,"接地の状況",null,null,null,null,null,null,null,null,null,null,null,null,null,null,null,null,null,null,null,null,null,null,null,null,null,null,null,null,null,null,null,null,null,null,null,null,null,null,null,null,null,null,null,null,null,null,null,null,null,null,null,null,null,null,null,null,null,null,null,null,null,null,null,null,null,null,null,null,null,null,null,null,null,null,null,null,null,null,null,null,null,null,null,null,null,null,null,null,null,null,null,null,null,null,null,null,null,null,null,null,null,null,null,null,null,null,null,null,null,0,0,0,0,"1(16)","接地の状況",0,"",{"$f":"IF($EO32=\"要是正\",MAX($EP$14:EP28)+1,\"\")","v":""},{"$f":"IF($EO32=\"要是正\",MAX($EQ$14:EQ28)+1,\"\")","v":""},"","","","","","","0","","0","0","","","0","","0","0","",null,null,null,2,"#'3_入力シート【写真】'","A33","AU54",null,null,null,null,null,null,null,null,null,null,null,null,null,null,null,null,null,null,null,null,"","","",0,"",null,"","","0","","0","",null,0,null,null,null,"連動制御器"]
[null,null,null,null,null,null,null,null,null,null,null,null,"1(17)",null,null,null,null,null,null,null,null,null,null,null,null,null,null,"予備電源への切り替えの状況",null,null,null,null,null,null,null,null,null,null,null,null,null,null,null,null,null,null,null,null,null,null,null,null,null,null,null,null,null,null,null,null,null,null,null,null,null,null,null,null,null,null,null,null,null,null,null,null,null,null,null,null,null,null,null,null,null,null,null,null,null,null,null,null,null,null,null,null,null,null,null,null,null,null,null,null,null,null,null,null,null,null,null,null,null,null,null,null,null,null,null,null,null,null,null,null,null,null,null,null,null,null,null,null,null,null,null,null,null,0,0,0,0,"1(17)","予備電源への切り替えの状況",0,"",{"$f":"IF($EO33=\"要是正\",MAX($EP$14:EP29)+1,\"\")","v":""},{"$f":"IF($EO33=\"要是正\",MAX($EQ$14:EQ29)+1,\"\")","v":""},"","","","","","","0","","0","0","","","0","","0","0","",null,null,null,4,"#'3_入力シート【写真】'","A92","AU73",null,null,null,null,null,null,null,null,null,null,null,null,null,null,null,null,null,null,null,null,"","","",0,"",null,"","","0","","0","",null,0,null,null,null,"連動制御器"]
[null,null,null,null,null,null,null,null,null,null,null,null,"1(18)",null,null,null,null,null,null,null,"連動機構用予備電源",null,null,null,null,null,null,"劣化及び損傷の状況　　　　　　　　　　　　　　　　　　　　",null,null,null,null,null,null,null,null,null,null,null,null,null,null,null,null,null,null,null,null,null,null,null,null,null,null,null,null,null,null,null,null,null,null,null,null,null,null,null,null,null,null,null,null,null,null,null,null,null,null,null,null,null,null,null,null,null,null,null,null,null,null,null,null,null,null,null,null,null,null,null,null,null,null,null,null,null,null,null,null,null,null,null,null,null,null,null,null,null,null,null,null,null,null,null,null,null,null,null,null,null,null,null,null,null,null,null,null,null,0,0,0,0,"1(18)","劣化及び損傷の状況　　　　　　　　　　　　　　　　　　　　",0,"",{"$f":"IF($EO34=\"要是正\",MAX($EP$14:EP30)+1,\"\")","v":""},{"$f":"IF($EO34=\"要是正\",MAX($EQ$14:EQ30)+1,\"\")","v":""},"","","","","","","0","","0","0","","","0","","0","0","",null,null,null,4,"#'3_入力シート【写真】'","A92","AU73",null,null,null,null,null,null,null,null,null,null,null,null,null,null,null,null,null,null,null,null,"","","",0,"",null,"","","0","","0","",null,0,null,null,null,{"$f":"$U$34","v":"連動機構用予備電源"}]
[null,null,null,null,null,null,null,null,null,null,null,null,"1(19)",null,null,null,null,null,null,null,null,null,null,null,null,null,null,"容量の状況",null,null,null,null,null,null,null,null,null,null,null,null,null,null,null,null,null,null,null,null,null,null,null,null,null,null,null,null,null,null,null,null,null,null,null,null,null,null,null,null,null,null,null,null,null,null,null,null,null,null,null,null,null,null,null,null,null,null,null,null,null,null,null,null,null,null,null,null,null,null,null,null,null,null,null,null,null,null,null,null,null,null,null,null,null,null,null,null,null,null,null,null,null,null,null,null,null,null,null,null,null,null,null,null,null,null,null,null,null,0,0,0,0,"1(19)","容量の状況",0,"",{"$f":"IF($EO35=\"要是正\",MAX($EP$14:EP31)+1,\"\")","v":""},{"$f":"IF($EO35=\"要是正\",MAX($EQ$14:EQ31)+1,\"\")","v":""},"","","","","","","0","","0","0","","","0","","0","0","",null,null,null,5,"#'3_入力シート【写真】'","A19","AU150",null,null,null,null,null,null,null,null,null,null,null,null,null,null,null,null,null,null,null,null,"","","",0,"",null,"","","0","","0","",null,0,null,null,null,{"$f":"$U$34","v":"連動機構用予備電源"}]
[null,null,null,null,null,null,null,null,null,null,null,null,"1(20)",null,null,null,null,null,null,null,"自動閉鎖装置",null,null,null,null,null,null,"設置の状況",null,null,null,null,null,null,null,null,null,null,null,null,null,null,null,null,null,null,null,null,null,null,null,null,null,null,null,null,null,null,null,null,null,null,null,null,null,null,null,null,null,null,null,null,null,null,null,null,null,null,null,null,null,null,null,null,null,null,null,null,null,null,null,null,null,null,null,null,null,null,null,null,null,null,null,null,null,null,null,null,null,null,null,null,null,null,null,null,null,null,null,null,null,null,null,null,null,null,null,null,null,null,null,null,null,null,null,null,null,0,0,0,0,"1(20)","設置の状況",0,"",{"$f":"IF($EO36=\"要是正\",MAX($EP$14:EP32)+1,\"\")","v":""},{"$f":"IF($EO36=\"要是正\",MAX($EQ$14:EQ32)+1,\"\")","v":""},"","","","","","","0","","0","0","","","0","","0","0","",null,null,null,6,"#'3_入力シート【写真】'","A152","AU173",null,null,null,null,null,null,null,null,null,null,null,null,null,null,null,null,null,null,null,null,"","","",0,"",null,"","","0","","0","",null,0,null,null,null,{"$f":"$U$36","v":"自動閉鎖装置"}]
[null,null,null,null,null,null,null,null,null,null,null,null,"1(21)",null,null,null,null,null,null,null,"手動閉鎖装置",null,null,null,null,null,null,"設置の状況",null,null,null,null,null,null,null,null,null,null,null,null,null,null,null,null,null,null,null,null,null,null,null,null,null,null,null,null,null,null,null,null,null,null,null,null,null,null,null,null,null,null,null,null,null,null,null,null,null,null,null,null,null,null,null,null,null,null,null,null,null,null,null,null,null,null,null,null,null,null,null,null,null,null,null,null,null,null,null,null,null,null,null,null,null,null,null,null,null,null,null,null,null,null,null,null,null,null,null,null,null,null,null,null,null,null,null,null,null,0,0,0,0,"1(21)","設置の状況",0,"",{"$f":"IF($EO37=\"要是正\",MAX($EP$14:EP33)+1,\"\")","v":""},{"$f":"IF($EO37=\"要是正\",MAX($EQ$14:EQ33)+1,\"\")","v":""},"","","","","","","0","","0","0","","","0","","0","0","",null,null,null,2,"#'3_入力シート【写真】'","A33","AU54",null,null,null,null,null,null,null,null,null,null,null,null,null,null,null,null,null,null,null,null,"","","",0,"",null,"","","0","","0","",null,0,null,null,null,{"$f":"$U$37","v":"手動閉鎖装置"}]
[null,null,null,null,null,null,null,null,null,null,null,null,"1(22)",null,null,"総合的な作動の状況",null,null,null,null,null,null,null,null,null,null,null,"耐火クロススクリーンの閉鎖の状況",null,null,null,null,null,null,null,null,null,null,null,null,null,null,null,null,null,null,null,null,null,null,null,null,null,null,null,null,null,null,null,null,null,null,null,null,null,null,null,null,null,null,null,null,null,null,null,null,null,null,null,null,null,null,null,null,null,null,null,null,null,null,null,null,null,null,null,null,null,null,null,null,null,null,null,null,null,null,null,null,null,null,null,null,null,null,null,null,null,null,null,null,null,null,null,null,null,null,null,null,null,null,null,null,null,null,null,null,null,0,0,0,0,"1(22)","耐火クロススクリーンの閉鎖の状況",0,"",{"$f":"IF($EO38=\"要是正\",MAX($EP$14:EP34)+1,\"\")","v":""},{"$f":"IF($EO38=\"要是正\",MAX($EQ$14:EQ34)+1,\"\")","v":""},"","","","","","","0","","0","0","","","0","","0","0","",null,null,null,3,"#'3_入力シート【写真】'","A69","AU90",null,null,null,null,null,null,null,null,null,null,null,null,null,null,null,null,null,null,null,null,"","","",0,"",null,"","","0","","0","",null,0,null,null,null,{"$f":"$P$38","v":"総合的な作動の状況"}]
[null,null,null,null,null,null,null,null,null,null,null,null,"1(23)",null,null,null,null,null,null,null,null,null,null,null,null,null,null,"防火区画の形成の状況",null,null,null,null,null,null,null,null,null,null,null,null,null,null,null,null,null,null,null,null,null,null,null,null,null,null,null,null,null,null,null,null,null,null,null,null,null,null,null,null,null,null,null,null,null,null,null,null,null,null,null,null,null,null,null,null,null,null,null,null,null,null,null,null,null,null,null,null,null,null,null,null,null,null,null,null,null,null,null,null,null,null,null,null,null,null,null,null,null,null,null,null,null,null,null,null,null,null,null,null,null,null,null,null,null,null,null,null,null,0,0,0,0,"1(23)","防火区画の形成の状況",0,"",{"$f":"IF($EO39=\"要是正\",MAX($EP$14:EP35)+1,\"\")","v":""},{"$f":"IF($EO39=\"要是正\",MAX($EQ$14:EQ35)+1,\"\")","v":""},"","","","","","","0","","0","0","","","0","","0","0","",null,null,null,4,"#'3_入力シート【写真】'","A92","AU73",null,null,null,null,null,null,null,null,null,null,null,null,null,null,null,null,null,null,null,null,"","","",0,"",null,"","","0","",{"$f":"IF(GS39=1,GR39,\"0\")","v":"0"},{"$f":"IF(AND(EO39=\"要是正\",AND(EN39=0,CT39=\"未定\")),CT39,\"\")","v":""},null,0,null,null,null,{"$f":"$P$38","v":"総合的な作動の状況"}]
[null,null,null,null,null,null,null,null,null,null,null,null,null,null,null,null,null,null,null,null,null,null,null,null,null,null,null,null,null,null,null,null,null,null,null,null,null,null,null,null,null,null,null,null,null,null,null,null,null,null,null,null,null,null,null,null,null,null,null,null,null,null,null,null,null,null,null,null,null,null,null,null,null,null,null,null,null,null,null,null,null,null,null,null,null,null,null,null,null,null,null,null,null,null,null,null,null,null,null,null,null,null,null,null,null,null,null,null,null,null,null,null,null,null,null,null,null,null,null,null,null,null,null,null,null,null,null,null,null,null,null,null,null,null,null,null,null,{"$f":"SUM(EH17:EH39)","v":0},{"$f":"SUM(EI17:EI39)","v":0},{"$f":"SUM(EJ17:EJ39)","v":0},{"$f":"SUM(EK17:EK39)","v":0},null,null,null,null,null,null,null,null,null,null,null,null,null,{"$f":"COUNTIF(EY17:EY39,\"1\")","v":0},{"$f":"INDEX(EZ17:EZ39,MATCH(MIN(ABS(EZ17:EZ39-$EJ$4)),ABS(EZ17:EZ39-$EJ$4),0))","v":"0"},{"$f":"INDEX(FA17:FA39,MATCH(MIN(ABS(FA17:FA39-$EJ$4)),ABS(FA17:FA39-$EJ$4),0))","v":"0"},{"$f":"COUNTIF(FB17:FB39,\"未定\")","v":0},null,null,{"$f":"COUNTIF(FE17:FE39,\"1\")","v":0},{"$f":"INDEX(FF17:FF39,MATCH(MIN(ABS(FF17:FF39-$EJ$4)),ABS(FF17:FF39-$EJ$4),0))","v":"0"},{"$f":"INDEX(FG17:FG39,MATCH(MIN(ABS(FG17:FG39-$EJ$4)),ABS(FG17:FG39-$EJ$4),0))","v":"0"},{"$f":"COUNTIF(FH17:FH39,\"未定\")","v":0},null,null,null,null,null,null,null,null,null,null,null,null,null,null,null,null,null,null,null,null,null,null,null,null,null,null,null,null,null,null,null,null,null,null,{"$f":"IF(NOT(OR(CT40=\"未定\",CN40=\"\")),\"令和\"&CQ40&\"年\"&CQ40&\"月1日\",\"\")","v":""},null,{"$f":"COUNTIF(GS17:GS39,\"1\")","v":0},{"$f":"INDEX(GT17:GT39,MATCH(MIN(ABS(GT17:GT39-$EJ$4)),ABS(GT17:GT39-$EJ$4),0))","v":"0"},{"$f":"COUNTIF(GU17:GU39,\"未定\")","v":0},null,{"$f":"IF(BA40=\"△既存不適格\",BO40&\"(既存不適格)\",BO40)","v":0}]
[null,null,null,null,null,null,null,null,null,null,null,null,null,null,null,null,null,null,null,null,null,null,null,null,null,null,null,null,null,null,null,null,null,null,null,null,null,null,null,null,null,null,null,null,null,null,null,null,null,null,null,null,null,null,null,null,null,null,null,null,null,null,null,null,null,null,null,null,null,null,null,null,null,null,null,null,null,null,null,null,null,null,null,null,null,null,null,null,null,null,null,null,null,null,null,null,null,null,null,null,null,null,null,null,null,null,null,null,null,null,null,null,null,null,null,null,null,null,null,null,null,null,null,null,null,null,null,null,null,null,null,null,null,null,null,null,null,null,null,null,null,null,null,null,null,null,null,null,null,null,null,null,null,null,null,null,null,null,null,null,null,null,null,null,null,null,null,null,null,null,null,null,null,null,null,null,null,null,null,null,null,null,null,null,null,null,null,null,null,null,null,null,null,null,null,null,null,null,null,null,null,null,null,null,0]
[null,null,null,null,null,null,null,null,null,null,null,null,null,null,null,null,null,null,null,null,null,null,null,null,null,null,null,null,null,null,null,null,null,null,null,null,null,null,null,null,null,null,null,null,null,null,null,null,null,null,null,null,null,null,null,null,null,null,null,null,null,null,null,null,null,null,null,null,null,null,null,null,null,null,null,null,null,null,null,null,null,null,null,null,null,null,null,null,null,null,null,null,null,null,null,null,null,null,null,null,null,null,null,null,null,null,null,null,null,null,null,null,null,null,null,null,null,null,null,null,null,null,null,null,null,null,null,null,null,null,null,null,null,null,null,null,null,null,null,null,null,null,null,null,null,null,null,null,null,null,null,null,null,null,null,null,null,null,null,null,null,null,null,null,null,null,null,null,null,null,null,null,null,null,null,null,null,null,null,null,null,null,null,null,null,null,null,null,null,null,null,null,null,null,null,null,null,null,null,null,null,null,null,null,0]
[null,null,null,null,null,null,null,null,null,null,null,null,null,null,null,null,null,null,null,null,null,null,null,null,null,null,null,null,null,null,null,null,null,null,null,null,null,null,null,null,null,null,null,null,null,null,null,null,null,null,null,null,null,null,null,null,null,null,null,null,null,null,null,null,null,null,null,null,null,null,null,null,null,null,null,null,null,null,null,null,null,null,null,null,null,null,null,null,null,null,null,null,null,null,null,null,null,null,null,null,null,null,null,null,null,null,null,null,null,null,null,null,null,null,null,null,null,null,null,null,null,null,null,null,null,null,null,null,null,null,null,null,null,null,null,null,null,null,null,null,null,null,null,null,null,null,null,null,null,null,null,null,null,null,null,null,null,null,null,null,null,null,null,null,null,null,null,null,null,null,null,null,null,null,null,null,null,null,null,null,null,null,null,null,null,null,null,null,null,null,null,null,null,null,null,null,null,null,null,null,null,null,null,null,0]
[null,null,null,null,null,null,null,null,null,null,null,null,"上記以外の検査項目等",null,null,null,null,null,null,null,null,null,null,null,null,null,null,null,null,null,null,null,null,null,null,null,null,null,null,null,null,null,null,null,null,null,null,null,null,null,null,null,null,null,null,null,null,null,null,null,null,null,null,null,null,null,null,null,null,null,null,null,null,null,null,null,null,null,null,null,null,null,null,null,null,null,null,null,null,null,null,null,null,null,null,null,null,null,null,null,null,null,null,null,null,null,null,null,null,null,null,null,null,null,null,null,null,null,null,null,null,null,null,null,null,null,null,null,null,null,null,null,null,null,null,null,null,{"$f":"IF(AND(EI44=\"\",EJ44=\"\",EK44=\"\",EH50<>0),\"レ\",\"\")","v":""},{"$f":"IF(AND(EJ44=\"\",EK44=\"\",EI50<>0),\"レ\",\"\")","v":""},{"$f":"IF(EJ50<>0,\"レ\",\"\")","v":""},{"$f":"IF(AND(EJ44=\"\",EK50<>0),\"レ\",\"\")","v":""},null,null,null,null,null,null,null,"項目\n\n要是正＆\n既存不適格",{"$f":"SUBSTITUTE(TRIM(ET47&\"　\"&ET48&\"　\"&ET49),\"　\",\",\")","v":""},null,null,{"$f":"IF(COUNTIF(EY47:EY49,1)>0,\"レ\",\"\")","v":""},null,{"$f":"IF(EW44=\"レ\",TEXT(EZ50,\"e\"),\"\")","v":""},{"$f":"IF(EW44=\"レ\",MONTH(EZ50),IF(AND(EJ44=\"レ\",FB44=\"レ\",FB50=0),\"\",IF(AND(EJ44=\"レ\",FB44=\"レ\",FB50>0),\"未定\",\"\")))","v":""},null,{"$f":"IF(EW44=\"\",IF(OR(FB50>0,EJ44=\"レ\"),\"レ\",\"\"),\"\")","v":""},{"$f":"IF(AND(COUNTIF(EO47:EO49,\"要是正\")=0,COUNTIF(FE47:FE49,1)>0),\"レ\",\"\")","v":""},null,{"$f":"IF(FC44=\"レ\",TEXT(FF50,\"e\"),\"\")","v":""},{"$f":"IF(FC44=\"レ\",MONTH(FF50),IF(AND(EK44=\"レ\",FH44=\"レ\",FH50=0),\"\",IF(AND(EK44=\"レ\",FH44=\"レ\",FH50>0),\"未定\",\"\")))","v":""},null,{"$f":"IF(FC44=\"\",IF(OR(FH70>0,EK44=\"レ\"),\"レ\",\"\"),\"\")","v":"レ"},null,null,null,null,null,null,null,null,null,null,null,null,null,null,null,null,null,null,null,null,null,null,null,null,null,null,null,null,null,null,null,null,null,null,{"$f":"IF(COUNTIF(GS47:GS49,1)>0,\"レ\",\"\")","v":""},null,{"$f":"IF(GQ44=\"レ\",TEXT(GT50,\"e\"),\"\")","v":""},{"$f":"IF(GQ44=\"レ\",MONTH(GT50),IF(AND(GG45=\"レ\",GU44=\"レ\",GU50=0),\"\",IF(AND(GG45=\"レ\",GU44=\"レ\",GU80>0),\"未定\",\"\")))","v":""},{"$f":"IF(GQ44=\"\",IF(OR(GU50>0,GG45=\"レ\"),\"レ\",\"\"),\"\")","v":""},null,0]
[null,null,null,null,null,null,null,null,null,null,null,null,"番号",null,null,"検　査　項　目",null,null,null,null,null,null,null,null,null,null,null,null,null,null,null,null,"検　査　事　項",null,null,null,null,null,null,null,null,null,null,null,null,null,null,null,null,null,null,null,"検査結果",null,null,null,null,null,null,null,null,null,null,null,"検査者番号",null,"指摘の具体的内容等",null,null,null,null,null,null,null,null,null,"改善策の具体的内容等",null,null,null,null,null,null,null,null,null,null,null,null,null,null,"改善（予定）年月",null,null,null,null,null,null,null,null,"該当法令・注意事項",null,null,null,null,null,null,null,null,null,null,null,null,null,null,null,null,null,null,null,null,null,null,null,null,null,null,null,null,null,null,null,null,null,null,null,null,null,null,null,null,null,null,null,null,"要是正カウント（別添2リンク先）","カウント\n報告書用",null,null,"指摘の具体的内容等\n要是正＋（既存不適格）","改善策の具体的内容等",null,"改善（予定）\n年月",null,null,null,null,null,"改善（予定）\n年月",null,null,null,null,null,"関連写真添付　リンク指定先",null,null,null,null,null,null,null,null,null,null,null,null,null,null,null,null,null,null,null,null,null,null,null,null,null,null,"国交省検査結果表転記用",null,null,null,null,null,null,"改善（予定）\n年月"]
[null,null,null,null,null,null,null,null,null,null,null,null,null,null,null,null,null,null,null,null,null,null,null,null,null,null,null,null,null,null,null,null,null,null,null,null,null,null,null,null,null,null,null,null,null,null,null,null,null,null,null,null,null,null,null,null,null,null,null,null,null,null,null,null,null,null,null,null,null,null,null,null,null,null,null,null,null,null,null,null,null,null,null,null,null,null,null,null,null,null,null,"年\n(令和)",null,null,"月",null,null,"状況",null,null,null,null,null,null,null,null,null,null,null,null,null,null,null,null,null,null,null,null,null,null,null,null,null,null,null,null,null,null,null,null,null,null,null,null,null,null,null,"対象外項目","指摘なし","要是正","既存不適格","項目番号\n関数なし","項目","年月カウント","要是正と既存不適格",null,null,"項目番号",null,null,null,null,"変換\n/有(予定)","西暦変換\n/有（済）","未来の年月\nカウント/年","未来の直近/月","過去の直近","未定/無","変換/有","西暦変換/(有)","未来の年月\nカウント/年","未来の直近/月","過去の直近","未定/無","シート","セル　上端","セル　下端",null,null,null,null,null,null,null,null,null,null,null,null,null,null,null,null,null,null,null,null,null,null,{"$f":"SUBSTITUTE(TRIM(GH47&\"　\"&GH48&\"　\"&GH49),\"　\",\",\")","v":""},null,"指摘なし","要是正","既存不適格","担当者番号","線引き",null,{"$f":"TRIM(GP47&\"　\"&GP48&\"　\"&GP49)","v":""},"変換\n/有(予定)","西暦変換\n","未来の年月\nカウント/年","未来の直近\n/月","未定/無",null,0]
[null,null,null,null,null,null,null,null,null,null,null,null,null,null,null,null,null,null,null,null,null,null,null,null,null,null,null,null,null,null,null,null,null,null,null,null,null,null,null,null,null,null,null,null,null,null,null,null,null,null,null,null,null,null,null,null,null,null,null,null,null,null,null,null,null,null,null,null,null,null,null,null,null,null,null,null,null,null,null,null,null,null,null,null,null,null,null,null,null,null,null,null,null,null,null,null,null,null,null,null,null,null,null,null,null,null,null,null,null,null,null,null,null,null,null,null,null,null,null,null,null,null,null,null,null,null,null,null,null,null,null,null,null,null,null,null,null,{"$f":"COUNTIFS(BA47,\"ー対象外\")","v":0},{"$f":"COUNTIFS(BA47,\"○指摘なし\")","v":0},{"$f":"COUNTIFS(BA47,\"×要是正（既存不適格以外）\")","v":0},{"$f":"COUNTIFS(BA47,\"△既存不適格\")","v":0},{"$f":"M47","v":0},{"$f":"P47","v":0},{"$f":"COUNTA(CN47:CS47)","v":0},{"$f":"IF(BA47=\"×要是正（既存不適格以外）\",\"要是正\",\"\")&IF(BA47=\"△既存不適格\",\"既存不適格\",\"\")","v":""},{"$f":"IF($EO47=\"要是正\",MAX($EP$14:EP43)+1,\"\")","v":""},{"$f":"IF($EO47=\"要是正\",MAX($EQ$14:EQ43)+1,\"\")","v":""},{"$f":"IF(OR(BA47=\"×要是正（既存不適格以外）\",BA47=\"△既存不適格\"),EL47,\"\")","v":""},{"$f":"IF(OR($EO47=\"要是正\",$EO47=\"既存不適格\"),$EM47,\"\")","v":""},{"$f":"IF($EO47=\"要是正\",IF(BO47=\"\",\"\",BO47),\"\")","v":""},{"$f":"IF($EO47=\"要是正\",IF(BY47=\"\",\"\",BY47),\"\")","v":""},{"$f":"IF(CT47=\"未定\",\"未定\",IF(GR47=\"0\",\"\",IF(CT47=\"予定\",TEXT(GR47,\"([$-ja-JP]ge.m);@\"),IF(CT47=\"改善済\",TEXT(GR47,\"[$-ja-JP]ge.m;@\"),TEXT(EX47,\"[$-ja-JP]ge.m;@\")))))","v":""},{"$f":"IF(OR(EO47=\"要是正\",EO47=\"既存不適格\"),IF(OR(EN47<2,CT47<>\"予定\"),\"\",\"令和\"&CN47&\"年\"&CQ47&\"月1日\"),\"\")","v":""},{"$f":"IF(EW47=\"\",\"0\",DATEVALUE(EW47))","v":"0"},{"$f":"IF(EO47=\"要是正\",IF(AND(CT47=\"予定\",EN47=2),1,IF(CT47=\"改善済\",2,\"\")),\"\")","v":""},{"$f":"IF(EY47=1,EX47,\"0\")","v":"0"},{"$f":"IF(EY47=2,EX47,\"0\")","v":"0"},{"$f":"IF(AND(EO47=\"要是正\",AND(EN47=0,CT47=\"未定\")),CT47,\"\")","v":""},{"$f":"IF(EO47=\"既存不適格\",IF(OR(EN47<2,CT47<>\"予定\"),\"\",\"令和\"&CN47&\"年\"&CQ47&\"月1日\"),\"\")","v":""},{"$f":"IF(FC47=\"\",\"0\",DATEVALUE(FC47))","v":"0"},{"$f":"IF(EO47=\"既存不適格\",IF(AND(CT47=\"予定\",EN47=2),1,IF(CT47=\"改善済\",2,\"\")),\"\")","v":""},{"$f":"IF(FE47=1,FD47,\"0\")","v":"0"},{"$f":"IF(FE47=2,FD47,\"0\")","v":"0"},{"$f":"IF(AND(EO47=\"既存不適格\",AND(EN47=0,CT47=\"未定\")),CT47,\"\")","v":""},null,null,null,null,null,null,null,null,null,null,null,null,null,null,null,null,null,null,null,null,null,null,null,null,null,{"$f":"IF(EO47=\"要是正\",IF(BO47=\"\",\"\",EL47 &\" \" & BO47),\"\")","v":""},null,{"$f":"IF($BA47=\"○指摘なし\",\"○\",IF(BA47=\"―対象外\",\"－\",\"\"))","v":""},{"$f":"IF(OR($BA47=\"×要是正（既存不適格以外）\",$BA47=\"△既存不適格\"),\"○\",\"\")","v":""},{"$f":"IF($BA47=\"△既存不適格\",\"○\",\"\")","v":""},{"$f":"BM47","v":0},{"$f":"IF($BA47=\"―対象外\",\"○\",\"\")","v":""},null,{"$f":"IF(EO47=\"要是正\",IF(BO47=\"\",\"\",ER47&\" \"&HA47&\" \" &BO47&CHAR(10)),\"\")","v":""},{"$f":"IF(NOT(OR(CT47=\"未定\",CT47=\"\")),\"令和\"&CN47&\"年\"&CQ47&\"月1日\",\"\")","v":""},{"$f":"IF(GQ47=\"\",\"0\",DATEVALUE(GQ47))","v":"0"},{"$f":"IF(OR(CT47=\"予定\",CT47=\"改善済\"),1,\"\")","v":""},{"$f":"IF(GS47=1,GR47,\"0\")","v":"0"},{"$f":"IF(AND(EO47=\"要是正\",AND(EN47=0,CT47=\"未定\")),CT47,\"\")","v":""},null,0,null,null,null,{"$f":"P47","v":0}]
[null,null,null,null,null,null,null,null,null,null,null,null,null,null,null,null,null,null,null,null,null,null,null,null,null,null,null,null,null,null,null,null,null,null,null,null,null,null,null,null,null,null,null,null,null,null,null,null,null,null,null,null,null,null,null,null,null,null,null,null,null,null,null,null,null,null,null,null,null,null,null,null,null,null,null,null,null,null,null,null,null,null,null,null,null,null,null,null,null,null,null,null,null,null,null,null,null,null,null,null,null,null,null,null,null,null,null,null,null,null,null,null,null,null,null,null,null,null,null,null,null,null,null,null,null,null,null,null,null,null,null,null,null,null,null,null,null,{"$f":"COUNTIFS(BA48,\"ー対象外\")","v":0},{"$f":"COUNTIFS(BA48,\"○指摘なし\")","v":0},{"$f":"COUNTIFS(BA48,\"×要是正（既存不適格以外）\")","v":0},{"$f":"COUNTIFS(BA48,\"△既存不適格\")","v":0},0,{"$f":"P48","v":0},{"$f":"COUNTA(CN48:CS48)","v":0},{"$f":"IF(BA48=\"×要是正（既存不適格以外）\",\"要是正\",\"\")&IF(BA48=\"△既存不適格\",\"既存不適格\",\"\")","v":""},{"$f":"IF($EO48=\"要是正\",MAX($EP$14:EP44)+1,\"\")","v":""},{"$f":"IF($EO48=\"要是正\",MAX($EQ$14:EQ44)+1,\"\")","v":""},{"$f":"IF(OR(BA48=\"×要是正（既存不適格以外）\",BA48=\"△既存不適格\"),EL48,\"\")","v":""},{"$f":"IF(OR($EO48=\"要是正\",$EO48=\"既存不適格\"),$EM48,\"\")","v":""},{"$f":"IF($EO48=\"要是正\",IF(BO48=\"\",\"\",BO48),\"\")","v":""},{"$f":"IF($EO48=\"要是正\",IF(BY48=\"\",\"\",BY48),\"\")","v":""},{"$f":"IF(CT48=\"未定\",\"未定\",IF(GR48=\"0\",\"\",IF(CT48=\"予定\",TEXT(GR48,\"([$-ja-JP]ge.m);@\"),IF(CT48=\"改善済\",TEXT(GR48,\"[$-ja-JP]ge.m;@\"),TEXT(EX48,\"[$-ja-JP]ge.m;@\")))))","v":""},{"$f":"IF(OR(EO48=\"要是正\",EO48=\"既存不適格\"),IF(OR(EN48<2,CT48<>\"予定\"),\"\",\"令和\"&CN48&\"年\"&CQ48&\"月1日\"),\"\")","v":""},{"$f":"IF(EW48=\"\",\"0\",DATEVALUE(EW48))","v":"0"},{"$f":"IF(EO48=\"要是正\",IF(AND(CT48=\"予定\",EN48=2),1,IF(CT48=\"改善済\",2,\"\")),\"\")","v":""},{"$f":"IF(EY48=1,EX48,\"0\")","v":"0"},{"$f":"IF(EY48=2,EX48,\"0\")","v":"0"},{"$f":"IF(AND(EO48=\"要是正\",AND(EN48=0,CT48=\"未定\")),CT48,\"\")","v":""},{"$f":"IF(EO48=\"既存不適格\",IF(OR(EN48<2,CT48<>\"予定\"),\"\",\"令和\"&CN48&\"年\"&CQ48&\"月1日\"),\"\")","v":""},{"$f":"IF(FC48=\"\",\"0\",DATEVALUE(FC48))","v":"0"},{"$f":"IF(EO48=\"既存不適格\",IF(AND(CT48=\"予定\",EN48=2),1,IF(CT48=\"改善済\",2,\"\")),\"\")","v":""},{"$f":"IF(FE48=1,FD48,\"0\")","v":"0"},{"$f":"IF(FE48=2,FD48,\"0\")","v":"0"},{"$f":"IF(AND(EO48=\"既存不適格\",AND(EN48=0,CT48=\"未定\")),CT48,\"\")","v":""},null,null,null,null,null,null,null,null,null,null,null,null,null,null,null,null,null,null,null,null,null,null,null,null,null,{"$f":"IF(EO48=\"要是正\",IF(BO48=\"\",\"\",EL48 &\" \" & BO48),\"\")","v":""},null,"",{"$f":"IF(OR($BA48=\"×要是正（既存不適格以外）\",$BA48=\"△既存不適格\"),\"○\",\"\")","v":""},{"$f":"IF($BA48=\"△既存不適格\",\"○\",\"\")","v":""},{"$f":"BM48","v":0},{"$f":"IF($BA48=\"―対象外\",\"○\",\"\")","v":""},null,{"$f":"IF(EO48=\"要是正\",IF(BO48=\"\",\"\",ER48&\" \"&HA48&\" \" &BO48&CHAR(10)),\"\")","v":""},{"$f":"IF(NOT(OR(CT48=\"未定\",CT48=\"\")),\"令和\"&CN48&\"年\"&CQ48&\"月1日\",\"\")","v":""},{"$f":"IF(GQ48=\"\",\"0\",DATEVALUE(GQ48))","v":"0"},{"$f":"IF(OR(CT48=\"予定\",CT48=\"改善済\"),1,\"\")","v":""},{"$f":"IF(GS48=1,GR48,\"0\")","v":"0"},{"$f":"IF(AND(EO48=\"要是正\",AND(EN48=0,CT48=\"未定\")),CT48,\"\")","v":""},null,0,null,null,null,{"$f":"P48","v":0}]
[null,null,null,null,null,null,null,null,null,null,null,null,null,null,null,null,null,null,null,null,null,null,null,null,null,null,null,null,null,null,null,null,null,null,null,null,null,null,null,null,null,null,null,null,null,null,null,null,null,null,null,null,null,null,null,null,null,null,null,null,null,null,null,null,null,null,null,null,null,null,null,null,null,null,null,null,null,null,null,null,null,null,null,null,null,null,null,null,null,null,null,null,null,null,null,null,null,null,null,null,null,null,null,null,null,null,null,null,null,null,null,null,null,null,null,null,null,null,null,null,null,null,null,null,null,null,null,null,null,null,null,null,null,null,null,null,null,{"$f":"COUNTIFS(BA49,\"ー対象外\")","v":0},{"$f":"COUNTIFS(BA49,\"○指摘なし\")","v":0},{"$f":"COUNTIFS(BA49,\"×要是正（既存不適格以外）\")","v":0},{"$f":"COUNTIFS(BA49,\"△既存不適格\")","v":0},0,0,0,"",{"$f":"IF($EO49=\"要是正\",MAX($EP$14:EP45)+1,\"\")","v":""},{"$f":"IF($EO49=\"要是正\",MAX($EQ$14:EQ45)+1,\"\")","v":""},{"$f":"IF(OR(BA49=\"×要是正（既存不適格以外）\",BA49=\"△既存不適格\"),EL49,\"\")","v":""},{"$f":"IF(OR($EO49=\"要是正\",$EO49=\"既存不適格\"),$EM49,\"\")","v":""},"",{"$f":"IF($EO49=\"要是正\",IF(BY49=\"\",\"\",BY49),\"\")","v":""},"",{"$f":"IF(OR(EO49=\"要是正\",EO49=\"既存不適格\"),IF(OR(EN49<2,CT49<>\"予定\"),\"\",\"令和\"&CN49&\"年\"&CQ49&\"月1日\"),\"\")","v":""},{"$f":"IF(EW49=\"\",\"0\",DATEVALUE(EW49))","v":"0"},{"$f":"IF(EO49=\"要是正\",IF(AND(CT49=\"予定\",EN49=2),1,IF(CT49=\"改善済\",2,\"\")),\"\")","v":""},"0",{"$f":"IF(EY49=2,EX49,\"0\")","v":"0"},{"$f":"IF(AND(EO49=\"要是正\",AND(EN49=0,CT49=\"未定\")),CT49,\"\")","v":""},{"$f":"IF(EO49=\"既存不適格\",IF(OR(EN49<2,CT49<>\"予定\"),\"\",\"令和\"&CN49&\"年\"&CQ49&\"月1日\"),\"\")","v":""},"0",{"$f":"IF(EO49=\"既存不適格\",IF(AND(CT49=\"予定\",EN49=2),1,IF(CT49=\"改善済\",2,\"\")),\"\")","v":""},"0","0",{"$f":"IF(AND(EO49=\"既存不適格\",AND(EN49=0,CT49=\"未定\")),CT49,\"\")","v":""},null,null,null,null,null,null,null,null,null,null,null,null,null,null,null,null,null,null,null,null,null,null,null,null,null,{"$f":"IF(EO49=\"要是正\",IF(BO49=\"\",\"\",EL49 &\" \" & BO49),\"\")","v":""},null,"",{"$f":"IF(OR($BA49=\"×要是正（既存不適格以外）\",$BA49=\"△既存不適格\"),\"○\",\"\")","v":""},{"$f":"IF($BA49=\"△既存不適格\",\"○\",\"\")","v":""},{"$f":"BM49","v":0},{"$f":"IF($BA49=\"―対象外\",\"○\",\"\")","v":""},null,"","","0","","0","",null,0,null,null,null,0]
[null,null,null,null,null,null,null,null,null,null,null,null,null,null,null,null,null,null,null,null,null,null,null,null,null,null,null,null,null,null,null,null,null,null,null,null,null,null,null,null,null,null,null,null,null,null,null,null,null,null,null,null,null,null,null,null,null,null,null,null,null,null,null,null,null,null,null,null,null,null,null,null,null,null,null,null,null,null,null,null,null,null,null,null,null,null,null,null,null,null,null,null,null,null,null,null,null,null,null,null,null,null,null,null,null,null,null,null,null,null,null,null,null,null,null,null,null,null,null,null,null,null,null,null,null,null,null,null,null,null,null,null,null,null,null,null,null,{"$f":"SUM(EH47:EH49)","v":0},{"$f":"SUM(EI47:EI49)","v":0},{"$f":"SUM(EJ47:EJ49)","v":0},{"$f":"SUM(EK47:EK49)","v":0},null,null,null,null,{"$f":"IF($EO50=\"要是正\",MAX($EP$5:EP49)+1,\"\")","v":""},null,null,null,null,null,null,null,null,{"$f":"COUNTIF(EY47:EY49,\"1\")","v":0},{"$f":"INDEX(EZ47:EZ49,MATCH(MIN(ABS(EZ47:EZ49-$EJ$4)),ABS(EZ47:EZ49-$EJ$4),0))","v":"0"},{"$f":"INDEX(FA47:FA49,MATCH(MIN(ABS(FA47:FA49-$EJ$4)),ABS(FA47:FA49-$EJ$4),0))","v":"0"},{"$f":"COUNTIF(FB47:FB49,\"未定\")","v":0},null,null,{"$f":"COUNTIF(FE47:FE49,\"1\")","v":0},{"$f":"INDEX(FF47:FF49,MATCH(MIN(ABS(FF47:FF49-$EJ$4)),ABS(FF47:FF49-$EJ$4),0))","v":"0"},{"$f":"INDEX(FG47:FG49,MATCH(MIN(ABS(FG47:FG49-$EJ$4)),ABS(FG47:FG49-$EJ$4),0))","v":"0"},{"$f":"COUNTIF(FH47:FH49,\"未定\")","v":0},null,null,null,null,null,null,null,null,null,null,null,null,null,null,null,null,null,null,null,null,null,null,null,null,null,null,null,null,null,null,null,null,null,null,{"$f":"IF(NOT(OR(CW38=\"未定\",CQ38=\"\")),\"令和\"&CT38&\"年\"&CU39&\"月1日\",\"\")","v":""},null,{"$f":"COUNTIF(GS47:GS49,\"1\")","v":0},{"$f":"INDEX(GT47:GT49,MATCH(MIN(ABS(GT47:GT49-$EJ$4)),ABS(GT47:GT49-$EJ$4),0))","v":"0"},{"$f":"COUNTIF(GU47:GU49,\"未定\")","v":0},null,0]
[null,null,null,null,null,null,null,null,null,null,null,null,null,null,null,null,null,null,null,null,null,null,null,null,null,null,null,null,null,null,null,null,null,null,null,null,null,null,null,null,null,null,null,null,null,null,null,null,null,null,null,null,null,null,null,null,null,null,null,null,null,null,null,null,null,null,null,null,null,null,null,null,null,null,null,null,null,null,null,null,null,null,null,null,null,null,null,null,null,null,null,null,null,null,null,null,null,null,null,null,null,null,null,null,null,null,null,null,null,null,null,null,null,null,null,null,null,null,null,null,null,null,null,null,null,null,null,null,null,null,null,null,null,null,null,null,null,null,null,null,null,null,null,null,null,null,null,null,null,null,null,null,null,null,null,null,null,null,null,null,null,null,null,null,null,null,null,null,null,null,null,null,null,null,null,null,null,null,null,null,null,null,null,null,null,null,null,null,null,null,null,null,null,null,null,null,null,null,null,null,null,null,null,null,{"$f":"IF(#REF!=\"△既存不適格\",#REF!&\"(既存不適格)\",#REF!)","v":{"$error":"#REF!"}}]
[null,null,null,null,null,null,null,null,null,null,null,null,null,null,null,null,null,null,null,null,null,null,null,null,null,null,null,null,null,null,null,null,null,null,null,null,null,null,null,null,null,null,null,null,null,null,null,null,null,null,null,null,null,null,null,null,null,null,null,null,null,null,null,null,null,null,null,null,null,null,null,null,null,null,null,null,null,null,null,null,null,null,null,null,null,null,null,null,null,null,null,null,null,null,null,null,null,null,null,null,null,null,null,null,null,null,null,null,null,null,null,null,null,null,null,null,null,null,null,null,null,null,null,null,null,null,null,null,null,null,null,null,null,null,null,null,null,null,null,null,null,null,null,null,null,null,null,null,null,null,null,null,null,null,null,null,null,null,null,null,null,null,null,null,null,null,null,null,null,null,null,null,null,null,null,null,null,null,null,null,null,null,null,null,null,null,null,null,null,null,null,null,null,null,null,null,null,null,null,null,null,null,null,null,{"$f":"IF(AY51=\"△既存不適格\",BM51&\"(既存不適格)\",BM51)","v":0}]
[null,null,null,null,null,null,null,null,null,null,null,null,null,null,null,null,null,null,null,null,null,null,null,null,null,null,null,null,null,null,null,null,null,null,null,null,null,null,null,null,null,null,null,null,null,null,null,null,null,null,null,null,null,null,null,null,null,null,null,null,null,null,null,null,null,null,null,null,null,null,null,null,null,null,null,null,null,null,null,null,null,null,null,null,null,null,null,null,null,null,null,null,null,null,null,null,null,null,null,null,null,null,null,null,null,null,null,null,null,null,null,null,null,null,null,null,null,null,null,null,null,null,null,null,null,null,null,null,null,null,null,null,null,null,null,null,null,null,null,null,null,null,null,null,null,null,null,null,null,null,null,null,null,null,null,null,null,null,null,null,null,null,null,null,null,null,null,null,null,null,null,null,null,null,null,null,null,null,null,null,null,null,null,null,null,null,null,null,null,null,null,null,null,null,null,null,null,null,null,null,null,null,null,null,{"$f":"IF(AY52=\"△既存不適格\",BM52&\"(既存不適格)\",BM52)","v":0}]
[null,null,null,null,null,null,null,null,null,null,null,null,"上記に記載のない事項",null,null,null,null,null,null,null,null,null,null,null,null,null,null,null,null,null,null,null,null,null,null,null,null,null,null,null,null,null,null,null,null,null,null,null,null,null,null,null,null,null,null,null,null,null,null,null,null,null,null,null,null,null,null,null,null,null,null,null,null,null,null,null,null,null,null,null,null,null,null,null,null,null,null,null,null,null,null,null,null,null,null,null,null,null,null,null,null,null,null,null,null,null,null,null,null,null,null,null,null,null,null,null,null,null,null,null,null,null,null,null,null,null,null,null,null,null,null,null,null,null,null,null,null,{"$f":"IF(AND(EI54=\"\",EJ54=\"\",EK54=\"\",EH72<>0),\"レ\",\"\")","v":""},{"$f":"IF(AND(EJ54=\"\",EK54=\"\",EI72<>0),\"レ\",\"\")","v":""},{"$f":"IF(EJ72<>0,\"レ\",\"\")","v":""},{"$f":"IF(AND(EJ54=\"\",EK72<>0),\"レ\",\"\")","v":""},null,null,null,null,null,null,null,"項目\n\n要是正＆\n既存不適格",{"$f":"SUBSTITUTE(TRIM(ET57&\"　\"&ET58&\"　\"&ET59&\"　\"&ET60&\"　\"&ET61&\"　\"&ET62&\"　\"&ET63&\"　\"&ET64&\"　\"&ET602&\"　\"&ET65&\"　\"&ET66&\"　\"&ET67&\"　\"&ET68&\"　\"&ET69&\"　\"&ET70&\"　\"&ET71),\"　\",\",\")","v":""},null,null,{"$f":"IF(COUNTIF(EY57:EY71,1)>0,\"レ\",\"\")","v":""},null,{"$f":"IF(EW54=\"レ\",TEXT(EZ72,\"e\"),\"\")","v":""},{"$f":"IF(EW54=\"レ\",MONTH(EZ72),IF(AND(EJ54=\"レ\",FB54=\"レ\",FB72=0),\"\",IF(AND(EJ54=\"レ\",FB54=\"レ\",FB72>0),\"未定\",\"\")))","v":""},null,{"$f":"IF(EW54=\"\",IF(OR(FB72>0,EJ54=\"レ\"),\"レ\",\"\"),\"\")","v":""},{"$f":"IF(AND(COUNTIF(EO57:EO71,\"要是正\")=0,COUNTIF(FE57:FE71,1)>0),\"レ\",\"\")","v":""},null,{"$f":"IF(FC54=\"レ\",TEXT(FF72,\"e\"),\"\")","v":""},{"$f":"IF(FC54=\"レ\",MONTH(FF72),IF(AND(EK54=\"レ\",FH54=\"レ\",FH72=0),\"\",IF(AND(EK54=\"レ\",FH54=\"レ\",FH72>0),\"未定\",\"\")))","v":""},null,{"$f":"IF(FC54=\"\",IF(OR(FH72>0,EK54=\"レ\"),\"レ\",\"\"),\"\")","v":""},null,null,null,null,null,null,null,null,null,null,null,null,null,null,null,null,null,null,null,null,null,null,null,null,null,null,null,{"$f":"IF($BA54=\"○指摘なし\",\"○\",\"\")","v":""},{"$f":"IF(OR($BA54=\"×要是正（既存不適格以外）\",$BA54=\"△既存不適格\"),\"○\",\"\")","v":""},{"$f":"IF($BA54=\"△既存不適格\",\"○\",\"\")","v":""},null,{"$f":"IF($BA54=\"―対象外\",\"○\",\"\")","v":""},null,null,{"$f":"IF(COUNTIF(GS57:GS71,1)>0,\"レ\",\"\")","v":""},null,{"$f":"IF(GQ54=\"レ\",TEXT(GT90,\"e\"),\"\")","v":""},{"$f":"IF(GQ54=\"レ\",MONTH(GT72),IF(AND(GG55=\"レ\",GU54=\"レ\",GU72=0),\"\",IF(AND(GG55=\"レ\",GU54=\"レ\",GU72>0),\"未定\",\"\")))","v":""},{"$f":"IF(GQ54=\"\",IF(OR(GU72>0,GG55=\"レ\"),\"レ\",\"\"),\"\")","v":""},null,0]
[null,null,null,null,null,null,null,null,null,null,null,null,"番号",null,null,"検　査　項　目",null,null,null,null,null,null,null,null,null,null,null,null,null,null,null,null,"検　査　事　項",null,null,null,null,null,null,null,null,null,null,null,null,null,null,null,null,null,null,null,"検査結果",null,null,null,null,null,null,null,null,null,null,null,"検査者番号",null,"指摘の具体的内容等",null,null,null,null,null,null,null,null,null,"改善策の具体的内容等",null,null,null,null,null,null,null,null,null,null,null,null,null,null,"改善（予定）年月",null,null,null,null,null,null,null,null,"該当法令・注意事項",null,null,null,null,null,null,null,null,null,null,null,null,null,null,null,null,null,null,null,null,null,null,null,null,null,null,null,null,null,null,null,null,null,null,null,null,null,null,null,null,null,null,null,null,"要是正カウント（別添2リンク先）","カウント\n報告書用",null,null,"指摘の具体的内容等\n要是正＋（既存不適格）","改善策の具体的内容等",null,"改善（予定）\n年月",null,null,null,null,null,"改善（予定）\n年月",null,null,null,null,null,"関連写真添付　リンク指定先",null,null,null,null,null,null,null,null,null,null,null,null,null,null,null,null,null,null,null,null,null,null,null,null,null,null,"国交省検査結果表転記用",null,null,null,null,null,null,"改善（予定）\n年月"]
[null,null,null,null,null,null,null,null,null,null,null,null,null,null,null,null,null,null,null,null,null,null,null,null,null,null,null,null,null,null,null,null,null,null,null,null,null,null,null,null,null,null,null,null,null,null,null,null,null,null,null,null,null,null,null,null,null,null,null,null,null,null,null,null,null,null,null,null,null,null,null,null,null,null,null,null,null,null,null,null,null,null,null,null,null,null,null,null,null,null,null,"年\n(令和)",null,null,"月",null,null,"状況",null,null,null,null,null,null,null,null,null,null,null,null,null,null,null,null,null,null,null,null,null,null,null,null,null,null,null,null,null,null,null,null,null,null,null,null,null,null,null,"対象外項目","指摘なし","要是正","既存不適格","項目番号\n関数なし","項目","年月カウント","要是正と既存不適格",null,null,"項目番号",null,null,null,null,"変換\n/有(予定)","西暦変換\n/有（済）","未来の年月\nカウント/年","未来の直近/月","過去の直近","未定/無","変換/有","西暦変換/(有)","未来の年月\nカウント/年","未来の直近/月","過去の直近","未定/無","シート","セル　上端","セル　下端",null,null,null,null,null,null,null,null,null,null,null,null,null,null,null,null,null,null,null,null,null,null,null,null,"指摘なし","要是正","既存不適格","担当者番号","線引き",null,{"$f":"TRIM(GP57&\"　\"&GP58&\"　\"&GP59&\"　\"&GP60&\"　\"&GP61&\"　\"&GP62&\"　\"&GP63&\"　\"&GP64&\"　\"&GP65&\"　\"&GP66&\"　\"&GP67&\"　\"&GP68&\"　\"&GP69&\"　\"&GP70&\"　\"&GP71)","v":""},"変換\n/有(予定)","西暦変換\n","未来の年月\nカウント/年","未来の直近\n/月","未定/無",null,0]
[null,null,null,null,null,null,null,null,null,null,null,null,null,null,null,null,null,null,null,null,null,null,null,null,null,null,null,null,null,null,null,null,null,null,null,null,null,null,null,null,null,null,null,null,null,null,null,null,null,null,null,null,null,null,null,null,null,null,null,null,null,null,null,null,null,null,null,null,null,null,null,null,null,null,null,null,null,null,null,null,null,null,null,null,null,null,null,null,null,null,null,null,null,null,null,null,null,null,null,null,null,null,null,null,null,null,null,null,null,null,null,null,null,null,null,null,null,null,null,null,null,null,null,null,null,null,null,null,null,null,null,null,null,null,null,null,null,{"$f":"COUNTIFS(BA57,\"ー対象外\")","v":0},{"$f":"COUNTIFS(BA57,\"○指摘なし\")","v":0},{"$f":"COUNTIFS(BA57,\"×要是正（既存不適格以外）\")","v":0},{"$f":"COUNTIFS(BA57,\"△既存不適格\")","v":0},{"$f":"M57","v":0},{"$f":"AG57","v":0},{"$f":"COUNTA(CN57:CS57)","v":0},{"$f":"IF(BA57=\"×要是正（既存不適格以外）\",\"要是正\",\"\")&IF(BA57=\"△既存不適格\",\"既存不適格\",\"\")","v":""},{"$f":"IF($EO57=\"要是正\",MAX($EP$14:EP53)+1,\"\")","v":""},{"$f":"IF($EO57=\"要是正\",MAX($EQ$14:EQ53)+1,\"\")","v":""},{"$f":"IF(OR(BA57=\"×要是正（既存不適格以外）\",BA57=\"△既存不適格\"),EL57,\"\")","v":""},{"$f":"IF(OR($EO57=\"要是正\",$EO57=\"既存不適格\"),$EM57,\"\")","v":""},{"$f":"IF($EO57=\"要是正\",IF(BO57=\"\",\"\",BO57),\"\")","v":""},{"$f":"IF($EO57=\"要是正\",IF(BY57=\"\",\"\",BY57),\"\")","v":""},{"$f":"IF(CT57=\"未定\",\"未定\",IF(GR57=\"0\",\"\",IF(CT57=\"予定\",TEXT(GR57,\"([$-ja-JP]ge.m);@\"),IF(CT57=\"改善済\",TEXT(GR57,\"[$-ja-JP]ge.m;@\"),TEXT(EX57,\"[$-ja-JP]ge.m;@\")))))","v":""},{"$f":"IF(OR(EO57=\"要是正\",EO57=\"既存不適格\"),IF(OR(EN57<2,CT57<>\"予定\"),\"\",\"令和\"&CN57&\"年\"&CQ57&\"月1日\"),\"\")","v":""},{"$f":"IF(EW57=\"\",\"0\",DATEVALUE(EW57))","v":"0"},{"$f":"IF(EO57=\"要是正\",IF(AND(CT57=\"予定\",EN57=2),1,IF(CT57=\"改善済\",2,\"\")),\"\")","v":""},{"$f":"IF(EY57=1,EX57,\"0\")","v":"0"},{"$f":"IF(EY57=2,EX57,\"0\")","v":"0"},{"$f":"IF(AND(EO57=\"要是正\",AND(EN57=0,CT57=\"未定\")),CT57,\"\")","v":""},{"$f":"IF(EO57=\"既存不適格\",IF(OR(EN57<2,CT57<>\"予定\"),\"\",\"令和\"&CN57&\"年\"&CQ57&\"月1日\"),\"\")","v":""},{"$f":"IF(FC57=\"\",\"0\",DATEVALUE(FC57))","v":"0"},{"$f":"IF(EO57=\"既存不適格\",IF(AND(CT57=\"予定\",EN57=2),1,IF(CT57=\"改善済\",2,\"\")),\"\")","v":""},{"$f":"IF(FE57=1,FD57,\"0\")","v":"0"},{"$f":"IF(FE57=2,FD57,\"0\")","v":"0"},{"$f":"IF(AND(EO57=\"既存不適格\",AND(EN57=0,CT57=\"未定\")),CT57,\"\")","v":""},null,null,null,null,null,null,null,null,null,null,null,null,null,null,null,null,null,null,null,null,null,null,null,null,null,null,null,{"$f":"IF($BA57=\"○指摘なし\",\"○\",IF(BA57=\"―対象外\",\"－\",\"\"))","v":""},{"$f":"IF(OR($BA57=\"×要是正（既存不適格以外）\",$BA57=\"△既存不適格\"),\"○\",\"\")","v":""},{"$f":"IF($BA57=\"△既存不適格\",\"○\",\"\")","v":""},{"$f":"BM57","v":0},{"$f":"IF($BA57=\"―対象外\",\"○\",\"\")","v":""},null,{"$f":"IF(EO57=\"要是正\",IF(BO57=\"\",\"\",ER57&\" \"&HA57&\" \" &BO57&CHAR(10)),\"\")","v":""},{"$f":"IF(NOT(OR(CT57=\"未定\",CT57=\"\")),\"令和\"&CN57&\"年\"&CQ57&\"月1日\",\"\")","v":""},{"$f":"IF(GQ57=\"\",\"0\",DATEVALUE(GQ57))","v":"0"},{"$f":"IF(OR(CT57=\"予定\",CT57=\"改善済\"),1,\"\")","v":""},{"$f":"IF(GS57=1,GR57,\"0\")","v":"0"},{"$f":"IF(AND(EO57=\"要是正\",AND(EN57=0,CT57=\"未定\")),CT57,\"\")","v":""},null,0,null,null,null,{"$f":"P57","v":0}]
[null,null,null,null,null,null,null,null,null,null,null,null,null,null,null,null,null,null,null,null,null,null,null,null,null,null,null,null,null,null,null,null,null,null,null,null,null,null,null,null,null,null,null,null,null,null,null,null,null,null,null,null,null,null,null,null,null,null,null,null,null,null,null,null,null,null,null,null,null,null,null,null,null,null,null,null,null,null,null,null,null,null,null,null,null,null,null,null,null,null,null,null,null,null,null,null,null,null,null,null,null,null,null,null,null,null,null,null,null,null,null,null,null,null,null,null,null,null,null,null,null,null,null,null,null,null,null,null,null,null,null,null,null,null,null,null,null,0,0,0,0,{"$f":"M58","v":0},0,{"$f":"COUNTA(CN58:CS58)","v":0},{"$f":"IF(BA58=\"×要是正（既存不適格以外）\",\"要是正\",\"\")&IF(BA58=\"△既存不適格\",\"既存不適格\",\"\")","v":""},{"$f":"IF($EO58=\"要是正\",MAX($EP$14:EP54)+1,\"\")","v":""},{"$f":"IF($EO58=\"要是正\",MAX($EQ$14:EQ54)+1,\"\")","v":""},"",{"$f":"IF(OR($EO58=\"要是正\",$EO58=\"既存不適格\"),$EM58,\"\")","v":""},{"$f":"IF($EO58=\"要是正\",IF(BO58=\"\",\"\",BO58),\"\")","v":""},"",{"$f":"IF(CT58=\"未定\",\"未定\",IF(GR58=\"0\",\"\",IF(CT58=\"予定\",TEXT(GR58,\"([$-ja-JP]ge.m);@\"),IF(CT58=\"改善済\",TEXT(GR58,\"[$-ja-JP]ge.m;@\"),TEXT(EX58,\"[$-ja-JP]ge.m;@\")))))","v":""},"",{"$f":"IF(EW58=\"\",\"0\",DATEVALUE(EW58))","v":"0"},"","0",{"$f":"IF(EY58=2,EX58,\"0\")","v":"0"},"","",{"$f":"IF(FC58=\"\",\"0\",DATEVALUE(FC58))","v":"0"},"",{"$f":"IF(FE58=1,FD58,\"0\")","v":"0"},{"$f":"IF(FE58=2,FD58,\"0\")","v":"0"},"",null,null,null,null,null,null,null,null,null,null,null,null,null,null,null,null,null,null,null,null,null,null,null,null,null,null,null,{"$f":"IF($BA58=\"○指摘なし\",\"○\",\"\")","v":""},{"$f":"IF(OR($BA58=\"×要是正（既存不適格以外）\",$BA58=\"△既存不適格\"),\"○\",\"\")","v":""},{"$f":"IF($BA58=\"△既存不適格\",\"○\",\"\")","v":""},0,{"$f":"IF($BA58=\"―対象外\",\"○\",\"\")","v":""},null,{"$f":"IF(EO58=\"要是正\",IF(BO58=\"\",\"\",ER58&\" \"&HA58&\" \" &BO58&CHAR(10)),\"\")","v":""},{"$f":"IF(NOT(OR(CT58=\"未定\",CT58=\"\")),\"令和\"&CN58&\"年\"&CQ58&\"月1日\",\"\")","v":""},{"$f":"IF(GQ58=\"\",\"0\",DATEVALUE(GQ58))","v":"0"},{"$f":"IF(OR(CT58=\"予定\",CT58=\"改善済\"),1,\"\")","v":""},{"$f":"IF(GS58=1,GR58,\"0\")","v":"0"},{"$f":"IF(AND(EO58=\"要是正\",AND(EN58=0,CT58=\"未定\")),CT58,\"\")","v":""},null,0,null,null,null,{"$f":"P58","v":0}]
[null,null,null,null,null,null,null,null,null,null,null,null,null,null,null,null,null,null,null,null,null,null,null,null,null,null,null,null,null,null,null,null,null,null,null,null,null,null,null,null,null,null,null,null,null,null,null,null,null,null,null,null,null,null,null,null,null,null,null,null,null,null,null,null,null,null,null,null,null,null,null,null,null,null,null,null,null,null,null,null,null,null,null,null,null,null,null,null,null,null,null,null,null,null,null,null,null,null,null,null,null,null,null,null,null,null,null,null,null,null,null,null,null,null,null,null,null,null,null,null,null,null,null,null,null,null,null,null,null,null,null,null,null,null,null,null,null,0,0,0,0,{"$f":"M59","v":0},0,0,"",{"$f":"IF($EO59=\"要是正\",MAX($EP$14:EP55)+1,\"\")","v":""},{"$f":"IF($EO59=\"要是正\",MAX($EQ$14:EQ55)+1,\"\")","v":""},"","","","","","","0","","0","0","","","0","","0","0","",null,null,null,null,null,null,null,null,null,null,null,null,null,null,null,null,null,null,null,null,null,null,null,null,null,null,null,"","","",0,"",null,"","","0","","0","",null,0,null,null,null,0]
[null,null,null,null,null,null,null,null,null,null,null,null,null,null,null,null,null,null,null,null,null,null,null,null,null,null,null,null,null,null,null,null,null,null,null,null,null,null,null,null,null,null,null,null,null,null,null,null,null,null,null,null,null,null,null,null,null,null,null,null,null,null,null,null,null,null,null,null,null,null,null,null,null,null,null,null,null,null,null,null,null,null,null,null,null,null,null,null,null,null,null,null,null,null,null,null,null,null,null,null,null,null,null,null,null,null,null,null,null,null,null,null,null,null,null,null,null,null,null,null,null,null,null,null,null,null,null,null,null,null,null,null,null,null,null,null,null,0,0,0,0,0,0,0,"",{"$f":"IF($EO60=\"要是正\",MAX($EP$14:EP56)+1,\"\")","v":""},{"$f":"IF($EO60=\"要是正\",MAX($EQ$14:EQ56)+1,\"\")","v":""},"","","","","","","0","","0","0","","","0","","0","0","",null,null,null,null,null,null,null,null,null,null,null,null,null,null,null,null,null,null,null,null,null,null,null,null,null,null,null,"","","",0,"",null,"","","0","","0","",null,0,null,null,null,0]
[null,null,null,null,null,null,null,null,null,null,null,null,null,null,null,null,null,null,null,null,null,null,null,null,null,null,null,null,null,null,null,null,null,null,null,null,null,null,null,null,null,null,null,null,null,null,null,null,null,null,null,null,null,null,null,null,null,null,null,null,null,null,null,null,null,null,null,null,null,null,null,null,null,null,null,null,null,null,null,null,null,null,null,null,null,null,null,null,null,null,null,null,null,null,null,null,null,null,null,null,null,null,null,null,null,null,null,null,null,null,null,null,null,null,null,null,null,null,null,null,null,null,null,null,null,null,null,null,null,null,null,null,null,null,null,null,null,0,0,0,0,0,0,0,"",{"$f":"IF($EO61=\"要是正\",MAX($EP$14:EP57)+1,\"\")","v":""},{"$f":"IF($EO61=\"要是正\",MAX($EQ$14:EQ57)+1,\"\")","v":""},"","","","","","","0","","0","0","","","0","","0","0","",null,null,null,null,null,null,null,null,null,null,null,null,null,null,null,null,null,null,null,null,null,null,null,null,null,null,null,"","","",0,"",null,"","","0","","0","",null,0,null,null,null,0]
[null,null,null,null,null,null,null,null,null,null,null,null,null,null,null,null,null,null,null,null,null,null,null,null,null,null,null,null,null,null,null,null,null,null,null,null,null,null,null,null,null,null,null,null,null,null,null,null,null,null,null,null,null,null,null,null,null,null,null,null,null,null,null,null,null,null,null,null,null,null,null,null,null,null,null,null,null,null,null,null,null,null,null,null,null,null,null,null,null,null,null,null,null,null,null,null,null,null,null,null,null,null,null,null,null,null,null,null,null,null,null,null,null,null,null,null,null,null,null,null,null,null,null,null,null,null,null,null,null,null,null,null,null,null,null,null,null,0,0,0,0,0,0,0,"",{"$f":"IF($EO62=\"要是正\",MAX($EP$14:EP58)+1,\"\")","v":""},{"$f":"IF($EO62=\"要是正\",MAX($EQ$14:EQ58)+1,\"\")","v":""},"","","","","","","0","","0","0","","","0","","0","0","",null,null,null,null,null,null,null,null,null,null,null,null,null,null,null,null,null,null,null,null,null,null,null,null,null,null,null,"","","",0,"",null,"","","0","","0","",null,0,null,null,null,0]
[null,null,null,null,null,null,null,null,null,null,null,null,null,null,null,null,null,null,null,null,null,null,null,null,null,null,null,null,null,null,null,null,null,null,null,null,null,null,null,null,null,null,null,null,null,null,null,null,null,null,null,null,null,null,null,null,null,null,null,null,null,null,null,null,null,null,null,null,null,null,null,null,null,null,null,null,null,null,null,null,null,null,null,null,null,null,null,null,null,null,null,null,null,null,null,null,null,null,null,null,null,null,null,null,null,null,null,null,null,null,null,null,null,null,null,null,null,null,null,null,null,null,null,null,null,null,null,null,null,null,null,null,null,null,null,null,null,0,0,0,0,0,0,0,"",{"$f":"IF($EO63=\"要是正\",MAX($EP$14:EP59)+1,\"\")","v":""},{"$f":"IF($EO63=\"要是正\",MAX($EQ$14:EQ59)+1,\"\")","v":""},"","","","","","","0","","0","0","","","0","","0","0","",null,null,null,null,null,null,null,null,null,null,null,null,null,null,null,null,null,null,null,null,null,null,null,null,null,null,null,"","","",0,"",null,"","","0","","0","",null,0,null,null,null,0]
[null,null,null,null,null,null,null,null,null,null,null,null,null,null,null,null,null,null,null,null,null,null,null,null,null,null,null,null,null,null,null,null,null,null,null,null,null,null,null,null,null,null,null,null,null,null,null,null,null,null,null,null,null,null,null,null,null,null,null,null,null,null,null,null,null,null,null,null,null,null,null,null,null,null,null,null,null,null,null,null,null,null,null,null,null,null,null,null,null,null,null,null,null,null,null,null,null,null,null,null,null,null,null,null,null,null,null,null,null,null,null,null,null,null,null,null,null,null,null,null,null,null,null,null,null,null,null,null,null,null,null,null,null,null,null,null,null,0,0,0,0,0,0,0,"",{"$f":"IF($EO64=\"要是正\",MAX($EP$14:EP60)+1,\"\")","v":""},{"$f":"IF($EO64=\"要是正\",MAX($EQ$14:EQ60)+1,\"\")","v":""},"","","","","","","0","","0","0","","","0","","0","0","",null,null,null,null,null,null,null,null,null,null,null,null,null,null,null,null,null,null,null,null,null,null,null,null,null,null,null,"","","",0,"",null,"","","0","","0","",null,0,null,null,null,0]
[null,null,null,null,null,null,null,null,null,null,null,null,null,null,null,null,null,null,null,null,null,null,null,null,null,null,null,null,null,null,null,null,null,null,null,null,null,null,null,null,null,null,null,null,null,null,null,null,null,null,null,null,null,null,null,null,null,null,null,null,null,null,null,null,null,null,null,null,null,null,null,null,null,null,null,null,null,null,null,null,null,null,null,null,null,null,null,null,null,null,null,null,null,null,null,null,null,null,null,null,null,null,null,null,null,null,null,null,null,null,null,null,null,null,null,null,null,null,null,null,null,null,null,null,null,null,null,null,null,null,null,null,null,null,null,null,null,0,0,0,0,0,0,0,"",{"$f":"IF($EO65=\"要是正\",MAX($EP$14:EP61)+1,\"\")","v":""},{"$f":"IF($EO65=\"要是正\",MAX($EQ$14:EQ61)+1,\"\")","v":""},"","","","","","","0","","0","0","","","0","","0","0","",null,null,null,null,null,null,null,null,null,null,null,null,null,null,null,null,null,null,null,null,null,null,null,null,null,null,null,"","","",0,"",null,"","","0","","0","",null,0,null,null,null,0]
[null,null,null,null,null,null,null,null,null,null,null,null,null,null,null,null,null,null,null,null,null,null,null,null,null,null,null,null,null,null,null,null,null,null,null,null,null,null,null,null,null,null,null,null,null,null,null,null,null,null,null,null,null,null,null,null,null,null,null,null,null,null,null,null,null,null,null,null,null,null,null,null,null,null,null,null,null,null,null,null,null,null,null,null,null,null,null,null,null,null,null,null,null,null,null,null,null,null,null,null,null,null,null,null,null,null,null,null,null,null,null,null,null,null,null,null,null,null,null,null,null,null,null,null,null,null,null,null,null,null,null,null,null,null,null,null,null,0,0,0,0,0,0,0,"",{"$f":"IF($EO66=\"要是正\",MAX($EP$14:EP62)+1,\"\")","v":""},{"$f":"IF($EO66=\"要是正\",MAX($EQ$14:EQ62)+1,\"\")","v":""},"","","","","","","0","","0","0","","","0","","0","0","",null,null,null,null,null,null,null,null,null,null,null,null,null,null,null,null,null,null,null,null,null,null,null,null,null,null,null,"","","",0,"",null,"","","0","","0","",null,0,null,null,null,0]
[null,null,null,null,null,null,null,null,null,null,null,null,null,null,null,null,null,null,null,null,null,null,null,null,null,null,null,null,null,null,null,null,null,null,null,null,null,null,null,null,null,null,null,null,null,null,null,null,null,null,null,null,null,null,null,null,null,null,null,null,null,null,null,null,null,null,null,null,null,null,null,null,null,null,null,null,null,null,null,null,null,null,null,null,null,null,null,null,null,null,null,null,null,null,null,null,null,null,null,null,null,null,null,null,null,null,null,null,null,null,null,null,null,null,null,null,null,null,null,null,null,null,null,null,null,null,null,null,null,null,null,null,null,null,null,null,null,0,0,0,0,0,0,0,"",{"$f":"IF($EO67=\"要是正\",MAX($EP$14:EP63)+1,\"\")","v":""},{"$f":"IF($EO67=\"要是正\",MAX($EQ$14:EQ63)+1,\"\")","v":""},"","","","","","","0","","0","0","","","0","","0","0","",null,null,null,null,null,null,null,null,null,null,null,null,null,null,null,null,null,null,null,null,null,null,null,null,null,null,null,"","","",0,"",null,"","","0","","0","",null,0,null,null,null,0]
[null,null,null,null,null,null,null,null,null,null,null,null,null,null,null,null,null,null,null,null,null,null,null,null,null,null,null,null,null,null,null,null,null,null,null,null,null,null,null,null,null,null,null,null,null,null,null,null,null,null,null,null,null,null,null,null,null,null,null,null,null,null,null,null,null,null,null,null,null,null,null,null,null,null,null,null,null,null,null,null,null,null,null,null,null,null,null,null,null,null,null,null,null,null,null,null,null,null,null,null,null,null,null,null,null,null,null,null,null,null,null,null,null,null,null,null,null,null,null,null,null,null,null,null,null,null,null,null,null,null,null,null,null,null,null,null,null,0,0,0,0,0,0,0,"",{"$f":"IF($EO68=\"要是正\",MAX($EP$14:EP64)+1,\"\")","v":""},{"$f":"IF($EO68=\"要是正\",MAX($EQ$14:EQ64)+1,\"\")","v":""},"","","","","","","0","","0","0","","","0","","0","0","",null,null,null,null,null,null,null,null,null,null,null,null,null,null,null,null,null,null,null,null,null,null,null,null,null,null,null,"","","",0,"",null,"","","0","","0","",null,0,null,null,null,0]
[null,null,null,null,null,null,null,null,null,null,null,null,null,null,null,null,null,null,null,null,null,null,null,null,null,null,null,null,null,null,null,null,null,null,null,null,null,null,null,null,null,null,null,null,null,null,null,null,null,null,null,null,null,null,null,null,null,null,null,null,null,null,null,null,null,null,null,null,null,null,null,null,null,null,null,null,null,null,null,null,null,null,null,null,null,null,null,null,null,null,null,null,null,null,null,null,null,null,null,null,null,null,null,null,null,null,null,null,null,null,null,null,null,null,null,null,null,null,null,null,null,null,null,null,null,null,null,null,null,null,null,null,null,null,null,null,null,0,0,0,0,0,0,0,"",{"$f":"IF($EO69=\"要是正\",MAX($EP$14:EP65)+1,\"\")","v":""},{"$f":"IF($EO69=\"要是正\",MAX($EQ$14:EQ65)+1,\"\")","v":""},"",{"$f":"IF(OR($EO69=\"要是正\",$EO69=\"既存不適格\"),$EM69,\"\")","v":""},"","","","",{"$f":"IF(EW69=\"\",\"0\",DATEVALUE(EW69))","v":"0"},"","0",{"$f":"IF(EY69=2,EX69,\"0\")","v":"0"},"","","0","","0","0","",null,null,null,null,null,null,null,null,null,null,null,null,null,null,null,null,null,null,null,null,null,null,null,null,null,null,null,{"$f":"IF($BA69=\"○指摘なし\",\"○\",\"\")","v":""},{"$f":"IF(OR($BA69=\"×要是正（既存不適格以外）\",$BA69=\"△既存不適格\"),\"○\",\"\")","v":""},{"$f":"IF($BA69=\"△既存不適格\",\"○\",\"\")","v":""},0,{"$f":"IF($BA69=\"―対象外\",\"○\",\"\")","v":""},null,"","","0","","0","",null,0,null,null,null,0]
[null,null,null,null,null,null,null,null,null,null,null,null,null,null,null,null,null,null,null,null,null,null,null,null,null,null,null,null,null,null,null,null,null,null,null,null,null,null,null,null,null,null,null,null,null,null,null,null,null,null,null,null,null,null,null,null,null,null,null,null,null,null,null,null,null,null,null,null,null,null,null,null,null,null,null,null,null,null,null,null,null,null,null,null,null,null,null,null,null,null,null,null,null,null,null,null,null,null,null,null,null,null,null,null,null,null,null,null,null,null,null,null,null,null,null,null,null,null,null,null,null,null,null,null,null,null,null,null,null,null,null,null,null,null,null,null,null,0,0,0,0,0,0,0,"",{"$f":"IF($EO70=\"要是正\",MAX($EP$14:EP66)+1,\"\")","v":""},{"$f":"IF($EO70=\"要是正\",MAX($EQ$14:EQ66)+1,\"\")","v":""},"",{"$f":"IF(OR($EO70=\"要是正\",$EO70=\"既存不適格\"),$EM70,\"\")","v":""},"","","","",{"$f":"IF(EW70=\"\",\"0\",DATEVALUE(EW70))","v":"0"},"","0",{"$f":"IF(EY70=2,EX70,\"0\")","v":"0"},"","","0","","0","0","",null,null,null,null,null,null,null,null,null,null,null,null,null,null,null,null,null,null,null,null,null,null,null,null,null,null,null,{"$f":"IF($BA70=\"○指摘なし\",\"○\",\"\")","v":""},{"$f":"IF(OR($BA70=\"×要是正（既存不適格以外）\",$BA70=\"△既存不適格\"),\"○\",\"\")","v":""},{"$f":"IF($BA70=\"△既存不適格\",\"○\",\"\")","v":""},0,{"$f":"IF($BA70=\"―対象外\",\"○\",\"\")","v":""},null,"","","0","","0","",null,0,null,null,null,0]
[null,null,null,null,null,null,null,null,null,null,null,null,null,null,null,null,null,null,null,null,null,null,null,null,null,null,null,null,null,null,null,null,null,null,null,null,null,null,null,null,null,null,null,null,null,null,null,null,null,null,null,null,null,null,null,null,null,null,null,null,null,null,null,null,null,null,null,null,null,null,null,null,null,null,null,null,null,null,null,null,null,null,null,null,null,null,null,null,null,null,null,null,null,null,null,null,null,null,null,null,null,null,null,null,null,null,null,null,null,null,null,null,null,null,null,null,null,null,null,null,null,null,null,null,null,null,null,null,null,null,null,null,null,null,null,null,null,0,0,0,0,0,0,0,"",{"$f":"IF($EO71=\"要是正\",MAX($EP$14:EP67)+1,\"\")","v":""},{"$f":"IF($EO71=\"要是正\",MAX($EQ$14:EQ67)+1,\"\")","v":""},"",{"$f":"IF(OR($EO71=\"要是正\",$EO71=\"既存不適格\"),$EM71,\"\")","v":""},"","","","",{"$f":"IF(EW71=\"\",\"0\",DATEVALUE(EW71))","v":"0"},"","0",{"$f":"IF(EY71=2,EX71,\"0\")","v":"0"},"","","0","","0","0","",null,null,null,null,null,null,null,null,null,null,null,null,null,null,null,null,null,null,null,null,null,null,null,null,null,null,null,{"$f":"IF($BA71=\"○指摘なし\",\"○\",\"\")","v":""},{"$f":"IF(OR($BA71=\"×要是正（既存不適格以外）\",$BA71=\"△既存不適格\"),\"○\",\"\")","v":""},{"$f":"IF($BA71=\"△既存不適格\",\"○\",\"\")","v":""},0,{"$f":"IF($BA71=\"―対象外\",\"○\",\"\")","v":""},null,"","","0","","0","",null,0,null,null,null,0]
[null,null,null,null,null,null,null,null,null,null,null,null,null,null,null,null,null,null,null,null,null,null,null,null,null,null,null,null,null,null,null,null,null,null,null,null,null,null,null,null,null,null,null,null,null,null,null,null,null,null,null,null,null,null,null,null,null,null,null,null,null,null,null,null,null,null,null,null,null,null,null,null,null,null,null,null,null,null,null,null,null,null,null,null,null,null,null,null,null,null,null,null,null,null,null,null,null,null,null,null,null,null,null,null,null,null,null,null,null,null,null,null,null,null,null,null,null,null,null,null,null,null,null,null,null,null,null,null,null,null,null,null,null,null,null,null,null,{"$f":"SUM(EH57:EH71)","v":0},{"$f":"SUM(EI57:EI71)","v":0},0,0,null,null,null,null,null,null,null,null,null,null,null,null,null,{"$f":"COUNTIF(EY57:EY71,\"1\")","v":0},{"$f":"INDEX(EZ57:EZ71,MATCH(MIN(ABS(EZ57:EZ71-$EJ$4)),ABS(EZ57:EZ71-$EJ$4),0))","v":"0"},{"$f":"INDEX(FA57:FA71,MATCH(MIN(ABS(FA57:FA71-$EJ$4)),ABS(FA57:FA71-$EJ$4),0))","v":"0"},{"$f":"COUNTIF(FB57:FB71,\"未定\")","v":0},null,null,{"$f":"COUNTIF(FE57:FE71,\"1\")","v":0},{"$f":"INDEX(FF57:FF71,MATCH(MIN(ABS(FF57:FF71-$EJ$4)),ABS(FF57:FF71-$EJ$4),0))","v":"0"},{"$f":"INDEX(FG57:FG71,MATCH(MIN(ABS(FG57:FG71-$EJ$4)),ABS(FG57:FG71-$EJ$4),0))","v":"0"},{"$f":"COUNTIF(FH57:FH71,\"未定\")","v":0},null,null,null,null,null,null,null,null,null,null,null,null,null,null,null,1,null,null,null,null,null,null,null,null,null,null,null,null,null,null,null,null,null,null,{"$f":"IF(NOT(OR(CT71=\"未定\",CN71=\"\")),\"令和\"&CQ71&\"年\"&CQ71&\"月1日\",\"\")","v":""},null,{"$f":"COUNTIF(GS57:GS71,\"1\")","v":0},{"$f":"INDEX(GT57:GT71,MATCH(MIN(ABS(GT57:GT71-$EJ$4)),ABS(GT57:GT71-$EJ$4),0))","v":"0"},{"$f":"COUNTIF(GU57:GU71,\"未定\")","v":0}]
[null,null,null,null,null,null,null,null,null,null,null,null,null,null,null,null,null,null,null,null,null,null,null,null,null,null,null,null,null,null,null,null,null,null,null,null,null,null,null,null,null,null,null,null,null,null,null,null,null,null,null,null,null,null,null,null,null,null,null,null,null,null,null,null,null,null,null,null,null,null,null,null,null,null,null,null,null,null,null,null,null,null,null,null,null,null,null,null,null,null,null,null,null,null,null,null,null,null,null,null,null,null,null,null,null,null,null,null,null,null,null,null,null,null,null,null,null,null,null,null,null,null,null,null,null,null,null,null,null,null,null,null,null,null,null,null,null,null,null,null,null,null,null,null,null,null,null,null,null,null,null,null,null,null,null,null,null,null,null,null,null,null,null,null,null,null,null,null,null,null,null,null,null,null,null,null,null,null,null,null,null,null,null,null,null,null,null,null,null,null,null,null,null,null,null,null,null,null,null,null,null,null,null,null,0]
[null,null,null,null,null,null,null,null,null,null,null,null,null,null,null,null,null,null,null,null,null,null,null,null,null,null,null,null,null,null,null,null,null,null,null,null,null,null,null,null,null,null,null,null,null,null,null,null,null,null,null,null,null,null,null,null,null,null,null,null,null,null,null,null,null,null,null,null,null,null,null,null,null,null,null,null,null,null,null,null,null,null,null,null,null,null,null,null,null,null,null,null,null,null,null,null,null,null,null,null,null,null,null,null,null,null,null,null,null,null,null,null,null,null,null,null,null,null,null,null,null,null,null,null,null,null,null,null,null,null,null,null,null,null,null,null,null,null,null,null,null,null,null,null,null,null,null,null,null,null,null,null,null,null,null,null,null,null,null,null,null,null,null,null,null,null,null,null,null,null,null,null,null,null,null,null,null,null,null,null,null,null,null,null,null,null,null,null,null,null,null,null,null,null,null,null,null,null,null,null,null,null,null,null,0]
[null,null,null,null,null,null,null,null,null,null,null,null,null,null,null,null,null,null,null,null,null,null,null,null,null,null,null,null,null,null,null,null,null,null,null,null,null,null,null,null,null,null,null,null,null,null,null,null,null,null,null,null,null,null,null,null,null,null,null,null,null,null,null,null,null,null,null,null,null,null,null,null,null,null,null,null,null,null,null,null,null,null,null,null,null,null,null,null,null,null,null,null,null,null,null,null,null,null,null,null,null,null,null,null,null,null,null,null,null,null,null,null,null,null,null,null,null,null,null,null,null,null,null,null,null,null,null,null,null,null,null,null,null,null,null,null,null,null,null,null,null,null,null,null,null,null,null,null,null,null,null,null,null,null,null,null,null,null,null,null,null,null,null,null,null,null,null,null,null,null,null,null,null,null,null,null,null,null,null,null,null,null,null,null,null,null,null,null,null,null,null,null,null,null,null,null,null,null,null,null,null,null,null,null,0]
[]
[]
[null,null,null,null,null,null,null,null,null,null,null,null,null,null,null,null,null,null,null,null,null,null,null,null,null,null,null,null,null,null,null,null,null,null,null,null,null,null,null,null,null,null,null,null,null,null,null,null,null,null,null,null,null,null,null,null,null,null,null,null,null,null,null,null,null,null,null,null,null,null,null,null,null,null,null,null,null,null,null,null,null,null,null,null,null,null,null,null,null,null,null,null,null,null,null,null,null,null,null,null,null,null,null,null,null,null,null,null,null,null,null,null,null,null,null,null,null,null,null,null,null,null,null,null,null,null,null,null,null,null,null,null,null,null,null,null,null,{"$f":"SUM(EH40,EH50)","v":0},{"$f":"SUM(EI40,EI50)","v":0},0,0]
[null,null,null,null,null,null,null,null,null,null,null,null,null,null,null,null,null,null,null,null,null,null,null,null,null,null,null,null,null,null,null,null,null,null,null,null,null,null,null,null,null,null,null,null,null,null,null,null,null,null,null,null,null,null,null,null,null,null,null,null,null,null,null,null,null,null,null,null,null,null,null,null,null,null,null,null,null,null,null,null,null,null,null,null,null,null,null,null,null,null,null,null,null,null,null,null,null,null,null,null,null,null,null,null,null,null,null,null,null,null,null,null,null,null,null,null,null,null,null,null,null,null,null,null,null,null,null,null,null,null,null,null,null,null,null,null,null,{"$f":"IF(EH78<>0,\"レ\",\"\")","v":""},{"$f":"IF(EI78<>0,\"レ\",\"\")","v":""},{"$f":"IF(EJ78<>0,\"レ\",\"\")","v":""},{"$f":"IF(EK78<>0,\"レ\",\"\")","v":""}]
[]
[]
[]
[null,null,null,null,null,null,null,null,null,null,null,null,null,null,null,null,null,null,null,null,null,null,null,null,null,null,null,null,null,null,null,null,null,null,null,null,null,null,null,null,null,null,null,null,null,null,null,null,null,null,null,null,null,null,null,null,null,null,null,null,null,null,null,null,null,null,null,null,null,null,null,null,null,null,null,null,null,null,null,null,null,null,null,null,null,null,null,null,null,null,null,null,null,null,null,null,null,null,null,null,null,null,null,null,null,null,null,null,null,null,null,null,null,null,null,null,null,null,null,null,null,null,null,null,null,null,null,null,null,null,null,null,null,null,null,null,null,"改善予定","改善済","未定"]
[null,null,null,null,null,null,null,null,null,null,null,null,null,null,null,null,null,null,null,null,null,null,null,null,null,null,null,null,null,null,null,null,null,null,null,null,null,null,null,null,null,null,null,null,null,null,null,null,null,null,null,null,null,null,null,null,null,null,null,null,null,null,null,null,null,null,null,null,null,null,null,null,null,null,null,null,null,null,null,null,null,null,null,null,null,null,null,null,null,null,null,null,null,null,null,null,null,null,null,null,null,null,null,null,null,null,null,null,null,null,null,null,null,null,null,null,null,null,null,null,null,null,null,null,null,null,null,null,null,null,null,null,null,null,null,null,null,{"$f":"COUNTIF($CT17:$CV39,\"改善予定\")","v":0},{"$f":"COUNTIF($CT17:$CV33,\"改善済\")","v":0},{"$f":"COUNTIF($CT17:$CV33,\"未定\")","v":0}]
[null,null,null,null,null,null,null,null,null,null,null,null,null,null,null,null,null,null,null,null,null,null,null,null,null,null,null,null,null,null,null,null,null,null,null,null,null,null,null,null,null,null,null,null,null,null,null,null,null,null,null,null,null,null,null,null,null,null,null,null,null,null,null,null,null,null,null,null,null,null,null,null,null,null,null,null,null,null,null,null,null,null,null,null,null,null,null,null,null,null,null,null,null,null,null,null,null,null,null,null,null,null,null,null,null,null,null,null,null,null,null,null,null,null,null,null,null,null,null,null,null,null,null,null,null,null,null,null,null,null,null,null,null,null,null,null,null,"2　換気設備を設けるべき調理室等"]
[null,null,null,null,null,null,null,null,null,null,null,null,null,null,null,null,null,null,null,null,null,null,null,null,null,null,null,null,null,null,null,null,null,null,null,null,null,null,null,null,null,null,null,null,null,null,null,null,null,null,null,null,null,null,null,null,null,null,null,null,null,null,null,null,null,null,null,null,null,null,null,null,null,null,null,null,null,null,null,null,null,null,null,null,null,null,null,null,null,null,null,null,null,null,null,null,null,null,null,null,null,null,null,null,null,null,null,null,null,null,null,null,null,null,null,null,null,null,null,null,null,null,null,null,null,null,null,null,null,null,null,null,null,null,null,null,null,"改善予定","改善済","未定"]
[null,null,null,null,null,null,null,null,null,null,null,null,null,null,null,null,null,null,null,null,null,null,null,null,null,null,null,null,null,null,null,null,null,null,null,null,null,null,null,null,null,null,null,null,null,null,null,null,null,null,null,null,null,null,null,null,null,null,null,null,null,null,null,null,null,null,null,null,null,null,null,null,null,null,null,null,null,null,null,null,null,null,null,null,null,null,null,null,null,null,null,null,null,null,null,null,null,null,null,null,null,null,null,null,null,null,null,null,null,null,null,null,null,null,null,null,null,null,null,null,null,null,null,null,null,null,null,null,null,null,null,null,null,null,null,null,null,{"$f":"COUNTIF($CT47:$CV49,\"改善予定\")","v":0},{"$f":"COUNTIF($CT41:$CV43,\"予定\")","v":0},0]
[null,null,null,null,null,null,null,null,null,null,null,null,null,null,null,null,null,null,null,null,null,null,null,null,null,null,null,null,null,null,null,null,null,null,null,null,null,null,null,null,null,null,null,null,null,null,null,null,null,null,null,null,null,null,null,null,null,null,null,null,null,null,null,null,null,null,null,null,null,null,null,null,null,null,null,null,null,null,null,null,null,null,null,null,null,null,null,null,null,null,null,null,null,null,null,null,null,null,null,null,null,null,null,null,null,null,null,null,null,null,null,null,null,null,null,null,null,null,null,null,null,null,null,null,null,null,null,null,null,null,null,null,null,null,null,null,null,{"$f":"SUM(EH84:EH87)","v":0},{"$f":"SUM(EI84:EI87)","v":0},{"$f":"SUM(EJ84:EJ87)","v":0},{"$f":"SUM(EH88:EJ88)","v":0}]
[]
[null,null,null,null,null,null,null,null,null,null,null,null,null,null,null,null,null,null,null,null,null,null,null,null,null,null,null,null,null,null,null,null,null,null,null,null,null,null,null,null,null,null,null,null,null,null,null,null,null,null,null,null,null,null,null,null,null,null,null,null,null,null,null,null,null,null,null,null,null,null,null,null,null,null,null,null,null,null,null,null,null,null,null,null,null,null,null,null,null,null,null,null,null,null,null,null,null,null,null,null,null,null,null,null,null,null,null,null,null,null,null,null,null,null,null,null,null,null,null,null,null,null,null,null,null,null,null,null,null,null,null,null,null,null,null,null,null,{"$f":"IF(EH88<>0,\"レ\",\"\")","v":""},{"$f":"IF(EI88<>0,\"レ\",\"\")","v":""},{"$f":"IF(EJ88<>0,\"レ\",\"\")","v":""}]

{"sheet":"5_入力シート【検査結果表】 ドレンチャー","index":4,"n_rows":93,"n_cols":209,"rows_kept":93,"cut":false,"hidden":false,"merged":[[10,204,10,206],[11,204,11,206],[10,198,10,202],[14,190,14,193],[47,190,47,193],[57,190,57,193],[47,177,47,181],[47,182,47,186],[14,172,14,176],[14,177,14,181],[14,182,14,186],[57,182,57,186],[12,177,12,187],[11,197,11,201],[12,197,12,201],[14,197,14,201],[47,197,47,201],[57,197,57,201],[13,21,13,99],[13,150,15,150],[13,151,15,151],[12,148,15,148],[12,152,12,157],[12,158,12,163],[47,164,47,166],[47,167,47,170],[47,172,47,176],[16,97,16,99],[16,100,16,119],[19,66,19,75],[19,76,19,90],[19,91,19,93],[16,66,16,75],[16,76,16,90],[16,91,16,93],[19,100,19,119],[17,97,17,99],[16,94,16,96],[18,91,18,93],[18,94,18,96],[17,100,17,119],[18,100,18,119],[14,12,15,14],[14,15,15,26],[14,27,15,51],[14,52,15,63],[14,76,15,90],[14,91,14,99],[14,64,15,65],[14,167,14,170],[15,91,15,93],[15,94,15,96],[15,97,15,99],[14,100,15,119],[14,149,15,149],[14,152,14,157],[14,158,14,163],[14,164,14,166],[14,66,15,75],[1,44,1,46],[1,52,1,54],[1,60,1,62],[1,72,1,74],[9,12,9,116],[10,12,10,20],[10,21,10,59],[7,9,7,119],[12,12,12,20],[12,21,12,112],[17,91,17,93],[17,94,17,96],[18,97,18,99],[19,94,19,96],[19,97,19,99],[16,12,16,14],[16,15,29,19],[16,20,16,26],[16,27,16,51],[16,52,16,63],[16,64,16,65],[19,12,19,14],[19,20,19,26],[19,27,19,51],[19,52,19,63],[18,12,18,14],[18,20,18,26],[21,12,21,14],[21,27,21,51],[21,52,21,63],[17,20,17,26],[17,27,17,51],[17,52,17,63],[26,52,26,63],[23,12,23,14],[23,27,23,51],[23,52,23,63],[23,64,23,65],[17,64,17,65],[18,27,18,51],[18,52,18,63],[21,64,21,65],[19,64,19,65],[17,12,17,14],[22,12,22,14],[17,66,17,75],[17,76,17,90],[18,64,18,65],[18,66,18,75],[18,76,18,90],[20,12,20,14],[20,20,21,26],[20,27,20,51],[20,52,20,63],[20,64,20,65],[20,66,20,75],[20,76,20,90],[23,66,23,75],[23,76,23,90],[25,91,25,93],[25,94,25,96],[25,97,25,99],[25,100,25,119],[21,100,21,119],[25,66,25,75],[24,66,24,75],[22,94,22,96],[22,66,22,75],[22,76,22,90],[22,91,22,93],[24,97,24,99],[24,100,24,119],[23,91,23,93],[23,94,23,96],[23,97,23,99],[23,100,23,119],[24,91,24,93],[22,97,22,99],[22,100,22,119],[24,94,24,96],[24,76,24,90],[20,91,20,93],[20,94,20,96],[20,97,20,99],[20,100,20,119],[21,66,21,75],[21,76,21,90],[21,91,21,93],[21,94,21,96],[21,97,21,99],[28,76,28,90],[25,76,25,90],[26,64,26,65],[25,12,25,14],[25,27,25,51],[25,52,25,63],[25,64,25,65],[24,12,24,14],[24,27,24,51],[24,52,24,63],[24,64,24,65],[28,12,28,14],[28,27,28,51],[28,52,28,63],[28,64,28,65],[28,66,28,75],[27,12,27,14],[27,27,27,51],[27,52,27,63],[27,64,27,65],[27,66,27,75],[27,91,27,93],[27,94,27,96],[27,97,27,99],[27,100,27,119],[27,76,27,90],[26,76,26,90],[26,91,26,93],[26,94,26,96],[26,12,26,14],[26,27,26,51],[26,66,26,75],[28,91,28,93],[28,94,28,96],[28,97,28,99],[28,100,28,119],[30,100,30,119],[31,12,31,14],[31,27,31,51],[31,52,31,63],[31,64,31,65],[31,66,31,75],[31,76,31,90],[29,12,29,14],[29,27,29,51],[29,52,29,63],[29,64,29,65],[29,66,29,75],[29,76,29,90],[22,20,29,26],[22,27,22,51],[22,52,22,63],[22,64,22,65],[26,97,26,99],[26,100,26,119],[30,12,30,14],[30,76,30,90],[35,12,35,14],[35,97,35,99],[32,12,32,14],[32,20,35,26],[32,27,32,51],[32,52,32,63],[32,64,32,65],[32,66,32,75],[32,76,32,90],[33,76,33,90],[34,76,34,90],[35,66,35,75],[34,12,34,14],[34,27,34,51],[34,52,34,63],[34,64,34,65],[34,66,34,75],[35,76,35,90],[35,27,35,51],[30,52,30,63],[33,12,33,14],[33,27,33,51],[33,52,33,63],[29,91,29,93],[29,94,29,96],[29,97,29,99],[29,100,29,119],[30,91,30,93],[30,94,30,96],[33,91,33,93],[33,94,33,96],[33,97,33,99],[33,100,33,119],[32,91,32,93],[32,94,32,96],[32,97,32,99],[32,100,32,119],[31,100,31,119],[30,97,30,99],[31,97,31,99],[31,91,31,93],[31,94,31,96],[39,12,39,14],[39,20,39,26],[39,27,39,51],[39,52,39,63],[39,64,39,65],[39,66,39,75],[35,100,35,119],[34,91,34,93],[34,94,34,96],[34,97,34,99],[34,100,34,119],[35,91,35,93],[35,94,35,96],[33,64,33,65],[33,66,33,75],[35,52,35,63],[35,64,35,65],[38,12,38,14],[38,20,38,26],[38,27,38,51],[38,52,38,63],[38,64,38,65],[38,66,38,75],[30,64,30,65],[30,66,30,75],[36,97,36,99],[36,100,36,119],[36,12,36,14],[36,20,37,26],[36,27,36,51],[36,52,36,63],[36,64,36,65],[36,66,36,75],[37,12,37,14],[37,27,37,51],[37,52,37,63],[37,64,37,65],[37,66,37,75],[37,76,37,90],[37,91,37,93],[37,94,37,96],[37,97,37,99],[37,100,37,119],[36,76,36,90],[36,91,36,93],[36,94,36,96],[30,15,39,19],[30,20,31,26],[30,27,30,51],[40,100,40,119],[41,100,41,119],[38,76,38,90],[38,91,38,93],[38,94,38,96],[38,97,38,99],[38,100,38,119],[41,66,41,75],[41,76,41,90],[41,91,41,93],[41,94,41,96],[41,97,41,99],[40,66,40,75],[40,76,40,90],[40,91,40,93],[40,94,40,96],[40,97,40,99],[39,76,39,90],[39,91,39,93],[39,94,39,96],[39,97,39,99],[39,100,39,119],[40,12,40,14],[40,15,41,26],[40,27,40,51],[40,52,40,63],[40,64,40,65],[41,12,41,14],[41,27,41,51],[41,52,41,63],[41,64,41,65],[46,12,46,119],[47,152,47,157],[48,91,48,93],[48,94,48,96],[48,97,48,99],[47,76,48,90],[47,91,47,99],[47,100,48,119],[47,149,48,149],[47,150,48,150],[47,32,48,51],[47,15,48,31],[46,148,48,148],[50,12,50,14],[50,52,50,63],[50,64,50,65],[50,66,50,75],[47,158,47,163],[47,12,48,14],[47,52,48,63],[47,64,48,65],[47,66,48,75],[49,12,49,14],[49,52,49,63],[49,64,49,65],[49,66,49,75],[49,15,49,31],[49,32,49,51],[49,94,49,96],[49,97,49,99],[59,91,59,93],[59,94,59,96],[59,97,59,99],[59,100,59,119],[59,76,59,90],[50,15,50,31],[50,32,50,51],[49,91,49,93],[50,100,50,119],[57,167,57,170],[57,172,57,176],[57,177,57,181],[57,150,58,150],[57,152,57,157],[49,100,49,119],[49,76,49,90],[50,76,50,90],[50,91,50,93],[50,94,50,96],[50,97,50,99],[57,149,58,149],[57,158,57,163],[57,164,57,166],[56,148,58,148],[51,12,51,14],[51,52,51,63],[51,64,51,65],[51,66,51,75],[51,76,51,90],[51,15,51,31],[51,32,51,51],[56,12,56,119],[57,12,58,14],[57,52,58,63],[57,64,58,65],[57,32,58,51],[57,15,58,31],[51,91,51,93],[51,94,51,96],[51,97,51,99],[51,100,51,119],[57,66,58,75],[57,76,58,90],[57,91,57,99],[58,91,58,93],[58,94,58,96],[58,97,58,99],[57,100,58,119],[59,12,59,14],[59,15,59,31],[59,52,59,63],[59,64,59,65],[70,32,70,51],[59,66,59,75],[62,15,62,31],[62,32,62,51],[62,52,62,63],[62,64,62,65],[62,66,62,75],[59,32,59,51],[60,52,60,63],[60,64,60,65],[60,66,60,75],[62,12,62,14],[61,66,61,75],[70,94,70,96],[70,97,70,99],[70,100,70,119],[71,76,71,90],[71,91,71,93],[71,94,71,96],[71,97,71,99],[71,100,71,119],[72,94,72,96],[72,97,72,99],[72,100,72,119],[71,12,71,14],[71,15,71,31],[71,52,71,63],[71,64,71,65],[71,32,71,51],[72,32,72,51],[71,66,71,75],[70,76,70,90],[70,91,70,93],[72,76,72,90],[72,91,72,93],[70,12,70,14],[70,15,70,31],[70,52,70,63],[70,64,70,65],[70,66,70,75],[73,91,73,93],[73,94,73,96],[73,97,73,99],[73,100,73,119],[73,32,73,51],[72,12,72,14],[72,15,72,31],[72,52,72,63],[72,64,72,65],[72,66,72,75],[84,137,84,139],[87,137,87,139],[11,12,11,16],[11,17,11,19],[11,21,11,42],[11,49,11,53],[11,54,11,56],[11,57,11,79],[11,82,11,86],[11,87,11,89],[11,90,11,112],[60,12,60,14],[60,15,60,31],[60,32,60,51],[60,76,60,90],[60,91,60,93],[60,94,60,96],[60,97,60,99],[60,100,60,119],[61,12,61,14],[61,15,61,31],[61,32,61,51],[61,52,61,63],[61,64,61,65],[74,10,74,11],[74,12,74,13],[74,14,74,17],[73,12,73,14],[73,15,73,31],[73,52,73,63],[73,64,73,65],[73,66,73,75],[73,76,73,90],[61,76,61,90],[61,91,61,93],[61,94,61,96],[61,97,61,99],[61,100,61,119],[62,76,62,90],[62,91,62,93],[62,94,62,96],[62,97,62,99],[62,100,62,119],[63,97,63,99],[63,100,63,119],[64,12,64,14],[64,15,64,31],[64,32,64,51],[64,52,64,63],[64,64,64,65],[64,66,64,75],[64,76,64,90],[64,91,64,93],[64,94,64,96],[64,97,64,99],[64,100,64,119],[63,12,63,14],[63,15,63,31],[63,32,63,51],[63,52,63,63],[63,64,63,65],[63,66,63,75],[63,76,63,90],[63,91,63,93],[63,94,63,96],[65,97,65,99],[65,100,65,119],[66,12,66,14],[66,15,66,31],[66,32,66,51],[66,52,66,63],[66,64,66,65],[66,66,66,75],[66,76,66,90],[66,91,66,93],[66,94,66,96],[66,97,66,99],[66,100,66,119],[65,12,65,14],[65,15,65,31],[65,32,65,51],[65,52,65,63],[65,64,65,65],[65,66,65,75],[65,76,65,90],[65,91,65,93],[65,94,65,96],[67,97,67,99],[67,100,67,119],[68,12,68,14],[68,15,68,31],[68,32,68,51],[68,52,68,63],[68,64,68,65],[68,66,68,75],[68,76,68,90],[68,91,68,93],[68,94,68,96],[68,97,68,99],[68,100,68,119],[67,12,67,14],[67,15,67,31],[67,32,67,51],[67,52,67,63],[67,64,67,65],[67,66,67,75],[67,76,67,90],[67,91,67,93],[67,94,67,96],[69,97,69,99],[69,100,69,119],[69,12,69,14],[69,15,69,31],[69,32,69,51],[69,52,69,63],[69,64,69,65],[69,66,69,75],[69,76,69,90],[69,91,69,93],[69,94,69,96]]}
[]
[null,null,null,null,null,null,null,null,null,null,null,null,null,null,null,null,null,null,null,null,null,null,null,null,null,null,null,null,null,null,null,null,null,null,null,null,null,null,null,null,null,null,null,null,null,null,null,"必須入力",null,null,null,null,null,null,null,"任意入力",null,null,null,null,null,null,null,"入力済み・入力不要",null,null,null,null,null,null,null,null,null,null,null,"エラー入力（入力不要な箇所に入力がある等）",null,null,null,null,null,null,null,null,null,null,null,null,null,null,null,null,null,null,null,null,null,null,null,null,null,null,null,null,null,null,null,null,null,null,null,null,null,null,null,null,null,null,null,null,null,null,null,null,null,null,null,null,null,null,null,null,null,null,null,null,null,"関数1","関数2","レ","レ",null,null,"チェックボックス","チェックボックス","チェックボックス",null,null,null,null,null,null,"報告書　第三面別紙",null,null,"配列関数（セルを選択した際はCtrl+Shift+Enterで）",null,null,null,null,null,null,null,null,null,null,null,null,null,null,null,null,null,null,null,null,null,"報告書　第一面5",null,"配列関数（セルを選択した際はCtrl+Shift+Enterで）",null,null,null,null,null,null,null,null,null,"選択肢候補1","選択肢候補2","選択肢候補3","選択肢候補4","選択肢候補5"]
[]
[null,null,null,null,null,null,null,null,null,null,null,null,null,null,null,null,null,null,null,null,null,null,null,null,null,null,null,null,null,null,null,null,null,null,null,null,null,null,null,null,null,null,null,null,null,null,null,null,null,null,null,null,null,null,null,null,null,null,null,null,null,null,null,null,null,null,null,null,null,null,null,null,null,null,null,null,null,null,null,null,null,null,null,null,null,null,null,null,null,null,null,null,null,null,null,null,null,null,null,null,null,null,null,null,null,null,null,null,null,null,null,null,null,null,null,null,null,null,null,null,null,null,null,null,null,null,null,null,null,null,null,null,null,null,null,null,null,3,"2018-12-31","2018-12-31"]
[]
[]
[null,null,null,null,null,null,null,null,null,null,null,null,null,null,null,null,null,null,null,null,null,null,null,null,null,null,null,null,null,null,null,null,null,null,null,null,null,null,null,null,null,null,null,null,null,null,null,null,null,null,null,null,null,null,null,null,null,null,null,null,null,null,null,null,null,null,null,null,null,null,null,null,null,null,null,null,null,null,null,null,null,null,null,null,null,null,null,null,null,null,null,null,null,null,null,null,null,null,null,null,null,null,null,null,null,null,null,null,null,null,null,null,null,null,null,null,null,null,null,null,null,null,null,null,null,null,null,null,null,null,null,null,null,null,null,null,null,"検査者番号1","検査者番号2","検査者番号3"]
[null,null,null,null,null,null,null,null,null,"１５　検査結果表　（ドレンチャーその他の水幕を形成する防火設備）別記第四号",null,null,null,null,null,null,null,null,null,null,null,null,null,null,null,null,null,null,null,null,null,null,null,null,null,null,null,null,null,null,null,null,null,null,null,null,null,null,null,null,null,null,null,null,null,null,null,null,null,null,null,null,null,null,null,null,null,null,null,null,null,null,null,null,null,null,null,null,null,null,null,null,null,null,null,null,null,null,null,null,null,null,null,null,null,null,null,null,null,null,null,null,null,null,null,null,null,null,null,null,null,null,null,null,null,null,null,null,null,null,null,null,null,null,null,null,null,null,null,null,null,null,null,null,null,null,null,{"$f":"$V$12","v":0},{"$f":"$BF$12","v":0},{"$f":"$CM$12","v":0},null,null,null,null,null,null,null,null,null,"全体"]
[]
[null,null,null,null,null,null,null,null,null,null,null,null,null,null,null,null,null,null,null,null,null,null,null,null,null,null,null,null,null,null,null,null,null,null,null,null,null,null,null,null,null,null,null,null,null,null,null,null,null,null,null,null,null,null,null,null,null,null,null,null,null,null,null,null,null,null,null,null,null,null,null,null,null,null,null,null,null,null,null,null,null,null,null,null,null,null,null,null,null,null,null,null,null,null,null,null,null,null,null,null,null,null,null,null,null,null,null,null,null,null,null,null,null,null,null,null,null,null,null,null,null,null,null,null,null,null,null,null,null,null,null,null,null,null,null,null,null,"いない検査者番号を排除"]
[null,null,null,null,null,null,null,null,null,null,null,null,null,null,null,null,null,null,null,null,null,null,null,null,null,null,null,null,null,null,null,null,null,null,null,null,null,null,null,null,null,null,null,null,null,null,null,null,null,null,null,null,null,null,null,null,null,null,null,null,null,null,null,null,null,null,null,null,null,null,null,null,null,null,null,null,null,null,null,null,null,null,null,null,null,null,null,null,null,null,null,null,null,null,null,null,null,null,null,null,null,null,null,null,null,null,null,null,null,null,null,null,null,null,null,null,null,null,null,null,null,null,null,null,null,null,null,null,null,null,null,null,null,null,null,null,null,"検査者数",null,"完全未入力（検査結果未入力）判定",null,null,null,null,null,null,null,null,null,{"$f":"SUBSTITUTE(TRIM(ET14&\"　\"&ET47&\"　\"&ET57),\"　\",\",\")","v":""},{"$f":"$ET$11","v":""},null,null,null,null,null,null,null,null,null,null,null,null,null,null,null,null,null,null,null,null,null,null,null,null,null,null,null,null,null,null,null,null,null,null,null,null,null,null,null,null,"×要是正（既存不適格以外）",null,null,null,null,null,"国交省検査結果表別パターン転記用",null,null,null,null,null,null,"指摘の具体的内容等"]
[null,null,null,null,null,null,null,null,null,null,null,null,"検査者番号",null,null,null,null,1,null,null,null,{"$f":"'1_入力シート【基本情報】'!$AB$81","v":0},null,null,null,null,null,null,null,null,null,null,null,null,null,null,null,null,null,null,null,null,null,null,null,null,null,null,null,"検査者番号",null,null,null,null,2,null,null,{"$f":"'1_入力シート【基本情報】'!$AB$95","v":0},null,null,null,null,null,null,null,null,null,null,null,null,null,null,null,null,null,null,null,null,null,null,null,null,"検査者番号",null,null,null,null,3,null,null,{"$f":"'1_入力シート【基本情報】'!$AB$109","v":0},null,null,null,null,null,null,null,null,null,null,null,null,null,null,null,null,null,null,null,null,null,null,null,null,null,null,null,null,null,null,null,null,null,null,null,null,null,null,null,null,null,null,null,null,null,null,{"$f":"COUNTIFS(EH8:EJ8,\"<>0\")","v":0},null,{"$f":"COUNTA(BA17:BL42,BA50:BL52,BA60:BL74)","v":0},null,null,null,null,null,null,null,null,null,null,null,null,null,null,null,null,null,null,null,null,null,null,null,null,null,null,null,null,null,null,null,null,null,null,null,null,null,null,null,null,null,null,null,null,null,null,null,null,null,null,null,"○指摘なし",null,null,null,null,{"$f":"\"　\"&TRIM(GO16&\"　\"&GO49&\"　\"&GO59)","v":"　"},"和暦変換（予定は（）付き）の編集",null,null,null,null,null,null,"（既存不適格）を付ける"]
[null,null,null,null,null,null,null,null,null,null,null,null,null,null,null,null,null,null,null,null,null,"検査者1，2，3それぞれの氏名は検査者の入力欄から自動反映されます。（検査者2及び3はいない場合もあります）",null,null,null,null,null,null,null,null,null,null,null,null,null,null,null,null,null,null,null,null,null,null,null,null,null,null,null,null,null,null,null,null,null,null,null,null,null,null,null,null,null,null,null,null,null,null,null,null,null,null,null,null,null,null,null,null,null,null,null,null,null,null,null,null,null,null,null,null,null,null,null,null,null,null,null,null,null,null,null,null,null,null,null,null,null,null,null,null,null,null,null,null,null,null,null,null,null,null,null,null,null,null,null,null,null,null,null,null,null,null,null,null,null,null,null,"↓17行目～42行目結果の変換",null,null,null,null,null,null,null,null,null,null,"項目\n\n要是正＆\n既存不適格","結合↓","要是正",null,"要是正ありの場合",null,null,null,null,null,"既存不適格のみの場合",null,null,null,null,null,null,null,null,null,null,null,null,null,null,null,null,null,null,"追加集計・別フォーム転記向け（紫）",null,null,null,null,null,null,null,null,null,null,null,null,null,"△既存不適格",null,null,null,null,"結合↓","要是正ありの場合"]
[null,null,null,null,null,null,null,null,null,null,null,null,null,null,null,null,null,null,null,null,null,"検査者が1名のみの場合は検査者番号は入力不要です。",null,null,null,null,null,null,null,null,null,null,null,null,null,null,null,null,null,null,null,null,null,null,null,null,null,null,null,null,null,null,null,null,null,null,null,null,null,null,null,null,null,null,null,null,null,null,null,null,null,null,null,null,null,null,null,null,null,null,null,null,null,null,null,null,null,null,null,null,null,null,null,null,null,null,null,null,null,null,null,null,null,null,null,null,null,null,null,null,null,null,null,null,null,null,null,null,null,null,null,null,null,null,null,null,null,null,null,null,null,null,null,null,null,null,null,{"$f":"IF(AND(EI14=\"\",EJ14=\"\",EK14=\"\",EH43<>0),\"レ\",\"\")","v":""},{"$f":"IF(AND(EJ14=\"\",EK14=\"\",EI43<>0),\"レ\",\"\")","v":""},{"$f":"IF(EJ43<>0,\"レ\",\"\")","v":""},{"$f":"IF(AND(EJ14=\"\",EK43<>0),\"レ\",\"\")","v":""},null,null,null,null,null,null,null,null,{"$f":"SUBSTITUTE(TRIM(ET17&\"　\"&ET18&\"　\"&ET19&\"　\"&ET20&\"　\"&ET21&\"　\"&ET22&\"　\"&ET23&\"　\"&ET24&\"　\"&ET25&\"　\"&ET26&\"　\"&ET27&\"　\"&ET28&\"　\"&ET29&\"　\"&ET30&\"　\"&ET31&\"　\"&ET32&\"　\"&ET33&\"　\"&ET34&\"　\"&ET35&\"　\"&ET36&\"　\"&ET37&\"　\"&ET38&\"　\"&ET39&\"　\"&ET40&\"　\"&ET41&\"　\"&ET42),\"　\",\",\")","v":""},"改善策の具体的内容等","和暦変換（予定は( )付き）",{"$f":"IF(COUNTIF(EY17:EY42,1)>0,\"レ\",\"\")","v":""},null,{"$f":"IF(EW14=\"レ\",TEXT(EZ43,\"ee\"),\"\")","v":""},{"$f":"IF(EW14=\"レ\",MONTH(EZ43),IF(AND(EJ14=\"レ\",FB14=\"レ\",FB43=0),\"\",IF(AND(EJ14=\"レ\",FB14=\"レ\",FB43>0),\"未定\",\"\")))","v":""},null,{"$f":"IF(EW14=\"\",IF(OR(FB43>0,EJ15=\"レ\"),\"レ\",\"\"),\"\")","v":""},{"$f":"IF(AND(COUNTIF(EO17:EO42,\"要是正\")=0,COUNTIF(FE17:FE42,1)>0),\"レ\",\"\")","v":""},null,{"$f":"IF(FC14=\"レ\",TEXT(FF43,\"ee\"),\"\")","v":""},{"$f":"IF(FC14=\"レ\",MONTH(FF43),IF(AND(EK14=\"レ\",FH14=\"レ\",FH43=0),\"\",IF(AND(EK14=\"レ\",FH14=\"レ\",FH43>0),\"未定\",\"\")))","v":""},null,{"$f":"IF(FC14=\"\",IF(OR(FH43>0,EK15=\"レ\"),\"レ\",\"\"),\"\")","v":""},null,null,null,null,null,null,null,null,null,null,null,null,null,{"$f":"IF(OR(EW14=\"レ\",EW47=\"レ\",EW57=\"レ\",),\"レ\",\"\")","v":""},{"$f":"IF(AND(FV14=\"\",FZ14=\"\",OR(EX14=\"レ\",EX47=\"レ\",EX57=\"レ\")),\"レ\",\"\")","v":""},{"$f":"IF(FT20=\"レ\",IF(FV14=\"レ\",TEXT(FV20,\"ee\"),IF(FW14=\"レ\",TEXT(FW20,\"ee\"),\"\")),\"\")","v":""},{"$f":"IF(FT20=\"レ\",IF(FV14=\"レ\",MONTH(FV20),IF(FW14=\"レ\",MONTH(FW20),\"未定\")),\"\")","v":""},{"$f":"IF(AND(FV14=\"\",COUNTIF(FX17:FX19,\"未定\")>0),\"レ\",\"\")","v":""},{"$f":"IF(AND(FT20=\"\",OR(FC14=\"レ\",FC47=\"レ\",FC57=\"レ\")),\"レ\",\"\")","v":""},{"$f":"IF(AND(FT20=\"\",GA14=\"\",GE14=\"\",OR(FD14=\"レ\",FD47=\"レ\",FD57=\"レ\")),\"レ\",\"\")","v":""},{"$f":"IF(FU20=\"レ\",IF(GA14=\"レ\",TEXT(GA20,\"ee\"),IF(GB14=\"レ\",TEXT(GB20,\"ee\"),\"\")),\"\")","v":""},{"$f":"IF(FU20=\"レ\",IF(GA14=\"レ\",MONTH(GA20),IF(GB14=\"レ\",MONTH(GB20),\"未定\")),\"\")","v":""},{"$f":"IF(AND(FT20=\"\",GA14=\"\",COUNTIF(GC17:GC19,\"未定\")>0),\"レ\",\"\")","v":""},{"$error":"#VALUE!"},null,null,null,"―対象外",null,null,null,null,{"$f":"TRIM(GO16&\"　\"&GO49&\"　\"&GO59)","v":""},{"$f":"IF(COUNTIF(GR17:GR42,1)>0,\"レ\",\"\")","v":""},null,{"$f":"IF(GP14=\"レ\",TEXT(GS43,\"ee\"),\"\")","v":""},{"$f":"IF(GP14=\"レ\",MONTH(GS43),IF(AND(GF15=\"レ\",GT14=\"レ\",GT43=0),\"\",IF(AND(GF15=\"レ\",GT14=\"レ\",GT43>0),\"未定\",\"\")))","v":""},{"$f":"IF(GP14=\"\",IF(OR(GT43>0,GF15=\"レ\"),\"レ\",\"\"),\"\")","v":""}]
[null,null,null,null,null,null,null,null,null,null,null,null,"番号",null,null,"検　査　項　目　",null,null,null,null,null,null,null,null,null,null,null,"検　査　事　項",null,null,null,null,null,null,null,null,null,null,null,null,null,null,null,null,null,null,null,null,null,null,null,null,"検査結果",null,null,null,null,null,null,null,null,null,null,null,"検査者番号",null,"指摘の具体的内容等",null,null,null,null,null,null,null,null,null,"改善策の具体的内容等",null,null,null,null,null,null,null,null,null,null,null,null,null,null,"改善（予定）年月",null,null,null,null,null,null,null,null,"該当法令・注意事項",null,null,null,null,null,null,null,null,null,null,null,null,null,null,null,null,null,null,null,null,null,null,null,null,null,null,null,null,null,null,null,null,null,null,null,null,null,null,null,null,null,null,null,null,null,null,null,null,"指摘の具体的内容等\n要是正＋（既存不適格）",null,null,"改善（予定）\n年月",null,null,null,null,null,"改善（予定）\n年月",null,null,null,null,null,"関連写真添付　リンク指定先",null,null,"関連写真添付　リンク指定先一覧",null,null,null,null,"報告書１面5欄用",null,null,null,null,"要是正",null,null,null,null,"既存不適格",null,null,null,null,null,null,null,"国交省検査結果表転記用",null,null,null,null,null,"指摘の具体的内容等\n要是正","改善（予定）\n年月"]
[null,null,null,null,null,null,null,null,null,null,null,null,null,null,null,null,null,null,null,null,null,null,null,null,null,null,null,null,null,null,null,null,null,null,null,null,null,null,null,null,null,null,null,null,null,null,null,null,null,null,null,null,null,null,null,null,null,null,null,null,null,null,null,null,null,null,null,null,null,null,null,null,null,null,null,null,null,null,null,null,null,null,null,null,null,null,null,null,null,null,null,"年\n(令和)",null,null,"月",null,null,"状況",null,null,null,null,null,null,null,null,null,null,null,null,null,null,null,null,null,null,null,null,null,null,null,null,null,null,null,null,null,null,null,null,null,null,null,null,null,null,null,"対象外項目","指摘なし","要是正","既存不適格","項目番号\n関数なし","項目","年月カウント","要是正と既存不適格","要是正カウント（別添2リンク先）","カウント\n報告書用","項目番号",null,null,null,null,"変換\n/有(予定)","西暦変換\n/有（済）","未来の年月\nカウント/年","未来の直近/月","過去の直近","未定/無","変換/有","西暦変換/(有)","未来の年月\nカウント/年","未来の直近/月","過去の直近","未定/無","シート","セル　上端","セル　下端",null,"シート","セル　上端","セル　下端",null,null,"対象外項目","指摘なし","要是正","既存不適格","未来の直近","過去の直近","未定/年","　/月","　/無","未来の直近","過去の直近","未定/年","　/月","　/無",null,null,null,"指摘なし","要是正","既存不適格","担当者番号","線引き",null,{"$f":"TRIM(GO17&\"　\"&GO18&\"　\"&GO19&\"　\"&GO20&\"　\"&GO21&\"　\"&GO22&\"　\"&GO23&\"　\"&GO24&\"　\"&GO25&\"　\"&GO26&\"　\"&GO27&\"　\"&GO28&\"　\"&GO29&\"　\"&GO30&\"　\"&GO31&\"　\"&GO32&\"　\"&GO33&\"　\"&GO34&\"　\"&GO35&\"　\"&GO36&\"　\"&GO37&\"　\"&GO38&\"　\"&GO39&\"　　\"&GO40&\"　\"&GO41&\"　\"&GO42)","v":""},"変換\n/有(予定)","西暦変換\n","未来の年月\nカウント/年","未来の直近\n/月","未定/無",null,null,null,null,null,null,"項目"]
[null,null,null,null,null,null,null,null,null,null,null,null,"1(1)",null,null,"ドレンチャー等",null,null,null,null,"設置場所の周囲状況",null,null,null,null,null,null,"作動の障害となる物品の放置の状況 ",null,null,null,null,null,null,null,null,null,null,null,null,null,null,null,null,null,null,null,null,null,null,null,null,null,null,null,null,null,null,null,null,null,null,null,null,null,null,null,null,null,null,null,null,null,null,null,null,null,null,null,null,null,null,null,null,null,null,null,null,null,null,null,null,null,null,null,null,null,null,null,null,null,null,null,null,null,null,null,null,null,null,null,null,null,null,null,null,null,null,null,null,null,null,null,null,null,null,null,null,null,null,null,null,null,null,null,null,null,{"$f":"COUNTIFS(BA17,\"ー対象外\")","v":0},{"$f":"COUNTIFS(BA17,\"○指摘なし\")","v":0},{"$f":"COUNTIFS(BA17,\"×要是正（既存不適格以外）\")","v":0},{"$f":"COUNTIFS(BA17,\"△既存不適格\")","v":0},"1(1)",{"$f":"IF($AB17=\"\",U17,AB17)","v":"作動の障害となる物品の放置の状況 "},{"$f":"COUNTA(CN17:CS17)","v":0},{"$f":"IF(BA17=\"×要是正（既存不適格以外）\",\"要是正\",\"\")&IF(BA17=\"△既存不適格\",\"既存不適格\",\"\")","v":""},{"$f":"IF($EO17=\"要是正\",MAX($EP13:EP$14)+1,\"\")","v":""},{"$f":"IF($EO17=\"要是正\",MAX($EQ13:EQ$14)+1,\"\")","v":""},{"$f":"IF(OR(BA17=\"×要是正（既存不適格以外）\",BA17=\"△既存不適格\"),EL17,\"\")","v":""},{"$f":"IF(OR($EO17=\"要是正\",$EO17=\"既存不適格\"),$EM17,\"\")","v":""},{"$f":"IF($EO17=\"要是正\",IF(BO17=\"\",\"\",BO17),\"\")","v":""},{"$f":"IF($EO17=\"要是正\",IF(BY17=\"\",\"\",BY17),\"\")","v":""},{"$f":"IF(CT17=\"未定\",\"未定\",IF(GQ17=\"0\",\"\",IF(CT17=\"予定\",TEXT(GQ17,\"([$-ja-JP]ge.m);@\"),IF(CT17=\"改善済\",TEXT(GQ17,\"[$-ja-JP]ge.m;@\"),TEXT(EX17,\"[$-ja-JP]ge.m;@\")))))","v":""},{"$f":"IF(OR(EO17=\"要是正\",EO17=\"既存不適格\"),IF(OR(EN17<2,CT17<>\"予定\"),\"\",\"令和\"&CN17&\"年\"&CQ17&\"月1日\"),\"\")","v":""},{"$f":"IF(EW17=\"\",\"0\",DATEVALUE(EW17))","v":"0"},{"$f":"IF(EO17=\"要是正\",IF(AND(CT17=\"予定\",EN17=2),1,IF(CT17=\"改善済\",2,\"\")),\"\")","v":""},{"$f":"IF(EY17=1,EX17,\"0\")","v":"0"},{"$f":"IF(EY17=2,EX17,\"0\")","v":"0"},{"$f":"IF(AND(EO17=\"要是正\",AND(EN17=0,CT17=\"未定\")),CT17,\"\")","v":""},{"$f":"IF(EO17=\"既存不適格\",IF(OR(EN17<2,CT17<>\"予定\"),\"\",\"令和\"&CN17&\"年\"&CQ17&\"月1日\"),\"\")","v":""},{"$f":"IF(FC17=\"\",\"0\",DATEVALUE(FC17))","v":"0"},{"$f":"IF(EO17=\"既存不適格\",IF(AND(CT17=\"予定\",EN17=2),1,IF(CT17=\"改善済\",2,\"\")),\"\")","v":""},{"$f":"IF(FE17=1,FD17,\"0\")","v":"0"},{"$f":"IF(FE17=2,FD17,\"0\")","v":"0"},{"$f":"IF(AND(EO17=\"既存不適格\",AND(EN17=0,CT17=\"未定\")),CT17,\"\")","v":""},null,null,null,2,"#'3_入力シート【写真】'","A33","AU54",null,1,{"$f":"EH14","v":""},{"$f":"EI14","v":""},"","",{"$f":"EZ43","v":"0"},"対象外",{"$f":"$FB$14","v":""},"現在不使用","現在不使用",{"$f":"FF43","v":"0"},"対象外",{"$f":"$FH$14","v":""},"現在不使用","現在不使用",null,null,null,{"$f":"IF($BA17=\"○指摘なし\",\"○\",IF($BA17=\"―対象外\",\"－\",\"\"))","v":""},{"$f":"IF(OR($BA17=\"×要是正（既存不適格以外）\",$BA17=\"△既存不適格\"),\"○\",\"\")","v":""},{"$f":"IF($BA17=\"△既存不適格\",\"○\",\"\")","v":""},{"$f":"BM17","v":0},{"$f":"IF($BA17=\"―対象外\",\"○\",\"\")","v":""},null,{"$f":"IF(EO17=\"要是正\",IF(BO17=\"\",\"\",ER17&\" \"&HA17&\" \" &BO17&CHAR(10)),\"\")","v":""},{"$f":"IF(NOT(OR(CT17=\"未定\",CT17=\"\")),\"令和\"&CN17&\"年\"&CQ17&\"月1日\",\"\")","v":""},{"$f":"IF(GP17=\"\",\"0\",DATEVALUE(GP17))","v":"0"},{"$f":"IF(OR(CT17=\"予定\",CT17=\"改善済\"),1,\"\")","v":""},{"$f":"IF(GR17=1,GQ17,\"0\")","v":"0"},{"$f":"IF(AND(EQ17=\"要是正\",AND(EP17=0,CT17=\"未定\")),CT17,\"\")","v":""},null,null,{"$f":"IF(BA17=\"△既存不適格\",BO17&\"(既存不適格)\",BO17)","v":0},null,null,null,{"$f":"$U$17","v":"設置場所の周囲状況"}]
[null,null,null,null,null,null,null,null,null,null,null,null,"1(2)",null,null,null,null,null,null,null,"散水ヘッド",null,null,null,null,null,null,"散水ヘッドの設置の状況",null,null,null,null,null,null,null,null,null,null,null,null,null,null,null,null,null,null,null,null,null,null,null,null,null,null,null,null,null,null,null,null,null,null,null,null,null,null,null,null,null,null,null,null,null,null,null,null,null,null,null,null,null,null,null,null,null,null,null,null,null,null,null,null,null,null,null,null,null,null,null,null,null,null,null,null,null,null,null,null,null,null,null,null,null,null,null,null,null,null,null,null,null,null,null,null,null,null,null,null,null,null,null,null,null,null,null,null,null,0,0,0,0,"1(2)",{"$f":"IF($AB18=\"\",U18,AB18)","v":"散水ヘッドの設置の状況"},{"$f":"COUNTA(CN18:CS18)","v":0},{"$f":"IF(BA18=\"×要是正（既存不適格以外）\",\"要是正\",\"\")&IF(BA18=\"△既存不適格\",\"既存不適格\",\"\")","v":""},{"$f":"IF($EO18=\"要是正\",MAX($EP14:EP$14)+1,\"\")","v":""},{"$f":"IF($EO18=\"要是正\",MAX($EQ14:EQ$14)+1,\"\")","v":""},{"$f":"IF(OR(BA18=\"×要是正（既存不適格以外）\",BA18=\"△既存不適格\"),EL18,\"\")","v":""},{"$f":"IF(OR($EO18=\"要是正\",$EO18=\"既存不適格\"),$EM18,\"\")","v":""},{"$f":"IF($EO18=\"要是正\",IF(BO18=\"\",\"\",BO18),\"\")","v":""},{"$f":"IF($EO18=\"要是正\",IF(BY18=\"\",\"\",BY18),\"\")","v":""},{"$f":"IF(CT18=\"未定\",\"未定\",IF(GQ18=\"0\",\"\",IF(CT18=\"予定\",TEXT(GQ18,\"([$-ja-JP]ge.m);@\"),IF(CT18=\"改善済\",TEXT(GQ18,\"[$-ja-JP]ge.m;@\"),TEXT(EX18,\"[$-ja-JP]ge.m;@\")))))","v":""},{"$f":"IF(OR(EO18=\"要是正\",EO18=\"既存不適格\"),IF(OR(EN18<2,CT18<>\"予定\"),\"\",\"令和\"&CN18&\"年\"&CQ18&\"月1日\"),\"\")","v":""},{"$f":"IF(EW18=\"\",\"0\",DATEVALUE(EW18))","v":"0"},{"$f":"IF(EO18=\"要是正\",IF(AND(CT18=\"予定\",EN18=2),1,IF(CT18=\"改善済\",2,\"\")),\"\")","v":""},{"$f":"IF(EY18=1,EX18,\"0\")","v":"0"},{"$f":"IF(EY18=2,EX18,\"0\")","v":"0"},{"$f":"IF(AND(EO18=\"要是正\",AND(EN18=0,CT18=\"未定\")),CT18,\"\")","v":""},{"$f":"IF(EO18=\"既存不適格\",IF(OR(EN18<2,CT18<>\"予定\"),\"\",\"令和\"&CN18&\"年\"&CQ18&\"月1日\"),\"\")","v":""},{"$f":"IF(FC18=\"\",\"0\",DATEVALUE(FC18))","v":"0"},{"$f":"IF(EO18=\"既存不適格\",IF(AND(CT18=\"予定\",EN18=2),1,IF(CT18=\"改善済\",2,\"\")),\"\")","v":""},{"$f":"IF(FE18=1,FD18,\"0\")","v":"0"},{"$f":"IF(FE18=2,FD18,\"0\")","v":"0"},{"$f":"IF(AND(EO18=\"既存不適格\",AND(EN18=0,CT18=\"未定\")),CT18,\"\")","v":""},null,null,null,6,"#'3_入力シート【写真】'","A152","AU173",null,2,{"$f":"EH47","v":""},{"$f":"EI47","v":""},{"$f":"EJ47","v":""},{"$f":"EK47","v":""},{"$f":"EZ53","v":"0"},"対象外",{"$f":"$FB$47","v":""},"現在不使用","現在不使用",{"$f":"FF53","v":"0"},"対象外",{"$f":"$FH$47","v":""},"現在不使用","現在不使用",null,null,null,{"$f":"IF($BA18=\"○指摘なし\",\"○\",IF($BA18=\"―対象外\",\"－\",\"\"))","v":""},"","",0,"",null,{"$f":"IF(EO18=\"要是正\",IF(BO18=\"\",\"\",ER18&\" \"&HA18&\" \" &BO18&CHAR(10)),\"\")","v":""},{"$f":"IF(NOT(OR(CT18=\"未定\",CT18=\"\")),\"令和\"&CN18&\"年\"&CQ18&\"月1日\",\"\")","v":""},{"$f":"IF(GP18=\"\",\"0\",DATEVALUE(GP18))","v":"0"},{"$f":"IF(OR(CT18=\"予定\",CT18=\"改善済\"),1,\"\")","v":""},{"$f":"IF(GR18=1,GQ18,\"0\")","v":"0"},{"$f":"IF(AND(EQ18=\"要是正\",AND(EP18=0,CT18=\"未定\")),CT18,\"\")","v":""},null,null,0,null,null,null,{"$f":"$U$18","v":"散水ヘッド"}]
[null,null,null,null,null,null,null,null,null,null,null,null,"1(3)",null,null,null,null,null,null,null,"開閉弁",null,null,null,null,null,null,"開閉弁の状況",null,null,null,null,null,null,null,null,null,null,null,null,null,null,null,null,null,null,null,null,null,null,null,null,null,null,null,null,null,null,null,null,null,null,null,null,null,null,null,null,null,null,null,null,null,null,null,null,null,null,null,null,null,null,null,null,null,null,null,null,null,null,null,null,null,null,null,null,null,null,null,null,null,null,null,null,null,null,null,null,null,null,null,null,null,null,null,null,null,null,null,null,null,null,null,null,null,null,null,null,null,null,null,null,null,null,null,null,null,0,0,0,0,"1(3)","開閉弁の状況",0,"",{"$f":"IF($EO19=\"要是正\",MAX($EP$14:EP15)+1,\"\")","v":""},{"$f":"IF($EO19=\"要是正\",MAX($EQ$14:EQ15)+1,\"\")","v":""},"","","","","","","0","","0","0","","","0","","0","0","",null,null,null,2,"#'3_入力シート【写真】'","A33","AU54",null,3,{"$f":"EH57","v":""},{"$f":"EI57","v":""},{"$f":"EJ57","v":""},{"$f":"EK57","v":""},{"$f":"EZ75","v":"0"},"対象外",{"$f":"$FB$57","v":""},"現在不使用","現在不使用",{"$f":"FF75","v":"0"},"対象外",{"$f":"$FH$57","v":""},"現在不使用","現在不使用",null,null,null,"","","",0,"",null,"","","0","","0","",null,null,0,null,null,null,{"$f":"$U$19","v":"開閉弁"}]
[null,null,null,null,null,null,null,null,null,null,null,null,"1(4)",null,null,null,null,null,null,null,"排水設備",null,null,null,null,null,null,"排水の状況",null,null,null,null,null,null,null,null,null,null,null,null,null,null,null,null,null,null,null,null,null,null,null,null,null,null,null,null,null,null,null,null,null,null,null,null,null,null,null,null,null,null,null,null,null,null,null,null,null,null,null,null,null,null,null,null,null,null,null,null,null,null,null,null,null,null,null,null,null,null,null,null,null,null,null,null,null,null,null,null,null,null,null,null,null,null,null,null,null,null,null,null,null,null,null,null,null,null,null,null,null,null,null,null,null,null,null,null,null,0,0,0,0,"1(4)","排水の状況",0,"",{"$f":"IF($EO20=\"要是正\",MAX($EP$14:EP16)+1,\"\")","v":""},{"$f":"IF($EO20=\"要是正\",MAX($EQ$14:EQ16)+1,\"\")","v":""},"","","","","","","0","","0","0","","","0","","0","0","",null,null,null,6,"#'3_入力シート【写真】'","A152","AU173",null,null,{"$f":"IF(AND(FS20<>\"レ\",FT20<>\"レ\",FU20<>\"レ\",COUNTIF(FR17:FR19,\"レ\")>0),\"レ\",\"\")","v":""},{"$f":"IF(AND(FT20<>\"レ\",FU20<>\"レ\",COUNTIF(FS17:FS19,\"レ\")>0),\"レ\",\"\")","v":""},{"$f":"IF(COUNTIF(FT17:FT19,\"レ\")>0,\"レ\",\"\")","v":""},{"$f":"IF(AND(FT20<>\"レ\",COUNTIF(FU17:FU19,\"レ\")>0),\"レ\",\"\")","v":""},{"$f":"INDEX(FV17:FV19,MATCH(MIN(ABS(FV17:FV19-$EJ$4)),ABS(FV17:FV19-$EJ$4),0))","v":"0"},"対象外",null,"現在不使用","現在不使用",{"$f":"INDEX(GA17:GA19,MATCH(MIN(ABS(GA17:GA19-$EJ$4)),ABS(GA17:GA19-$EJ$4),0))","v":"0"},"対象外",null,"現在不使用","現在不使用",null,null,null,"","","",0,"",null,"","","0","","0","",null,null,0,null,null,null,{"$f":"$U$20","v":"排水設備"}]
[null,null,null,null,null,null,null,null,null,null,null,null,"1(5)",null,null,null,null,null,null,null,"水源",null,null,null,null,null,null,"貯水槽の劣化及び損傷、水質並びに水量の状況",null,null,null,null,null,null,null,null,null,null,null,null,null,null,null,null,null,null,null,null,null,null,null,null,null,null,null,null,null,null,null,null,null,null,null,null,null,null,null,null,null,null,null,null,null,null,null,null,null,null,null,null,null,null,null,null,null,null,null,null,null,null,null,null,null,null,null,null,null,null,null,null,null,null,null,null,null,null,null,null,null,null,null,null,null,null,null,null,null,null,null,null,null,null,null,null,null,null,null,null,null,null,null,null,null,null,null,null,null,0,0,0,0,"1(5)","貯水槽の劣化及び損傷、水質並びに水量の状況",0,"",{"$f":"IF($EO21=\"要是正\",MAX($EP$14:EP17)+1,\"\")","v":""},{"$f":"IF($EO21=\"要是正\",MAX($EQ$14:EQ17)+1,\"\")","v":""},"","","","","","","0","","0","0","","","0","","0","0","",null,null,null,2,"#'3_入力シート【写真】'","A33","AU54",null,null,null,null,null,null,null,null,null,null,null,null,null,null,null,null,null,null,null,"","","",0,"",null,"","","0","","0","",null,null,0,null,null,null,{"$f":"$U$21","v":"水源"}]
[null,null,null,null,null,null,null,null,null,null,null,null,"1(6)",null,null,null,null,null,null,null,null,null,null,null,null,null,null,"給水装置の状況",null,null,null,null,null,null,null,null,null,null,null,null,null,null,null,null,null,null,null,null,null,null,null,null,null,null,null,null,null,null,null,null,null,null,null,null,null,null,null,null,null,null,null,null,null,null,null,null,null,null,null,null,null,null,null,null,null,null,null,null,null,null,null,null,null,null,null,null,null,null,null,null,null,null,null,null,null,null,null,null,null,null,null,null,null,null,null,null,null,null,null,null,null,null,null,null,null,null,null,null,null,null,null,null,null,null,null,null,null,0,0,0,0,"1(6)","給水装置の状況",0,"",{"$f":"IF($EO22=\"要是正\",MAX($EP$14:EP18)+1,\"\")","v":""},{"$f":"IF($EO22=\"要是正\",MAX($EQ$14:EQ18)+1,\"\")","v":""},"","","","","","","0","","0","0","","","0","","0","0","",null,null,null,6,"#'3_入力シート【写真】'","A152","AU173",null,null,null,null,null,null,null,null,null,null,null,null,null,null,null,null,null,null,null,"","","",0,"",null,"","","0","","0","",null,null,0,null,null,null,{"$f":"$U$21","v":"水源"}]
[null,null,null,null,null,null,null,null,null,null,null,null,"1(7)",null,null,null,null,null,null,null,"加圧送水装置",null,null,null,null,null,null,"ポンプ制御盤のスイッチ類及び表示灯の状況",null,null,null,null,null,null,null,null,null,null,null,null,null,null,null,null,null,null,null,null,null,null,null,null,null,null,null,null,null,null,null,null,null,null,null,null,null,null,null,null,null,null,null,null,null,null,null,null,null,null,null,null,null,null,null,null,null,null,null,null,null,null,null,null,null,null,null,null,null,null,null,null,null,null,null,null,null,null,null,null,null,null,null,null,null,null,null,null,null,null,null,null,null,null,null,null,null,null,null,null,null,null,null,null,null,null,null,null,null,0,0,0,0,"1(7)","ポンプ制御盤のスイッチ類及び表示灯の状況",0,"",{"$f":"IF($EO23=\"要是正\",MAX($EP$14:EP19)+1,\"\")","v":""},{"$f":"IF($EO23=\"要是正\",MAX($EQ$14:EQ19)+1,\"\")","v":""},"","","","","","","0","","0","0","","","0","","0","0","",null,null,null,2,"#'3_入力シート【写真】'","A33","AU54",null,null,null,null,null,null,null,null,null,null,null,null,null,null,null,null,null,null,null,"","","",0,"",null,"","","0","","0","",null,null,0,null,null,null,{"$f":"$U$23","v":"加圧送水装置"}]
[null,null,null,null,null,null,null,null,null,null,null,null,"1(8)",null,null,null,null,null,null,null,null,null,null,null,null,null,null,"結線接続の状況",null,null,null,null,null,null,null,null,null,null,null,null,null,null,null,null,null,null,null,null,null,null,null,null,null,null,null,null,null,null,null,null,null,null,null,null,null,null,null,null,null,null,null,null,null,null,null,null,null,null,null,null,null,null,null,null,null,null,null,null,null,null,null,null,null,null,null,null,null,null,null,null,null,null,null,null,null,null,null,null,null,null,null,null,null,null,null,null,null,null,null,null,null,null,null,null,null,null,null,null,null,null,null,null,null,null,null,null,null,0,0,0,0,"1(8)","結線接続の状況",0,"",{"$f":"IF($EO24=\"要是正\",MAX($EP$14:EP20)+1,\"\")","v":""},{"$f":"IF($EO24=\"要是正\",MAX($EQ$14:EQ20)+1,\"\")","v":""},"","","","","","","0","","0","0","","","0","","0","0","",null,null,null,6,"#'3_入力シート【写真】'","A152","AU173",null,null,null,null,null,null,null,null,null,null,null,null,null,null,null,null,null,null,null,"","","",0,"",null,"","","0","","0","",null,null,0,null,null,null,{"$f":"$U$23","v":"加圧送水装置"}]
[null,null,null,null,null,null,null,null,null,null,null,null,"1(9)",null,null,null,null,null,null,null,null,null,null,null,null,null,null,"接地の状況",null,null,null,null,null,null,null,null,null,null,null,null,null,null,null,null,null,null,null,null,null,null,null,null,null,null,null,null,null,null,null,null,null,null,null,null,null,null,null,null,null,null,null,null,null,null,null,null,null,null,null,null,null,null,null,null,null,null,null,null,null,null,null,null,null,null,null,null,null,null,null,null,null,null,null,null,null,null,null,null,null,null,null,null,null,null,null,null,null,null,null,null,null,null,null,null,null,null,null,null,null,null,null,null,null,null,null,null,null,0,0,0,0,"1(9)","接地の状況",0,"",{"$f":"IF($EO25=\"要是正\",MAX($EP$14:EP21)+1,\"\")","v":""},{"$f":"IF($EO25=\"要是正\",MAX($EQ$14:EQ21)+1,\"\")","v":""},"","","","","","","0","","0","0","","","0","","0","0","",null,null,null,2,"#'3_入力シート【写真】'","A33","AU54",null,null,null,null,null,null,null,null,null,null,null,null,null,null,null,null,null,null,null,"","","",0,"",null,"","","0","","0","",null,null,0,null,null,null,"加圧送水装置"]
[null,null,null,null,null,null,null,null,null,null,null,null,"1(10)",null,null,null,null,null,null,null,null,null,null,null,null,null,null,"ポンプ及び電動機の状況",null,null,null,null,null,null,null,null,null,null,null,null,null,null,null,null,null,null,null,null,null,null,null,null,null,null,null,null,null,null,null,null,null,null,null,null,null,null,null,null,null,null,null,null,null,null,null,null,null,null,null,null,null,null,null,null,null,null,null,null,null,null,null,null,null,null,null,null,null,null,null,null,null,null,null,null,null,null,null,null,null,null,null,null,null,null,null,null,null,null,null,null,null,null,null,null,null,null,null,null,null,null,null,null,null,null,null,null,null,0,0,0,0,"1(10)","ポンプ及び電動機の状況",0,"",{"$f":"IF($EO26=\"要是正\",MAX($EP$14:EP22)+1,\"\")","v":""},{"$f":"IF($EO26=\"要是正\",MAX($EQ$14:EQ22)+1,\"\")","v":""},"","","","","","","0","","0","0","","","0","","0","0","",null,null,null,6,"#'3_入力シート【写真】'","A152","AU173",null,null,null,null,null,null,null,null,null,null,null,null,null,null,null,null,null,null,null,"","","",0,"",null,"","","0","","0","",null,null,0,null,null,null,"加圧送水装置"]
[null,null,null,null,null,null,null,null,null,null,null,null,"1(11)",null,null,null,null,null,null,null,null,null,null,null,null,null,null,"加圧送水装置用予備電源への切り替えの状況",null,null,null,null,null,null,null,null,null,null,null,null,null,null,null,null,null,null,null,null,null,null,null,null,null,null,null,null,null,null,null,null,null,null,null,null,null,null,null,null,null,null,null,null,null,null,null,null,null,null,null,null,null,null,null,null,null,null,null,null,null,null,null,null,null,null,null,null,null,null,null,null,null,null,null,null,null,null,null,null,null,null,null,null,null,null,null,null,null,null,null,null,null,null,null,null,null,null,null,null,null,null,null,null,null,null,null,null,null,0,0,0,0,"1(11)","加圧送水装置用予備電源への切り替えの状況",0,"",{"$f":"IF($EO27=\"要是正\",MAX($EP$14:EP23)+1,\"\")","v":""},{"$f":"IF($EO27=\"要是正\",MAX($EQ$14:EQ23)+1,\"\")","v":""},"","","","","","","0","","0","0","","","0","","0","0","",null,null,null,2,"#'3_入力シート【写真】'","A33","AU54",null,null,null,null,null,null,null,null,null,null,null,null,null,null,null,null,null,null,null,"","","",0,"",null,"","","0","","0","",null,null,0,null,null,null,"加圧送水装置"]
[null,null,null,null,null,null,null,null,null,null,null,null,"1(12)",null,null,null,null,null,null,null,null,null,null,null,null,null,null,"加圧送水装置用予備電源の劣化及び損傷の状況",null,null,null,null,null,null,null,null,null,null,null,null,null,null,null,null,null,null,null,null,null,null,null,null,null,null,null,null,null,null,null,null,null,null,null,null,null,null,null,null,null,null,null,null,null,null,null,null,null,null,null,null,null,null,null,null,null,null,null,null,null,null,null,null,null,null,null,null,null,null,null,null,null,null,null,null,null,null,null,null,null,null,null,null,null,null,null,null,null,null,null,null,null,null,null,null,null,null,null,null,null,null,null,null,null,null,null,null,null,0,0,0,0,"1(12)","加圧送水装置用予備電源の劣化及び損傷の状況",0,"",{"$f":"IF($EO28=\"要是正\",MAX($EP$14:EP24)+1,\"\")","v":""},{"$f":"IF($EO28=\"要是正\",MAX($EQ$14:EQ24)+1,\"\")","v":""},"","","","","","","0","","0","0","","","0","","0","0","",null,null,null,6,"#'3_入力シート【写真】'","A152","AU173",null,null,null,null,null,null,null,null,null,null,null,null,null,null,null,null,null,null,null,"","","",0,"",null,"","","0","","0","",null,null,0,null,null,null,"加圧送水装置"]
[null,null,null,null,null,null,null,null,null,null,null,null,"1(13)",null,null,null,null,null,null,null,null,null,null,null,null,null,null,"加圧送水装置用予備電源の容量の状況",null,null,null,null,null,null,null,null,null,null,null,null,null,null,null,null,null,null,null,null,null,null,null,null,null,null,null,null,null,null,null,null,null,null,null,null,null,null,null,null,null,null,null,null,null,null,null,null,null,null,null,null,null,null,null,null,null,null,null,null,null,null,null,null,null,null,null,null,null,null,null,null,null,null,null,null,null,null,null,null,null,null,null,null,null,null,null,null,null,null,null,null,null,null,null,null,null,null,null,null,null,null,null,null,null,null,null,null,null,0,0,0,0,"1(13)","加圧送水装置用予備電源の容量の状況",0,"",{"$f":"IF($EO29=\"要是正\",MAX($EP$14:EP25)+1,\"\")","v":""},{"$f":"IF($EO29=\"要是正\",MAX($EQ$14:EQ25)+1,\"\")","v":""},"","","","","","","0","","0","0","","","0","","0","0","",null,null,null,2,"#'3_入力シート【写真】'","A33","AU54",null,null,null,null,null,null,null,null,null,null,null,null,null,null,null,null,null,null,null,"","","",0,"",null,"","","0","","0","",null,null,0,null,null,null,"加圧送水装置"]
[null,null,null,null,null,null,null,null,null,null,null,null,"1(14)",null,null,null,null,null,null,null,null,null,null,null,null,null,null,"圧力計、呼水槽、起動用圧力スイッチ等の付属装置の状況",null,null,null,null,null,null,null,null,null,null,null,null,null,null,null,null,null,null,null,null,null,null,null,null,null,null,null,null,null,null,null,null,null,null,null,null,null,null,null,null,null,null,null,null,null,null,null,null,null,null,null,null,null,null,null,null,null,null,null,null,null,null,null,null,null,null,null,null,null,null,null,null,null,null,null,null,null,null,null,null,null,null,null,null,null,null,null,null,null,null,null,null,null,null,null,null,null,null,null,null,null,null,null,null,null,null,null,null,null,0,0,0,0,"1(14)","圧力計、呼水槽、起動用圧力スイッチ等の付属装置の状況",0,"",{"$f":"IF($EO30=\"要是正\",MAX($EP$14:EP26)+1,\"\")","v":""},{"$f":"IF($EO30=\"要是正\",MAX($EQ$14:EQ26)+1,\"\")","v":""},"","","","","","","0","","0","0","","","0","","0","0","",null,null,null,6,"#'3_入力シート【写真】'","A152","AU173",null,null,null,null,null,null,null,null,null,null,null,null,null,null,null,null,null,null,null,"","","",0,"",null,"","","0","","0","",null,null,0,null,null,null,"加圧送水装置"]
[null,null,null,null,null,null,null,null,null,null,null,null,"1(15)",null,null,"連動機構",null,null,null,null,"煙感知器、熱煙複合式感知器及び熱感知器",null,null,null,null,null,null,"設置位置",null,null,null,null,null,null,null,null,null,null,null,null,null,null,null,null,null,null,null,null,null,null,null,null,null,null,null,null,null,null,null,null,null,null,null,null,null,null,null,null,null,null,null,null,null,null,null,null,null,null,null,null,null,null,null,null,null,null,null,null,null,null,null,null,null,null,null,null,null,null,null,null,null,null,null,null,null,null,null,null,null,null,null,null,null,null,null,null,null,null,null,null,null,null,null,null,null,null,null,null,null,null,null,null,null,null,null,null,null,0,0,0,0,"1(15)","設置位置",0,"",{"$f":"IF($EO31=\"要是正\",MAX($EP$14:EP27)+1,\"\")","v":""},{"$f":"IF($EO31=\"要是正\",MAX($EQ$14:EQ27)+1,\"\")","v":""},"","","","","","","0","","0","0","","","0","","0","0","",null,null,null,2,"#'3_入力シート【写真】'","A33","AU54",null,null,null,null,null,null,null,null,null,null,null,null,null,null,null,null,null,null,null,"","","",0,"",null,"","","0","","0","",null,null,0,null,null,null,{"$f":"$U$31","v":"煙感知器、熱煙複合式感知器及び熱感知器"}]
[null,null,null,null,null,null,null,null,null,null,null,null,"1(16)",null,null,null,null,null,null,null,null,null,null,null,null,null,null,"感知の状況",null,null,null,null,null,null,null,null,null,null,null,null,null,null,null,null,null,null,null,null,null,null,null,null,null,null,null,null,null,null,null,null,null,null,null,null,null,null,null,null,null,null,null,null,null,null,null,null,null,null,null,null,null,null,null,null,null,null,null,null,null,null,null,null,null,null,null,null,null,null,null,null,null,null,null,null,null,null,null,null,null,null,null,null,null,null,null,null,null,null,null,null,null,null,null,null,null,null,null,null,null,null,null,null,null,null,null,null,null,0,0,0,0,"1(16)","感知の状況",0,"",{"$f":"IF($EO32=\"要是正\",MAX($EP$14:EP28)+1,\"\")","v":""},{"$f":"IF($EO32=\"要是正\",MAX($EQ$14:EQ28)+1,\"\")","v":""},"","","","","","","0","","0","0","","","0","","0","0","",null,null,null,6,"#'3_入力シート【写真】'","A152","AU173",null,null,null,null,null,null,null,null,null,null,null,null,null,null,null,null,null,null,null,"","","",0,"",null,"","","0","","0","",null,null,0,null,null,null,{"$f":"$U$31","v":"煙感知器、熱煙複合式感知器及び熱感知器"}]
[null,null,null,null,null,null,null,null,null,null,null,null,"1(17)",null,null,null,null,null,null,null,"制御盤",null,null,null,null,null,null,"スイッチ類及び表示灯の状況",null,null,null,null,null,null,null,null,null,null,null,null,null,null,null,null,null,null,null,null,null,null,null,null,null,null,null,null,null,null,null,null,null,null,null,null,null,null,null,null,null,null,null,null,null,null,null,null,null,null,null,null,null,null,null,null,null,null,null,null,null,null,null,null,null,null,null,null,null,null,null,null,null,null,null,null,null,null,null,null,null,null,null,null,null,null,null,null,null,null,null,null,null,null,null,null,null,null,null,null,null,null,null,null,null,null,null,null,null,0,0,0,0,"1(17)","スイッチ類及び表示灯の状況",0,"",{"$f":"IF($EO33=\"要是正\",MAX($EP$14:EP29)+1,\"\")","v":""},{"$f":"IF($EO33=\"要是正\",MAX($EQ$14:EQ29)+1,\"\")","v":""},"","","","","","","0","","0","0","","","0","","0","0","",null,null,null,2,"#'3_入力シート【写真】'","A33","AU54",null,null,null,null,null,null,null,null,null,null,null,null,null,null,null,null,null,null,null,"","","",0,"",null,"","","0","","0","",null,null,0,null,null,null,{"$f":"$U$33","v":"制御盤"}]
[null,null,null,null,null,null,null,null,null,null,null,null,"1(18)",null,null,null,null,null,null,null,null,null,null,null,null,null,null,"結線接続の状況",null,null,null,null,null,null,null,null,null,null,null,null,null,null,null,null,null,null,null,null,null,null,null,null,null,null,null,null,null,null,null,null,null,null,null,null,null,null,null,null,null,null,null,null,null,null,null,null,null,null,null,null,null,null,null,null,null,null,null,null,null,null,null,null,null,null,null,null,null,null,null,null,null,null,null,null,null,null,null,null,null,null,null,null,null,null,null,null,null,null,null,null,null,null,null,null,null,null,null,null,null,null,null,null,null,null,null,null,null,0,0,0,0,"1(18)","結線接続の状況",0,"",{"$f":"IF($EO34=\"要是正\",MAX($EP$14:EP30)+1,\"\")","v":""},{"$f":"IF($EO34=\"要是正\",MAX($EQ$14:EQ30)+1,\"\")","v":""},"","","","","","","0","","0","0","","","0","","0","0","",null,null,null,6,"#'3_入力シート【写真】'","A152","AU173",null,null,null,null,null,null,null,null,null,null,null,null,null,null,null,null,null,null,null,"","","",0,"",null,"","","0","","0","",null,null,0,null,null,null,{"$f":"$U$33","v":"制御盤"}]
[null,null,null,null,null,null,null,null,null,null,null,null,"1(19)",null,null,null,null,null,null,null,null,null,null,null,null,null,null,"接地の状況",null,null,null,null,null,null,null,null,null,null,null,null,null,null,null,null,null,null,null,null,null,null,null,null,null,null,null,null,null,null,null,null,null,null,null,null,null,null,null,null,null,null,null,null,null,null,null,null,null,null,null,null,null,null,null,null,null,null,null,null,null,null,null,null,null,null,null,null,null,null,null,null,null,null,null,null,null,null,null,null,null,null,null,null,null,null,null,null,null,null,null,null,null,null,null,null,null,null,null,null,null,null,null,null,null,null,null,null,null,0,0,0,0,"1(19)","接地の状況",0,"",{"$f":"IF($EO35=\"要是正\",MAX($EP$14:EP31)+1,\"\")","v":""},{"$f":"IF($EO35=\"要是正\",MAX($EQ$14:EQ31)+1,\"\")","v":""},"","","","","","","0","","0","0","","","0","","0","0","",null,null,null,2,"#'3_入力シート【写真】'","A33","AU54",null,null,null,null,null,null,null,null,null,null,null,null,null,null,null,null,null,null,null,"","","",0,"",null,"","","0","","0","",null,null,0,null,null,null,"制御盤"]
[null,null,null,null,null,null,null,null,null,null,null,null,"1(20)",null,null,null,null,null,null,null,null,null,null,null,null,null,null,"予備電源への切り替えの状況",null,null,null,null,null,null,null,null,null,null,null,null,null,null,null,null,null,null,null,null,null,null,null,null,null,null,null,null,null,null,null,null,null,null,null,null,null,null,null,null,null,null,null,null,null,null,null,null,null,null,null,null,null,null,null,null,null,null,null,null,null,null,null,null,null,null,null,null,null,null,null,null,null,null,null,null,null,null,null,null,null,null,null,null,null,null,null,null,null,null,null,null,null,null,null,null,null,null,null,null,null,null,null,null,null,null,null,null,null,0,0,0,0,"1(20)","予備電源への切り替えの状況",0,"",{"$f":"IF($EO36=\"要是正\",MAX($EP$14:EP32)+1,\"\")","v":""},{"$f":"IF($EO36=\"要是正\",MAX($EQ$14:EQ32)+1,\"\")","v":""},"","","","","","","0","","0","0","","","0","","0","0","",null,null,null,6,"#'3_入力シート【写真】'","A152","AU173",null,null,null,null,null,null,null,null,null,null,null,null,null,null,null,null,null,null,null,"","","",0,"",null,"","","0","","0","",null,null,0,null,null,null,"制御盤"]
[null,null,null,null,null,null,null,null,null,null,null,null,"1(21)",null,null,null,null,null,null,null,"連動機構用予備電源",null,null,null,null,null,null,"劣化及び損傷の状況",null,null,null,null,null,null,null,null,null,null,null,null,null,null,null,null,null,null,null,null,null,null,null,null,null,null,null,null,null,null,null,null,null,null,null,null,null,null,null,null,null,null,null,null,null,null,null,null,null,null,null,null,null,null,null,null,null,null,null,null,null,null,null,null,null,null,null,null,null,null,null,null,null,null,null,null,null,null,null,null,null,null,null,null,null,null,null,null,null,null,null,null,null,null,null,null,null,null,null,null,null,null,null,null,null,null,null,null,null,0,0,0,0,"1(21)","劣化及び損傷の状況",0,"",{"$f":"IF($EO37=\"要是正\",MAX($EP$14:EP33)+1,\"\")","v":""},{"$f":"IF($EO37=\"要是正\",MAX($EQ$14:EQ33)+1,\"\")","v":""},"","","","","","","0","","0","0","","","0","","0","0","",null,null,null,2,"#'3_入力シート【写真】'","A33","AU54",null,null,null,null,null,null,null,null,null,null,null,null,null,null,null,null,null,null,null,"","","",0,"",null,"","","0","","0","",null,null,0,null,null,null,{"$f":"$U$37","v":"連動機構用予備電源"}]
[null,null,null,null,null,null,null,null,null,null,null,null,"1(22)",null,null,null,null,null,null,null,null,null,null,null,null,null,null,"容量の状況",null,null,null,null,null,null,null,null,null,null,null,null,null,null,null,null,null,null,null,null,null,null,null,null,null,null,null,null,null,null,null,null,null,null,null,null,null,null,null,null,null,null,null,null,null,null,null,null,null,null,null,null,null,null,null,null,null,null,null,null,null,null,null,null,null,null,null,null,null,null,null,null,null,null,null,null,null,null,null,null,null,null,null,null,null,null,null,null,null,null,null,null,null,null,null,null,null,null,null,null,null,null,null,null,null,null,null,null,null,0,0,0,0,"1(22)","容量の状況",0,"",{"$f":"IF($EO38=\"要是正\",MAX($EP$14:EP34)+1,\"\")","v":""},{"$f":"IF($EO38=\"要是正\",MAX($EQ$14:EQ34)+1,\"\")","v":""},"","","","","","","0","","0","0","","","0","","0","0","",null,null,null,6,"#'3_入力シート【写真】'","A152","AU173",null,null,null,null,null,null,null,null,null,null,null,null,null,null,null,null,null,null,null,"","","",0,"",null,"","","0","","0","",null,null,0,null,null,null,{"$f":"$U$37","v":"連動機構用予備電源"}]
[null,null,null,null,null,null,null,null,null,null,null,null,"1(23)",null,null,null,null,null,null,null,"自動作動装置",null,null,null,null,null,null,"設置の状況",null,null,null,null,null,null,null,null,null,null,null,null,null,null,null,null,null,null,null,null,null,null,null,null,null,null,null,null,null,null,null,null,null,null,null,null,null,null,null,null,null,null,null,null,null,null,null,null,null,null,null,null,null,null,null,null,null,null,null,null,null,null,null,null,null,null,null,null,null,null,null,null,null,null,null,null,null,null,null,null,null,null,null,null,null,null,null,null,null,null,null,null,null,null,null,null,null,null,null,null,null,null,null,null,null,null,null,null,null,0,0,0,0,"1(23)","設置の状況",0,"",{"$f":"IF($EO39=\"要是正\",MAX($EP$14:EP35)+1,\"\")","v":""},{"$f":"IF($EO39=\"要是正\",MAX($EQ$14:EQ35)+1,\"\")","v":""},"","","","","","","0","","0","0","","","0","","0","0","",null,null,null,2,"#'3_入力シート【写真】'","A33","AU54",null,null,null,null,null,null,null,null,null,null,null,null,null,null,null,null,null,null,null,"","","",0,"",null,"","","0","",{"$f":"IF(GR39=1,GQ39,\"0\")","v":"0"},"",null,null,0,null,null,null,{"$f":"$U$39","v":"自動作動装置"}]
[null,null,null,null,null,null,null,null,null,null,null,null,"1(24)",null,null,null,null,null,null,null,"手動作動装置",null,null,null,null,null,null,"設置の状況",null,null,null,null,null,null,null,null,null,null,null,null,null,null,null,null,null,null,null,null,null,null,null,null,null,null,null,null,null,null,null,null,null,null,null,null,null,null,null,null,null,null,null,null,null,null,null,null,null,null,null,null,null,null,null,null,null,null,null,null,null,null,null,null,null,null,null,null,null,null,null,null,null,null,null,null,null,null,null,null,null,null,null,null,null,null,null,null,null,null,null,null,null,null,null,null,null,null,null,null,null,null,null,null,null,null,null,null,null,0,0,0,0,"1(24)","設置の状況",0,"",{"$f":"IF($EO40=\"要是正\",MAX($EP$14:EP36)+1,\"\")","v":""},{"$f":"IF($EO40=\"要是正\",MAX($EQ$14:EQ36)+1,\"\")","v":""},"","","","","","","0","","0","0","","","0","","0","0","",null,null,null,6,"#'3_入力シート【写真】'","A152","AU173",null,null,null,null,null,null,null,null,null,null,null,null,null,null,null,null,null,null,null,"","","",0,"",null,"","","0","","0","",null,null,0,null,null,null,{"$f":"$U$40","v":"手動作動装置"}]
[null,null,null,null,null,null,null,null,null,null,null,null,"1(25)",null,null,"総合的な作動の状況",null,null,null,null,null,null,null,null,null,null,null,"ドレンチャー等の作動の状況",null,null,null,null,null,null,null,null,null,null,null,null,null,null,null,null,null,null,null,null,null,null,null,null,null,null,null,null,null,null,null,null,null,null,null,null,null,null,null,null,null,null,null,null,null,null,null,null,null,null,null,null,null,null,null,null,null,null,null,null,null,null,null,null,null,null,null,null,null,null,null,null,null,null,null,null,null,null,null,null,null,null,null,null,null,null,null,null,null,null,null,null,null,null,null,null,null,null,null,null,null,null,null,null,null,null,null,null,null,0,0,0,0,"1(25)","ドレンチャー等の作動の状況",0,"",{"$f":"IF($EO41=\"要是正\",MAX($EP$14:EP37)+1,\"\")","v":""},{"$f":"IF($EO41=\"要是正\",MAX($EQ$14:EQ37)+1,\"\")","v":""},"","","","","","","0","","0","0","","","0","","0","0","",null,null,null,2,"#'3_入力シート【写真】'","A33","AU54",null,null,null,null,null,null,null,null,null,null,null,null,null,null,null,null,null,null,null,"","","",0,"",null,"","","0","","0","",null,null,0,null,null,null,{"$f":"$P$41","v":"総合的な作動の状況"}]
[null,null,null,null,null,null,null,null,null,null,null,null,"1(26)",null,null,null,null,null,null,null,null,null,null,null,null,null,null,"防火区画の形成の状況",null,null,null,null,null,null,null,null,null,null,null,null,null,null,null,null,null,null,null,null,null,null,null,null,null,null,null,null,null,null,null,null,null,null,null,null,null,null,null,null,null,null,null,null,null,null,null,null,null,null,null,null,null,null,null,null,null,null,null,null,null,null,null,null,null,null,null,null,null,null,null,null,null,null,null,null,null,null,null,null,null,null,null,null,null,null,null,null,null,null,null,null,null,null,null,null,null,null,null,null,null,null,null,null,null,null,null,null,null,0,0,0,0,"1(26)","防火区画の形成の状況",0,"",{"$f":"IF($EO42=\"要是正\",MAX($EP$14:EP38)+1,\"\")","v":""},{"$f":"IF($EO42=\"要是正\",MAX($EQ$14:EQ38)+1,\"\")","v":""},"","","","","","","0","","0","0","","","0","","0","0","",null,null,null,6,"#'3_入力シート【写真】'","A152","AU173",null,null,null,null,null,null,null,null,null,null,null,null,null,null,null,null,null,null,null,"","","",0,"",null,"","","0","","0","",null,null,0,null,null,null,{"$f":"$P$41","v":"総合的な作動の状況"}]
[null,null,null,null,null,null,null,null,null,null,null,null,null,null,null,null,null,null,null,null,null,null,null,null,null,null,null,null,null,null,null,null,null,null,null,null,null,null,null,null,null,null,null,null,null,null,null,null,null,null,null,null,null,null,null,null,null,null,null,null,null,null,null,null,null,null,null,null,null,null,null,null,null,null,null,null,null,null,null,null,null,null,null,null,null,null,null,null,null,null,null,null,null,null,null,null,null,null,null,null,null,null,null,null,null,null,null,null,null,null,null,null,null,null,null,null,null,null,null,null,null,null,null,null,null,null,null,null,null,null,null,null,null,null,null,null,null,{"$f":"SUM(EH17:EH42)","v":0},{"$f":"SUM(EI17:EI42)","v":0},{"$f":"SUM(EJ17:EJ42)","v":0},{"$f":"SUM(EK17:EK42)","v":0},null,null,null,null,{"$f":"IF($EO43=\"要是正\",MAX(EP$16:$EP42)+1,\"\")","v":""},null,null,null,null,null,null,null,null,{"$f":"COUNTIF(EY17:EY42,\"1\")","v":0},{"$f":"INDEX(EZ17:EZ42,MATCH(MIN(ABS(EZ17:EZ42-$EJ$4)),ABS(EZ17:EZ42-$EJ$4),0))","v":"0"},{"$f":"INDEX(FA17:FA42,MATCH(MIN(ABS(FA17:FA42-$EK$4)),ABS(FA17:FA42-$EK$4),0))","v":"0"},{"$f":"COUNTIF(FB17:FB42,\"未定\")","v":0},null,null,{"$f":"COUNTIF(FE17:FE42,\"1\")","v":0},{"$f":"INDEX(FF17:FF42,MATCH(MIN(ABS(FF17:FF42-$EJ$4)),ABS(FF17:FF42-$EJ$4),0))","v":"0"},{"$f":"INDEX(FG17:FG42,MATCH(MIN(ABS(FG17:FG42-$EJ$4)),ABS(FG17:FG42-$EJ$4),0))","v":"0"},{"$f":"COUNTIF(FH17:FH42,\"未定\")","v":0},null,null,null,null,null,null,null,null,null,null,null,null,null,null,null,null,null,null,null,null,null,null,null,null,null,null,null,null,null,null,null,null,"",{"$f":"IF(NOT(OR(CU27=\"未定\",CO27=\"\")),\"令和\"&CR27&\"年\"&CS28&\"月1日\",\"\")","v":""},{"$f":"IF(GP43=\"\",\"0\",DATEVALUE(GP43))","v":"0"},{"$f":"COUNTIF(GR17:GR42,\"1\")","v":0},{"$f":"INDEX(GS17:GS42,MATCH(MIN(ABS(GS17:GS42-$EJ$4)),ABS(GS17:GS42-$EJ$4),0))","v":"0"},{"$f":"COUNTIF(GT17:GT42,\"未定\")","v":0},null,null,0]
[null,null,null,null,null,null,null,null,null,null,null,null,null,null,null,null,null,null,null,null,null,null,null,null,null,null,null,null,null,null,null,null,null,null,null,null,null,null,null,null,null,null,null,null,null,null,null,null,null,null,null,null,null,null,null,null,null,null,null,null,null,null,null,null,null,null,null,null,null,null,null,null,null,null,null,null,null,null,null,null,null,null,null,null,null,null,null,null,null,null,null,null,null,null,null,null,null,null,null,null,null,null,null,null,null,null,null,null,null,null,null,null,null,null,null,null,null,null,null,null,null,null,null,null,null,null,null,null,null,null,null,null,null,null,null,null,null,null,null,null,null,null,null,null,null,null,null,null,null,null,null,null,null,null,null,null,null,null,null,null,null,null,null,null,null,null,null,null,null,null,null,null,null,null,null,null,null,null,null,null,null,null,null,null,null,null,null,null,null,null,null,null,null,null,null,null,"",null,null,null,null,null,null,null,0]
[null,null,null,null,null,null,null,null,null,null,null,null,null,null,null,null,null,null,null,null,null,null,null,null,null,null,null,null,null,null,null,null,null,null,null,null,null,null,null,null,null,null,null,null,null,null,null,null,null,null,null,null,null,null,null,null,null,null,null,null,null,null,null,null,null,null,null,null,null,null,null,null,null,null,null,null,null,null,null,null,null,null,null,null,null,null,null,null,null,null,null,null,null,null,null,null,null,null,null,null,null,null,null,null,null,null,null,null,null,null,null,null,null,null,null,null,null,null,null,null,null,null,null,null,null,null,null,null,null,null,null,null,null,null,null,null,null,null,null,null,null,null,null,null,null,null,null,null,null,null,null,null,null,null,null,null,null,null,null,null,null,null,null,null,null,null,null,null,null,null,null,null,null,null,null,null,null,null,null,null,null,null,null,null,null,null,null,null,null,null,null,null,null,null,null,null,"",null,null,null,null,null,null,null,0]
[null,null,null,null,null,null,null,null,null,null,null,null,null,null,null,null,null,null,null,null,null,null,null,null,null,null,null,null,null,null,null,null,null,null,null,null,null,null,null,null,null,null,null,null,null,null,null,null,null,null,null,null,null,null,null,null,null,null,null,null,null,null,null,null,null,null,null,null,null,null,null,null,null,null,null,null,null,null,null,null,null,null,null,null,null,null,null,null,null,null,null,null,null,null,null,null,null,null,null,null,null,null,null,null,null,null,null,null,null,null,null,null,null,null,null,null,null,null,null,null,null,null,null,null,null,null,null,null,null,null,null,null,null,null,null,null,null,null,null,null,null,null,null,null,null,null,null,null,null,null,null,null,null,null,null,null,null,null,null,null,null,null,null,null,null,null,null,null,null,null,null,null,null,null,null,null,null,null,null,null,null,null,null,null,null,null,null,null,null,null,null,null,null,null,null,null,null,null,null,null,null,null,null,null,0]
[null,null,null,null,null,null,null,null,null,null,null,null,"上記以外の検査項目等",null,null,null,null,null,null,null,null,null,null,null,null,null,null,null,null,null,null,null,null,null,null,null,null,null,null,null,null,null,null,null,null,null,null,null,null,null,null,null,null,null,null,null,null,null,null,null,null,null,null,null,null,null,null,null,null,null,null,null,null,null,null,null,null,null,null,null,null,null,null,null,null,null,null,null,null,null,null,null,null,null,null,null,null,null,null,null,null,null,null,null,null,null,null,null,null,null,null,null,null,null,null,null,null,null,null,null,null,null,null,null,null,null,null,null,null,null,null,null,null,null,null,null,null,{"$f":"IF(AND(EI47=\"\",EJ47=\"\",EK47=\"\",EH53<>0),\"レ\",\"\")","v":""},{"$f":"IF(AND(EJ47=\"\",EK47=\"\",EI53<>0),\"レ\",\"\")","v":""},{"$f":"IF(EJ53<>0,\"レ\",\"\")","v":""},{"$f":"IF(AND(EJ47=\"\",EK53<>0),\"レ\",\"\")","v":""},null,null,null,null,{"$f":"IF($EO47=\"要是正\",MAX($EP$5:EP44)+1,\"\")","v":""},null,null,"項目\n\n要是正＆\n既存不適格",{"$f":"SUBSTITUTE(TRIM(ET50&\"　\"&ET51&\"　\"&ET52),\"　\",\",\")","v":""},null,null,{"$f":"IF(COUNTIF(EY50:EY52,1)>0,\"レ\",\"\")","v":""},null,{"$f":"IF(EW47=\"レ\",TEXT(EZ53,\"ee\"),\"\")","v":""},{"$f":"IF(EW47=\"レ\",MONTH(EZ53),IF(AND(EJ47=\"レ\",FB47=\"レ\",FB53=0),\"\",IF(AND(EJ47=\"レ\",FB47=\"レ\",FB53>0),\"未定\",\"\")))","v":""},null,{"$f":"IF(AND(EW47>0,FB53=\"\"),\"レ\",\"\")","v":""},{"$f":"IF(AND(COUNTIF(EO50:EO52,\"要是正\")=0,COUNTIF(FE50:FE52,1)>0),\"レ\",\"\")","v":""},null,{"$f":"IF(FC47=\"レ\",TEXT(FF53,\"ee\"),\"\")","v":""},{"$f":"IF(FC47=\"レ\",MONTH(FF53),IF(AND(EK47=\"レ\",FH47=\"レ\",FH53=0),\"\",IF(AND(EK47=\"レ\",FH47=\"レ\",FH53>0),\"未定\",\"\")))","v":""},null,{"$f":"IF(FC47=\"\",IF(OR(FH53>0,EM47=\"レ\"),\"レ\",\"\"),\"\")","v":""},null,null,null,null,null,null,null,null,null,null,null,null,null,null,null,null,null,null,null,null,null,null,null,null,null,null,null,null,null,null,null,null,null,{"$f":"IF(COUNTIF(GR50:GR52,1)>0,\"レ\",\"\")","v":""},null,{"$f":"IF(GP47=\"レ\",TEXT(GS53,\"ee\"),\"\")","v":""},{"$f":"IF(GP47=\"レ\",MONTH(GS53),IF(AND(GE49=\"レ\",GT47=\"レ\",GT53=0),\"\",IF(AND(GE49=\"レ\",GT47=\"レ\",GT53>0),\"未定\",\"\")))","v":""},{"$f":"IF(GP47=\"\",IF(OR(GT53>0,GE49=\"レ\"),\"レ\",\"\"),\"\")","v":""},null,null,0]
[null,null,null,null,null,null,null,null,null,null,null,null,"番号",null,null,"検　査　項　目　",null,null,null,null,null,null,null,null,null,null,null,null,null,null,null,null,"検　査　事　項",null,null,null,null,null,null,null,null,null,null,null,null,null,null,null,null,null,null,null,"検査結果",null,null,null,null,null,null,null,null,null,null,null,"検査者番号",null,"指摘の具体的内容等",null,null,null,null,null,null,null,null,null,"改善策の具体的内容等",null,null,null,null,null,null,null,null,null,null,null,null,null,null,"改善（予定）年月",null,null,null,null,null,null,null,null,"該当法令・注意事項",null,null,null,null,null,null,null,null,null,null,null,null,null,null,null,null,null,null,null,null,null,null,null,null,null,null,null,null,null,null,null,null,null,null,null,null,"↓50行目～52行目結果の変換",null,null,null,null,null,null,null,null,null,null,null,"指摘の具体的内容等\n要是正＋（既存不適格）","改善策の具体的内容等",null,"改善（予定）\n年月",null,null,null,null,null,"改善（予定）\n年月",null,null,null,null,null,"関連写真添付　リンク指定先",null,null,null,null,null,null,null,null,null,null,null,null,null,null,null,null,null,null,null,null,null,null,null,null,null,"国交省検査結果表転記用",null,null,null,null,null,"指摘の具体的内容等\n要是正","改善（予定）\n年月"]
[null,null,null,null,null,null,null,null,null,null,null,null,null,null,null,null,null,null,null,null,null,null,null,null,null,null,null,null,null,null,null,null,null,null,null,null,null,null,null,null,null,null,null,null,null,null,null,null,null,null,null,null,null,null,null,null,null,null,null,null,null,null,null,null,null,null,null,null,null,null,null,null,null,null,null,null,null,null,null,null,null,null,null,null,null,null,null,null,null,null,null,"年\n(令和)",null,null,"月",null,null,"状況",null,null,null,null,null,null,null,null,null,null,null,null,null,null,null,null,null,null,null,null,null,null,null,null,null,null,null,null,null,null,null,null,null,null,null,null,null,null,null,"対象外項目","指摘なし","要是正","既存不適格","項目番号\n関数なし","項目","年月カウント","要是正と既存不適格","要是正カウント（別添2リンク先）","カウント\n報告書用","項目番号",null,null,null,null,"変換\n/有(予定)","西暦変換\n/有（済）","未来の年月\nカウント/年","未来の直近/月","過去の直近","未定/無","変換/有","西暦変換/(有)","未来の年月\nカウント/年","未来の直近/月","過去の直近","未定/無","シート","セル　上端","セル　下端",null,null,null,null,null,null,null,null,null,null,null,null,null,null,null,null,null,null,null,null,null,null,null,"指摘なし","要是正","既存不適格","担当者番号","線引き",null,{"$f":"TRIM(GO50&\"　\"&GO51&\"　\"&GO52)","v":""},"変換\n/有(予定)","西暦変換\n","未来の年月\nカウント/年","未来の直近\n/月","未定/無",null,null,{"$f":"IF(BA49=\"△既存不適格\",BO49&\"(既存不適格)\",BO49)","v":0}]
[null,null,null,null,null,null,null,null,null,null,null,null,null,null,null,null,null,null,null,null,null,null,null,null,null,null,null,null,null,null,null,null,null,null,null,null,null,null,null,null,null,null,null,null,null,null,null,null,null,null,null,null,null,null,null,null,null,null,null,null,null,null,null,null,null,null,null,null,null,null,null,null,null,null,null,null,null,null,null,null,null,null,null,null,null,null,null,null,null,null,null,null,null,null,null,null,null,null,null,null,null,null,null,null,null,null,null,null,null,null,null,null,null,null,null,null,null,null,null,null,null,null,null,null,null,null,null,null,null,null,null,null,null,null,null,null,null,{"$f":"COUNTIFS(BA50,\"ー対象外\")","v":0},{"$f":"COUNTIFS(BA50,\"○指摘なし\")","v":0},{"$f":"COUNTIFS(BA50,\"×要是正（既存不適格以外）\")","v":0},{"$f":"COUNTIFS(BA50,\"△既存不適格\")","v":0},{"$f":"M50","v":0},{"$f":"P50","v":0},{"$f":"COUNTA(CN50:CS50)","v":0},{"$f":"IF(BA50=\"×要是正（既存不適格以外）\",\"要是正\",\"\")&IF(BA50=\"△既存不適格\",\"既存不適格\",\"\")","v":""},{"$f":"IF($EO50=\"要是正\",MAX($EP$16:EP49)+1,\"\")","v":""},{"$f":"IF($EO50=\"要是正\",MAX($EQ$16:EQ48)+1,\"\")","v":""},{"$f":"IF(OR(BA50=\"×要是正（既存不適格以外）\",BA50=\"△既存不適格\"),EL50,\"\")","v":""},{"$f":"IF(OR($EO50=\"要是正\",$EO50=\"既存不適格\"),$EM50,\"\")","v":""},{"$f":"IF($EO50=\"要是正\",IF(BO50=\"\",\"\",BO50),\"\")","v":""},{"$f":"IF($EO50=\"要是正\",IF(BY50=\"\",\"\",BY50),\"\")","v":""},{"$f":"IF(CT50=\"未定\",\"未定\",IF(GQ50=\"0\",\"\",IF(CT50=\"予定\",TEXT(GQ50,\"([$-ja-JP]ge.m);@\"),IF(CT50=\"改善済\",TEXT(GQ50,\"[$-ja-JP]ge.m;@\"),TEXT(EX50,\"[$-ja-JP]ge.m;@\")))))","v":""},{"$f":"IF(OR(EO50=\"要是正\",EO50=\"既存不適格\"),IF(OR(EN50<2,CT50<>\"予定\"),\"\",\"令和\"&CN50&\"年\"&CQ50&\"月1日\"),\"\")","v":""},{"$f":"IF(EW50=\"\",\"0\",DATEVALUE(EW50))","v":"0"},{"$f":"IF(EO50=\"要是正\",IF(AND(CT50=\"予定\",EN50=2),1,IF(CT50=\"改善済\",2,\"\")),\"\")","v":""},{"$f":"IF(EY50=1,EX50,\"0\")","v":"0"},{"$f":"IF(EY50=2,EX50,\"0\")","v":"0"},{"$f":"IF(AND(EO50=\"要是正\",AND(EN50=0,CT50=\"未定\")),CT50,\"\")","v":""},{"$f":"IF(EO50=\"既存不適格\",IF(OR(EN50<2,CT50<>\"予定\"),\"\",\"令和\"&CN50&\"年\"&CQ50&\"月1日\"),\"\")","v":""},{"$f":"IF(FC50=\"\",\"0\",DATEVALUE(FC50))","v":"0"},{"$f":"IF(EO50=\"既存不適格\",IF(AND(CT50=\"予定\",EN50=2),1,IF(CT50=\"改善済\",2,\"\")),\"\")","v":""},{"$f":"IF(FE50=1,FD50,\"0\")","v":"0"},{"$f":"IF(FE50=2,FD50,\"0\")","v":"0"},{"$f":"IF(AND(EO50=\"既存不適格\",AND(EN50=0,CT50=\"未定\")),CT50,\"\")","v":""},null,null,null,null,null,null,null,null,null,null,null,null,null,null,null,null,null,null,null,null,null,null,null,null,null,null,{"$f":"IF($BA50=\"○指摘なし\",\"○\",IF($BA50=\"―対象外\",\"－\",\"\"))","v":""},{"$f":"IF(OR($BA50=\"×要是正（既存不適格以外）\",$BA50=\"△既存不適格\"),\"○\",\"\")","v":""},{"$f":"IF($BA50=\"△既存不適格\",\"○\",\"\")","v":""},{"$f":"BM50","v":0},{"$f":"IF($BA50=\"―対象外\",\"○\",\"\")","v":""},null,{"$f":"IF(EO50=\"要是正\",IF(BO50=\"\",\"\",ER50&\" \"&HA50&\" \" &BO50&CHAR(10)),\"\")","v":""},{"$f":"IF(NOT(OR(CT50=\"未定\",CT50=\"\")),\"令和\"&CN50&\"年\"&CQ50&\"月1日\",\"\")","v":""},{"$f":"IF(GP50=\"\",\"0\",DATEVALUE(GP50))","v":"0"},{"$f":"IF(OR(CT50=\"予定\",CT50=\"改善済\"),1,\"\")","v":""},{"$f":"IF(GR50=1,GQ50,\"0\")","v":"0"},{"$f":"IF(AND(EQ50=\"要是正\",AND(EP50=0,CT50=\"未定\")),CT50,\"\")","v":""},null,null,0,null,null,null,{"$f":"P50","v":0}]
[null,null,null,null,null,null,null,null,null,null,null,null,null,null,null,null,null,null,null,null,null,null,null,null,null,null,null,null,null,null,null,null,null,null,null,null,null,null,null,null,null,null,null,null,null,null,null,null,null,null,null,null,null,null,null,null,null,null,null,null,null,null,null,null,null,null,null,null,null,null,null,null,null,null,null,null,null,null,null,null,null,null,null,null,null,null,null,null,null,null,null,null,null,null,null,null,null,null,null,null,null,null,null,null,null,null,null,null,null,null,null,null,null,null,null,null,null,null,null,null,null,null,null,null,null,null,null,null,null,null,null,null,null,null,null,null,null,{"$f":"COUNTIFS(BA51,\"ー対象外\")","v":0},{"$f":"COUNTIFS(BA51,\"○指摘なし\")","v":0},{"$f":"COUNTIFS(BA51,\"×要是正（既存不適格以外）\")","v":0},{"$f":"COUNTIFS(BA51,\"△既存不適格\")","v":0},{"$f":"M51","v":0},{"$f":"P51","v":0},{"$f":"COUNTA(CN51:CS51)","v":0},{"$f":"IF(BA51=\"×要是正（既存不適格以外）\",\"要是正\",\"\")&IF(BA51=\"△既存不適格\",\"既存不適格\",\"\")","v":""},{"$f":"IF($EO51=\"要是正\",MAX($EP$16:EP50)+1,\"\")","v":""},{"$f":"IF($EO51=\"要是正\",MAX($EQ$16:EQ49)+1,\"\")","v":""},{"$f":"IF(OR(BA51=\"×要是正（既存不適格以外）\",BA51=\"△既存不適格\"),EL51,\"\")","v":""},{"$f":"IF(OR($EO51=\"要是正\",$EO51=\"既存不適格\"),$EM51,\"\")","v":""},{"$f":"IF($EO51=\"要是正\",IF(BO51=\"\",\"\",BO51),\"\")","v":""},{"$f":"IF($EO51=\"要是正\",IF(BY51=\"\",\"\",BY51),\"\")","v":""},{"$f":"IF(CT51=\"未定\",\"未定\",IF(GQ51=\"0\",\"\",IF(CT51=\"予定\",TEXT(GQ51,\"([$-ja-JP]ge.m);@\"),IF(CT51=\"改善済\",TEXT(GQ51,\"[$-ja-JP]ge.m;@\"),TEXT(EX51,\"[$-ja-JP]ge.m;@\")))))","v":""},{"$f":"IF(OR(EO51=\"要是正\",EO51=\"既存不適格\"),IF(OR(EN51<2,CT51<>\"予定\"),\"\",\"令和\"&CN51&\"年\"&CQ51&\"月1日\"),\"\")","v":""},{"$f":"IF(EW51=\"\",\"0\",DATEVALUE(EW51))","v":"0"},{"$f":"IF(EO51=\"要是正\",IF(AND(CT51=\"予定\",EN51=2),1,IF(CT51=\"改善済\",2,\"\")),\"\")","v":""},{"$f":"IF(EY51=1,EX51,\"0\")","v":"0"},{"$f":"IF(EY51=2,EX51,\"0\")","v":"0"},{"$f":"IF(AND(EO51=\"要是正\",AND(EN51=0,CT51=\"未定\")),CT51,\"\")","v":""},{"$f":"IF(EO51=\"既存不適格\",IF(OR(EN51<2,CT51<>\"予定\"),\"\",\"令和\"&CN51&\"年\"&CQ51&\"月1日\"),\"\")","v":""},{"$f":"IF(FC51=\"\",\"0\",DATEVALUE(FC51))","v":"0"},{"$f":"IF(EO51=\"既存不適格\",IF(AND(CT51=\"予定\",EN51=2),1,IF(CT51=\"改善済\",2,\"\")),\"\")","v":""},{"$f":"IF(FE51=1,FD51,\"0\")","v":"0"},{"$f":"IF(FE51=2,FD51,\"0\")","v":"0"},{"$f":"IF(AND(EO51=\"既存不適格\",AND(EN51=0,CT51=\"未定\")),CT51,\"\")","v":""},null,null,null,null,null,null,null,null,null,null,null,null,null,null,null,null,null,null,null,null,null,null,null,null,null,null,"","","",{"$f":"BM51","v":0},{"$f":"IF($BA51=\"―対象外\",\"○\",\"\")","v":""},null,{"$f":"IF(EO51=\"要是正\",IF(BO51=\"\",\"\",ER51&\" \"&HA51&\" \" &BO51&CHAR(10)),\"\")","v":""},{"$f":"IF(NOT(OR(CT51=\"未定\",CT51=\"\")),\"令和\"&CN51&\"年\"&CQ51&\"月1日\",\"\")","v":""},{"$f":"IF(GP51=\"\",\"0\",DATEVALUE(GP51))","v":"0"},{"$f":"IF(OR(CT51=\"予定\",CT51=\"改善済\"),1,\"\")","v":""},{"$f":"IF(GR51=1,GQ51,\"0\")","v":"0"},{"$f":"IF(AND(EQ51=\"要是正\",AND(EP51=0,CT51=\"未定\")),CT51,\"\")","v":""},null,null,0,null,null,null,{"$f":"P51","v":0}]
[null,null,null,null,null,null,null,null,null,null,null,null,null,null,null,null,null,null,null,null,null,null,null,null,null,null,null,null,null,null,null,null,null,null,null,null,null,null,null,null,null,null,null,null,null,null,null,null,null,null,null,null,null,null,null,null,null,null,null,null,null,null,null,null,null,null,null,null,null,null,null,null,null,null,null,null,null,null,null,null,null,null,null,null,null,null,null,null,null,null,null,null,null,null,null,null,null,null,null,null,null,null,null,null,null,null,null,null,null,null,null,null,null,null,null,null,null,null,null,null,null,null,null,null,null,null,null,null,null,null,null,null,null,null,null,null,null,{"$f":"COUNTIFS(BA52,\"ー対象外\")","v":0},{"$f":"COUNTIFS(BA52,\"○指摘なし\")","v":0},{"$f":"COUNTIFS(BA52,\"×要是正（既存不適格以外）\")","v":0},{"$f":"COUNTIFS(BA52,\"△既存不適格\")","v":0},0,0,{"$f":"COUNTA(CN52:CS52)","v":0},{"$f":"IF(BA52=\"×要是正（既存不適格以外）\",\"要是正\",\"\")&IF(BA52=\"△既存不適格\",\"既存不適格\",\"\")","v":""},{"$f":"IF($EO52=\"要是正\",MAX($EP$16:EP51)+1,\"\")","v":""},{"$f":"IF($EO52=\"要是正\",MAX($EQ$16:EQ50)+1,\"\")","v":""},{"$f":"IF(OR(BA52=\"×要是正（既存不適格以外）\",BA52=\"△既存不適格\"),EL52,\"\")","v":""},{"$f":"IF(OR($EO52=\"要是正\",$EO52=\"既存不適格\"),$EM52,\"\")","v":""},"",{"$f":"IF($EO52=\"要是正\",IF(BY52=\"\",\"\",BY52),\"\")","v":""},"","","0","","0","0","","","0","","0","0","",null,null,null,null,null,null,null,null,null,null,null,null,null,null,null,null,null,null,null,null,null,null,null,null,null,null,"","","",{"$f":"BM52","v":0},{"$f":"IF($BA52=\"―対象外\",\"○\",\"\")","v":""},null,"","","0",{"$f":"IF(OR(CT52=\"予定\",CT52=\"改善済\"),1,\"\")","v":""},"0",{"$f":"IF(AND(EQ52=\"要是正\",AND(EP52=0,CT52=\"未定\")),CT52,\"\")","v":""},null,null,0,null,null,null,0]
[null,null,null,null,null,null,null,null,null,null,null,null,null,null,null,null,null,null,null,null,null,null,null,null,null,null,null,null,null,null,null,null,null,null,null,null,null,null,null,null,null,null,null,null,null,null,null,null,null,null,null,null,null,null,null,null,null,null,null,null,null,null,null,null,null,null,null,null,null,null,null,null,null,null,null,null,null,null,null,null,null,null,null,null,null,null,null,null,null,null,null,null,null,null,null,null,null,null,null,null,null,null,null,null,null,null,null,null,null,null,null,null,null,null,null,null,null,null,null,null,null,null,null,null,null,null,null,null,null,null,null,null,null,null,null,null,null,{"$f":"SUM(EH50:EH52)","v":0},{"$f":"SUM(EI50:EI52)","v":0},{"$f":"SUM(EJ50:EJ52)","v":0},{"$f":"SUM(EK50:EK52)","v":0},null,null,null,null,{"$f":"IF($EO53=\"要是正\",MAX($EP$16:EP52)+1,\"\")","v":""},null,null,null,null,null,null,null,null,{"$f":"COUNTIF(EY50:EY52,\"1\")","v":0},{"$f":"INDEX(EZ50:EZ52,MATCH(MIN(ABS(EZ50:EZ52-$EJ$4)),ABS(EZ50:EZ52-$EJ$4),0))","v":"0"},{"$f":"INDEX(FA50:FA52,MATCH(MIN(ABS(FA50:FA52-$EJ$4)),ABS(FA50:FA52-$EJ$4),0))","v":"0"},{"$f":"COUNTIF(FB50:FB52,\"未定\")","v":0},null,null,{"$f":"COUNTIF(FE50:FE52,\"1\")","v":0},{"$f":"INDEX(FF50:FF52,MATCH(MIN(ABS(FF50:FF52-$EJ$4)),ABS(FF50:FF52-$EJ$4),0))","v":"0"},{"$f":"INDEX(FG50:FG52,MATCH(MIN(ABS(FG50:FG52-$EJ$4)),ABS(FG50:FG52-$EJ$4),0))","v":"0"},{"$f":"COUNTIF(FH50:FH52,\"未定\")","v":0},null,null,null,null,null,null,null,null,null,null,null,null,null,null,null,null,null,null,null,null,null,null,null,null,null,null,null,null,null,null,null,null,null,"","0",{"$f":"COUNTIF(GR50:GR52,\"1\")","v":0},{"$f":"INDEX(GS50:GS52,MATCH(MIN(ABS(GS50:GS52-$EJ$4)),ABS(GS50:GS52-$EJ$4),0))","v":"0"},{"$f":"COUNTIF(GT50:GT52,\"未定\")","v":0},null,null,0]
[null,null,null,null,null,null,null,null,null,null,null,null,null,null,null,null,null,null,null,null,null,null,null,null,null,null,null,null,null,null,null,null,null,null,null,null,null,null,null,null,null,null,null,null,null,null,null,null,null,null,null,null,null,null,null,null,null,null,null,null,null,null,null,null,null,null,null,null,null,null,null,null,null,null,null,null,null,null,null,null,null,null,null,null,null,null,null,null,null,null,null,null,null,null,null,null,null,null,null,null,null,null,null,null,null,null,null,null,null,null,null,null,null,null,null,null,null,null,null,null,null,null,null,null,null,null,null,null,null,null,null,null,null,null,null,null,null,null,null,null,null,null,null,null,null,null,null,null,null,null,null,null,null,null,null,null,null,null,null,null,null,null,null,null,null,null,null,null,null,null,null,null,null,null,null,null,null,null,null,null,null,null,null,null,null,null,null,null,null,null,null,null,null,null,null,null,null,null,null,null,null,null,null,null,0]
[null,null,null,null,null,null,null,null,null,null,null,null,null,null,null,null,null,null,null,null,null,null,null,null,null,null,null,null,null,null,null,null,null,null,null,null,null,null,null,null,null,null,null,null,null,null,null,null,null,null,null,null,null,null,null,null,null,null,null,null,null,null,null,null,null,null,null,null,null,null,null,null,null,null,null,null,null,null,null,null,null,null,null,null,null,null,null,null,null,null,null,null,null,null,null,null,null,null,null,null,null,null,null,null,null,null,null,null,null,null,null,null,null,null,null,null,null,null,null,null,null,null,null,null,null,null,null,null,null,null,null,null,null,null,null,null,null,null,null,null,null,null,null,null,null,null,null,null,null,null,null,null,null,null,null,null,null,null,null,null,null,null,null,null,null,null,null,null,null,null,null,null,null,null,null,null,null,null,null,null,null,null,null,null,null,null,null,null,null,null,null,null,null,null,null,null,null,null,null,null,null,null,null,null,0]
[null,null,null,null,null,null,null,null,null,null,null,null,null,null,null,null,null,null,null,null,null,null,null,null,null,null,null,null,null,null,null,null,null,null,null,null,null,null,null,null,null,null,null,null,null,null,null,null,null,null,null,null,null,null,null,null,null,null,null,null,null,null,null,null,null,null,null,null,null,null,null,null,null,null,null,null,null,null,null,null,null,null,null,null,null,null,null,null,null,null,null,null,null,null,null,null,null,null,null,null,null,null,null,null,null,null,null,null,null,null,null,null,null,null,null,null,null,null,null,null,null,null,null,null,null,null,null,null,null,null,null,null,null,null,null,null,null,null,null,null,null,null,null,null,null,null,null,null,null,null,null,null,null,null,null,null,null,null,null,null,null,null,null,null,null,null,null,null,null,null,null,null,null,null,null,null,null,null,null,null,null,null,null,null,null,null,null,null,null,null,null,null,null,null,null,null,null,null,null,null,null,null,null,null,0]
[null,null,null,null,null,null,null,null,null,null,null,null,"上記に記載のない事項",null,null,null,null,null,null,null,null,null,null,null,null,null,null,null,null,null,null,null,null,null,null,null,null,null,null,null,null,null,null,null,null,null,null,null,null,null,null,null,null,null,null,null,null,null,null,null,null,null,null,null,null,null,null,null,null,null,null,null,null,null,null,null,null,null,null,null,null,null,null,null,null,null,null,null,null,null,null,null,null,null,null,null,null,null,null,null,null,null,null,null,null,null,null,null,null,null,null,null,null,null,null,null,null,null,null,null,null,null,null,null,null,null,null,null,null,null,null,null,null,null,null,null,null,{"$f":"IF(AND(EI57=\"\",EJ57=\"\",EK57=\"\",EH176<>0),\"レ\",\"\")","v":""},{"$f":"IF(AND(EJ57=\"\",EK57=\"\",EI176<>0),\"レ\",\"\")","v":""},{"$f":"IF(EJ176<>0,\"レ\",\"\")","v":""},{"$f":"IF(AND(EJ57=\"\",EK176<>0),\"レ\",\"\")","v":""},null,null,null,null,null,null,null,"項目\n\n要是正＆\n既存不適格",{"$f":"SUBSTITUTE(TRIM(ET60&\"　\"&ET61&\"　\"&ET62&\"　\"&ET63&\"　\"&ET64&\"　\"&ET65&\"　\"&ET66&\"　\"&ET67&\"　\"&ET68&\"　\"&ET69&\"　\"&ET70&\"　\"&ET71&\"　\"&ET72&\"　\"&ET73&\"　\"&\"　\"&ET74),\"　\",\",\")","v":""},null,null,{"$f":"IF(COUNTIF(EY60:EY74,1)>0,\"レ\",\"\")","v":""},null,{"$f":"IF(EW57=\"レ\",TEXT(EZ75,\"ee\"),\"\")","v":""},{"$f":"IF(EW57=\"レ\",MONTH(EZ75),IF(AND(EJ57=\"レ\",FB57=\"レ\",FB75=0),\"\",IF(AND(EJ57=\"レ\",FB57=\"レ\",FB75>0),\"未定\",\"\")))","v":""},null,{"$f":"IF(AND(EW57>0,FB75=\"\"),\"レ\",\"\")","v":""},{"$f":"IF(AND(COUNTIF(EO60:EO74,\"要是正\")=0,COUNTIF(FE60:FE74,1)>0),\"レ\",\"\")","v":""},null,{"$f":"IF(FC57=\"レ\",TEXT(FF75,\"ee\"),\"\")","v":""},{"$f":"IF(FC57=\"レ\",MONTH(FF75),IF(AND(EK57=\"レ\",FH57=\"レ\",FH75=0),\"\",IF(AND(EK57=\"レ\",FH57=\"レ\",FH75>0),\"未定\",\"\")))","v":""},null,{"$f":"IF(FC57=\"\",IF(OR(FH75>0,EM57=\"レ\"),\"レ\",\"\"),\"\")","v":""},null,null,null,null,null,null,null,null,null,null,null,null,null,null,null,null,null,null,null,null,null,null,null,null,null,null,null,null,null,null,null,null,null,{"$f":"IF(COUNTIF(GR60:GR74,1)>0,\"レ\",\"\")","v":""},null,{"$f":"IF(GP57=\"レ\",TEXT(GS75,\"ee\"),\"\")","v":""},{"$f":"IF(GP57=\"レ\",MONTH(GS75),IF(AND(GE59=\"レ\",GT57=\"レ\",GT75=0),\"\",IF(AND(GE59=\"レ\",GT57=\"レ\",GT76>0),\"未定\",\"\")))","v":""},{"$f":"IF(GP57=\"\",IF(OR(GT75>0,GE59=\"レ\"),\"レ\",\"\"),\"\")","v":""},null,null,0]
[null,null,null,null,null,null,null,null,null,null,null,null,"番号",null,null,"検　査　項　目　",null,null,null,null,null,null,null,null,null,null,null,null,null,null,null,null,"検　査　事　項",null,null,null,null,null,null,null,null,null,null,null,null,null,null,null,null,null,null,null,"検査結果",null,null,null,null,null,null,null,null,null,null,null,"検査者番号",null,"指摘の具体的内容等",null,null,null,null,null,null,null,null,null,"改善策の具体的内容等",null,null,null,null,null,null,null,null,null,null,null,null,null,null,"改善（予定）年月",null,null,null,null,null,null,null,null,"該当法令・注意事項",null,null,null,null,null,null,null,null,null,null,null,null,null,null,null,null,null,null,null,null,null,null,null,null,null,null,null,null,null,null,null,null,null,null,null,null,"↓60行目～74行目結果の変換",null,null,null,null,null,null,null,null,null,null,null,"指摘の具体的内容等\n要是正＋（既存不適格）","改善策の具体的内容等",null,"改善（予定）\n年月",null,null,null,null,null,"改善（予定）\n年月",null,null,null,null,null,"関連写真添付　リンク指定先",null,null,null,null,null,null,null,null,null,null,null,null,null,null,null,null,null,null,null,null,null,null,null,null,null,"国交省検査結果表転記用",null,null,null,null,null,"指摘の具体的内容等\n要是正","改善（予定）\n年月"]
[null,null,null,null,null,null,null,null,null,null,null,null,null,null,null,null,null,null,null,null,null,null,null,null,null,null,null,null,null,null,null,null,null,null,null,null,null,null,null,null,null,null,null,null,null,null,null,null,null,null,null,null,null,null,null,null,null,null,null,null,null,null,null,null,null,null,null,null,null,null,null,null,null,null,null,null,null,null,null,null,null,null,null,null,null,null,null,null,null,null,null,"年\n(令和)",null,null,"月",null,null,"状況",null,null,null,null,null,null,null,null,null,null,null,null,null,null,null,null,null,null,null,null,null,null,null,null,null,null,null,null,null,null,null,null,null,null,null,null,null,null,null,"対象外項目","指摘なし","要是正","既存不適格","項目番号\n関数なし","項目","年月カウント","要是正と既存不適格","要是正カウント（別添2リンク先）","カウント\n報告書用","項目番号",null,null,null,null,"変換\n/有(予定)","西暦変換\n/有（済）","未来の年月\nカウント/年","未来の直近/月","過去の直近","未定/無","変換/有","西暦変換/(有)","未来の年月\nカウント/年","未来の直近/月","過去の直近","未定/無","シート","セル　上端","セル　下端",null,null,null,null,null,null,null,null,null,null,null,null,null,null,null,null,null,null,null,null,null,null,null,"指摘なし","要是正","既存不適格","担当者番号","線引き",null,{"$f":"TRIM(GO60&\"　\"&GO61&\"　\"&GO62&\"　\"&GO63&\"　\"&GO64&\"　\"&GO65&\"　\"&GO66&\"　\"&GO67&\"　\"&GO68&\"　\"&GO69&\"　\"&GO70&\"　\"&GO71&\"　\"&GO72&\"　\"&GO73&\"　\"&GO74)","v":""},"変換\n/有(予定)","西暦変換\n","未来の年月\nカウント/年","未来の直近\n/月","未定/無",null,null,0]
[null,null,null,null,null,null,null,null,null,null,null,null,null,null,null,null,null,null,null,null,null,null,null,null,null,null,null,null,null,null,null,null,null,null,null,null,null,null,null,null,null,null,null,null,null,null,null,null,null,null,null,null,null,null,null,null,null,null,null,null,null,null,null,null,null,null,null,null,null,null,null,null,null,null,null,null,null,null,null,null,null,null,null,null,null,null,null,null,null,null,null,null,null,null,null,null,null,null,null,null,null,null,null,null,null,null,null,null,null,null,null,null,null,null,null,null,null,null,null,null,null,null,null,null,null,null,null,null,null,null,null,null,null,null,null,null,null,{"$f":"COUNTIFS(BA60,\"ー対象外\")","v":0},{"$f":"COUNTIFS(BA60,\"○指摘なし\")","v":0},{"$f":"COUNTIFS(BA60,\"×要是正（既存不適格以外）\")","v":0},{"$f":"COUNTIFS(BA60,\"△既存不適格\")","v":0},{"$f":"M60","v":0},{"$f":"P60","v":0},{"$f":"COUNTA(CN60:CS60)","v":0},{"$f":"IF(BA60=\"×要是正（既存不適格以外）\",\"要是正\",\"\")&IF(BA60=\"△既存不適格\",\"既存不適格\",\"\")","v":""},{"$f":"IF($EO60=\"要是正\",MAX($EP$16:EP57)+1,\"\")","v":""},{"$f":"IF($EO60=\"要是正\",MAX($EQ$17:EQ57)+1,\"\")","v":""},{"$f":"IF(OR(BA60=\"×要是正（既存不適格以外）\",BA60=\"△既存不適格\"),EL60,\"\")","v":""},{"$f":"IF(OR($EO60=\"要是正\",$EO60=\"既存不適格\"),$EM60,\"\")","v":""},{"$f":"IF($EO60=\"要是正\",IF(BO60=\"\",\"\",BO60),\"\")","v":""},{"$f":"IF($EO60=\"要是正\",IF(BY60=\"\",\"\",BY60),\"\")","v":""},{"$f":"IF(CT60=\"未定\",\"未定\",IF(GQ60=\"0\",\"\",IF(CT60=\"予定\",TEXT(GQ60,\"([$-ja-JP]ge.m);@\"),IF(CT60=\"改善済\",TEXT(GQ60,\"[$-ja-JP]ge.m;@\"),TEXT(EX60,\"[$-ja-JP]ge.m;@\")))))","v":""},{"$f":"IF(OR(EO60=\"要是正\",EO60=\"既存不適格\"),IF(OR(EN60<2,CT60<>\"予定\"),\"\",\"令和\"&CN60&\"年\"&CQ60&\"月1日\"),\"\")","v":""},{"$f":"IF(EW60=\"\",\"0\",DATEVALUE(EW60))","v":"0"},{"$f":"IF(EO60=\"要是正\",IF(AND(CT60=\"予定\",EN60=2),1,IF(CT60=\"改善済\",2,\"\")),\"\")","v":""},{"$f":"IF(EY60=1,EX60,\"0\")","v":"0"},{"$f":"IF(EY60=2,EX60,\"0\")","v":"0"},{"$f":"IF(AND(EO60=\"要是正\",AND(EN60=0,CT60=\"未定\")),CT60,\"\")","v":""},{"$f":"IF(EO60=\"既存不適格\",IF(OR(EN60<2,CT60<>\"予定\"),\"\",\"令和\"&CN60&\"年\"&CQ60&\"月1日\"),\"\")","v":""},{"$f":"IF(FC60=\"\",\"0\",DATEVALUE(FC60))","v":"0"},{"$f":"IF(EO60=\"既存不適格\",IF(AND(CT60=\"予定\",EN60=2),1,IF(CT60=\"改善済\",2,\"\")),\"\")","v":""},{"$f":"IF(FE60=1,FD60,\"0\")","v":"0"},{"$f":"IF(FE60=2,FD60,\"0\")","v":"0"},{"$f":"IF(AND(EO60=\"既存不適格\",AND(EN60=0,CT60=\"未定\")),CT60,\"\")","v":""},null,null,null,null,null,null,null,null,null,null,null,null,null,null,null,null,null,null,null,null,null,null,null,null,null,null,{"$f":"IF($BA60=\"○指摘なし\",\"○\",\"\")","v":""},{"$f":"IF(OR($BA60=\"×要是正（既存不適格以外）\",$BA60=\"△既存不適格\"),\"○\",\"\")","v":""},{"$f":"IF($BA60=\"△既存不適格\",\"○\",\"\")","v":""},{"$f":"BM60","v":0},{"$f":"IF($BA60=\"―対象外\",\"○\",\"\")","v":""},null,{"$f":"IF(EO60=\"要是正\",IF(BO60=\"\",\"\",ER60&\" \"&HA60&\" \" &BO60&CHAR(10)),\"\")","v":""},{"$f":"IF(NOT(OR(CT60=\"未定\",CT60=\"\")),\"令和\"&CN60&\"年\"&CQ60&\"月1日\",\"\")","v":""},{"$f":"IF(GP60=\"\",\"0\",DATEVALUE(GP60))","v":"0"},{"$f":"IF(OR(CT60=\"予定\",CT60=\"改善済\"),1,\"\")","v":""},{"$f":"IF(GR60=1,GQ60,\"0\")","v":"0"},{"$f":"IF(AND(EQ60=\"要是正\",AND(EP60=0,CT60=\"未定\")),CT60,\"\")","v":""},null,null,0,null,null,null,{"$f":"P60","v":0}]
[null,null,null,null,null,null,null,null,null,null,null,null,null,null,null,null,null,null,null,null,null,null,null,null,null,null,null,null,null,null,null,null,null,null,null,null,null,null,null,null,null,null,null,null,null,null,null,null,null,null,null,null,null,null,null,null,null,null,null,null,null,null,null,null,null,null,null,null,null,null,null,null,null,null,null,null,null,null,null,null,null,null,null,null,null,null,null,null,null,null,null,null,null,null,null,null,null,null,null,null,null,null,null,null,null,null,null,null,null,null,null,null,null,null,null,null,null,null,null,null,null,null,null,null,null,null,null,null,null,null,null,null,null,null,null,null,null,0,0,0,0,{"$f":"M61","v":0},{"$f":"P61","v":0},{"$f":"COUNTA(CN61:CS61)","v":0},{"$f":"IF(BA61=\"×要是正（既存不適格以外）\",\"要是正\",\"\")&IF(BA61=\"△既存不適格\",\"既存不適格\",\"\")","v":""},{"$f":"IF($EO61=\"要是正\",MAX($EP$16:EP60)+1,\"\")","v":""},{"$f":"IF($EO61=\"要是正\",MAX($EQ$17:EQ60)+1,\"\")","v":""},{"$f":"IF(OR(BA61=\"×要是正（既存不適格以外）\",BA61=\"△既存不適格\"),EL61,\"\")","v":""},{"$f":"IF(OR($EO61=\"要是正\",$EO61=\"既存不適格\"),$EM61,\"\")","v":""},{"$f":"IF($EO61=\"要是正\",IF(BO61=\"\",\"\",BO61),\"\")","v":""},{"$f":"IF($EO61=\"要是正\",IF(BY61=\"\",\"\",BY61),\"\")","v":""},{"$f":"IF(CT61=\"未定\",\"未定\",IF(GQ61=\"0\",\"\",IF(CT61=\"予定\",TEXT(GQ61,\"([$-ja-JP]ge.m);@\"),IF(CT61=\"改善済\",TEXT(GQ61,\"[$-ja-JP]ge.m;@\"),TEXT(EX61,\"[$-ja-JP]ge.m;@\")))))","v":""},{"$f":"IF(OR(EO61=\"要是正\",EO61=\"既存不適格\"),IF(OR(EN61<2,CT61<>\"予定\"),\"\",\"令和\"&CN61&\"年\"&CQ61&\"月1日\"),\"\")","v":""},{"$f":"IF(EW61=\"\",\"0\",DATEVALUE(EW61))","v":"0"},{"$f":"IF(EO61=\"要是正\",IF(AND(CT61=\"予定\",EN61=2),1,IF(CT61=\"改善済\",2,\"\")),\"\")","v":""},{"$f":"IF(EY61=1,EX61,\"0\")","v":"0"},{"$f":"IF(EY61=2,EX61,\"0\")","v":"0"},{"$f":"IF(AND(EO61=\"要是正\",AND(EN61=0,CT61=\"未定\")),CT61,\"\")","v":""},{"$f":"IF(EO61=\"既存不適格\",IF(OR(EN61<2,CT61<>\"予定\"),\"\",\"令和\"&CN61&\"年\"&CQ61&\"月1日\"),\"\")","v":""},{"$f":"IF(FC61=\"\",\"0\",DATEVALUE(FC61))","v":"0"},{"$f":"IF(EO61=\"既存不適格\",IF(AND(CT61=\"予定\",EN61=2),1,IF(CT61=\"改善済\",2,\"\")),\"\")","v":""},{"$f":"IF(FE61=1,FD61,\"0\")","v":"0"},{"$f":"IF(FE61=2,FD61,\"0\")","v":"0"},{"$f":"IF(AND(EO61=\"既存不適格\",AND(EN61=0,CT61=\"未定\")),CT61,\"\")","v":""},null,null,null,null,null,null,null,null,null,null,null,null,null,null,null,null,null,null,null,null,null,null,null,null,null,null,{"$f":"IF($BA61=\"○指摘なし\",\"○\",\"\")","v":""},{"$f":"IF(OR($BA61=\"×要是正（既存不適格以外）\",$BA61=\"△既存不適格\"),\"○\",\"\")","v":""},{"$f":"IF($BA61=\"△既存不適格\",\"○\",\"\")","v":""},0,{"$f":"IF($BA61=\"―対象外\",\"○\",\"\")","v":""},null,{"$f":"IF(EO61=\"要是正\",IF(BO61=\"\",\"\",ER61&\" \"&HA61&\" \" &BO61&CHAR(10)),\"\")","v":""},{"$f":"IF(NOT(OR(CT61=\"未定\",CT61=\"\")),\"令和\"&CN61&\"年\"&CQ61&\"月1日\",\"\")","v":""},{"$f":"IF(GP61=\"\",\"0\",DATEVALUE(GP61))","v":"0"},"",{"$f":"IF(GR61=1,GQ61,\"0\")","v":"0"},"",null,null,0,null,null,null,{"$f":"P61","v":0}]
[null,null,null,null,null,null,null,null,null,null,null,null,null,null,null,null,null,null,null,null,null,null,null,null,null,null,null,null,null,null,null,null,null,null,null,null,null,null,null,null,null,null,null,null,null,null,null,null,null,null,null,null,null,null,null,null,null,null,null,null,null,null,null,null,null,null,null,null,null,null,null,null,null,null,null,null,null,null,null,null,null,null,null,null,null,null,null,null,null,null,null,null,null,null,null,null,null,null,null,null,null,null,null,null,null,null,null,null,null,null,null,null,null,null,null,null,null,null,null,null,null,null,null,null,null,null,null,null,null,null,null,null,null,null,null,null,null,0,0,0,0,0,0,0,"",{"$f":"IF($EO62=\"要是正\",MAX($EP$16:EP61)+1,\"\")","v":""},{"$f":"IF($EO62=\"要是正\",MAX($EQ$17:EQ61)+1,\"\")","v":""},"","","","","","","0","","0","0","","","0","","0","0","",null,null,null,null,null,null,null,null,null,null,null,null,null,null,null,null,null,null,null,null,null,null,null,null,null,null,"","","",0,"",null,"","","0","","0","",null,null,{"$f":"IF(BA62=\"△既存不適格\",BO62&\"(既存不適格)\",BO62)","v":0},null,null,null,0]
[null,null,null,null,null,null,null,null,null,null,null,null,null,null,null,null,null,null,null,null,null,null,null,null,null,null,null,null,null,null,null,null,null,null,null,null,null,null,null,null,null,null,null,null,null,null,null,null,null,null,null,null,null,null,null,null,null,null,null,null,null,null,null,null,null,null,null,null,null,null,null,null,null,null,null,null,null,null,null,null,null,null,null,null,null,null,null,null,null,null,null,null,null,null,null,null,null,null,null,null,null,null,null,null,null,null,null,null,null,null,null,null,null,null,null,null,null,null,null,null,null,null,null,null,null,null,null,null,null,null,null,null,null,null,null,null,null,0,0,0,0,0,0,0,"",{"$f":"IF($EO63=\"要是正\",MAX($EP$16:EP62)+1,\"\")","v":""},{"$f":"IF($EO63=\"要是正\",MAX($EQ$17:EQ62)+1,\"\")","v":""},"","","","","","","0","","0","0","","","0","","0","0","",null,null,null,null,null,null,null,null,null,null,null,null,null,null,null,null,null,null,null,null,null,null,null,null,null,null,"","","",0,"",null,"","","0","","0","",null,null,0,null,null,null,0]
[null,null,null,null,null,null,null,null,null,null,null,null,null,null,null,null,null,null,null,null,null,null,null,null,null,null,null,null,null,null,null,null,null,null,null,null,null,null,null,null,null,null,null,null,null,null,null,null,null,null,null,null,null,null,null,null,null,null,null,null,null,null,null,null,null,null,null,null,null,null,null,null,null,null,null,null,null,null,null,null,null,null,null,null,null,null,null,null,null,null,null,null,null,null,null,null,null,null,null,null,null,null,null,null,null,null,null,null,null,null,null,null,null,null,null,null,null,null,null,null,null,null,null,null,null,null,null,null,null,null,null,null,null,null,null,null,null,0,0,0,0,0,0,0,"",{"$f":"IF($EO64=\"要是正\",MAX($EP$16:EP63)+1,\"\")","v":""},{"$f":"IF($EO64=\"要是正\",MAX($EQ$17:EQ63)+1,\"\")","v":""},"","","","","","","0","","0","0","","","0","","0","0","",null,null,null,null,null,null,null,null,null,null,null,null,null,null,null,null,null,null,null,null,null,null,null,null,null,null,"","","",0,"",null,"","","0","","0","",null,null,0,null,null,null,0]
[null,null,null,null,null,null,null,null,null,null,null,null,null,null,null,null,null,null,null,null,null,null,null,null,null,null,null,null,null,null,null,null,null,null,null,null,null,null,null,null,null,null,null,null,null,null,null,null,null,null,null,null,null,null,null,null,null,null,null,null,null,null,null,null,null,null,null,null,null,null,null,null,null,null,null,null,null,null,null,null,null,null,null,null,null,null,null,null,null,null,null,null,null,null,null,null,null,null,null,null,null,null,null,null,null,null,null,null,null,null,null,null,null,null,null,null,null,null,null,null,null,null,null,null,null,null,null,null,null,null,null,null,null,null,null,null,null,0,0,0,0,0,0,0,"",{"$f":"IF($EO65=\"要是正\",MAX($EP$16:EP64)+1,\"\")","v":""},{"$f":"IF($EO65=\"要是正\",MAX($EQ$17:EQ64)+1,\"\")","v":""},"","","","","","","0","","0","0","","","0","","0","0","",null,null,null,null,null,null,null,null,null,null,null,null,null,null,null,null,null,null,null,null,null,null,null,null,null,null,"","","",0,"",null,"","","0","","0","",null,null,0,null,null,null,0]
[null,null,null,null,null,null,null,null,null,null,null,null,null,null,null,null,null,null,null,null,null,null,null,null,null,null,null,null,null,null,null,null,null,null,null,null,null,null,null,null,null,null,null,null,null,null,null,null,null,null,null,null,null,null,null,null,null,null,null,null,null,null,null,null,null,null,null,null,null,null,null,null,null,null,null,null,null,null,null,null,null,null,null,null,null,null,null,null,null,null,null,null,null,null,null,null,null,null,null,null,null,null,null,null,null,null,null,null,null,null,null,null,null,null,null,null,null,null,null,null,null,null,null,null,null,null,null,null,null,null,null,null,null,null,null,null,null,0,0,0,0,0,0,0,"",{"$f":"IF($EO66=\"要是正\",MAX($EP$16:EP65)+1,\"\")","v":""},{"$f":"IF($EO66=\"要是正\",MAX($EQ$17:EQ65)+1,\"\")","v":""},"","","","","","","0","","0","0","","","0","","0","0","",null,null,null,null,null,null,null,null,null,null,null,null,null,null,null,null,null,null,null,null,null,null,null,null,null,null,"","","",0,"",null,"","","0","","0","",null,null,0,null,null,null,0]
[null,null,null,null,null,null,null,null,null,null,null,null,null,null,null,null,null,null,null,null,null,null,null,null,null,null,null,null,null,null,null,null,null,null,null,null,null,null,null,null,null,null,null,null,null,null,null,null,null,null,null,null,null,null,null,null,null,null,null,null,null,null,null,null,null,null,null,null,null,null,null,null,null,null,null,null,null,null,null,null,null,null,null,null,null,null,null,null,null,null,null,null,null,null,null,null,null,null,null,null,null,null,null,null,null,null,null,null,null,null,null,null,null,null,null,null,null,null,null,null,null,null,null,null,null,null,null,null,null,null,null,null,null,null,null,null,null,0,0,0,0,0,0,0,"",{"$f":"IF($EO67=\"要是正\",MAX($EP$16:EP66)+1,\"\")","v":""},{"$f":"IF($EO67=\"要是正\",MAX($EQ$17:EQ66)+1,\"\")","v":""},"","","","","","","0","","0","0","","","0","","0","0","",null,null,null,null,null,null,null,null,null,null,null,null,null,null,null,null,null,null,null,null,null,null,null,null,null,null,"","","",0,"",null,"","","0","","0","",null,null,0,null,null,null,0]
[null,null,null,null,null,null,null,null,null,null,null,null,null,null,null,null,null,null,null,null,null,null,null,null,null,null,null,null,null,null,null,null,null,null,null,null,null,null,null,null,null,null,null,null,null,null,null,null,null,null,null,null,null,null,null,null,null,null,null,null,null,null,null,null,null,null,null,null,null,null,null,null,null,null,null,null,null,null,null,null,null,null,null,null,null,null,null,null,null,null,null,null,null,null,null,null,null,null,null,null,null,null,null,null,null,null,null,null,null,null,null,null,null,null,null,null,null,null,null,null,null,null,null,null,null,null,null,null,null,null,null,null,null,null,null,null,null,0,0,0,0,0,0,0,"",{"$f":"IF($EO68=\"要是正\",MAX($EP$16:EP67)+1,\"\")","v":""},{"$f":"IF($EO68=\"要是正\",MAX($EQ$17:EQ67)+1,\"\")","v":""},"","","","","","","0","","0","0","","","0","","0","0","",null,null,null,null,null,null,null,null,null,null,null,null,null,null,null,null,null,null,null,null,null,null,null,null,null,null,"","","",0,"",null,"","","0","","0","",null,null,0,null,null,null,0]
[null,null,null,null,null,null,null,null,null,null,null,null,null,null,null,null,null,null,null,null,null,null,null,null,null,null,null,null,null,null,null,null,null,null,null,null,null,null,null,null,null,null,null,null,null,null,null,null,null,null,null,null,null,null,null,null,null,null,null,null,null,null,null,null,null,null,null,null,null,null,null,null,null,null,null,null,null,null,null,null,null,null,null,null,null,null,null,null,null,null,null,null,null,null,null,null,null,null,null,null,null,null,null,null,null,null,null,null,null,null,null,null,null,null,null,null,null,null,null,null,null,null,null,null,null,null,null,null,null,null,null,null,null,null,null,null,null,0,0,0,0,0,0,0,"",{"$f":"IF($EO69=\"要是正\",MAX($EP$16:EP68)+1,\"\")","v":""},{"$f":"IF($EO69=\"要是正\",MAX($EQ$17:EQ68)+1,\"\")","v":""},"","","","","","","0","","0","0","","","0","","0","0","",null,null,null,null,null,null,null,null,null,null,null,null,null,null,null,null,null,null,null,null,null,null,null,null,null,null,"","","",0,"",null,"","","0","","0","",null,null,0,null,null,null,0]
[null,null,null,null,null,null,null,null,null,null,null,null,null,null,null,null,null,null,null,null,null,null,null,null,null,null,null,null,null,null,null,null,null,null,null,null,null,null,null,null,null,null,null,null,null,null,null,null,null,null,null,null,null,null,null,null,null,null,null,null,null,null,null,null,null,null,null,null,null,null,null,null,null,null,null,null,null,null,null,null,null,null,null,null,null,null,null,null,null,null,null,null,null,null,null,null,null,null,null,null,null,null,null,null,null,null,null,null,null,null,null,null,null,null,null,null,null,null,null,null,null,null,null,null,null,null,null,null,null,null,null,null,null,null,null,null,null,0,0,0,0,0,0,0,"",{"$f":"IF($EO70=\"要是正\",MAX($EP$16:EP69)+1,\"\")","v":""},{"$f":"IF($EO70=\"要是正\",MAX($EQ$17:EQ69)+1,\"\")","v":""},"","","","","","","0","","0","0","","","0","","0","0","",null,null,null,null,null,null,null,null,null,null,null,null,null,null,null,null,null,null,null,null,null,null,null,null,null,null,"","","",0,"",null,"","","0","","0","",null,null,0,null,null,null,0]
[null,null,null,null,null,null,null,null,null,null,null,null,null,null,null,null,null,null,null,null,null,null,null,null,null,null,null,null,null,null,null,null,null,null,null,null,null,null,null,null,null,null,null,null,null,null,null,null,null,null,null,null,null,null,null,null,null,null,null,null,null,null,null,null,null,null,null,null,null,null,null,null,null,null,null,null,null,null,null,null,null,null,null,null,null,null,null,null,null,null,null,null,null,null,null,null,null,null,null,null,null,null,null,null,null,null,null,null,null,null,null,null,null,null,null,null,null,null,null,null,null,null,null,null,null,null,null,null,null,null,null,null,null,null,null,null,null,0,0,0,0,0,0,0,"",{"$f":"IF($EO71=\"要是正\",MAX($EP$16:EP70)+1,\"\")","v":""},{"$f":"IF($EO71=\"要是正\",MAX($EQ$17:EQ70)+1,\"\")","v":""},"","","","","","","0","","0","0","","","0","","0","0","",null,null,null,null,null,null,null,null,null,null,null,null,null,null,null,null,null,null,null,null,null,null,null,null,null,null,"","","",0,"",null,"","","0","","0","",null,null,0,null,null,null,0]
[null,null,null,null,null,null,null,null,null,null,null,null,null,null,null,null,null,null,null,null,null,null,null,null,null,null,null,null,null,null,null,null,null,null,null,null,null,null,null,null,null,null,null,null,null,null,null,null,null,null,null,null,null,null,null,null,null,null,null,null,null,null,null,null,null,null,null,null,null,null,null,null,null,null,null,null,null,null,null,null,null,null,null,null,null,null,null,null,null,null,null,null,null,null,null,null,null,null,null,null,null,null,null,null,null,null,null,null,null,null,null,null,null,null,null,null,null,null,null,null,null,null,null,null,null,null,null,null,null,null,null,null,null,null,null,null,null,0,0,0,0,0,0,{"$f":"COUNTA(CN72:CS72)","v":0},{"$f":"IF(BA72=\"×要是正（既存不適格以外）\",\"要是正\",\"\")&IF(BA72=\"△既存不適格\",\"既存不適格\",\"\")","v":""},{"$f":"IF($EO72=\"要是正\",MAX($EP$16:EP71)+1,\"\")","v":""},{"$f":"IF($EO72=\"要是正\",MAX($EQ$17:EQ71)+1,\"\")","v":""},{"$f":"IF(OR(BA72=\"×要是正（既存不適格以外）\",BA72=\"△既存不適格\"),EL72,\"\")","v":""},{"$f":"IF(OR($EO72=\"要是正\",$EO72=\"既存不適格\"),$EM72,\"\")","v":""},"",{"$f":"IF($EO72=\"要是正\",IF(BY72=\"\",\"\",BY72),\"\")","v":""},"","","0","","0","0","","","0","","0","0","",null,null,null,null,null,null,null,null,null,null,null,null,null,null,null,null,null,null,null,null,null,null,null,null,null,null,{"$f":"IF($BA72=\"○指摘なし\",\"○\",\"\")","v":""},{"$f":"IF(OR($BA72=\"×要是正（既存不適格以外）\",$BA72=\"△既存不適格\"),\"○\",\"\")","v":""},{"$f":"IF($BA72=\"△既存不適格\",\"○\",\"\")","v":""},0,{"$f":"IF($BA72=\"―対象外\",\"○\",\"\")","v":""},null,"","","0","","0","",null,null,0,null,null,null,0]
[null,null,null,null,null,null,null,null,null,null,null,null,null,null,null,null,null,null,null,null,null,null,null,null,null,null,null,null,null,null,null,null,null,null,null,null,null,null,null,null,null,null,null,null,null,null,null,null,null,null,null,null,null,null,null,null,null,null,null,null,null,null,null,null,null,null,null,null,null,null,null,null,null,null,null,null,null,null,null,null,null,null,null,null,null,null,null,null,null,null,null,null,null,null,null,null,null,null,null,null,null,null,null,null,null,null,null,null,null,null,null,null,null,null,null,null,null,null,null,null,null,null,null,null,null,null,null,null,null,null,null,null,null,null,null,null,null,0,0,0,0,0,0,{"$f":"COUNTA(CN73:CS73)","v":0},{"$f":"IF(BA73=\"×要是正（既存不適格以外）\",\"要是正\",\"\")&IF(BA73=\"△既存不適格\",\"既存不適格\",\"\")","v":""},{"$f":"IF($EO73=\"要是正\",MAX($EP$16:EP72)+1,\"\")","v":""},{"$f":"IF($EO73=\"要是正\",MAX($EQ$17:EQ72)+1,\"\")","v":""},{"$f":"IF(OR(BA73=\"×要是正（既存不適格以外）\",BA73=\"△既存不適格\"),EL73,\"\")","v":""},{"$f":"IF(OR($EO73=\"要是正\",$EO73=\"既存不適格\"),$EM73,\"\")","v":""},"",{"$f":"IF($EO73=\"要是正\",IF(BY73=\"\",\"\",BY73),\"\")","v":""},"","","0","","0","0","","","0","","0","0","",null,null,null,null,null,null,null,null,null,null,null,null,null,null,null,null,null,null,null,null,null,null,null,null,null,null,{"$f":"IF($BA73=\"○指摘なし\",\"○\",\"\")","v":""},{"$f":"IF(OR($BA73=\"×要是正（既存不適格以外）\",$BA73=\"△既存不適格\"),\"○\",\"\")","v":""},{"$f":"IF($BA73=\"△既存不適格\",\"○\",\"\")","v":""},0,{"$f":"IF($BA73=\"―対象外\",\"○\",\"\")","v":""},null,"","","0","","0","",null,null,{"$f":"IF(BA73=\"△既存不適格\",BO73&\"(既存不適格)\",BO73)","v":0},null,null,null,0]
[null,null,null,null,null,null,null,null,null,null,null,null,null,null,null,null,null,null,null,null,null,null,null,null,null,null,null,null,null,null,null,null,null,null,null,null,null,null,null,null,null,null,null,null,null,null,null,null,null,null,null,null,null,null,null,null,null,null,null,null,null,null,null,null,null,null,null,null,null,null,null,null,null,null,null,null,null,null,null,null,null,null,null,null,null,null,null,null,null,null,null,null,null,null,null,null,null,null,null,null,null,null,null,null,null,null,null,null,null,null,null,null,null,null,null,null,null,null,null,null,null,null,null,null,null,null,null,null,null,null,null,null,null,null,null,null,null,0,0,0,0,0,0,{"$f":"COUNTA(CN74:CS74)","v":0},{"$f":"IF(BA74=\"×要是正（既存不適格以外）\",\"要是正\",\"\")&IF(BA74=\"△既存不適格\",\"既存不適格\",\"\")","v":""},{"$f":"IF($EO74=\"要是正\",MAX($EP$16:EP73)+1,\"\")","v":""},{"$f":"IF($EO74=\"要是正\",MAX($EQ$17:EQ73)+1,\"\")","v":""},{"$f":"IF(OR(BA74=\"×要是正（既存不適格以外）\",BA74=\"△既存不適格\"),EL74,\"\")","v":""},{"$f":"IF(OR($EO74=\"要是正\",$EO74=\"既存不適格\"),$EM74,\"\")","v":""},"",{"$f":"IF($EO74=\"要是正\",IF(BY74=\"\",\"\",BY74),\"\")","v":""},"","","0","","0","0","","","0","","0","0","",null,null,null,null,null,null,null,null,null,null,null,null,null,null,null,null,null,null,null,null,null,null,null,null,null,null,{"$f":"IF($BA74=\"○指摘なし\",\"○\",\"\")","v":""},{"$f":"IF(OR($BA74=\"×要是正（既存不適格以外）\",$BA74=\"△既存不適格\"),\"○\",\"\")","v":""},{"$f":"IF($BA74=\"△既存不適格\",\"○\",\"\")","v":""},0,{"$f":"IF($BA74=\"―対象外\",\"○\",\"\")","v":""},null,"","","0","","0","",null,null,0,null,null,null,0]
[null,null,null,null,null,null,null,null,null,null,null,null,null,null,null,null,null,null,null,null,null,null,null,null,null,null,null,null,null,null,null,null,null,null,null,null,null,null,null,null,null,null,null,null,null,null,null,null,null,null,null,null,null,null,null,null,null,null,null,null,null,null,null,null,null,null,null,null,null,null,null,null,null,null,null,null,null,null,null,null,null,null,null,null,null,null,null,null,null,null,null,null,null,null,null,null,null,null,null,null,null,null,null,null,null,null,null,null,null,null,null,null,null,null,null,null,null,null,null,null,null,null,null,null,null,null,null,null,null,null,null,null,null,null,null,null,null,{"$f":"SUM(EH72:EH74)","v":0},{"$f":"SUM(EI72:EI74)","v":0},0,0,null,null,null,null,{"$f":"IF($EO75=\"要是正\",MAX($EP$16:EP74)+1,\"\")","v":""},null,null,null,null,null,null,null,null,{"$f":"COUNTIF(EY60:EY74,\"1\")","v":0},{"$f":"INDEX(EZ60:EZ74,MATCH(MIN(ABS(EZ60:EZ74-$EJ$4)),ABS(EZ60:EZ74-$EJ$4),0))","v":"0"},{"$f":"INDEX(FA60:FA74,MATCH(MIN(ABS(FA60:FA74-$EJ$4)),ABS(FA60:FA74-$EJ$4),0))","v":"0"},{"$f":"COUNTIF(FB60:FB74,\"1\")","v":0},null,null,{"$f":"COUNTIF(FE60:FE74,\"1\")","v":0},{"$f":"INDEX(FF60:FF74,MATCH(MIN(ABS(FF60:FF74-$EJ$4)),ABS(FF60:FF74-$EJ$4),0))","v":"0"},{"$f":"INDEX(FG60:FG74,MATCH(MIN(ABS(FG60:FG74-$EJ$4)),ABS(FG60:FG74-$EJ$4),0))","v":"0"},{"$f":"COUNTIF(FH60:FH74,\"未定\")","v":0},null,null,null,null,null,null,null,null,null,null,null,null,null,null,null,null,null,null,null,null,null,null,null,null,null,null,null,null,null,null,null,null,null,{"$f":"IF(NOT(OR(CU59=\"未定\",CO59=\"\")),\"令和\"&CR59&\"年\"&CS60&\"月1日\",\"\")","v":""},{"$f":"IF(GP75=\"\",\"0\",DATEVALUE(GP75))","v":"0"},{"$f":"COUNTIF(GR60:GR74,\"1\")","v":0},{"$f":"INDEX(GS60:GS74,MATCH(MIN(ABS(GS60:GS74-$EJ$4)),ABS(GS60:GS74-$EJ$4),0))","v":"0"},{"$f":"COUNTIF(GT60:GT74,\"未定\")","v":0}]
[]
[]
[]
[]
[]
[null,null,null,null,null,null,null,null,null,null,null,null,null,null,null,null,null,null,null,null,null,null,null,null,null,null,null,null,null,null,null,null,null,null,null,null,null,null,null,null,null,null,null,null,null,null,null,null,null,null,null,null,null,null,null,null,null,null,null,null,null,null,null,null,null,null,null,null,null,null,null,null,null,null,null,null,null,null,null,null,null,null,null,null,null,null,null,null,null,null,null,null,null,null,null,null,null,null,null,null,null,null,null,null,null,null,null,null,null,null,null,null,null,null,null,null,null,null,null,null,null,null,null,null,null,null,null,null,null,null,null,null,null,null,null,null,null,{"$f":"SUM(EH43,EH53)","v":0},{"$f":"SUM(EI43,EI53)","v":0},{"$f":"SUM(EJ43,EJ53)","v":0},{"$f":"SUM(EK43,EK53)","v":0}]
[null,null,null,null,null,null,null,null,null,null,null,null,null,null,null,null,null,null,null,null,null,null,null,null,null,null,null,null,null,null,null,null,null,null,null,null,null,null,null,null,null,null,null,null,null,null,null,null,null,null,null,null,null,null,null,null,null,null,null,null,null,null,null,null,null,null,null,null,null,null,null,null,null,null,null,null,null,null,null,null,null,null,null,null,null,null,null,null,null,null,null,null,null,null,null,null,null,null,null,null,null,null,null,null,null,null,null,null,null,null,null,null,null,null,null,null,null,null,null,null,null,null,null,null,null,null,null,null,null,null,null,null,null,null,null,null,null,{"$f":"IF(EH81<>0,\"レ\",\"\")","v":""},{"$f":"IF(EI81<>0,\"レ\",\"\")","v":""},{"$f":"IF(EJ81<>0,\"レ\",\"\")","v":""},{"$f":"IF(EK81<>0,\"レ\",\"\")","v":""}]
[]
[]
[]
[null,null,null,null,null,null,null,null,null,null,null,null,null,null,null,null,null,null,null,null,null,null,null,null,null,null,null,null,null,null,null,null,null,null,null,null,null,null,null,null,null,null,null,null,null,null,null,null,null,null,null,null,null,null,null,null,null,null,null,null,null,null,null,null,null,null,null,null,null,null,null,null,null,null,null,null,null,null,null,null,null,null,null,null,null,null,null,null,null,null,null,null,null,null,null,null,null,null,null,null,null,null,null,null,null,null,null,null,null,null,null,null,null,null,null,null,null,null,null,null,null,null,null,null,null,null,null,null,null,null,null,null,null,null,null,null,null,"改善予定","改善済","未定"]
[null,null,null,null,null,null,null,null,null,null,null,null,null,null,null,null,null,null,null,null,null,null,null,null,null,null,null,null,null,null,null,null,null,null,null,null,null,null,null,null,null,null,null,null,null,null,null,null,null,null,null,null,null,null,null,null,null,null,null,null,null,null,null,null,null,null,null,null,null,null,null,null,null,null,null,null,null,null,null,null,null,null,null,null,null,null,null,null,null,null,null,null,null,null,null,null,null,null,null,null,null,null,null,null,null,null,null,null,null,null,null,null,null,null,null,null,null,null,null,null,null,null,null,null,null,null,null,null,null,null,null,null,null,null,null,null,null,{"$f":"COUNTIF($CT17:$CV42,\"改善予定\")","v":0},{"$f":"COUNTIF($CT17:$CV42,\"改善済\")","v":0},{"$f":"COUNTIF($CT17:$CV42,\"予定\")","v":0}]
[null,null,null,null,null,null,null,null,null,null,null,null,null,null,null,null,null,null,null,null,null,null,null,null,null,null,null,null,null,null,null,null,null,null,null,null,null,null,null,null,null,null,null,null,null,null,null,null,null,null,null,null,null,null,null,null,null,null,null,null,null,null,null,null,null,null,null,null,null,null,null,null,null,null,null,null,null,null,null,null,null,null,null,null,null,null,null,null,null,null,null,null,null,null,null,null,null,null,null,null,null,null,null,null,null,null,null,null,null,null,null,null,null,null,null,null,null,null,null,null,null,null,null,null,null,null,null,null,null,null,null,null,null,null,null,null,null,"2　換気設備を設けるべき調理室等"]
[null,null,null,null,null,null,null,null,null,null,null,null,null,null,null,null,null,null,null,null,null,null,null,null,null,null,null,null,null,null,null,null,null,null,null,null,null,null,null,null,null,null,null,null,null,null,null,null,null,null,null,null,null,null,null,null,null,null,null,null,null,null,null,null,null,null,null,null,null,null,null,null,null,null,null,null,null,null,null,null,null,null,null,null,null,null,null,null,null,null,null,null,null,null,null,null,null,null,null,null,null,null,null,null,null,null,null,null,null,null,null,null,null,null,null,null,null,null,null,null,null,null,null,null,null,null,null,null,null,null,null,null,null,null,null,null,null,"改善予定","改善済","未定"]
[null,null,null,null,null,null,null,null,null,null,null,null,null,null,null,null,null,null,null,null,null,null,null,null,null,null,null,null,null,null,null,null,null,null,null,null,null,null,null,null,null,null,null,null,null,null,null,null,null,null,null,null,null,null,null,null,null,null,null,null,null,null,null,null,null,null,null,null,null,null,null,null,null,null,null,null,null,null,null,null,null,null,null,null,null,null,null,null,null,null,null,null,null,null,null,null,null,null,null,null,null,null,null,null,null,null,null,null,null,null,null,null,null,null,null,null,null,null,null,null,null,null,null,null,null,null,null,null,null,null,null,null,null,null,null,null,null,{"$f":"COUNTIF($CT50:$CV52,\"改善予定\")","v":0},{"$f":"COUNTIF($CT50:$CV52,\"改善済\")","v":0},{"$f":"COUNTIF($CT50:$CV52,\"未定\")","v":0}]
[null,null,null,null,null,null,null,null,null,null,null,null,null,null,null,null,null,null,null,null,null,null,null,null,null,null,null,null,null,null,null,null,null,null,null,null,null,null,null,null,null,null,null,null,null,null,null,null,null,null,null,null,null,null,null,null,null,null,null,null,null,null,null,null,null,null,null,null,null,null,null,null,null,null,null,null,null,null,null,null,null,null,null,null,null,null,null,null,null,null,null,null,null,null,null,null,null,null,null,null,null,null,null,null,null,null,null,null,null,null,null,null,null,null,null,null,null,null,null,null,null,null,null,null,null,null,null,null,null,null,null,null,null,null,null,null,null,{"$f":"SUM(EH87:EH90)","v":0},{"$f":"SUM(EI87:EI90)","v":0},{"$f":"SUM(EJ87:EJ90)","v":0},{"$f":"SUM(EH91:EJ91)","v":0}]
[]
[null,null,null,null,null,null,null,null,null,null,null,null,null,null,null,null,null,null,null,null,null,null,null,null,null,null,null,null,null,null,null,null,null,null,null,null,null,null,null,null,null,null,null,null,null,null,null,null,null,null,null,null,null,null,null,null,null,null,null,null,null,null,null,null,null,null,null,null,null,null,null,null,null,null,null,null,null,null,null,null,null,null,null,null,null,null,null,null,null,null,null,null,null,null,null,null,null,null,null,null,null,null,null,null,null,null,null,null,null,null,null,null,null,null,null,null,null,null,null,null,null,null,null,null,null,null,null,null,null,null,null,null,null,null,null,null,null,{"$f":"IF(EH91<>0,\"レ\",\"\")","v":""},{"$f":"IF(EI91<>0,\"レ\",\"\")","v":""},{"$f":"IF(EJ91<>0,\"レ\",\"\")","v":""}]

{"sheet":"6_入力シート【写真】 ","index":5,"n_rows":604,"n_cols":45,"rows_kept":604,"cut":false,"hidden":false,"merged":[[7,20,7,25],[9,0,12,2],[9,3,9,9],[9,36,9,45],[10,3,12,9],[10,10,12,34],[37,25,37,39],[44,10,44,15],[15,25,17,46],[18,25,30,46],[38,25,40,46],[41,25,53,46],[55,0,55,3],[56,2,56,45],[14,25,14,39],[21,10,21,15],[32,0,35,2],[32,3,32,9],[32,36,32,45],[33,3,35,9],[33,10,35,34],[63,2,63,45],[67,20,67,25],[69,0,72,2],[69,3,69,9],[69,36,69,45],[70,3,72,9],[70,10,72,34],[57,2,57,45],[58,2,58,45],[59,2,59,45],[60,2,60,45],[61,2,61,45],[62,2,62,45],[97,25,97,39],[104,10,104,15],[115,0,115,3],[116,2,116,45],[74,25,74,39],[81,10,81,15],[92,0,95,2],[92,3,92,9],[92,36,92,45],[93,3,95,9],[93,10,95,34],[75,25,77,46],[78,25,90,46],[98,25,100,46],[101,25,113,46],[123,2,123,45],[127,20,127,25],[129,0,132,2],[129,3,129,9],[129,36,129,45],[130,3,132,9],[130,10,132,34],[117,2,117,45],[118,2,118,45],[119,2,119,45],[120,2,120,45],[121,2,121,45],[122,2,122,45],[157,25,157,39],[164,10,164,15],[175,0,175,3],[176,2,176,45],[134,25,134,39],[141,10,141,15],[152,0,155,2],[152,3,152,9],[152,36,152,45],[153,3,155,9],[153,10,155,34],[135,25,137,46],[138,25,150,46],[158,25,160,46],[161,25,173,46],[183,2,183,45],[187,20,187,25],[189,0,192,2],[189,3,189,9],[189,36,189,45],[190,3,192,9],[190,10,192,34],[177,2,177,45],[178,2,178,45],[179,2,179,45],[180,2,180,45],[181,2,181,45],[182,2,182,45],[217,25,217,39],[224,10,224,15],[235,0,235,3],[236,2,236,45],[194,25,194,39],[201,10,201,15],[212,0,215,2],[212,3,212,9],[212,36,212,45],[213,3,215,9],[213,10,215,34],[195,25,197,46],[198,25,210,46],[218,25,220,46],[221,25,233,46],[243,2,243,45],[247,20,247,25],[249,0,252,2],[249,3,249,9],[249,36,249,45],[250,3,252,9],[250,10,252,34],[237,2,237,45],[238,2,238,45],[239,2,239,45],[240,2,240,45],[241,2,241,45],[242,2,242,45],[277,25,277,39],[284,10,284,15],[295,0,295,3],[296,2,296,45],[254,25,254,39],[261,10,261,15],[272,0,275,2],[272,3,272,9],[272,36,272,45],[273,3,275,9],[273,10,275,34],[255,25,257,46],[258,25,270,46],[278,25,280,46],[281,25,293,46],[303,2,303,45],[307,20,307,25],[309,0,312,2],[309,3,309,9],[309,36,309,45],[310,3,312,9],[310,10,312,34],[297,2,297,45],[298,2,298,45],[299,2,299,45],[300,2,300,45],[301,2,301,45],[302,2,302,45],[337,25,337,39],[344,10,344,15],[355,0,355,3],[356,2,356,45],[314,25,314,39],[321,10,321,15],[332,0,335,2],[332,3,332,9],[332,36,332,45],[333,3,335,9],[333,10,335,34],[315,25,317,46],[318,25,330,46],[338,25,340,46],[341,25,353,46],[363,2,363,45],[367,20,367,25],[369,0,372,2],[369,3,369,9],[369,36,369,45],[370,3,372,9],[370,10,372,34],[357,2,357,45],[358,2,358,45],[359,2,359,45],[360,2,360,45],[361,2,361,45],[362,2,362,45],[397,25,397,39],[404,10,404,15],[415,0,415,3],[416,2,416,45],[374,25,374,39],[381,10,381,15],[392,0,395,2],[392,3,392,9],[392,36,392,45],[393,3,395,9],[393,10,395,34],[375,25,377,46],[378,25,390,46],[398,25,400,46],[401,25,413,46],[423,2,423,45],[427,20,427,25],[429,0,432,2],[429,3,429,9],[429,36,429,45],[430,3,432,9],[430,10,432,34],[417,2,417,45],[418,2,418,45],[419,2,419,45],[420,2,420,45],[421,2,421,45],[422,2,422,45],[457,25,457,39],[464,10,464,15],[475,0,475,3],[476,2,476,45],[434,25,434,39],[441,10,441,15],[452,0,455,2],[452,3,452,9],[452,36,452,45],[453,3,455,9],[453,10,455,34],[435,25,437,46],[438,25,450,46],[458,25,460,46],[461,25,473,46],[483,2,483,45],[487,20,487,25],[489,0,492,2],[489,3,489,9],[489,36,489,45],[490,3,492,9],[490,10,492,34],[477,2,477,45],[478,2,478,45],[479,2,479,45],[480,2,480,45],[481,2,481,45],[482,2,482,45],[517,25,517,39],[524,10,524,15],[535,0,535,3],[536,2,536,45],[494,25,494,39],[501,10,501,15],[512,0,515,2],[512,3,512,9],[512,36,512,45],[513,3,515,9],[513,10,515,34],[495,25,497,46],[498,25,510,46],[518,25,520,46],[521,25,533,46],[543,2,543,45],[547,20,547,25],[549,0,552,2],[549,3,549,9],[549,36,549,45],[550,3,552,9],[550,10,552,34],[537,2,537,45],[538,2,538,45],[539,2,539,45],[540,2,540,45],[541,2,541,45],[542,2,542,45],[554,25,554,39],[561,10,561,15],[572,0,575,2],[572,3,572,9],[572,36,572,45],[573,3,575,9],[573,10,575,34],[555,25,557,46],[558,25,570,46],[603,2,603,45],[597,2,597,45],[598,2,598,45],[599,2,599,45],[600,2,600,45],[601,2,601,45],[602,2,602,45],[577,25,577,39],[584,10,584,15],[595,0,595,3],[596,2,596,45],[578,25,580,46],[581,25,593,46]]}
[]
[]
[]
[]
[]
[]
[null,"添",2,"様","式",null,"（","A",4,"）"]
[null,null,null,null,null,null,null,null,null,null,null,null,null,null,null,null,null,null,null,null,"関係写真"]
[]
["部位",null,null,"番号",null,null,null,null,null,null,null,null,null,null,null,null,null,null,"検","査","項","目",null,null,null,null,null,null,null,null,null,null,null,null,null,null,"検査結果"]
[]
[null,null,null,null,null,null,null,null,null,null,null,null,null,null,null,null,null,null,null,null,null,null,null,null,null,null,null,null,null,null,null,null,null,null,null,null,"☑","要","是","正",null,"□","そ","の","他"]
[]
[null,null,null,null,null,null,null,null,null,null,null,null,null,null,null,null,null,null,null,null,null,null,null,null,null,null,"特","記","事","項"]
[]
[]
[]
[]
[]
[]
[]
[null,null,null,null,null,null,null,null,null,null,"写真添付"]
[]
[]
[]
[]
[]
[]
[]
[]
[]
[]
["部位",null,null,"番号",null,null,null,null,null,null,null,null,null,null,null,null,null,null,"検","査","項","目",null,null,null,null,null,null,null,null,null,null,null,null,null,null,"検査結果"]
[]
[null,null,null,null,null,null,null,null,null,null,null,null,null,null,null,null,null,null,null,null,null,null,null,null,null,null,null,null,null,null,null,null,null,null,null,null,"☑","要","是","正",null,"□","そ","の","他"]
[]
[null,null,null,null,null,null,null,null,null,null,null,null,null,null,null,null,null,null,null,null,null,null,null,null,null,null,"特","記","事","項"]
[]
[]
[]
[]
[]
[]
[]
[null,null,null,null,null,null,null,null,null,null,"写真添付"]
[]
[]
[]
[]
[]
[]
[]
[]
[]
[]
["（注意）"]
[null,"①","　この書類は、検査の結果、「要是正」かつ「既存不適格」ではない項目について作成してください。また、「既存不適格」及"]
[null,null,"び「指摘なし」の項目についても、特記すべき事項があれば、必要に応じて作成してください。「要是正」の項目がない場合"]
[null,null,"は、この書類は省略してもかまいません。"]
[null,"②","　記入欄が不足する場合は、枠を拡大、行を追加して記入するか、別紙に必要な事項を記入して添えてください。"]
[null,"③","　「部位」欄の「番号」、「検査項目」は、それぞれ別記様式の番号、検査項目に対応したものを記入して下さい。"]
[null,"④","　「検査結果」欄は、検査の結果、要是正の指摘があった場合は「要是正」のチェックボックスに「✓」マークを入れ、それ以"]
[null,null,"外の場合で特記すべき事項がある場合は「その他」のチェックボックスに「✓」マークを入れてください。"]
[null,"⑤","　写真は、当該部位の外観の状況が確認できるように撮影したものを添付してください。"]
[]
[]
["別","添",2,"様","式",null,"（","A",4,"）"]
[null,null,null,null,null,null,null,null,null,null,null,null,null,null,null,null,null,null,null,null,"関係写真"]
[]
["部位",null,null,"番号",null,null,null,null,null,null,null,null,null,null,null,null,null,null,"検","査","項","目",null,null,null,null,null,null,null,null,null,null,null,null,null,null,"検査結果"]
[]
[null,null,null,null,null,null,null,null,null,null,null,null,null,null,null,null,null,null,null,null,null,null,null,null,null,null,null,null,null,null,null,null,null,null,null,null,"☑","要","是","正",null,"□","そ","の","他"]
[]
[null,null,null,null,null,null,null,null,null,null,null,null,null,null,null,null,null,null,null,null,null,null,null,null,null,null,"特","記","事","項"]
[]
[]
[]
[]
[]
[]
[]
[null,null,null,null,null,null,null,null,null,null,"写真添付"]
[]
[]
[]
[]
[]
[]
[]
[]
[]
[]
["部位",null,null,"番号",null,null,null,null,null,null,null,null,null,null,null,null,null,null,"検","査","項","目",null,null,null,null,null,null,null,null,null,null,null,null,null,null,"検査結果"]
[]
[null,null,null,null,null,null,null,null,null,null,null,null,null,null,null,null,null,null,null,null,null,null,null,null,null,null,null,null,null,null,null,null,null,null,null,null,"☑","要","是","正",null,"□","そ","の","他"]
[]
[null,null,null,null,null,null,null,null,null,null,null,null,null,null,null,null,null,null,null,null,null,null,null,null,null,null,"特","記","事","項"]
[]
[]
[]
[]
[]
[]
[]
[null,null,null,null,null,null,null,null,null,null,"写真添付"]
[]
[]
[]
[]
[]
[]
[]
[]
[]
[]
["（注意）"]
[null,"①","　この書類は、検査の結果、「要是正」かつ「既存不適格」ではない項目について作成してください。また、「既存不適格」及"]
[null,null,"び「指摘なし」の項目についても、特記すべき事項があれば、必要に応じて作成してください。「要是正」の項目がない場合"]
[null,null,"は、この書類は省略してもかまいません。"]
[null,"②","　記入欄が不足する場合は、枠を拡大、行を追加して記入するか、別紙に必要な事項を記入して添えてください。"]
[null,"③","　「部位」欄の「番号」、「検査項目」は、それぞれ別記様式の番号、検査項目に対応したものを記入して下さい。"]
[null,"④","　「検査結果」欄は、検査の結果、要是正の指摘があった場合は「要是正」のチェックボックスに「✓」マークを入れ、それ以"]
[null,null,"外の場合で特記すべき事項がある場合は「その他」のチェックボックスに「✓」マークを入れてください。"]
[null,"⑤","　写真は、当該部位の外観の状況が確認できるように撮影したものを添付してください。"]
[]
[]
["別","添",2,"様","式",null,"（","A",4,"）"]
[null,null,null,null,null,null,null,null,null,null,null,null,null,null,null,null,null,null,null,null,"関係写真"]
[]
["部位",null,null,"番号",null,null,null,null,null,null,null,null,null,null,null,null,null,null,"検","査","項","目",null,null,null,null,null,null,null,null,null,null,null,null,null,null,"検査結果"]
[]
[null,null,null,null,null,null,null,null,null,null,null,null,null,null,null,null,null,null,null,null,null,null,null,null,null,null,null,null,null,null,null,null,null,null,null,null,"☑","要","是","正",null,"□","そ","の","他"]
[]
[null,null,null,null,null,null,null,null,null,null,null,null,null,null,null,null,null,null,null,null,null,null,null,null,null,null,"特","記","事","項"]
[]
[]
[]
[]
[]
[]
[]
[null,null,null,null,null,null,null,null,null,null,"写真添付"]
[]
[]
[]
[]
[]
[]
[]
[]
[]
[]
["部位",null,null,"番号",null,null,null,null,null,null,null,null,null,null,null,null,null,null,"検","査","項","目",null,null,null,null,null,null,null,null,null,null,null,null,null,null,"検査結果"]
[]
[null,null,null,null,null,null,null,null,null,null,null,null,null,null,null,null,null,null,null,null,null,null,null,null,null,null,null,null,null,null,null,null,null,null,null,null,"☑","要","是","正",null,"□","そ","の","他"]
[]
[null,null,null,null,null,null,null,null,null,null,null,null,null,null,null,null,null,null,null,null,null,null,null,null,null,null,"特","記","事","項"]
[]
[]
[]
[]
[]
[]
[]
[null,null,null,null,null,null,null,null,null,null,"写真添付"]
[]
[]
[]
[]
[]
[]
[]
[]
[]
[]
["（注意）"]
[null,"①","　この書類は、検査の結果、「要是正」かつ「既存不適格」ではない項目について作成してください。また、「既存不適格」及"]
[null,null,"び「指摘なし」の項目についても、特記すべき事項があれば、必要に応じて作成してください。「要是正」の項目がない場合"]
[null,null,"は、この書類は省略してもかまいません。"]
[null,"②","　記入欄が不足する場合は、枠を拡大、行を追加して記入するか、別紙に必要な事項を記入して添えてください。"]
[null,"③","　「部位」欄の「番号」、「検査項目」は、それぞれ別記様式の番号、検査項目に対応したものを記入して下さい。"]
[null,"④","　「検査結果」欄は、検査の結果、要是正の指摘があった場合は「要是正」のチェックボックスに「✓」マークを入れ、それ以"]
[null,null,"外の場合で特記すべき事項がある場合は「その他」のチェックボックスに「✓」マークを入れてください。"]
[null,"⑤","　写真は、当該部位の外観の状況が確認できるように撮影したものを添付してください。"]
[]
[]
["別","添",2,"様","式",null,"（","A",4,"）"]
[null,null,null,null,null,null,null,null,null,null,null,null,null,null,null,null,null,null,null,null,"関係写真"]
[]
["部位",null,null,"番号",null,null,null,null,null,null,null,null,null,null,null,null,null,null,"検","査","項","目",null,null,null,null,null,null,null,null,null,null,null,null,null,null,"検査結果"]
[]
[null,null,null,null,null,null,null,null,null,null,null,null,null,null,null,null,null,null,null,null,null,null,null,null,null,null,null,null,null,null,null,null,null,null,null,null,"☑","要","是","正",null,"□","そ","の","他"]
[]
[null,null,null,null,null,null,null,null,null,null,null,null,null,null,null,null,null,null,null,null,null,null,null,null,null,null,"特","記","事","項"]
[]
[]
[]
[]
[]
[]
[]
[null,null,null,null,null,null,null,null,null,null,"写真添付"]
[]
[]
[]
[]
[]
[]
[]
[]
[]
[]
["部位",null,null,"番号",null,null,null,null,null,null,null,null,null,null,null,null,null,null,"検","査","項","目",null,null,null,null,null,null,null,null,null,null,null,null,null,null,"検査結果"]
[]
[null,null,null,null,null,null,null,null,null,null,null,null,null,null,null,null,null,null,null,null,null,null,null,null,null,null,null,null,null,null,null,null,null,null,null,null,"☑","要","是","正",null,"□","そ","の","他"]
[]
[null,null,null,null,null,null,null,null,null,null,null,null,null,null,null,null,null,null,null,null,null,null,null,null,null,null,"特","記","事","項"]
[]
[]
[]
[]
[]
[]
[]
[null,null,null,null,null,null,null,null,null,null,"写真添付"]
[]
[]
[]
[]
[]
[]
[]
[]
[]
[]
["（注意）"]
[null,"①","　この書類は、検査の結果、「要是正」かつ「既存不適格」ではない項目について作成してください。また、「既存不適格」及"]
[null,null,"び「指摘なし」の項目についても、特記すべき事項があれば、必要に応じて作成してください。「要是正」の項目がない場合"]
[null,null,"は、この書類は省略してもかまいません。"]
[null,"②","　記入欄が不足する場合は、枠を拡大、行を追加して記入するか、別紙に必要な事項を記入して添えてください。"]
[null,"③","　「部位」欄の「番号」、「検査項目」は、それぞれ別記様式の番号、検査項目に対応したものを記入して下さい。"]
[null,"④","　「検査結果」欄は、検査の結果、要是正の指摘があった場合は「要是正」のチェックボックスに「✓」マークを入れ、それ以"]
[null,null,"外の場合で特記すべき事項がある場合は「その他」のチェックボックスに「✓」マークを入れてください。"]
[null,"⑤","　写真は、当該部位の外観の状況が確認できるように撮影したものを添付してください。"]
[]
[]
["別","添",2,"様","式",null,"（","A",4,"）"]
[null,null,null,null,null,null,null,null,null,null,null,null,null,null,null,null,null,null,null,null,"関係写真"]
[]
["部位",null,null,"番号",null,null,null,null,null,null,null,null,null,null,null,null,null,null,"検","査","項","目",null,null,null,null,null,null,null,null,null,null,null,null,null,null,"検査結果"]
[]
[null,null,null,null,null,null,null,null,null,null,null,null,null,null,null,null,null,null,null,null,null,null,null,null,null,null,null,null,null,null,null,null,null,null,null,null,"☑","要","是","正",null,"□","そ","の","他"]
[]
[null,null,null,null,null,null,null,null,null,null,null,null,null,null,null,null,null,null,null,null,null,null,null,null,null,null,"特","記","事","項"]
[]
[]
[]
[]
[]
[]
[]
[null,null,null,null,null,null,null,null,null,null,"写真添付"]
[]
[]
[]
[]
[]
[]
[]
[]
[]
[]
["部位",null,null,"番号",null,null,null,null,null,null,null,null,null,null,null,null,null,null,"検","査","項","目",null,null,null,null,null,null,null,null,null,null,null,null,null,null,"検査結果"]
[]
[null,null,null,null,null,null,null,null,null,null,null,null,null,null,null,null,null,null,null,null,null,null,null,null,null,null,null,null,null,null,null,null,null,null,null,null,"☑","要","是","正",null,"□","そ","の","他"]
[]
[null,null,null,null,null,null,null,null,null,null,null,null,null,null,null,null,null,null,null,null,null,null,null,null,null,null,"特","記","事","項"]
[]
[]
[]
[]
[]
[]
[]
[null,null,null,null,null,null,null,null,null,null,"写真添付"]
[]
[]
[]
[]
[]
[]
[]
[]
[]
[]
["（注意）"]
[null,"①","　この書類は、検査の結果、「要是正」かつ「既存不適格」ではない項目について作成してください。また、「既存不適格」及"]
[null,null,"び「指摘なし」の項目についても、特記すべき事項があれば、必要に応じて作成してください。「要是正」の項目がない場合"]
[null,null,"は、この書類は省略してもかまいません。"]
[null,"②","　記入欄が不足する場合は、枠を拡大、行を追加して記入するか、別紙に必要な事項を記入して添えてください。"]
[null,"③","　「部位」欄の「番号」、「検査項目」は、それぞれ別記様式の番号、検査項目に対応したものを記入して下さい。"]
[null,"④","　「検査結果」欄は、検査の結果、要是正の指摘があった場合は「要是正」のチェックボックスに「✓」マークを入れ、それ以"]
[null,null,"外の場合で特記すべき事項がある場合は「その他」のチェックボックスに「✓」マークを入れてください。"]
[null,"⑤","　写真は、当該部位の外観の状況が確認できるように撮影したものを添付してください。"]
[]
[]
["別","添",2,"様","式",null,"（","A",4,"）"]
[null,null,null,null,null,null,null,null,null,null,null,null,null,null,null,null,null,null,null,null,"関係写真"]
[]
["部位",null,null,"番号",null,null,null,null,null,null,null,null,null,null,null,null,null,null,"検","査","項","目",null,null,null,null,null,null,null,null,null,null,null,null,null,null,"検査結果"]
[]
[null,null,null,null,null,null,null,null,null,null,null,null,null,null,null,null,null,null,null,null,null,null,null,null,null,null,null,null,null,null,null,null,null,null,null,null,"☑","要","是","正",null,"□","そ","の","他"]
[]
[null,null,null,null,null,null,null,null,null,null,null,null,null,null,null,null,null,null,null,null,null,null,null,null,null,null,"特","記","事","項"]
[]
[]
[]
[]
[]
[]
[]
[null,null,null,null,null,null,null,null,null,null,"写真添付"]
[]
[]
[]
[]
[]
[]
[]
[]
[]
[]
["部位",null,null,"番号",null,null,null,null,null,null,null,null,null,null,null,null,null,null,"検","査","項","目",null,null,null,null,null,null,null,null,null,null,null,null,null,null,"検査結果"]
[]
[null,null,null,null,null,null,null,null,null,null,null,null,null,null,null,null,null,null,null,null,null,null,null,null,null,null,null,null,null,null,null,null,null,null,null,null,"☑","要","是","正",null,"□","そ","の","他"]
[]
[null,null,null,null,null,null,null,null,null,null,null,null,null,null,null,null,null,null,null,null,null,null,null,null,null,null,"特","記","事","項"]
[]
[]
[]
[]
[]
[]
[]
[null,null,null,null,null,null,null,null,null,null,"写真添付"]
[]
[]
[]
[]
[]
[]
[]
[]
[]
[]
["（注意）"]
[null,"①","　この書類は、検査の結果、「要是正」かつ「既存不適格」ではない項目について作成してください。また、「既存不適格」及"]
[null,null,"び「指摘なし」の項目についても、特記すべき事項があれば、必要に応じて作成してください。「要是正」の項目がない場合"]
[null,null,"は、この書類は省略してもかまいません。"]
[null,"②","　記入欄が不足する場合は、枠を拡大、行を追加して記入するか、別紙に必要な事項を記入して添えてください。"]
[null,"③","　「部位」欄の「番号」、「検査項目」は、それぞれ別記様式の番号、検査項目に対応したものを記入して下さい。"]
[null,"④","　「検査結果」欄は、検査の結果、要是正の指摘があった場合は「要是正」のチェックボックスに「✓」マークを入れ、それ以"]
[null,null,"外の場合で特記すべき事項がある場合は「その他」のチェックボックスに「✓」マークを入れてください。"]
[null,"⑤","　写真は、当該部位の外観の状況が確認できるように撮影したものを添付してください。"]
[]
[]
["別","添",2,"様","式",null,"（","A",4,"）"]
[null,null,null,null,null,null,null,null,null,null,null,null,null,null,null,null,null,null,null,null,"関係写真"]
[]
["部位",null,null,"番号",null,null,null,null,null,null,null,null,null,null,null,null,null,null,"検","査","項","目",null,null,null,null,null,null,null,null,null,null,null,null,null,null,"検査結果"]
[]
[null,null,null,null,null,null,null,null,null,null,null,null,null,null,null,null,null,null,null,null,null,null,null,null,null,null,null,null,null,null,null,null,null,null,null,null,"☑","要","是","正",null,"□","そ","の","他"]
[]
[null,null,null,null,null,null,null,null,null,null,null,null,null,null,null,null,null,null,null,null,null,null,null,null,null,null,"特","記","事","項"]
[]
[]
[]
[]
[]
[]
[]
[null,null,null,null,null,null,null,null,null,null,"写真添付"]
[]
[]
[]
[]
[]
[]
[]
[]
[]
[]
["部位",null,null,"番号",null,null,null,null,null,null,null,null,null,null,null,null,null,null,"検","査","項","目",null,null,null,null,null,null,null,null,null,null,null,null,null,null,"検査結果"]
[]
[null,null,null,null,null,null,null,null,null,null,null,null,null,null,null,null,null,null,null,null,null,null,null,null,null,null,null,null,null,null,null,null,null,null,null,null,"☑","要","是","正",null,"□","そ","の","他"]
[]
[null,null,null,null,null,null,null,null,null,null,null,null,null,null,null,null,null,null,null,null,null,null,null,null,null,null,"特","記","事","項"]
[]
[]
[]
[]
[]
[]
[]
[null,null,null,null,null,null,null,null,null,null,"写真添付"]
[]
[]
[]
[]
[]
[]
[]
[]
[]
[]
["（注意）"]
[null,"①","　この書類は、検査の結果、「要是正」かつ「既存不適格」ではない項目について作成してください。また、「既存不適格」及"]
[null,null,"び「指摘なし」の項目についても、特記すべき事項があれば、必要に応じて作成してください。「要是正」の項目がない場合"]
[null,null,"は、この書類は省略してもかまいません。"]
[null,"②","　記入欄が不足する場合は、枠を拡大、行を追加して記入するか、別紙に必要な事項を記入して添えてください。"]
[null,"③","　「部位」欄の「番号」、「検査項目」は、それぞれ別記様式の番号、検査項目に対応したものを記入して下さい。"]
[null,"④","　「検査結果」欄は、検査の結果、要是正の指摘があった場合は「要是正」のチェックボックスに「✓」マークを入れ、それ以"]
[null,null,"外の場合で特記すべき事項がある場合は「その他」のチェックボックスに「✓」マークを入れてください。"]
[null,"⑤","　写真は、当該部位の外観の状況が確認できるように撮影したものを添付してください。"]
[]
[]
["別","添",2,"様","式",null,"（","A",4,"）"]
[null,null,null,null,null,null,null,null,null,null,null,null,null,null,null,null,null,null,null,null,"関係写真"]
[]
["部位",null,null,"番号",null,null,null,null,null,null,null,null,null,null,null,null,null,null,"検","査","項","目",null,null,null,null,null,null,null,null,null,null,null,null,null,null,"検査結果"]
[]
[null,null,null,null,null,null,null,null,null,null,null,null,null,null,null,null,null,null,null,null,null,null,null,null,null,null,null,null,null,null,null,null,null,null,null,null,"☑","要","是","正",null,"□","そ","の","他"]
[]
[null,null,null,null,null,null,null,null,null,null,null,null,null,null,null,null,null,null,null,null,null,null,null,null,null,null,"特","記","事","項"]
[]
[]
[]
[]
[]
[]
[]
[null,null,null,null,null,null,null,null,null,null,"写真添付"]
[]
[]
[]
[]
[]
[]
[]
[]
[]
[]
["部位",null,null,"番号",null,null,null,null,null,null,null,null,null,null,null,null,null,null,"検","査","項","目",null,null,null,null,null,null,null,null,null,null,null,null,null,null,"検査結果"]
[]
[null,null,null,null,null,null,null,null,null,null,null,null,null,null,null,null,null,null,null,null,null,null,null,null,null,null,null,null,null,null,null,null,null,null,null,null,"☑","要","是","正",null,"☐","そ","の","他"]
[]
[null,null,null,null,null,null,null,null,null,null,null,null,null,null,null,null,null,null,null,null,null,null,null,null,null,null,"特","記","事","項"]
[]
[]
[]
[]
[]
[]
[]
[null,null,null,null,null,null,null,null,null,null,"写真添付"]
[]
[]
[]
[]
[]
[]
[]
[]
[]
[]
["（注意）"]
[null,"①","　この書類は、検査の結果、「要是正」かつ「既存不適格」ではない項目について作成してください。また、「既存不適格」及"]
[null,null,"び「指摘なし」の項目についても、特記すべき事項があれば、必要に応じて作成してください。「要是正」の項目がない場合"]
[null,null,"は、この書類は省略してもかまいません。"]
[null,"②","　記入欄が不足する場合は、枠を拡大、行を追加して記入するか、別紙に必要な事項を記入して添えてください。"]
[null,"③","　「部位」欄の「番号」、「検査項目」は、それぞれ別記様式の番号、検査項目に対応したものを記入して下さい。"]
[null,"④","　「検査結果」欄は、検査の結果、要是正の指摘があった場合は「要是正」のチェックボックスに「✓」マークを入れ、それ以"]
[null,null,"外の場合で特記すべき事項がある場合は「その他」のチェックボックスに「✓」マークを入れてください。"]
[null,"⑤","　写真は、当該部位の外観の状況が確認できるように撮影したものを添付してください。"]
[]
[]
["別","添",2,"様","式",null,"（","A",4,"）"]
[null,null,null,null,null,null,null,null,null,null,null,null,null,null,null,null,null,null,null,null,"関係写真"]
[]
["部位",null,null,"番号",null,null,null,null,null,null,null,null,null,null,null,null,null,null,"検","査","項","目",null,null,null,null,null,null,null,null,null,null,null,null,null,null,"検査結果"]
[]
[null,null,null,null,null,null,null,null,null,null,null,null,null,null,null,null,null,null,null,null,null,null,null,null,null,null,null,null,null,null,null,null,null,null,null,null,"☑","要","是","正",null,"□","そ","の","他"]
[]
[null,null,null,null,null,null,null,null,null,null,null,null,null,null,null,null,null,null,null,null,null,null,null,null,null,null,"特","記","事","項"]
[]
[]
[]
[]
[]
[]
[]
[null,null,null,null,null,null,null,null,null,null,"写真添付"]
[]
[]
[]
[]
[]
[]
[]
[]
[]
[]
["部位",null,null,"番号",null,null,null,null,null,null,null,null,null,null,null,null,null,null,"検","査","項","目",null,null,null,null,null,null,null,null,null,null,null,null,null,null,"検査結果"]
[]
[null,null,null,null,null,null,null,null,null,null,null,null,null,null,null,null,null,null,null,null,null,null,null,null,null,null,null,null,null,null,null,null,null,null,null,null,"☑","要","是","正",null,"□","そ","の","他"]
[]
[null,null,null,null,null,null,null,null,null,null,null,null,null,null,null,null,null,null,null,null,null,null,null,null,null,null,"特","記","事","項"]
[]
[]
[]
[]
[]
[]
[]
[null,null,null,null,null,null,null,null,null,null,"写真添付"]
[]
[]
[]
[]
[]
[]
[]
[]
[]
[]
["（注意）"]
[null,"①","　この書類は、検査の結果、「要是正」かつ「既存不適格」ではない項目について作成してください。また、「既存不適格」及"]
[null,null,"び「指摘なし」の項目についても、特記すべき事項があれば、必要に応じて作成してください。「要是正」の項目がない場合"]
[null,null,"は、この書類は省略してもかまいません。"]
[null,"②","　記入欄が不足する場合は、枠を拡大、行を追加して記入するか、別紙に必要な事項を記入して添えてください。"]
[null,"③","　「部位」欄の「番号」、「検査項目」は、それぞれ別記様式の番号、検査項目に対応したものを記入して下さい。"]
[null,"④","　「検査結果」欄は、検査の結果、要是正の指摘があった場合は「要是正」のチェックボックスに「✓」マークを入れ、それ以"]
[null,null,"外の場合で特記すべき事項がある場合は「その他」のチェックボックスに「✓」マークを入れてください。"]
[null,"⑤","　写真は、当該部位の外観の状況が確認できるように撮影したものを添付してください。"]
[]
[]
["別","添",2,"様","式",null,"（","A",4,"）"]
[null,null,null,null,null,null,null,null,null,null,null,null,null,null,null,null,null,null,null,null,"関係写真"]
[]
["部位",null,null,"番号",null,null,null,null,null,null,null,null,null,null,null,null,null,null,"検","査","項","目",null,null,null,null,null,null,null,null,null,null,null,null,null,null,"検査結果"]
[]
[null,null,null,null,null,null,null,null,null,null,null,null,null,null,null,null,null,null,null,null,null,null,null,null,null,null,null,null,null,null,null,null,null,null,null,null,"☑","要","是","正",null,"□","そ","の","他"]
[]
[null,null,null,null,null,null,null,null,null,null,null,null,null,null,null,null,null,null,null,null,null,null,null,null,null,null,"特","記","事","項"]
[]
[]
[]
[]
[]
[]
[]
[null,null,null,null,null,null,null,null,null,null,"写真添付"]
[]
[]
[]
[]
[]
[]
[]
[]
[]
[]
["部位",null,null,"番号",null,null,null,null,null,null,null,null,null,null,null,null,null,null,"検","査","項","目",null,null,null,null,null,null,null,null,null,null,null,null,null,null,"検査結果"]
[]
[null,null,null,null,null,null,null,null,null,null,null,null,null,null,null,null,null,null,null,null,null,null,null,null,null,null,null,null,null,null,null,null,null,null,null,null,"☑","要","是","正",null,"□","そ","の","他"]
[]
[null,null,null,null,null,null,null,null,null,null,null,null,null,null,null,null,null,null,null,null,null,null,null,null,null,null,"特","記","事","項"]
[]
[]
[]
[]
[]
[]
[]
[null,null,null,null,null,null,null,null,null,null,"写真添付"]
[]
[]
[]
[]
[]
[]
[]
[]
[]
[]
["（注意）"]
[null,"①","　この書類は、検査の結果、「要是正」かつ「既存不適格」ではない項目について作成してください。また、「既存不適格」及"]
[null,null,"び「指摘なし」の項目についても、特記すべき事項があれば、必要に応じて作成してください。「要是正」の項目がない場合"]
[null,null,"は、この書類は省略してもかまいません。"]
[null,"②","　記入欄が不足する場合は、枠を拡大、行を追加して記入するか、別紙に必要な事項を記入して添えてください。"]
[null,"③","　「部位」欄の「番号」、「検査項目」は、それぞれ別記様式の番号、検査項目に対応したものを記入して下さい。"]
[null,"④","　「検査結果」欄は、検査の結果、要是正の指摘があった場合は「要是正」のチェックボックスに「✓」マークを入れ、それ以"]
[null,null,"外の場合で特記すべき事項がある場合は「その他」のチェックボックスに「✓」マークを入れてください。"]
[null,"⑤","　写真は、当該部位の外観の状況が確認できるように撮影したものを添付してください。"]

{"sheet":"7_入力シート【図面】","index":6,"n_rows":44,"n_cols":9,"rows_kept":44,"cut":false,"hidden":false,"merged":[[0,8,0,10],[43,0,43,10]]}
["別添１様式","（Ａ３）",null,null,null,null,null,null,"検　査　結　果　図"]
[]
[]
[]
[]
[]
[]
[]
[]
[]
[]
[]
[]
[]
[]
[]
[]
[]
[]
[]
[]
[]
[]
[]
[]
[]
[]
[]
[]
[]
[]
[]
[]
[]
[]
[]
[]
[]
[]
[]
[]
[]
[]
["注）　各階平面図尾添付し、検査の対象となる防火設備の設置されている箇所及び指摘（特記すべき事項を含む）のあった場所を明記すること。"]

{"sheet":"＜入力不要＞報告書","index":7,"n_rows":605,"n_cols":153,"rows_kept":605,"cut":false,"hidden":false,"merged":[[590,138,590,142],[590,143,590,147],[590,148,590,152],[590,123,590,128],[590,129,590,134],[89,14,89,44],[2,1,2,44],[3,1,3,44],[4,1,4,44],[6,0,6,45],[9,1,9,12],[10,34,10,35],[10,36,10,37],[10,39,10,40],[10,42,10,43],[16,28,16,44],[20,14,20,44],[21,14,21,44],[22,14,22,20],[23,14,23,44],[24,14,24,27],[28,14,28,44],[29,14,29,44],[30,14,30,20],[31,14,31,44],[32,14,32,27],[37,14,37,44],[36,14,36,44],[38,14,38,44],[39,14,39,44],[49,1,49,2],[49,3,49,4],[49,6,49,7],[49,9,49,10],[50,2,50,10],[51,5,51,11],[59,23,59,24],[60,0,60,42],[65,13,65,15],[65,20,65,22],[67,11,67,17],[71,19,71,20],[71,21,71,22],[71,24,71,25],[71,27,71,28],[71,33,71,43],[66,11,66,17],[72,32,72,44],[73,19,73,20],[73,21,73,22],[73,24,73,25],[73,27,73,28],[73,33,73,43],[74,32,74,44],[78,17,78,18],[78,19,78,20],[78,22,78,23],[78,25,78,26],[79,17,79,18],[79,19,79,20],[79,22,79,23],[79,25,79,26],[85,25,85,32],[85,38,85,43],[86,38,86,43],[87,14,87,44],[88,14,88,44],[85,15,85,16],[90,25,90,30],[90,38,90,43],[91,14,91,20],[92,14,92,44],[93,14,93,27],[95,25,95,32],[95,38,95,43],[97,14,97,44],[98,14,98,44],[95,15,95,16],[90,15,90,16],[96,38,96,43],[99,14,99,44],[105,15,105,16],[105,25,105,32],[105,38,105,43],[106,38,106,43],[107,14,107,44],[108,14,108,44],[109,14,109,44],[110,15,110,16],[110,25,110,30],[110,38,110,43],[100,15,100,16],[100,25,100,30],[100,38,100,43],[101,14,101,20],[102,14,102,44],[103,14,103,27],[111,14,111,20],[112,14,112,44],[113,14,113,27],[118,33,118,35],[119,30,119,43],[121,16,121,18],[121,33,121,35],[122,16,122,18],[122,33,122,35],[118,15,118,17],[123,16,123,18],[128,14,128,44],[129,14,129,44],[130,14,130,44],[131,14,131,44],[132,14,132,44],[133,17,133,18],[133,19,133,20],[133,22,133,23],[139,23,139,24],[139,25,139,26],[139,28,139,29],[194,0,194,42],[198,1,198,6],[198,7,198,16],[198,17,198,27],[198,28,198,33],[198,34,198,44],[147,0,147,45],[150,2,158,45],[161,2,169,45],[172,2,180,45],[183,2,191,45],[143,4,144,44],[199,1,199,6],[199,7,199,16],[199,17,199,27],[199,28,199,33],[199,34,199,44],[200,1,200,6],[200,7,200,16],[200,17,200,27],[200,28,200,33],[200,34,200,44],[201,1,201,6],[201,7,201,16],[201,17,201,27],[201,28,201,33],[201,34,201,44],[202,1,202,6],[202,7,202,16],[202,17,202,27],[202,28,202,33],[202,34,202,44],[203,1,203,6],[203,7,203,16],[203,17,203,27],[203,28,203,33],[203,34,203,44],[204,1,204,6],[204,7,204,16],[204,17,204,27],[204,28,204,33],[204,34,204,44],[205,1,205,6],[205,7,205,16],[205,17,205,27],[205,28,205,33],[205,34,205,44],[206,1,206,6],[206,7,206,16],[206,17,206,27],[206,28,206,33],[206,34,206,44],[207,1,207,6],[207,7,207,16],[207,17,207,27],[207,28,207,33],[207,34,207,44],[208,1,208,6],[208,7,208,16],[208,17,208,27],[208,28,208,33],[208,34,208,44],[215,3,215,45],[216,3,216,45],[217,3,217,45],[218,3,218,45],[220,3,220,45],[221,3,221,45],[222,3,222,45],[223,3,223,45],[224,3,224,45],[225,3,225,45],[226,3,226,45],[228,3,228,45],[229,3,229,45],[230,3,230,45],[231,3,231,45],[232,3,232,45],[233,3,233,45],[234,3,234,45],[235,3,235,45],[236,3,236,45],[237,3,237,45],[238,3,238,45],[239,3,239,45],[240,3,240,45],[241,3,241,45],[242,3,242,45],[243,3,243,45],[244,3,244,45],[245,3,245,45],[246,3,246,45],[247,3,247,45],[248,3,248,45],[249,3,249,45],[250,3,250,45],[251,3,251,45],[252,3,252,45],[253,3,253,45],[254,3,254,45],[255,3,255,45],[256,3,256,45],[257,3,257,45],[258,3,258,45],[259,3,259,45],[260,3,260,45],[261,3,261,45],[273,3,273,45],[274,3,274,45],[275,3,275,45],[276,3,276,45],[277,3,277,45],[278,3,278,45],[279,3,279,45],[262,3,262,45],[263,3,263,45],[264,3,264,45],[265,3,265,45],[266,3,266,45],[267,3,267,45],[268,3,268,45],[269,3,269,45],[270,3,270,45],[102,59,102,63],[13,28,13,44],[12,28,12,44],[290,3,290,45],[297,3,297,45],[298,3,298,45],[299,3,299,45],[291,3,291,45],[292,3,292,45],[293,3,293,45],[294,3,294,45],[295,3,295,45],[296,3,296,45],[280,3,280,45],[281,3,281,45],[282,3,282,45],[283,3,283,45],[284,3,284,45],[285,3,285,45],[287,3,287,45],[288,3,288,45],[289,3,289,45],[271,3,271,45],[272,3,272,45]]}
[]
[null,"第三十六号の八様式 （第六条関係）（Ａ４）"]
[null,"定期検査報告書",null,null,null,null,null,null,null,null,null,null,null,null,null,null,null,null,null,null,null,null,null,null,null,null,null,null,null,null,null,null,null,null,null,null,null,null,null,null,null,null,null,null,null,null,null,null,null,null,null,null,null,null,null,null,null,null,null,null,null,null,null,null,null,null,null,null,null,null,null,null,null,null,null,null,null,null,null,null,null,null,null,null,null,null,null,null,null,null,null,null,null,null,null,null,null,null,null,null,null,null,null,null,null,null,null,null,null,null,null,null,null,null,null,null,null,null,null,null,null,null,null,null,null,null,null,null,null,null,null,null,null,null,null,null,null,null,null,"基準日"]
[null,"（防火設備）",null,null,null,null,null,null,null,null,null,null,null,null,null,null,null,null,null,null,null,null,null,null,null,null,null,null,null,null,null,null,null,null,null,null,null,null,null,null,null,null,null,null,null,null,null,null,null,null,null,null,null,null,null,null,null,null,null,null,null,null,null,null,null,null,null,null,null,null,null,null,null,null,null,null,null,null,null,null,null,null,null,null,null,null,null,null,null,null,null,null,null,null,null,null,null,null,null,null,null,null,null,null,null,null,null,null,null,null,null,null,null,null,null,null,null,null,null,null,null,null,null,null,null,null,null,null,null,null,null,null,null,null,null,null,null,null,null,"2018-12-31"]
[null,"（第一面）"]
[]
["  　建築基準法第12条第３項の規定により、定期検査の結果を報告します。この報告書に記載の事項は事実"]
[null,"に相違ありません。"]
[]
[null,"滋賀県知事",null,null,null,null,null,null,null,null,null,null,null,"様",null,null,null,null,null,null,null,null,null,null,null,null,null,null,null,null,null,null,null,null,null,null,null,null,null,null,null,null,null,null,null,null,null,null,null,null,null,null,null,null,null,null,null,null,"●●●●・・・宛先は採用の自治体・団体様にて決めます"]
[null,null,null,null,null,null,null,null,null,null,null,null,null,null,null,null,null,null,null,null,null,null,null,null,null,null,null,null,null,null,null,null,null,null,"令和",null,{"$f":"'1_入力シート【基本情報】'!$BF$10","v":0},null,"年",{"$f":"'1_入力シート【基本情報】'!$BK$10","v":0},null,"月",{"$f":"'1_入力シート【基本情報】'!$BP$10","v":0},null,"日"]
[]
[null,null,null,null,null,null,null,null,null,null,null,null,null,null,null,null,null,null,null,null,null,null,null,null,null,null,null,null,{"$f":"IF('1_入力シート【基本情報】'!EM47=TRUE,'1_入力シート【基本情報】'!ER38,'1_入力シート【基本情報】'!ER50)","v":""}]
[null,null,null,null,null,null,null,null,null,null,null,null,null,null,null,null,null,null,null,null,null,null,"報告者氏名",null,null,null,null,null,{"$f":"IF('1_入力シート【基本情報】'!EM47=TRUE,'1_入力シート【基本情報】'!ER39,'1_入力シート【基本情報】'!ER51)","v":""}]
[]
[]
[null,null,null,null,null,null,null,null,null,null,null,null,null,null,null,null,null,null,null,null,null,null,"検査者氏名",null,null,null,null,null,{"$f":"'1_入力シート【基本情報】'!$EO$81","v":""}]
[]
[]
[null,"【１．所有者】"]
[null,null,null,"【イ．氏名のフリガナ】",null,null,null,null,null,null,null,null,null,null,{"$f":"IF('1_入力シート【基本情報】'!$ER$36=\"\",\"\",ASC('1_入力シート【基本情報】'!$ER$36))","v":""}]
[null,null,null,"【ロ．氏名】",null,null,null,null,null,null,null,null,null,null,{"$f":"'1_入力シート【基本情報】'!$ER$37","v":""},null,null,null,null,null,null,null,null,null,null,null,null,null,null,null,null,null,null,null,null,null,null,null,null,null,null,null,null,null,null,null,null,null,null,null,null,null,null,null,null,null,null,null,{"$f":"'1_入力シート【基本情報】'!EL42","v":"郵便番号の未入力判定"}]
[null,null,null,"【ハ．郵便番号】",null,null,null,null,null,null,null,null,null,null,{"$f":"IF(BG23=1,\"\",'1_入力シート【基本情報】'!$EI$43)","v":""},null,null,null,null,null,null,null,null,null,null,null,null,null,null,null,null,null,null,null,null,null,null,null,null,null,null,null,null,null,null,null,null,null,null,null,null,null,null,null,null,null,null,null,{"$f":"'1_入力シート【基本情報】'!EL43","v":1}]
[null,null,null,"【ニ．住所】",null,null,null,null,null,null,null,null,null,null,{"$f":"'1_入力シート【基本情報】'!$EP$44","v":""},null,null,null,null,null,null,null,null,null,null,null,null,null,null,null,null,null,null,null,null,null,null,null,null,null,null,null,null,null,null,null,null,null,null,null,null,null,null,null,null,null,null,null,{"$f":"'1_入力シート【基本情報】'!EL44","v":"電話番号の未入力判定"}]
[null,null,null,"【ホ．電話番号】",null,null,null,null,null,null,null,null,null,null,{"$f":"IF(BG25=1,\"\",'1_入力シート【基本情報】'!$EI$45)","v":""},null,null,null,null,null,null,null,null,null,null,null,null,null,null,null,null,null,null,null,null,null,null,null,null,null,null,null,null,null,null,null,null,null,null,null,null,null,null,null,null,null,null,null,{"$f":"'1_入力シート【基本情報】'!EL45","v":1}]
[]
[]
[null,"【２．管理者】"]
[null,null,null,"【イ．氏名のフリガナ】",null,null,null,null,null,null,null,null,null,null,{"$f":"IF('1_入力シート【基本情報】'!EM47=FALSE,ASC('1_入力シート【基本情報】'!ER48),ASC('1_入力シート【基本情報】'!ER36))","v":""}]
[null,null,null,"【ロ．氏名】",null,null,null,null,null,null,null,null,null,null,{"$f":"IF('1_入力シート【基本情報】'!EM47=FALSE,'1_入力シート【基本情報】'!ER49,'1_入力シート【基本情報】'!ER37)","v":""},null,null,null,null,null,null,null,null,null,null,null,null,null,null,null,null,null,null,null,null,null,null,null,null,null,null,null,null,null,null,null,null,null,null,null,null,null,null,null,null,null,null,null,{"$f":"'1_入力シート【基本情報】'!EL53","v":"郵便番号の未入力判定"}]
[null,null,null,"【ハ．郵便番号】",null,null,null,null,null,null,null,null,null,null,{"$f":"IF('1_入力シート【基本情報】'!EM47=FALSE,IF(BG31=1,\"\",ASC('1_入力シート【基本情報】'!EI54)),ASC('1_入力シート【基本情報】'!EI43))","v":""},null,null,null,null,null,null,null,null,null,null,null,null,null,null,null,null,null,null,null,null,null,null,null,null,null,null,null,null,null,null,null,null,null,null,null,null,null,null,null,null,null,null,null,{"$f":"'1_入力シート【基本情報】'!EL54","v":1}]
[null,null,null,"【ニ．住所】",null,null,null,null,null,null,null,null,null,null,{"$f":"IF('1_入力シート【基本情報】'!EM47=TRUE,'1_入力シート【基本情報】'!EP44,'1_入力シート【基本情報】'!EP55)","v":""},null,null,null,null,null,null,null,null,null,null,null,null,null,null,null,null,null,null,null,null,null,null,null,null,null,null,null,null,null,null,null,null,null,null,null,null,null,null,null,null,null,null,null,{"$f":"'1_入力シート【基本情報】'!EL55","v":"電話番号の未入力判定"}]
[null,null,null,"【ホ．電話番号】",null,null,null,null,null,null,null,null,null,null,{"$f":"IF('1_入力シート【基本情報】'!EM47=FALSE,IF(BG33=1,\"\",ASC('1_入力シート【基本情報】'!EI56)),ASC('1_入力シート【基本情報】'!EI45))","v":""},null,null,null,null,null,null,null,null,null,null,null,null,null,null,null,null,null,null,null,null,null,null,null,null,null,null,null,null,null,null,null,null,null,null,null,null,null,null,null,null,null,null,null,{"$f":"'1_入力シート【基本情報】'!EL56","v":1}]
[]
[]
[null,"【３．報告対象建築物】"]
[null,null,null,"【イ．所在地】",null,null,null,null,null,null,null,null,null,null,{"$f":"'1_入力シート【基本情報】'!$EI$16","v":""}]
[null,null,null,"【ロ．名称のフリガナ】",null,null,null,null,null,null,null,null,null,null,{"$f":"IF('1_入力シート【基本情報】'!AB14=\"\",\"\",ASC('1_入力シート【基本情報】'!AB14))","v":""}]
[null,null,null,"【ハ．名称】",null,null,null,null,null,null,null,null,null,null,{"$f":"'1_入力シート【基本情報】'!$AB$15","v":0}]
[null,null,null,"【ニ．用途】",null,null,null,null,null,null,null,null,null,null,{"$f":"'1_入力シート【基本情報】'!$AB$21","v":0}]
[]
[]
[null,"【４．検査による指摘の概要】"]
[null,null,null,null,{"$f":"IF(EL605=\"レ\",\"レ\",IF(EM605=\"レ\",\"レ\",\"\"))","v":""},"要是正の指摘あり 　",null,null,null,null,null,null,null,null,"（",{"$f":"EM605","v":""},"既存不適格 ）",null,null,null,null,null,null,null,{"$f":"IF(OR(EK605=\"レ\",EJ605=\"レ\"),\"レ\",\"\")","v":""},"指摘なし"]
[]
[]
[]
[]
[null,"　※受付欄",null,null,null,null,null,null,null,null,null,null,"　※特記欄",null,null,null,null,null,null,null,null,null,null,null,null,null,null,null,null,null,null,null,null,null,null,null,null,"　※整理番号欄"]
[null,null,null,null,null,"年",null,null,"月",null,null,"日"]
[null,"第",null,null,null,null,null,null,null,null,null,"号"]
[null,"係員氏名"]
[]
[]
[]
[]
[]
[]
[]
[]
["（第二面）"]
[null,"防火設備の状況等"]
[]
[]
[null,"【１．建築物の概要】"]
[null,null,null,"【イ．階数】　",null,null,null,null,null,null,null,"地上",null,{"$f":"IF('1_入力シート【基本情報】'!AB59=\"\",\"\",'1_入力シート【基本情報】'!AB59)","v":""},null,null,"階",null,"地下",null,{"$f":"IF('1_入力シート【基本情報】'!AB60=\"\",\"\",'1_入力シート【基本情報】'!AB60)","v":""},null,null,"階"]
[null,null,null,"【ロ．建築面積】",null,null,null,null,null,null,null,{"$f":"IF('1_入力シート【基本情報】'!AB61=\"\",\"\",'1_入力シート【基本情報】'!AB61)","v":""},null,null,null,null,null,null,"㎡"]
[null,null,null,"【ハ．延べ面積】",null,null,null,null,null,null,null,{"$f":"IF('1_入力シート【基本情報】'!AB62=\"\",\"\",'1_入力シート【基本情報】'!AB62)","v":""},null,null,null,null,null,null,"㎡"]
[]
[]
[null,"【２．確認済証交付年月日等】"]
[null,null,null,"【イ．確認済証交付年月日】",null,null,null,null,null,null,null,null,null,null,null,null,null,null,null,{"$f":"'1_入力シート【基本情報】'!$AB$65","v":0},null,{"$f":"'1_入力シート【基本情報】'!$AE$65","v":0},null,"年",{"$f":"'1_入力シート【基本情報】'!$AJ$65","v":0},null,"月",{"$f":"'1_入力シート【基本情報】'!$AO$65","v":0},null,"日",null,null,"第",{"$f":"IF('1_入力シート【基本情報】'!AV65=\"\",\"\",'1_入力シート【基本情報】'!AV65)","v":""},null,null,null,null,null,null,null,null,null,null,"号"]
[null,null,null,"【ロ．確認済証交付者】",null,null,null,null,null,null,null,null,null,null,null,null,{"$f":"IF('1_入力シート【基本情報】'!EI66=\"レ\",\"レ\",\"\")","v":""},"建築主事",null,null,null,null,{"$f":"IF('1_入力シート【基本情報】'!EJ66=\"レ\",\"レ\",\"\")","v":""},"指定確認検査機関",null,null,null,null,null,null,null," (",{"$f":"IF('1_入力シート【基本情報】'!AJ66=\"\",\"\",'1_入力シート【基本情報】'!AJ66)","v":""},null,null,null,null,null,null,null,null,null,null,null,null,")"]
[null,null,null,"【ハ．検査済証交付年月日】",null,null,null,null,null,null,null,null,null,null,null,null,null,null,null,{"$f":"'1_入力シート【基本情報】'!AB67","v":0},null,{"$f":"'1_入力シート【基本情報】'!$AE$67","v":0},null,"年",{"$f":"'1_入力シート【基本情報】'!$AJ$67","v":0},null,"月",{"$f":"'1_入力シート【基本情報】'!$AO$67","v":0},null,"日",null,null,"第",{"$f":"IF('1_入力シート【基本情報】'!AV67=\"\",\"\",'1_入力シート【基本情報】'!AV67)","v":""},null,null,null,null,null,null,null,null,null,null,"号"]
[null,null,null,"【ニ．検査済証交付者】",null,null,null,null,null,null,null,null,null,null,null,null,{"$f":"IF('1_入力シート【基本情報】'!EI68=\"レ\",\"レ\",\"\")","v":""},"建築主事",null,null,null,null,{"$f":"IF('1_入力シート【基本情報】'!EJ68=\"レ\",\"レ\",\"\")","v":""},"指定確認検査機関",null,null,null,null,null,null,null," (",{"$f":"IF('1_入力シート【基本情報】'!AJ68=\"\",\"\",'1_入力シート【基本情報】'!AJ68)","v":""},null,null,null,null,null,null,null,null,null,null,null,null,")"]
[]
[]
[null,"【３．検査日等】",null,null,null,null,null,null,null,null,null,null,null,null,null,null,null,null,null,null,null,null,null,null,null,null,null,null,null,null,null,null,null,null,null,null,null,null,null,null,null,null,null,null,null,null,null,null,null,null,null,null,null,null,null,null,null,null,{"$f":"'1_入力シート【基本情報】'!EG70","v":"未入力判定(年月日未入力で1)"}]
[null,null,null,"【イ．今回の検査】",null,null,null,null,null,null,null,null,null,null,null,null,null,{"$f":"IF(BG79=1,\"\",\"令和\")","v":""},null,{"$f":"'1_入力シート【基本情報】'!$AI$71","v":0},null,"年",{"$f":"'1_入力シート【基本情報】'!$AN$71","v":0},null,"月",{"$f":"'1_入力シート【基本情報】'!$AS$71","v":0},null,"日","実施",null,null,null,null,null,null,null,null,null,null,null,null,null,null,null,null,null,null,null,null,null,null,null,null,null,null,null,null,null,{"$f":"'1_入力シート【基本情報】'!EG71","v":1}]
[null,null,null,"【ロ．前回の検査】",null,null,null,null,null,null,null,null,null,{"$f":"IF('1_入力シート【基本情報】'!EI72=\"レ\",\"レ\",\"\")","v":""},"実施（",null,null,{"$f":"'1_入力シート【基本情報】'!$AF$72","v":0},null,{"$f":"'1_入力シート【基本情報】'!$AI$72","v":0},null,"年",{"$f":"'1_入力シート【基本情報】'!$AN$72","v":0},null,"月",{"$f":"'1_入力シート【基本情報】'!$AS$72","v":0},null,"日","報告）",null,null,null,{"$f":"IF('1_入力シート【基本情報】'!EJ72=\"レ\",\"レ\",\"\")","v":""},"未実施"]
[null,null,null,"【ハ．前回の検査に関する書類の写し】",null,null,null,null,null,null,null,null,null,null,null,null,null,null,null,null,null,{"$f":"IF('1_入力シート【基本情報】'!EK72=\"レ\",\"レ\",\"\")","v":""},"有",null,null,{"$f":"IF('1_入力シート【基本情報】'!EL72=\"レ\",\"レ\",\"\")","v":""},"無"]
[]
[]
[null,"【４．防火設備の検査者】"]
[null,null,"（代表となる検査者）"]
[null,null,null,"【イ．資格】",null,null,null,null,null,null,null,null,null,null,"（",{"$f":"IF('1_入力シート【基本情報】'!EO76=\"\",\"\",'1_入力シート【基本情報】'!EO76)","v":""},null,"）建築士",null,null,null,null,null,null,"（",{"$f":"IF('1_入力シート【基本情報】'!AB77=\"\",\"\",'1_入力シート【基本情報】'!AB77)","v":""},null,null,null,null,null,null,null,"）登録",null,null,null,"第",{"$f":"IF('1_入力シート【基本情報】'!AB78=\"\",\"\",'1_入力シート【基本情報】'!AB78)","v":""},null,null,null,null,null,"号"]
[null,null,null,null,null,null,null,null,null,null,null,null,null,null,"防火設備検査員",null,null,null,null,null,null,null,null,null,null,null,null,null,null,null,null,null,null,null,null,null,null,"第",{"$f":"IF('1_入力シート【基本情報】'!AB79=\"\",\"\",'1_入力シート【基本情報】'!AB79)","v":""},null,null,null,null,null,"号"]
[null,null,null,"【ロ．氏名のフリガナ】",null,null,null,null,null,null,null,null,null,null,{"$f":"IF('1_入力シート【基本情報】'!AB80=\"\",\"\",ASC('1_入力シート【基本情報】'!AB80))","v":""}]
[null,null,null,"【ハ．氏名】 ",null,null,null,null,null,null,null,null,null,null,{"$f":"IF('1_入力シート【基本情報】'!AB81=\"\",\"\",'1_入力シート【基本情報】'!AB81)","v":""}]
[null,null,null,"【ニ．勤務先】",null,null,null,null,null,null,null,null,null,null,{"$f":"IF('1_入力シート【基本情報】'!AB82=\"\",\"\",'1_入力シート【基本情報】'!AB82)","v":""}]
[null,null,null,null,null,null,null,null,null,null,null,null,null,null,"（",{"$f":"IF('1_入力シート【基本情報】'!AB83=\"\",\"\",'1_入力シート【基本情報】'!AB83)","v":""},null,"）建築士事務所",null,null,null,null,null,null,"（",{"$f":"IF('1_入力シート【基本情報】'!AB84=\"\",\"\",'1_入力シート【基本情報】'!AB84)","v":""},null,null,null,null,null,"）知事登録",null,null,null,null,null,"第",{"$f":"IF('1_入力シート【基本情報】'!AB85=\"\",\"\",'1_入力シート【基本情報】'!AB85)","v":""},null,null,null,null,null,"号",null,null,null,null,null,null,null,null,null,null,null,null,null,{"$f":"'1_入力シート【基本情報】'!EL85","v":"郵便番号の未入力判定"}]
[null,null,null,"【ホ．郵便番号】",null,null,null,null,null,null,null,null,null,null,{"$f":"IF(BG92=1,\"\",'1_入力シート【基本情報】'!$EI$86)","v":""},null,null,null,null,null,null,null,null,null,null,null,null,null,null,null,null,null,null,null,null,null,null,null,null,null,null,null,null,null,null,null,null,null,null,null,null,null,null,null,null,null,null,null,{"$f":"'1_入力シート【基本情報】'!EL86","v":1}]
[null,null,null,"【へ．所在地】",null,null,null,null,null,null,null,null,null,null,{"$f":"'1_入力シート【基本情報】'!$AB$87","v":0},null,null,null,null,null,null,null,null,null,null,null,null,null,null,null,null,null,null,null,null,null,null,null,null,null,null,null,null,null,null,null,null,null,null,null,null,null,null,null,null,null,null,null,{"$f":"'1_入力シート【基本情報】'!EL87","v":"電話番号の未入力判定"}]
[null,null,null,"【ト．電話番号】",null,null,null,null,null,null,null,null,null,null,{"$f":"IF(BG94=1,\"\",'1_入力シート【基本情報】'!$EI$88)","v":""},null,null,null,null,null,null,null,null,null,null,null,null,null,null,null,null,null,null,null,null,null,null,null,null,null,null,null,null,null,null,null,null,null,null,null,null,null,null,null,null,null,null,null,{"$f":"'1_入力シート【基本情報】'!EL88","v":1}]
[null,null,"（その他の検査者）"]
[null,null,null,"【イ．資格】",null,null,null,null,null,null,null,null,null,null,"（",{"$f":"'1_入力シート【基本情報】'!$EO$90","v":""},null,"）建築士",null,null,null,null,null,null,"（",{"$f":"IF('1_入力シート【基本情報】'!EO89=FALSE,ASC('1_入力シート【基本情報】'!AB91),ASC('1_入力シート【基本情報】'!AB91))","v":""},null,null,null,null,null,null,null,"）登録",null,null,null,"第",{"$f":"IF('1_入力シート【基本情報】'!EO89=FALSE,ASC('1_入力シート【基本情報】'!AB92),ASC('1_入力シート【基本情報】'!AB92))","v":""},null,null,null,null,null,"号"]
[null,null,null,null,null,null,null,null,null,null,null,null,null,null,"防火設備検査員",null,null,null,null,null,null,null,null,null,null,null,null,null,null,null,null,null,null,null,null,null,null,"第",{"$f":"IF('1_入力シート【基本情報】'!AB93=\"\",\"\",'1_入力シート【基本情報】'!AB93)","v":""},null,null,null,null,null,"号",null,null,null,null,null,null,null,null,null,null,null,null,null,"検査結果表　設備ごと（未入力）情報（未入力：0）",null,null,null,null,null,null,"※未入力判定ロジック：検査結果表の必須入力項目である”検査結果”項目のセルに1件も入力済みのセルがない。"]
[null,null,null,"【ロ．氏名のフリガナ】",null,null,null,null,null,null,null,null,null,null,{"$f":"IF('1_入力シート【基本情報】'!EO89=FALSE,ASC('1_入力シート【基本情報】'!AB94),ASC('1_入力シート【基本情報】'!AB94))","v":""},null,null,null,null,null,null,null,null,null,null,null,null,null,null,null,null,null,null,null,null,null,null,null,null,null,null,null,null,null,null,null,null,null,null,null,null,null,null,null,null,null,null,null,{"$f":"'2_入力シート【検査結果表】 防火扉'!$EM$12","v":0},"防火扉",null,null,null,null,null,"判定そのものは各検査結果表の右側の中間処理列内にて"]
[null,null,null,"【ハ．氏名】 ",null,null,null,null,null,null,null,null,null,null,{"$f":"IF('1_入力シート【基本情報】'!EO89=FALSE,ASC('1_入力シート【基本情報】'!AB95),ASC('1_入力シート【基本情報】'!AB95))","v":""},null,null,null,null,null,null,null,null,null,null,null,null,null,null,null,null,null,null,null,null,null,null,null,null,null,null,null,null,null,null,null,null,null,null,null,null,null,null,null,null,null,null,null,{"$f":"'3_入力シート【検査結果表】防火シャッター'!$EJ$12","v":0},"防火シャッター"]
[null,null,null,"【ニ．勤務先】",null,null,null,null,null,null,null,null,null,null,{"$f":"IF('1_入力シート【基本情報】'!EO89=FALSE,'1_入力シート【基本情報】'!AB96,'1_入力シート【基本情報】'!AB82)","v":0},null,null,null,null,null,null,null,null,null,null,null,null,null,null,null,null,null,null,null,null,null,null,null,null,null,null,null,null,null,null,null,null,null,null,null,null,null,null,null,null,null,null,null,{"$f":"'4_入力シート【検査結果表】 耐火クロススクリーン'!$EJ$12","v":0},"耐火クロススクリーン"]
[null,null,null,null,null,null,null,null,null,null,null,null,null,null,"（",{"$f":"IF('1_入力シート【基本情報】'!EO89=FALSE,ASC('1_入力シート【基本情報】'!AB97),ASC('1_入力シート【基本情報】'!AB83))","v":""},null,"）建築士事務所",null,null,null,null,null,null,"（",{"$f":"IF('1_入力シート【基本情報】'!EO89=FALSE,ASC('1_入力シート【基本情報】'!AB98),ASC('1_入力シート【基本情報】'!AB84))","v":""},null,null,null,null,null,"）知事登録",null,null,null,null,null,"第",{"$f":"IF('1_入力シート【基本情報】'!EO89=FALSE,ASC('1_入力シート【基本情報】'!AB99),ASC('1_入力シート【基本情報】'!AB85))","v":""},null,null,null,null,null,"号",null,null,null,null,null,null,null,null,null,null,null,null,null,{"$f":"'5_入力シート【検査結果表】 ドレンチャー'!$EJ$12","v":0},"ドレンチャー",null,null,null,null,{"$f":"'1_入力シート【基本情報】'!EL99","v":"郵便番号の未入力判定"}]
[null,null,null,"【ホ．郵便番号】",null,null,null,null,null,null,null,null,null,null,{"$f":"IF('1_入力シート【基本情報】'!EO89=FALSE,IF(BM102=1,\"\",ASC('1_入力シート【基本情報】'!EI100)),ASC('1_入力シート【基本情報】'!EI86))","v":""},null,null,null,null,null,null,null,null,null,null,null,null,null,null,null,null,null,null,null,null,null,null,null,null,null,null,null,null,null,null,null,null,null,null,null,null,null,null,null,null,null,null,null,null,null,null,null,null,null,{"$f":"'1_入力シート【基本情報】'!EL100","v":1}]
[null,null,null,"【へ．所在地】",null,null,null,null,null,null,null,null,null,null,{"$f":"IF('1_入力シート【基本情報】'!EO89=FALSE,ASC('1_入力シート【基本情報】'!AB101),ASC('1_入力シート【基本情報】'!AB87))","v":""},null,null,null,null,null,null,null,null,null,null,null,null,null,null,null,null,null,null,null,null,null,null,null,null,null,null,null,null,null,null,null,null,null,null,null,null,null,null,null,null,null,null,null,{"$f":"IF(SUM(BG98:BG101)=0,1,0)","v":1},"4種類の検査表完全未入力（1）、入力ｱﾘ(0)",null,null,null,null,{"$f":"'1_入力シート【基本情報】'!EL101","v":"電話番号の未入力判定"}]
[null,null,null,"【ト．電話番号】",null,null,null,null,null,null,null,null,null,null,{"$f":"IF('1_入力シート【基本情報】'!EO89=FALSE,IF(BM104=1,\"\",ASC('1_入力シート【基本情報】'!EI102)),ASC('1_入力シート【基本情報】'!EI88))","v":""},null,null,null,null,null,null,null,null,null,null,null,null,null,null,null,null,null,null,null,null,null,null,null,null,null,null,null,null,null,null,null,null,null,null,null,null,null,null,null,null,null,null,null,null,null,null,null,null,null,{"$f":"'1_入力シート【基本情報】'!EL102","v":1}]
[null,null,"（その他の検査者２）"]
[null,null,null,"【イ．資格】",null,null,null,null,null,null,null,null,null,null,"（",null,null,"）建築士",null,null,null,null,null,null,"（",null,null,null,null,null,null,null,null,"）登録",null,null,null,"第",null,null,null,null,null,null,"号"]
[null,null,null,null,null,null,null,null,null,null,null,null,null,null,"防火設備検査員",null,null,null,null,null,null,null,null,null,null,null,null,null,null,null,null,null,null,null,null,null,null,"第",null,null,null,null,null,null,"号",null,null,null,null,null,null,null,null,null,null,null,null,null,0,"4種類の検査表完全未入力（1）、入力ｱﾘ(0)"]
[null,null,null,"【ロ．氏名のフリガナ】"]
[null,null,null,"【ハ．氏名】 "]
[null,null,null,"【ニ．勤務先】"]
[null,null,null,null,null,null,null,null,null,null,null,null,null,null,"（",null,null,"）建築士事務所",null,null,null,null,null,null,"（",null,null,null,null,null,null,"）知事登録",null,null,null,null,null,"第",null,null,null,null,null,null,"号"]
[null,null,null,"【ホ．郵便番号】"]
[null,null,null,"【へ．所在地】"]
[null,null,null,"【ト．電話番号】"]
[]
[]
[null,"【５．防火設備の概要】"]
[null,null,"【イ．避難安全検証法等の適用】　"]
[null,null,null,null,{"$f":"IF('1_入力シート【基本情報】'!AB122=\"適用\",\"レ\",\"\")","v":""},"区画避難安全検証法",null,null,null,null,null,null,null,null,"（",{"$f":"IF('1_入力シート【基本情報】'!AE122=\"\",\"\",'1_入力シート【基本情報】'!AE122)","v":""},null,null,"階）",null,null,null,null,{"$f":"IF('1_入力シート【基本情報】'!AB123=\"適用\",\"レ\",\"\")","v":""},"階避難安全検証法",null,null,null,null,null,null,null,"（",{"$f":"IF('1_入力シート【基本情報】'!AE123=\"\",\"\",'1_入力シート【基本情報】'!AE123)","v":""},null,null,"階）"]
[null,null,null,null,{"$f":"IF('1_入力シート【基本情報】'!AB124=\"適用\",\"レ\",\"\")","v":""},"全館避難安全検証法",null,null,null,null,null,null,null,null,null,null,null,null,null,null,null,null,null,{"$f":"IF('1_入力シート【基本情報】'!AB125=\"適用\",\"レ\",\"\")","v":""},"その他",null,null,null,null,"（",{"$f":"IF('1_入力シート【基本情報】'!AF125=\"\",\"\",'1_入力シート【基本情報】'!AF125)","v":""},null,null,null,null,null,null,null,null,null,null,null,null,null,"）"]
[null,null,"【ロ．防火設備】　"]
[null,null,null,null,{"$f":"IF('1_入力シート【基本情報】'!EI126=\"レ\",\"レ\",\"\")","v":""},"防火扉",null,null,null,null,null,null,null,null,null,"（",{"$f":"IF('1_入力シート【基本情報】'!AB126=\"\",\"\",'1_入力シート【基本情報】'!AB126)","v":""},null,null,"枚）",null,null,null,{"$f":"IF('1_入力シート【基本情報】'!EI127=\"レ\",\"レ\",\"\")","v":""},"防火シャッター",null,null,null,null,null,null,null,"（",{"$f":"IF('1_入力シート【基本情報】'!AB127=\"\",\"\",'1_入力シート【基本情報】'!AB127)","v":""},null,null,"枚）"]
[null,null,null,null,{"$f":"IF('1_入力シート【基本情報】'!EI128=\"レ\",\"レ\",\"\")","v":""},"耐火クロススクリーン",null,null,null,null,null,null,null,null,null,"（",{"$f":"IF('1_入力シート【基本情報】'!AB128=\"\",\"\",'1_入力シート【基本情報】'!AB128)","v":""},null,null,"枚）",null,null,null,{"$f":"IF('1_入力シート【基本情報】'!EI129=\"レ\",\"レ\",\"\")","v":""},"ドレンチャー",null,null,null,null,null,null,null,"（",{"$f":"IF('1_入力シート【基本情報】'!AB129=\"\",\"\",'1_入力シート【基本情報】'!AB129)","v":""},null,null,"台）"]
[null,null,null,null,{"$f":"IF('1_入力シート【基本情報】'!EI130=\"レ\",\"レ\",\"\")","v":""},"その他　",null,null,null,null,null,null,null,null,null,"（",{"$f":"IF('1_入力シート【基本情報】'!AB130=\"\",\"\",'1_入力シート【基本情報】'!AB130)","v":""},null,null,"台）"]
[]
[]
[null,"【６．防火設備の検査の状況】"]
[null,null,"【イ．指摘の内容】　",null,null,null,null,null,null,null,null,null,null,null,{"$f":"IF(EL605=\"レ\",\"レ\",IF(EM605=\"レ\",\"レ\",\"\"))","v":""},"要是正の指摘あり",null,null,null,null,null,null,null,"（",{"$f":"EM605","v":""},"既存不適格 ）",null,null,null,null,null,null,null,{"$f":"IF(OR(EK605=\"レ\",EJ605=\"レ\"),\"レ\",\"\")","v":""},"指摘なし"]
[null,null,"【ロ．指摘の概要】",null,null,null,null,null,null,null,null,null,null,null,{"$f":"IF(BG103=1,\"\",IF(AND(O128=\"レ\",Y128=\"\"),\"別紙参照\",\"\"))","v":""}]
[]
[]
[]
[]
[null,null,"【ハ．改善予定の有無】",null,null,null,null,null,null,null,null,null,null,null,{"$f":"IF(OR(EN590=\"レ\",EO590=\"レ\",ES590=\"レ\",ET590=\"レ\"),\"レ\",\"\")","v":""},"有（",null,{"$f":"IF(O134=\"レ\",\"令和\",\"\")","v":""},null,{"$f":"IF(EP590<>\"\",EP590,IF(EU590<>\"\",EU590,\"\"))","v":""},null,"年",{"$f":"IF(EQ590<>\"\",EQ590,IF(EV590<>\"\",EV590,\"\"))","v":""},null,"月に改善予定）",null,null,null,null,null,null,null,{"$f":"IF(BG103=1,\"\",IF(OR(ER590=\"レ\",EW590=\"レ\"),\"レ\",\"\"))","v":""},"無"]
[]
[]
[null,"【７．防火設備の不具合の発生状況】"]
[null,null,"【イ．不具合】　",null,null,null,null,null,null,null,null,null,{"$f":"'1_入力シート【基本情報】'!$EJ$143","v":""},"有",null,null,null,{"$f":"'1_入力シート【基本情報】'!$EK$143","v":""},"無"]
[null,null,"【ロ．不具合記録】",null,null,null,null,null,null,null,null,null,{"$f":"'1_入力シート【基本情報】'!$EM$143","v":""},"有",null,null,null,{"$f":"'1_入力シート【基本情報】'!$EN$143","v":""},"無"]
[null,null,"【ハ．改善の状況】　",null,null,null,null,null,null,null,null,null,{"$f":"'1_入力シート【基本情報】'!$EJ$147","v":""},"実施済",null,null,null,{"$f":"'1_入力シート【基本情報】'!$EK$147","v":""},"改善予定（",null,null,null,null,{"$f":"IF(R140=\"レ\",\"令和\",\"\")","v":""},null,{"$f":"'1_入力シート【基本情報】'!$EJ$149","v":""},null,"年",{"$f":"'1_入力シート【基本情報】'!$EK$149","v":""},null,"月に改善予定）",null,null,null,null,null,null,null,{"$f":"'1_入力シート【基本情報】'!$EL$147","v":""},"予定なし"]
[]
[]
[null,"【８．備考】"]
[null,null,null,null,{"$f":"'1_入力シート【基本情報】'!$EQ$133","v":0}]
[]
[]
[]
["（第二面別紙）"]
[]
[null,null,"防火扉に関する指摘の概要"]
[null,null,{"$f":"'2_入力シート【検査結果表】 防火扉'!$GQ$12","v":"　"}]
[]
[]
[]
[]
[]
[]
[]
[]
[]
[null,null,"防火シャッターに関する指摘の概要"]
[null,null,{"$f":"'3_入力シート【検査結果表】防火シャッター'!$GP$14","v":"　"}]
[]
[]
[]
[]
[]
[]
[]
[]
[]
[null,null,"耐火クロススクリーンに関する指摘の概要"]
[null,null,{"$f":"'4_入力シート【検査結果表】 耐火クロススクリーン'!$GP$11","v":"　"}]
[]
[]
[]
[]
[]
[]
[]
[]
[]
[null,null,"ドレンチャーその他の水幕を形成する防火設備に関する指摘の概要"]
[null,null,{"$f":"'5_入力シート【検査結果表】 ドレンチャー'!$GO$12","v":"　"}]
[]
[]
[]
[]
[]
[]
[]
[]
[]
[]
["（第三面）"]
[null,"防火設備に係る不具合の状況"]
[]
[]
[null,"不具合を把握した年月",null,null,null,null,null,"不具合の概要",null,null,null,null,null,null,null,null,null,"考えられる原因",null,null,null,null,null,null,null,null,null,null,"改善(予定)\n年月",null,null,null,null,null,"改善措置の概要等"]
[null,{"$f":"IF('1_入力シート【基本情報】'!EH146>0,'1_入力シート【基本情報】'!M146&'1_入力シート【基本情報】'!P146&\"年\"&'1_入力シート【基本情報】'!S146&\"月\",\"\")","v":""},null,null,null,null,null,{"$f":"'1_入力シート【基本情報】'!$V146","v":0},null,null,null,null,null,null,null,null,null,{"$f":"'1_入力シート【基本情報】'!$AH146","v":0},null,null,null,null,null,null,null,null,null,null,{"$f":"IF(AND('1_入力シート【基本情報】'!EI146>0,'1_入力シート【基本情報】'!ET146<>1),\"令和\"&'1_入力シート【基本情報】'!AZ146&\"年\"&'1_入力シート【基本情報】'!BC146&\"月\",IF('1_入力シート【基本情報】'!ET146=1,\"予定なし\",\"\"))","v":""},null,null,null,null,null,{"$f":"'1_入力シート【基本情報】'!BF146","v":0}]
[null,{"$f":"IF('1_入力シート【基本情報】'!EH147>0,'1_入力シート【基本情報】'!M147&'1_入力シート【基本情報】'!P147&\"年\"&'1_入力シート【基本情報】'!S147&\"月\",\"\")","v":""},null,null,null,null,null,{"$f":"'1_入力シート【基本情報】'!$V147","v":0},null,null,null,null,null,null,null,null,null,{"$f":"'1_入力シート【基本情報】'!$AH147","v":0},null,null,null,null,null,null,null,null,null,null,{"$f":"IF(AND('1_入力シート【基本情報】'!EI147>0,'1_入力シート【基本情報】'!ET147<>1),\"令和\"&'1_入力シート【基本情報】'!AZ147&\"年\"&'1_入力シート【基本情報】'!BC147&\"月\",IF('1_入力シート【基本情報】'!ET147=1,\"予定なし\",\"\"))","v":""},null,null,null,null,null,{"$f":"'1_入力シート【基本情報】'!BF147","v":0}]
[null,{"$f":"IF('1_入力シート【基本情報】'!EH148>0,'1_入力シート【基本情報】'!M148&'1_入力シート【基本情報】'!P148&\"年\"&'1_入力シート【基本情報】'!S148&\"月\",\"\")","v":""},null,null,null,null,null,{"$f":"'1_入力シート【基本情報】'!$V148","v":0},null,null,null,null,null,null,null,null,null,{"$f":"'1_入力シート【基本情報】'!$AH148","v":0},null,null,null,null,null,null,null,null,null,null,{"$f":"IF(AND('1_入力シート【基本情報】'!EI148>0,'1_入力シート【基本情報】'!ET148<>1),\"令和\"&'1_入力シート【基本情報】'!AZ148&\"年\"&'1_入力シート【基本情報】'!BC148&\"月\",IF('1_入力シート【基本情報】'!ET148=1,\"予定なし\",\"\"))","v":""},null,null,null,null,null,{"$f":"'1_入力シート【基本情報】'!BF148","v":0}]
[null,{"$f":"IF('1_入力シート【基本情報】'!EH149>0,'1_入力シート【基本情報】'!M149&'1_入力シート【基本情報】'!P149&\"年\"&'1_入力シート【基本情報】'!S149&\"月\",\"\")","v":""},null,null,null,null,null,{"$f":"'1_入力シート【基本情報】'!$V149","v":0},null,null,null,null,null,null,null,null,null,{"$f":"'1_入力シート【基本情報】'!$AH149","v":0},null,null,null,null,null,null,null,null,null,null,{"$f":"IF(AND('1_入力シート【基本情報】'!EI149>0,'1_入力シート【基本情報】'!ET149<>1),\"令和\"&'1_入力シート【基本情報】'!AZ149&\"年\"&'1_入力シート【基本情報】'!BC149&\"月\",IF('1_入力シート【基本情報】'!ET149=1,\"予定なし\",\"\"))","v":""},null,null,null,null,null,{"$f":"'1_入力シート【基本情報】'!BF149","v":0}]
[null,null,null,null,null,null,null,null,null,null,null,null,null,null,null,null,null,null,null,null,null,null,null,null,null,null,null,null,{"$f":"IF('1_入力シート【基本情報】'!EI150>0,\"令和\"&'1_入力シート【基本情報】'!AZ150&\"年\"&'1_入力シート【基本情報】'!BC150&\"月\",\"\")","v":""}]
[null,null,null,null,null,null,null,null,null,null,null,null,null,null,null,null,null,null,null,null,null,null,null,null,null,null,null,null,{"$f":"IF('1_入力シート【基本情報】'!EI151>0,\"令和\"&'1_入力シート【基本情報】'!AZ151&\"年\"&'1_入力シート【基本情報】'!BC151&\"月\",\"\")","v":""}]
[null,null,null,null,null,null,null,null,null,null,null,null,null,null,null,null,null,null,null,null,null,null,null,null,null,null,null,null,{"$f":"IF('1_入力シート【基本情報】'!EI152>0,\"令和\"&'1_入力シート【基本情報】'!AZ152&\"年\"&'1_入力シート【基本情報】'!BC152&\"月\",\"\")","v":""}]
[null,null,null,null,null,null,null,null,null,null,null,null,null,null,null,null,null,null,null,null,null,null,null,null,null,null,null,null,{"$f":"IF('1_入力シート【基本情報】'!EI153>0,\"令和\"&'1_入力シート【基本情報】'!AZ153&\"年\"&'1_入力シート【基本情報】'!BC153&\"月\",\"\")","v":""}]
[null,null,null,null,null,null,null,null,null,null,null,null,null,null,null,null,null,null,null,null,null,null,null,null,null,null,null,null,{"$f":"IF('1_入力シート【基本情報】'!EI154>0,\"令和\"&'1_入力シート【基本情報】'!AZ154&\"年\"&'1_入力シート【基本情報】'!BC154&\"月\",\"\")","v":""}]
[null,null,null,null,null,null,null,null,null,null,null,null,null,null,null,null,null,null,null,null,null,null,null,null,null,null,null,null,{"$f":"IF('1_入力シート【基本情報】'!EI155>0,\"令和\"&'1_入力シート【基本情報】'!AZ155&\"年\"&'1_入力シート【基本情報】'!BC155&\"月\",\"\")","v":""}]
[]
[]
[]
[]
[null,"（注意）"]
[null,"１．各面共通関係"]
[null,null,"①","　※印のある欄は、記入しないでください。"]
[null,null,"②","　数字は算用数字を、単位はメートル法を用いてください。"]
[null,null,"③","　記入欄が不足する場合は、枠を拡大、行を追加して記入するか、別紙に必要な事項を記入し添えてくだ"]
[null,null,null,"　さい。"]
[null,"２．第一面関係"]
[null,null,"①","　検査者が２人以上の時は、代表となる検査者を検査者氏名欄に記入してください。"]
[null,null,"②","　１欄及び２欄は、所有者又は管理者が法人のときは、「ロ」はそれぞれ法人の名称及び代表者氏名を、"]
[null,null,null,"　「ニ」はそれぞれ法人の所在地を記入してください。"]
[null,null,"③","　第二面の６欄の「イ」において「要是正の指摘あり」のチェックボックスに「レ」マークを入れた場合"]
[null,null,null,"においては、４欄の「イ」の「要是正の指摘あり」のチェックボックスに「レ」マークを入れてくださ"]
[null,null,null,"い。また、第二面の６欄の「イ」において、「既存不適格」のチェックボックスに「レ」マークを入れた"]
[null,null,null,"ときは、併せて４欄の「イ」の「既存不適格」のチェックボックス」に「レ」マークを入れてください。"]
[null,"３．第二面関係"]
[null,null,"①","　この書類は、建築物ごとに、防火設備の概要及び当該防火設備の構造方法に係る検査結果について作成"]
[null,null,null,"してください。"]
[null,null,"②","　２欄の「イ」及び「ロ」は、検査対象の防火設備を有する建築物に関する直前の確認について、「ハ」"]
[null,null,null,"及び「ニ」は、検査対象の防火設備を有する建築物に関する直前の完了検査について、それぞれ記入して"]
[null,null,null,"ください。"]
[null,null,"③","　２欄の「ロ」及び「ニ」は、該当するチェックボックスに「レ」マークを入れ、「指定確認検査機関」"]
[null,null,null,"の場合には、併せてその名称を記入してください。"]
[null,null,"④","　３欄の「イ」は、検査が終了した年月日を記入し、「ロ」は、検査対象の防火設備に関する直前の報告"]
[null,null,null,"について記入してください。"]
[null,null,"⑤","　３欄の「ロ」は、報告の対象となっていない場合には「未実施」のチェックボックスに「レ」マークを"]
[null,null,null,"入れてください。"]
[null,null,"⑥","　３欄の「ハ」は、前回の定期検査の結果を記録した書類の写しの保存の有無について記入してくださ"]
[null,null,null,"い。"]
[null,null,"⑦","　４欄は、代表となる検査者並びに検査に係る防火設備に係る全ての検査者について記入してください。"]
[null,null,null,"当該防火設備の検査を行った検査者が１人の場合は、その他の検査者欄は削除して構いません。"]
[null,null,"⑧","　４欄の「イ」は、検査者の有する資格について記入してください。検査者が防火設備検査員である場合"]
[null,null,null,"は、防火設備検査員資格者証の交付番号を「防火設備検査員」の番号欄に記入してください。"]
[null,null,"⑨","　４欄の「ニ」は、検査者が法人に勤務している場合は、検査者の勤務先について記入し、勤務先が建築"]
[null,null,null,"士事務所のときは、事務所登録番号を併せて記入してください。"]
[null,null,"⑩","　４欄の「ホ」から「ト」までは、検査者が法人に勤務している場合は、検査者の勤務先について記入"]
[null,null,null,"し、検査者が法人に勤務していない場合は、検査者の住所について記入してください。"]
[null,null,"⑪","　５欄の「イ」は、建築基準法施行令第128条の６第３項に規定する区画避難安全検証法により区画避難安"]
[null,null,null,"全性能が検証された建築物のときは「区画避難安全検証法」のチェックボックスに、同令第129条第３項に"]
[null,null,null,"規定する階避難安全検証法により階避難安全性能が検証された建築物のときは「階避難安全検証法」の"]
[null,null,null,"チェックボックスに、同令第129条の２第４項に規定する全館避難安全検証法により全館避難安全性能が検"]
[null,null,null,"証された建築物のときは「全館避難安全検証法」のチェックボックスに、それぞれ「レ」マークを入れ、"]
[null,null,null,"「区画避難安全検証法」の場合は区画避難安全性能を検証した階を、「階避難安全検証法」の場合は階避"]
[null,null,null,"難安全検証を検証した階を、併せて記入してください。建築基準法第38条（同法第66条、第67条の2及び第"]
[null,null,null,"88条第1項において準用する場合を含む。）の規定による特殊構造方法等認定、同法第68条の25第１項の規"]
[null,null,null,"定による構造方法等の認定又は建築基準法の一部を改正する法律（平成10年法律第100号）による改正前の"]
[null,null,null,"建築基準法第38条の規定による認定を受けている建築物のうち、当該適用について特に報告が必要なもの"]
[null,null,null,"については「その他」のチェックボックスに「レ」マークを入れ、その概要を記入してください。"]
[null,null,"⑫","　５欄の「ロ」は、検査対象の防火設備について、チェックボックスに「レ」マークを入れてください。"]
[null,null,null,"また、防火扉、防火シャッター、耐火クロススクリーンについては、個々の扉又はカーテン部ごとにその"]
[null,null,null,"枚数を計上し、その合計を記入してください。ドレンチャーについては、散水ヘッドの合計の個数を記入"]
[null,null,null,"してください。「その他」の場合は具体的な内容と台数を記入してください。"]
[null,null,"⑬","　６欄の「イ」は、検査結果において、是正が必要と認められるときは「要是正の指摘あり」のチェック"]
[null,null,null,"ボックスに「レ」マークを入れ、当該指摘された箇所の全てに建築基準法第３条第２項の規定の適用を受"]
[null,null,null,"けているものであることが確認されたときは併せて「既存不適格」のチェックボックスに「レ」マークを"]
[null,null,null,"入れてください。"]
[null,null,"⑭","　６欄の「イ」の「要是正の指摘あり」のチェックボックスに「レ」マークを入れたとき（「既存不適"]
[null,null,null,"格」のチェックボックスに「レ」を入れたときを除く。）は、「ロ」に指摘の概要を記入してください。"]
[null,null,null,"指摘の概要を記入する場合にあっては、当該防火設備が設置されている区画の概要を明記してください。"]
[null,null,"⑮","　６欄の「イ」の「要是正の指摘あり」のチェックボックスに「レ」マークを入れ（「既存不適格」の"]
[null,null,null,"チェックボックスに「レ」を入れたときを除く。）、当該指摘を受けた項目について改善予定があるとき"]
[null,null,null,"は「ハ」の「有」のチェックボックスに「レ」マークを入れ、併せて改善予定年月を記入してください。"]
[null,null,null,"改善予定がないときは「ハ」の「無」のチェックボックスに「レ」マークを入れてください。"]
[null,null,"⑯","　前回検査時以降に把握した火災時の防火設備不作動等機器の故障、異常動作、損傷、腐食その他の劣化"]
[null,null,null,"に起因するもの（以下「不具合」という。）について第三面の「不具合の概要」欄に記入したときは、７"]
[null,null,null,"欄の「イ」の「有」のチェックボックスに「レ」マークを入れ、当該不具合について記録が有るときは７"]
[null,null,null,"欄の「ロ」の「有」のチェックボックスに「レ」マークを入れ、記録が無いときは７欄の「ロ」の「無」"]
[null,null,null,"のチェックボックスに「レ」マークを入れてください。また、第三面に記入された不具合のうち、当該不"]
[null,null,null,"具合を受けた改善を既に実施しているものがあり、かつ、改善を行う予定があるものがない場合には７欄"]
[null,null,null,"の「ハ」の「実施済」のチェックボックスに「レ」マークを入れ、第三面に記入された不具合のうち改善"]
[null,null,null,"を行う予定があるものがある場合には７欄の「改善予定」のチェックボックスに「レ」マークを入れ、併"]
[null,null,null,"せて改善予定年月を記入し、改善の予定がない場合には７欄の「予定なし」のチェックボックスに「レ」"]
[null,null,null,"マークを入れてください。"]
[null,null,"⑰","　各欄に掲げられている項目以外で特に報告すべき事項は、８欄又は別紙に記載して添えてください。"]
[null,"４．第三面関係"]
[null,null,"①","　第三面は、前回検査時以降に把握した防火設備に係る不具合のうち第二面の６欄において指摘されるも"]
[null,null,null,"の以外のものについて、把握できる範囲において記入してください。前回検査時以降不具合を把握してい"]
[null,null,null,"ない場合は、第三面を省略することができます。"]
[null,null,"②","　「不具合を把握した年月」欄は、当該不具合を把握した年月を記入してください。"]
[null,null,"③","　「不具合の概要」欄は、当該不具合の箇所を特定した上で、当該不具合の具体的内容を記入してくださ"]
[null,null,null,"い。不具合の概要を記入する場合にあっては、当該防火設備が設置されている区画の概要を明記してくだ"]
[null,null,null,"さい。"]
[null,null,"④","　「考えられる原因」欄は、当該不具合が生じた原因として主として考えれられるものを記入してくださ"]
[null,null,null,"い。ただし、当該不具合が生じた原因が不明な場合は「不明」と記入してください。"]
[null,null,"⑤","　「改善（予定）年月」欄は、既に改善を実施している場合には実施年月を、改善を行う予定がある場合"]
[null,null,null,"には改善予定年月を記入し、改善を行う予定がない場合には「－」を記入してください。"]
[null,null,"⑥","　「改善措置の概要等」欄は、既に改善を実施している場合又は改善を行う予定がある場合に、具体的措"]
[null,null,null,"置の概要を記入してください。改善を行う予定がない場合には、その理由を記入してください。"]
[]
[]
[]
[]
[]
[]
[]
[]
[]
[]
[]
[]
[]
[]
[]
[]
[]
[]
[]
[]
[]
[]
[]
[]
[]
[]
[]
[]
[]
[]
[]
[]
[]
[]
[]
[]
[]
[]
[]
[]
[]
[]
[]
[]
[]
[]
[]
[]
[]
[]
[]
[]
[]
[]
[]
[]
[]
[]
[]
[]
[]
[]
[]
[]
[]
[]
[]
[]
[]
[]
[]
[]
[]
[]
[]
[]
[]
[]
[]
[]
[]
[]
[]
[]
[]
[]
[]
[]
[]
[]
[]
[]
[]
[]
[]
[]
[]
[]
[]
[]
[]
[]
[]
[]
[]
[]
[]
[]
[]
[]
[]
[]
[]
[]
[]
[]
[]
[]
[]
[]
[]
[]
[]
[]
[]
[]
[]
[]
[]
[]
[]
[]
[]
[]
[]
[]
[]
[]
[]
[]
[]
[]
[]
[]
[]
[]
[]
[]
[]
[]
[]
[]
[]
[]
[]
[]
[]
[]
[]
[]
[]
[]
[]
[]
[]
[]
[]
[]
[]
[]
[]
[]
[]
[]
[]
[]
[]
[]
[]
[]
[]
[]
[]
[]
[]
[]
[]
[]
[]
[]
[]
[]
[]
[]
[]
[]
[]
[]
[]
[]
[]
[]
[]
[]
[]
[]
[]
[]
[]
[]
[]
[]
[]
[]
[]
[]
[]
[]
[]
[]
[]
[]
[]
[]
[]
[]
[]
[]
[]
[]
[]
[]
[]
[]
[]
[]
[]
[]
[]
[]
[]
[]
[]
[]
[]
[]
[]
[]
[]
[]
[]
[]
[]
[]
[]
[]
[]
[]
[]
[]
[]
[]
[]
[]
[]
[]
[]
[]
[]
[]
[]
[]
[]
[]
[]
[]
[]
[]
[]
[]
[]
[]
[]
[]
[]
[]
[]
[null,null,null,null,null,null,null,null,null,null,null,null,null,null,null,null,null,null,null,null,null,null,null,null,null,null,null,null,null,null,null,null,null,null,null,null,null,null,null,null,null,null,null,null,null,null,null,null,null,null,null,null,null,null,null,null,null,null,null,null,null,null,null,null,null,null,null,null,null,null,null,null,null,null,null,null,null,null,null,null,null,null,null,null,null,null,null,null,null,null,null,null,null,null,null,null,null,null,null,null,null,null,null,null,null,null,null,null,null,null,null,null,null,null,null,null,null,null,null,null,null,null,null,null,null,null,null,null,null,null,null,null,null,null,null,null,null,null,null,null,null,null,null,"全ての検査結果表統合"]
[]
[null,null,null,null,null,null,null,null,null,null,null,null,null,null,null,null,null,null,null,null,null,null,null,null,null,null,null,null,null,null,null,null,null,null,null,null,null,null,null,null,null,null,null,null,null,null,null,null,null,null,null,null,null,null,null,null,null,null,null,null,null,null,null,null,null,null,null,null,null,null,null,null,null,null,null,null,null,null,null,null,null,null,null,null,null,null,null,null,null,null,null,null,null,null,null,null,null,null,null,null,null,null,null,null,null,null,null,null,null,null,null,null,null,null,null,null,null,null,null,null,null,null,null,null,null,null,"要是正",null,null,null,null,null,"既存不適格",null,null,null,null,null,null,null,null,null,null,{"$f":"IF(OR(DT593=\"レ\",DT594=\"レ\",DT595=\"レ\",DT596=\"レ\",DT597=\"レ\",DT598=\"レ\",DT599=\"レ\",DT600=\"レ\",DT601=\"レ\",DT602=\"レ\",DT603=\"レ\",DT604=\"レ\"),\"レ\",\"\")","v":""},{"$f":"IF(AND(EN590=\"\",ER590=\"\",OR(DU593=\"レ\",DU594=\"レ\",DU595=\"レ\",DU596=\"レ\",DU597=\"レ\",DU598=\"レ\",DU599=\"レ\",DU600=\"レ\",DU601=\"レ\",DU602=\"レ\",DU603=\"レ\",DU604=\"レ\")),\"レ\",\"\")","v":""},{"$f":"IF(EL605=\"レ\",IF(EN590=\"レ\",TEXT(EN605,\"e\"),IF(EO590=\"レ\",TEXT(EO605,\"e\"),\"\")),\"\")","v":""},{"$f":"IF(EL605=\"レ\",IF(EN590=\"レ\",MONTH(EN605),IF(EO590=\"レ\",MONTH(EO605),\"\")),\"\")","v":""},{"$f":"IF(AND(EN590=\"\",EP605>0),\"レ\",\"\")","v":""},{"$f":"IF(AND(EL605=\"\",OR(DZ593=\"レ\",DZ594=\"レ\",DZ595=\"レ\",DZ596=\"レ\",DZ597=\"レ\",DZ598=\"レ\",DZ599=\"レ\",DZ600=\"レ\",DZ601=\"レ\",DZ602=\"レ\",DZ603=\"レ\",DZ604=\"レ\")),\"レ\",\"\")","v":""},{"$f":"IF(AND(EL605=\"\",ES590=\"\",EW590=\"\",OR(EA593=\"レ\",EA594=\"レ\",EA595=\"レ\",EA596=\"レ\",EA597=\"レ\",EA598=\"レ\",EA599=\"レ\",EA600=\"レ\",EA601=\"レ\",EA602=\"レ\",EA603=\"レ\",EA604=\"レ\")),\"レ\",\"\")","v":""},{"$f":"IF(EM605=\"レ\",IF(ES590=\"レ\",TEXT(ES605,\"e\"),IF(ET590=\"レ\",TEXT(ET605,\"e\"),\"\")),\"\")","v":""},{"$f":"IF(EM605=\"レ\",IF(ES590=\"レ\",MONTH(ES605),IF(ET590=\"レ\",MONTH(ET605),\"\")),\"\")","v":""},{"$f":"IF(OR(AND(EL605=\"\",ES590=\"\",EU605>0),AND(EL605=\"\",ES590=\"\",EV605>1)),\"レ\",\"\")","v":"レ"}]
[null,null,null,null,null,null,null,null,null,null,null,null,null,null,null,null,null,null,null,null,null,null,null,null,null,null,null,null,null,null,null,null,null,null,null,null,null,null,null,null,null,null,null,null,null,null,null,null,null,null,null,null,null,null,null,null,null,null,null,null,null,null,null,null,null,null,null,null,null,null,null,null,null,null,null,null,null,null,null,null,null,null,null,null,null,null,null,null,null,null,null,null,null,null,null,null,null,null,null,null,null,null,null,null,null,null,null,null,null,null,null,null,null,null,null,null,null,null,null,null,null,null,null,"改善（予定）\n年月",null,null,null,null,null,"改善（予定）\n年月",null,null,null,null,null,null,null,null,"報告書１面5欄用",null,null,null,null,"要是正",null,null,null,null,"既存不適格"]
[null,null,null,null,null,null,null,null,null,null,null,null,null,null,null,null,null,null,null,null,null,null,null,null,null,null,null,null,null,null,null,null,null,null,null,null,null,null,null,null,null,null,null,null,null,null,null,null,null,null,null,null,null,null,null,null,null,null,null,null,null,null,null,null,null,null,null,null,null,null,null,null,null,null,null,null,null,null,null,null,null,null,null,null,null,null,null,null,null,null,null,null,null,null,null,null,null,null,null,null,null,null,null,null,null,null,null,null,null,null,null,null,null,null,null,null,null,null,null,null,null,null,null,"変換\n/有(予定)","西暦変換\n/有（済）","未来の年月\nカウント/年","未来の直近/月","過去の直近","未定/無","変換/有","西暦変換/(有)","未来の年月\nカウント/年","未来の直近/月","過去の直近","未定/無",null,null,null,null,"対象外項目","指摘なし","要是正","既存不適格","未来の直近","過去の直近","未定/年","　/月","　/無","未来の直近","過去の直近","未定/年","　/月","　/無"]
[null,null,null,null,null,null,null,null,null,null,null,null,null,null,null,null,null,null,null,null,null,null,null,null,null,null,null,null,null,null,null,null,null,null,null,null,null,null,null,null,null,null,null,null,null,null,null,null,null,null,null,null,null,null,null,null,null,null,null,null,null,null,null,null,null,null,null,null,null,null,null,null,null,null,null,null,null,null,null,null,null,null,null,null,null,null,null,null,null,null,null,null,null,null,null,null,null,null,null,null,null,null,null,null,null,null,null,null,null,null,null,null,null,null,null,"防火扉",{"$f":"'2_入力シート【検査結果表】 防火扉'!EH14","v":""},{"$f":"'2_入力シート【検査結果表】 防火扉'!EI14","v":""},{"$f":"'2_入力シート【検査結果表】 防火扉'!EJ14","v":""},{"$f":"'2_入力シート【検査結果表】 防火扉'!EK14","v":""},null,{"$f":"'2_入力シート【検査結果表】 防火扉'!$ET$14","v":""},null,{"$f":"'2_入力シート【検査結果表】 防火扉'!EW14","v":""},{"$f":"'2_入力シート【検査結果表】 防火扉'!EX14","v":0},{"$f":"'2_入力シート【検査結果表】 防火扉'!EY14","v":""},{"$f":"'2_入力シート【検査結果表】 防火扉'!EZ14","v":""},{"$f":"'2_入力シート【検査結果表】 防火扉'!FA14","v":0},{"$f":"'2_入力シート【検査結果表】 防火扉'!FB14","v":""},{"$f":"'2_入力シート【検査結果表】 防火扉'!FC14","v":""},{"$f":"'2_入力シート【検査結果表】 防火扉'!FD14","v":0},{"$f":"'2_入力シート【検査結果表】 防火扉'!FE14","v":""},{"$f":"'2_入力シート【検査結果表】 防火扉'!FF14","v":""},{"$f":"'2_入力シート【検査結果表】 防火扉'!FG14","v":0},{"$f":"'2_入力シート【検査結果表】 防火扉'!FH14","v":""},null,null,"扉",1,{"$f":"'2_入力シート【検査結果表】 防火扉'!FR17","v":""},{"$f":"'2_入力シート【検査結果表】 防火扉'!FS17","v":""},{"$f":"'2_入力シート【検査結果表】 防火扉'!FT17","v":""},{"$f":"'2_入力シート【検査結果表】 防火扉'!FU17","v":""},{"$f":"'2_入力シート【検査結果表】 防火扉'!FV17","v":"0"},{"$f":"'2_入力シート【検査結果表】 防火扉'!FW17","v":"対象外"},{"$f":"'2_入力シート【検査結果表】 防火扉'!FX17","v":""},{"$f":"'2_入力シート【検査結果表】 防火扉'!FY17","v":"現在不使用"},{"$f":"'2_入力シート【検査結果表】 防火扉'!FZ17","v":"現在不使用"},{"$f":"'2_入力シート【検査結果表】 防火扉'!GA17","v":"0"},{"$f":"'2_入力シート【検査結果表】 防火扉'!GB17","v":"対象外"},{"$f":"'2_入力シート【検査結果表】 防火扉'!GC17","v":""},{"$f":"'2_入力シート【検査結果表】 防火扉'!GD17","v":"現在不使用"},{"$f":"'2_入力シート【検査結果表】 防火扉'!GE17","v":"現在不使用"}]
[null,null,null,null,null,null,null,null,null,null,null,null,null,null,null,null,null,null,null,null,null,null,null,null,null,null,null,null,null,null,null,null,null,null,null,null,null,null,null,null,null,null,null,null,null,null,null,null,null,null,null,null,null,null,null,null,null,null,null,null,null,null,null,null,null,null,null,null,null,null,null,null,null,null,null,null,null,null,null,null,null,null,null,null,null,null,null,null,null,null,null,null,null,null,null,null,null,null,null,null,null,null,null,null,null,null,null,null,null,null,null,null,null,null,null,null,{"$f":"'2_入力シート【検査結果表】 防火扉'!EH38","v":""},{"$f":"'2_入力シート【検査結果表】 防火扉'!EI38","v":""},{"$f":"'2_入力シート【検査結果表】 防火扉'!EJ38","v":""},{"$f":"'2_入力シート【検査結果表】 防火扉'!EK38","v":""},null,{"$f":"'2_入力シート【検査結果表】 防火扉'!$ET$38","v":""},null,{"$f":"'2_入力シート【検査結果表】 防火扉'!EW38","v":""},{"$f":"'2_入力シート【検査結果表】 防火扉'!EX38","v":0},{"$f":"'2_入力シート【検査結果表】 防火扉'!EY38","v":""},{"$f":"'2_入力シート【検査結果表】 防火扉'!EZ38","v":""},{"$f":"'2_入力シート【検査結果表】 防火扉'!FA38","v":0},{"$f":"'2_入力シート【検査結果表】 防火扉'!FB38","v":""},{"$f":"'2_入力シート【検査結果表】 防火扉'!FC38","v":""},{"$f":"'2_入力シート【検査結果表】 防火扉'!FD38","v":0},{"$f":"'2_入力シート【検査結果表】 防火扉'!FE38","v":""},{"$f":"'2_入力シート【検査結果表】 防火扉'!FF38","v":""},{"$f":"'2_入力シート【検査結果表】 防火扉'!FG38","v":0},{"$f":"'2_入力シート【検査結果表】 防火扉'!FH38","v":""},null,null,"扉",2,{"$f":"'2_入力シート【検査結果表】 防火扉'!FR18","v":""},{"$f":"'2_入力シート【検査結果表】 防火扉'!FS18","v":""},{"$f":"'2_入力シート【検査結果表】 防火扉'!FT18","v":""},{"$f":"'2_入力シート【検査結果表】 防火扉'!FU18","v":""},{"$f":"'2_入力シート【検査結果表】 防火扉'!FV18","v":"0"},{"$f":"'2_入力シート【検査結果表】 防火扉'!FW18","v":"対象外"},{"$f":"'2_入力シート【検査結果表】 防火扉'!FX18","v":""},{"$f":"'2_入力シート【検査結果表】 防火扉'!FY18","v":"現在不使用"},{"$f":"'2_入力シート【検査結果表】 防火扉'!FZ18","v":"現在不使用"},{"$f":"'2_入力シート【検査結果表】 防火扉'!GA18","v":"0"},{"$f":"'2_入力シート【検査結果表】 防火扉'!GB18","v":"対象外"},{"$f":"'2_入力シート【検査結果表】 防火扉'!GC18","v":""},{"$f":"'2_入力シート【検査結果表】 防火扉'!GD18","v":"現在不使用"},{"$f":"'2_入力シート【検査結果表】 防火扉'!GE18","v":"現在不使用"}]
[null,null,null,null,null,null,null,null,null,null,null,null,null,null,null,null,null,null,null,null,null,null,null,null,null,null,null,null,null,null,null,null,null,null,null,null,null,null,null,null,null,null,null,null,null,null,null,null,null,null,null,null,null,null,null,null,null,null,null,null,null,null,null,null,null,null,null,null,null,null,null,null,null,null,null,null,null,null,null,null,null,null,null,null,null,null,null,null,null,null,null,null,null,null,null,null,null,null,null,null,null,null,null,null,null,null,null,null,null,null,null,null,null,null,null,null,{"$f":"'2_入力シート【検査結果表】 防火扉'!EH48","v":""},{"$f":"'2_入力シート【検査結果表】 防火扉'!EI48","v":""},{"$f":"'2_入力シート【検査結果表】 防火扉'!EJ48","v":""},{"$f":"'2_入力シート【検査結果表】 防火扉'!EK48","v":""},null,{"$f":"'2_入力シート【検査結果表】 防火扉'!$ET$48","v":""},null,{"$f":"'2_入力シート【検査結果表】 防火扉'!EW48","v":""},{"$f":"'2_入力シート【検査結果表】 防火扉'!EX48","v":0},{"$f":"'2_入力シート【検査結果表】 防火扉'!EY48","v":""},{"$f":"'2_入力シート【検査結果表】 防火扉'!EZ48","v":""},{"$f":"'2_入力シート【検査結果表】 防火扉'!FA48","v":0},{"$f":"'2_入力シート【検査結果表】 防火扉'!FB48","v":""},{"$f":"'2_入力シート【検査結果表】 防火扉'!FC48","v":""},{"$f":"'2_入力シート【検査結果表】 防火扉'!FD48","v":0},{"$f":"'2_入力シート【検査結果表】 防火扉'!FE48","v":""},{"$f":"'2_入力シート【検査結果表】 防火扉'!FF48","v":""},{"$f":"'2_入力シート【検査結果表】 防火扉'!FG48","v":0},{"$f":"'2_入力シート【検査結果表】 防火扉'!FH48","v":""},null,null,"扉",3,{"$f":"'2_入力シート【検査結果表】 防火扉'!FR19","v":""},{"$f":"'2_入力シート【検査結果表】 防火扉'!FS19","v":""},{"$f":"'2_入力シート【検査結果表】 防火扉'!FT19","v":""},{"$f":"'2_入力シート【検査結果表】 防火扉'!FU19","v":""},{"$f":"'2_入力シート【検査結果表】 防火扉'!FV19","v":"0"},{"$f":"'2_入力シート【検査結果表】 防火扉'!FW19","v":"対象外"},{"$f":"'2_入力シート【検査結果表】 防火扉'!FX19","v":""},{"$f":"'2_入力シート【検査結果表】 防火扉'!FY19","v":"現在不使用"},{"$f":"'2_入力シート【検査結果表】 防火扉'!FZ19","v":"現在不使用"},{"$f":"'2_入力シート【検査結果表】 防火扉'!GA19","v":"0"},{"$f":"'2_入力シート【検査結果表】 防火扉'!GB19","v":"対象外"},{"$f":"'2_入力シート【検査結果表】 防火扉'!GC19","v":""},{"$f":"'2_入力シート【検査結果表】 防火扉'!GD19","v":"現在不使用"},{"$f":"'2_入力シート【検査結果表】 防火扉'!GE19","v":"現在不使用"}]
[null,null,null,null,null,null,null,null,null,null,null,null,null,null,null,null,null,null,null,null,null,null,null,null,null,null,null,null,null,null,null,null,null,null,null,null,null,null,null,null,null,null,null,null,null,null,null,null,null,null,null,null,null,null,null,null,null,null,null,null,null,null,null,null,null,null,null,null,null,null,null,null,null,null,null,null,null,null,null,null,null,null,null,null,null,null,null,null,null,null,null,null,null,null,null,null,null,null,null,null,null,null,null,null,null,null,null,null,null,null,null,null,null,null,null,null,null,null,null,null,null,null,null,{"$f":"'3_入力シート【検査結果表】防火シャッター'!EW14","v":""},{"$f":"'3_入力シート【検査結果表】防火シャッター'!EX14","v":0},{"$f":"'3_入力シート【検査結果表】防火シャッター'!EY14","v":""},{"$f":"'3_入力シート【検査結果表】防火シャッター'!EZ14","v":""},{"$f":"'3_入力シート【検査結果表】防火シャッター'!FA14","v":0},{"$f":"'3_入力シート【検査結果表】防火シャッター'!FB14","v":""},{"$f":"'3_入力シート【検査結果表】防火シャッター'!FC14","v":""},{"$f":"'3_入力シート【検査結果表】防火シャッター'!FD14","v":0},{"$f":"'3_入力シート【検査結果表】防火シャッター'!FE14","v":""},{"$f":"'3_入力シート【検査結果表】防火シャッター'!FF14","v":""},{"$f":"'3_入力シート【検査結果表】防火シャッター'!FG14","v":0},{"$f":"'3_入力シート【検査結果表】防火シャッター'!FH14","v":""},null,null,"ｼｬ",4,{"$f":"'3_入力シート【検査結果表】防火シャッター'!FR17","v":""},{"$f":"'3_入力シート【検査結果表】防火シャッター'!FS17","v":""},{"$f":"'3_入力シート【検査結果表】防火シャッター'!FT17","v":""},{"$f":"'3_入力シート【検査結果表】防火シャッター'!FU17","v":""},{"$f":"'3_入力シート【検査結果表】防火シャッター'!FV17","v":"0"},{"$f":"'3_入力シート【検査結果表】防火シャッター'!FW17","v":"対象外"},{"$f":"'3_入力シート【検査結果表】防火シャッター'!FX17","v":""},{"$f":"'3_入力シート【検査結果表】防火シャッター'!FY17","v":"現在不使用"},{"$f":"'3_入力シート【検査結果表】防火シャッター'!FZ17","v":"現在不使用"},{"$f":"'3_入力シート【検査結果表】防火シャッター'!GA17","v":"0"},{"$f":"'3_入力シート【検査結果表】防火シャッター'!GB17","v":"対象外"},{"$f":"'3_入力シート【検査結果表】防火シャッター'!GC17","v":""},{"$f":"'3_入力シート【検査結果表】防火シャッター'!GD17","v":"現在不使用"},{"$f":"'3_入力シート【検査結果表】防火シャッター'!GE17","v":"現在不使用"}]
[null,null,null,null,null,null,null,null,null,null,null,null,null,null,null,null,null,null,null,null,null,null,null,null,null,null,null,null,null,null,null,null,null,null,null,null,null,null,null,null,null,null,null,null,null,null,null,null,null,null,null,null,null,null,null,null,null,null,null,null,null,null,null,null,null,null,null,null,null,null,null,null,null,null,null,null,null,null,null,null,null,null,null,null,null,null,null,null,null,null,null,null,null,null,null,null,null,null,null,null,null,null,null,null,null,null,null,null,null,null,null,null,null,null,null,null,null,null,null,null,null,null,null,{"$f":"'3_入力シート【検査結果表】防火シャッター'!EW48","v":""},{"$f":"'3_入力シート【検査結果表】防火シャッター'!EX48","v":0},{"$f":"'3_入力シート【検査結果表】防火シャッター'!EY48","v":""},{"$f":"'3_入力シート【検査結果表】防火シャッター'!EZ48","v":""},{"$f":"'3_入力シート【検査結果表】防火シャッター'!FA48","v":0},{"$f":"'3_入力シート【検査結果表】防火シャッター'!FB48","v":""},{"$f":"'3_入力シート【検査結果表】防火シャッター'!FC48","v":""},{"$f":"'3_入力シート【検査結果表】防火シャッター'!FD48","v":0},{"$f":"'3_入力シート【検査結果表】防火シャッター'!FE48","v":""},{"$f":"'3_入力シート【検査結果表】防火シャッター'!FF48","v":""},{"$f":"'3_入力シート【検査結果表】防火シャッター'!FG48","v":0},{"$f":"'3_入力シート【検査結果表】防火シャッター'!FH48","v":""},null,null,"ｼｬ",5,{"$f":"'3_入力シート【検査結果表】防火シャッター'!FR18","v":""},{"$f":"'3_入力シート【検査結果表】防火シャッター'!FS18","v":""},{"$f":"'3_入力シート【検査結果表】防火シャッター'!FT18","v":""},{"$f":"'3_入力シート【検査結果表】防火シャッター'!FU18","v":""},{"$f":"'3_入力シート【検査結果表】防火シャッター'!FV18","v":"0"},{"$f":"'3_入力シート【検査結果表】防火シャッター'!FW18","v":"対象外"},{"$f":"'3_入力シート【検査結果表】防火シャッター'!FX18","v":""},{"$f":"'3_入力シート【検査結果表】防火シャッター'!FY18","v":"現在不使用"},{"$f":"'3_入力シート【検査結果表】防火シャッター'!FZ18","v":"現在不使用"},{"$f":"'3_入力シート【検査結果表】防火シャッター'!GA18","v":"0"},{"$f":"'3_入力シート【検査結果表】防火シャッター'!GB18","v":"対象外"},{"$f":"'3_入力シート【検査結果表】防火シャッター'!GC18","v":""},{"$f":"'3_入力シート【検査結果表】防火シャッター'!GD18","v":"現在不使用"},{"$f":"'3_入力シート【検査結果表】防火シャッター'!GE18","v":"現在不使用"}]
[null,null,null,null,null,null,null,null,null,null,null,null,null,null,null,null,null,null,null,null,null,null,null,null,null,null,null,null,null,null,null,null,null,null,null,null,null,null,null,null,null,null,null,null,null,null,null,null,null,null,null,null,null,null,null,null,null,null,null,null,null,null,null,null,null,null,null,null,null,null,null,null,null,null,null,null,null,null,null,null,null,null,null,null,null,null,null,null,null,null,null,null,null,null,null,null,null,null,null,null,null,null,null,null,null,null,null,null,null,null,null,null,null,null,null,null,null,null,null,null,null,null,null,{"$f":"'3_入力シート【検査結果表】防火シャッター'!EW58","v":""},{"$f":"'3_入力シート【検査結果表】防火シャッター'!EX58","v":0},{"$f":"'3_入力シート【検査結果表】防火シャッター'!EY58","v":""},{"$f":"'3_入力シート【検査結果表】防火シャッター'!EZ58","v":""},{"$f":"'3_入力シート【検査結果表】防火シャッター'!FA58","v":0},{"$f":"'3_入力シート【検査結果表】防火シャッター'!FB58","v":""},{"$f":"'3_入力シート【検査結果表】防火シャッター'!FC58","v":""},{"$f":"'3_入力シート【検査結果表】防火シャッター'!FD58","v":0},{"$f":"'3_入力シート【検査結果表】防火シャッター'!FE58","v":""},{"$f":"'3_入力シート【検査結果表】防火シャッター'!FF58","v":""},{"$f":"'3_入力シート【検査結果表】防火シャッター'!FG58","v":0},{"$f":"'3_入力シート【検査結果表】防火シャッター'!FH58","v":""},null,null,"ｼｬ",6,{"$f":"'3_入力シート【検査結果表】防火シャッター'!FR19","v":""},{"$f":"'3_入力シート【検査結果表】防火シャッター'!FS19","v":""},{"$f":"'3_入力シート【検査結果表】防火シャッター'!FT19","v":""},{"$f":"'3_入力シート【検査結果表】防火シャッター'!FU19","v":""},{"$f":"'3_入力シート【検査結果表】防火シャッター'!FV19","v":"0"},{"$f":"'3_入力シート【検査結果表】防火シャッター'!FW19","v":"対象外"},{"$f":"'3_入力シート【検査結果表】防火シャッター'!FX19","v":""},{"$f":"'3_入力シート【検査結果表】防火シャッター'!FY19","v":"現在不使用"},{"$f":"'3_入力シート【検査結果表】防火シャッター'!FZ19","v":"現在不使用"},{"$f":"'3_入力シート【検査結果表】防火シャッター'!GA19","v":"0"},{"$f":"'3_入力シート【検査結果表】防火シャッター'!GB19","v":"対象外"},{"$f":"'3_入力シート【検査結果表】防火シャッター'!GC19","v":""},{"$f":"'3_入力シート【検査結果表】防火シャッター'!GD19","v":"現在不使用"},{"$f":"'3_入力シート【検査結果表】防火シャッター'!GE19","v":"現在不使用"}]
[null,null,null,null,null,null,null,null,null,null,null,null,null,null,null,null,null,null,null,null,null,null,null,null,null,null,null,null,null,null,null,null,null,null,null,null,null,null,null,null,null,null,null,null,null,null,null,null,null,null,null,null,null,null,null,null,null,null,null,null,null,null,null,null,null,null,null,null,null,null,null,null,null,null,null,null,null,null,null,null,null,null,null,null,null,null,null,null,null,null,null,null,null,null,null,null,null,null,null,null,null,null,null,null,null,null,null,null,null,null,null,null,null,null,null,null,null,null,null,null,null,null,null,{"$f":"'4_入力シート【検査結果表】 耐火クロススクリーン'!EW14","v":""},{"$f":"'4_入力シート【検査結果表】 耐火クロススクリーン'!EX14","v":0},{"$f":"'4_入力シート【検査結果表】 耐火クロススクリーン'!EY14","v":""},{"$f":"'4_入力シート【検査結果表】 耐火クロススクリーン'!EZ14","v":""},{"$f":"'4_入力シート【検査結果表】 耐火クロススクリーン'!FA14","v":0},{"$f":"'4_入力シート【検査結果表】 耐火クロススクリーン'!FB14","v":""},{"$f":"'4_入力シート【検査結果表】 耐火クロススクリーン'!FC14","v":""},{"$f":"'4_入力シート【検査結果表】 耐火クロススクリーン'!FD14","v":0},{"$f":"'4_入力シート【検査結果表】 耐火クロススクリーン'!FE14","v":""},{"$f":"'4_入力シート【検査結果表】 耐火クロススクリーン'!FF14","v":""},{"$f":"'4_入力シート【検査結果表】 耐火クロススクリーン'!FG14","v":0},{"$f":"'4_入力シート【検査結果表】 耐火クロススクリーン'!FH14","v":""},null,null,"ｸﾛ",7,{"$f":"'4_入力シート【検査結果表】 耐火クロススクリーン'!FR17","v":""},{"$f":"'4_入力シート【検査結果表】 耐火クロススクリーン'!FS17","v":""},{"$f":"'4_入力シート【検査結果表】 耐火クロススクリーン'!FT17","v":""},{"$f":"'4_入力シート【検査結果表】 耐火クロススクリーン'!FU17","v":""},{"$f":"'4_入力シート【検査結果表】 耐火クロススクリーン'!FV17","v":"0"},{"$f":"'4_入力シート【検査結果表】 耐火クロススクリーン'!FW17","v":"対象外"},{"$f":"'4_入力シート【検査結果表】 耐火クロススクリーン'!FX17","v":""},{"$f":"'4_入力シート【検査結果表】 耐火クロススクリーン'!FY17","v":"現在不使用"},{"$f":"'4_入力シート【検査結果表】 耐火クロススクリーン'!FZ17","v":"現在不使用"},{"$f":"'4_入力シート【検査結果表】 耐火クロススクリーン'!GA17","v":"0"},{"$f":"'4_入力シート【検査結果表】 耐火クロススクリーン'!GB17","v":"対象外"},{"$f":"'4_入力シート【検査結果表】 耐火クロススクリーン'!GC17","v":""},{"$f":"'4_入力シート【検査結果表】 耐火クロススクリーン'!GD17","v":"現在不使用"},{"$f":"'4_入力シート【検査結果表】 耐火クロススクリーン'!GE17","v":"現在不使用"}]
[null,null,null,null,null,null,null,null,null,null,null,null,null,null,null,null,null,null,null,null,null,null,null,null,null,null,null,null,null,null,null,null,null,null,null,null,null,null,null,null,null,null,null,null,null,null,null,null,null,null,null,null,null,null,null,null,null,null,null,null,null,null,null,null,null,null,null,null,null,null,null,null,null,null,null,null,null,null,null,null,null,null,null,null,null,null,null,null,null,null,null,null,null,null,null,null,null,null,null,null,null,null,null,null,null,null,null,null,null,null,null,null,null,null,null,null,null,null,null,null,null,null,null,{"$f":"'4_入力シート【検査結果表】 耐火クロススクリーン'!EW44","v":""},{"$f":"'4_入力シート【検査結果表】 耐火クロススクリーン'!EX44","v":0},{"$f":"'4_入力シート【検査結果表】 耐火クロススクリーン'!EY44","v":""},{"$f":"'4_入力シート【検査結果表】 耐火クロススクリーン'!EZ44","v":""},{"$f":"'4_入力シート【検査結果表】 耐火クロススクリーン'!FA44","v":0},{"$f":"'4_入力シート【検査結果表】 耐火クロススクリーン'!FB44","v":""},{"$f":"'4_入力シート【検査結果表】 耐火クロススクリーン'!FC44","v":""},{"$f":"'4_入力シート【検査結果表】 耐火クロススクリーン'!FD44","v":0},{"$f":"'4_入力シート【検査結果表】 耐火クロススクリーン'!FE44","v":""},{"$f":"'4_入力シート【検査結果表】 耐火クロススクリーン'!FF44","v":""},{"$f":"'4_入力シート【検査結果表】 耐火クロススクリーン'!FG44","v":0},{"$f":"'4_入力シート【検査結果表】 耐火クロススクリーン'!FH44","v":"レ"},null,null,"ｸﾛ",8,{"$f":"'4_入力シート【検査結果表】 耐火クロススクリーン'!FR18","v":""},{"$f":"'4_入力シート【検査結果表】 耐火クロススクリーン'!FS18","v":""},{"$f":"'4_入力シート【検査結果表】 耐火クロススクリーン'!FT18","v":""},{"$f":"'4_入力シート【検査結果表】 耐火クロススクリーン'!FU18","v":""},{"$f":"'4_入力シート【検査結果表】 耐火クロススクリーン'!FV18","v":"0"},{"$f":"'4_入力シート【検査結果表】 耐火クロススクリーン'!FW18","v":"対象外"},{"$f":"'4_入力シート【検査結果表】 耐火クロススクリーン'!FX18","v":""},{"$f":"'4_入力シート【検査結果表】 耐火クロススクリーン'!FY18","v":"現在不使用"},{"$f":"'4_入力シート【検査結果表】 耐火クロススクリーン'!FZ18","v":"現在不使用"},{"$f":"'4_入力シート【検査結果表】 耐火クロススクリーン'!GA18","v":"0"},{"$f":"'4_入力シート【検査結果表】 耐火クロススクリーン'!GB18","v":"対象外"},{"$f":"'4_入力シート【検査結果表】 耐火クロススクリーン'!GC18","v":"レ"},{"$f":"'4_入力シート【検査結果表】 耐火クロススクリーン'!GD18","v":"現在不使用"},{"$f":"'4_入力シート【検査結果表】 耐火クロススクリーン'!GE18","v":"現在不使用"}]
[null,null,null,null,null,null,null,null,null,null,null,null,null,null,null,null,null,null,null,null,null,null,null,null,null,null,null,null,null,null,null,null,null,null,null,null,null,null,null,null,null,null,null,null,null,null,null,null,null,null,null,null,null,null,null,null,null,null,null,null,null,null,null,null,null,null,null,null,null,null,null,null,null,null,null,null,null,null,null,null,null,null,null,null,null,null,null,null,null,null,null,null,null,null,null,null,null,null,null,null,null,null,null,null,null,null,null,null,null,null,null,null,null,null,null,null,null,null,null,null,null,null,null,{"$f":"'4_入力シート【検査結果表】 耐火クロススクリーン'!EW54","v":""},{"$f":"'4_入力シート【検査結果表】 耐火クロススクリーン'!EX54","v":0},{"$f":"'4_入力シート【検査結果表】 耐火クロススクリーン'!EY54","v":""},{"$f":"'4_入力シート【検査結果表】 耐火クロススクリーン'!EZ54","v":""},{"$f":"'4_入力シート【検査結果表】 耐火クロススクリーン'!FA54","v":0},{"$f":"'4_入力シート【検査結果表】 耐火クロススクリーン'!FB54","v":""},{"$f":"'4_入力シート【検査結果表】 耐火クロススクリーン'!FC54","v":""},{"$f":"'4_入力シート【検査結果表】 耐火クロススクリーン'!FD54","v":0},{"$f":"'4_入力シート【検査結果表】 耐火クロススクリーン'!FE54","v":""},{"$f":"'4_入力シート【検査結果表】 耐火クロススクリーン'!FF54","v":""},{"$f":"'4_入力シート【検査結果表】 耐火クロススクリーン'!FG54","v":0},{"$f":"'4_入力シート【検査結果表】 耐火クロススクリーン'!FH54","v":""},null,null,"ｸﾛ",9,{"$f":"'4_入力シート【検査結果表】 耐火クロススクリーン'!FR19","v":""},{"$f":"'4_入力シート【検査結果表】 耐火クロススクリーン'!FS19","v":""},{"$f":"'4_入力シート【検査結果表】 耐火クロススクリーン'!FT19","v":""},{"$f":"'4_入力シート【検査結果表】 耐火クロススクリーン'!FU19","v":""},{"$f":"'4_入力シート【検査結果表】 耐火クロススクリーン'!FV19","v":"0"},{"$f":"'4_入力シート【検査結果表】 耐火クロススクリーン'!FW19","v":"対象外"},{"$f":"'4_入力シート【検査結果表】 耐火クロススクリーン'!FX19","v":""},{"$f":"'4_入力シート【検査結果表】 耐火クロススクリーン'!FY19","v":"現在不使用"},{"$f":"'4_入力シート【検査結果表】 耐火クロススクリーン'!FZ19","v":"現在不使用"},{"$f":"'4_入力シート【検査結果表】 耐火クロススクリーン'!GA19","v":"0"},{"$f":"'4_入力シート【検査結果表】 耐火クロススクリーン'!GB19","v":"対象外"},{"$f":"'4_入力シート【検査結果表】 耐火クロススクリーン'!GC19","v":""},{"$f":"'4_入力シート【検査結果表】 耐火クロススクリーン'!GD19","v":"現在不使用"},{"$f":"'4_入力シート【検査結果表】 耐火クロススクリーン'!GE19","v":"現在不使用"}]
[null,null,null,null,null,null,null,null,null,null,null,null,null,null,null,null,null,null,null,null,null,null,null,null,null,null,null,null,null,null,null,null,null,null,null,null,null,null,null,null,null,null,null,null,null,null,null,null,null,null,null,null,null,null,null,null,null,null,null,null,null,null,null,null,null,null,null,null,null,null,null,null,null,null,null,null,null,null,null,null,null,null,null,null,null,null,null,null,null,null,null,null,null,null,null,null,null,null,null,null,null,null,null,null,null,null,null,null,null,null,null,null,null,null,null,null,null,null,null,null,null,null,null,{"$f":"'5_入力シート【検査結果表】 ドレンチャー'!EW14","v":""},{"$f":"'5_入力シート【検査結果表】 ドレンチャー'!EX14","v":0},{"$f":"'5_入力シート【検査結果表】 ドレンチャー'!EY14","v":""},{"$f":"'5_入力シート【検査結果表】 ドレンチャー'!EZ14","v":""},{"$f":"'5_入力シート【検査結果表】 ドレンチャー'!FA14","v":0},{"$f":"'5_入力シート【検査結果表】 ドレンチャー'!FB14","v":""},{"$f":"'5_入力シート【検査結果表】 ドレンチャー'!FC14","v":""},{"$f":"'5_入力シート【検査結果表】 ドレンチャー'!FD14","v":0},{"$f":"'5_入力シート【検査結果表】 ドレンチャー'!FE14","v":""},{"$f":"'5_入力シート【検査結果表】 ドレンチャー'!FF14","v":""},{"$f":"'5_入力シート【検査結果表】 ドレンチャー'!FG14","v":0},{"$f":"'5_入力シート【検査結果表】 ドレンチャー'!FH14","v":""},null,null,"ﾄﾞﾚ",10,{"$f":"'5_入力シート【検査結果表】 ドレンチャー'!FR17","v":""},{"$f":"'5_入力シート【検査結果表】 ドレンチャー'!FS17","v":""},{"$f":"'5_入力シート【検査結果表】 ドレンチャー'!FT17","v":""},{"$f":"'5_入力シート【検査結果表】 ドレンチャー'!FU17","v":""},{"$f":"'5_入力シート【検査結果表】 ドレンチャー'!FV17","v":"0"},{"$f":"'5_入力シート【検査結果表】 ドレンチャー'!FW17","v":"対象外"},{"$f":"'5_入力シート【検査結果表】 ドレンチャー'!FX17","v":""},{"$f":"'5_入力シート【検査結果表】 ドレンチャー'!FY17","v":"現在不使用"},{"$f":"'5_入力シート【検査結果表】 ドレンチャー'!FZ17","v":"現在不使用"},{"$f":"'5_入力シート【検査結果表】 ドレンチャー'!GA17","v":"0"},{"$f":"'5_入力シート【検査結果表】 ドレンチャー'!GB17","v":"対象外"},{"$f":"'5_入力シート【検査結果表】 ドレンチャー'!GC17","v":""},{"$f":"'5_入力シート【検査結果表】 ドレンチャー'!GD17","v":"現在不使用"},{"$f":"'5_入力シート【検査結果表】 ドレンチャー'!GE17","v":"現在不使用"}]
[null,null,null,null,null,null,null,null,null,null,null,null,null,null,null,null,null,null,null,null,null,null,null,null,null,null,null,null,null,null,null,null,null,null,null,null,null,null,null,null,null,null,null,null,null,null,null,null,null,null,null,null,null,null,null,null,null,null,null,null,null,null,null,null,null,null,null,null,null,null,null,null,null,null,null,null,null,null,null,null,null,null,null,null,null,null,null,null,null,null,null,null,null,null,null,null,null,null,null,null,null,null,null,null,null,null,null,null,null,null,null,null,null,null,null,null,null,null,null,null,null,null,null,{"$f":"'5_入力シート【検査結果表】 ドレンチャー'!EW47","v":""},{"$f":"'5_入力シート【検査結果表】 ドレンチャー'!EX47","v":0},{"$f":"'5_入力シート【検査結果表】 ドレンチャー'!EY47","v":""},{"$f":"'5_入力シート【検査結果表】 ドレンチャー'!EZ47","v":""},{"$f":"'5_入力シート【検査結果表】 ドレンチャー'!FA47","v":0},{"$f":"'5_入力シート【検査結果表】 ドレンチャー'!FB47","v":""},{"$f":"'5_入力シート【検査結果表】 ドレンチャー'!FC47","v":""},{"$f":"'5_入力シート【検査結果表】 ドレンチャー'!FD47","v":0},{"$f":"'5_入力シート【検査結果表】 ドレンチャー'!FE47","v":""},{"$f":"'5_入力シート【検査結果表】 ドレンチャー'!FF47","v":""},{"$f":"'5_入力シート【検査結果表】 ドレンチャー'!FG47","v":0},{"$f":"'5_入力シート【検査結果表】 ドレンチャー'!FH47","v":""},null,null,"ﾄﾞﾚ",11,{"$f":"'5_入力シート【検査結果表】 ドレンチャー'!FR18","v":""},{"$f":"'5_入力シート【検査結果表】 ドレンチャー'!FS18","v":""},{"$f":"'5_入力シート【検査結果表】 ドレンチャー'!FT18","v":""},{"$f":"'5_入力シート【検査結果表】 ドレンチャー'!FU18","v":""},{"$f":"'5_入力シート【検査結果表】 ドレンチャー'!FV18","v":"0"},{"$f":"'5_入力シート【検査結果表】 ドレンチャー'!FW18","v":"対象外"},{"$f":"'5_入力シート【検査結果表】 ドレンチャー'!FX18","v":""},{"$f":"'5_入力シート【検査結果表】 ドレンチャー'!FY18","v":"現在不使用"},{"$f":"'5_入力シート【検査結果表】 ドレンチャー'!FZ18","v":"現在不使用"},{"$f":"'5_入力シート【検査結果表】 ドレンチャー'!GA18","v":"0"},{"$f":"'5_入力シート【検査結果表】 ドレンチャー'!GB18","v":"対象外"},{"$f":"'5_入力シート【検査結果表】 ドレンチャー'!GC18","v":""},{"$f":"'5_入力シート【検査結果表】 ドレンチャー'!GD18","v":"現在不使用"},{"$f":"'5_入力シート【検査結果表】 ドレンチャー'!GE18","v":"現在不使用"}]
[null,null,null,null,null,null,null,null,null,null,null,null,null,null,null,null,null,null,null,null,null,null,null,null,null,null,null,null,null,null,null,null,null,null,null,null,null,null,null,null,null,null,null,null,null,null,null,null,null,null,null,null,null,null,null,null,null,null,null,null,null,null,null,null,null,null,null,null,null,null,null,null,null,null,null,null,null,null,null,null,null,null,null,null,null,null,null,null,null,null,null,null,null,null,null,null,null,null,null,null,null,null,null,null,null,null,null,null,null,null,null,null,null,null,null,null,null,null,null,null,null,null,null,{"$f":"'5_入力シート【検査結果表】 ドレンチャー'!EW57","v":""},{"$f":"'5_入力シート【検査結果表】 ドレンチャー'!EX57","v":0},{"$f":"'5_入力シート【検査結果表】 ドレンチャー'!EY57","v":""},{"$f":"'5_入力シート【検査結果表】 ドレンチャー'!EZ57","v":""},{"$f":"'5_入力シート【検査結果表】 ドレンチャー'!FA57","v":0},{"$f":"'5_入力シート【検査結果表】 ドレンチャー'!FB57","v":""},{"$f":"'5_入力シート【検査結果表】 ドレンチャー'!FC57","v":""},{"$f":"'5_入力シート【検査結果表】 ドレンチャー'!FD57","v":0},{"$f":"'5_入力シート【検査結果表】 ドレンチャー'!FE57","v":""},{"$f":"'5_入力シート【検査結果表】 ドレンチャー'!FF57","v":""},{"$f":"'5_入力シート【検査結果表】 ドレンチャー'!FG57","v":0},{"$f":"'5_入力シート【検査結果表】 ドレンチャー'!FH57","v":""},null,null,"ﾄﾞﾚ",12,{"$f":"'5_入力シート【検査結果表】 ドレンチャー'!FR19","v":""},{"$f":"'5_入力シート【検査結果表】 ドレンチャー'!FS19","v":""},{"$f":"'5_入力シート【検査結果表】 ドレンチャー'!FT19","v":""},{"$f":"'5_入力シート【検査結果表】 ドレンチャー'!FU19","v":""},{"$f":"'5_入力シート【検査結果表】 ドレンチャー'!FV19","v":"0"},{"$f":"'5_入力シート【検査結果表】 ドレンチャー'!FW19","v":"対象外"},{"$f":"'5_入力シート【検査結果表】 ドレンチャー'!FX19","v":""},{"$f":"'5_入力シート【検査結果表】 ドレンチャー'!FY19","v":"現在不使用"},{"$f":"'5_入力シート【検査結果表】 ドレンチャー'!FZ19","v":"現在不使用"},{"$f":"'5_入力シート【検査結果表】 ドレンチャー'!GA19","v":"0"},{"$f":"'5_入力シート【検査結果表】 ドレンチャー'!GB19","v":"対象外"},{"$f":"'5_入力シート【検査結果表】 ドレンチャー'!GC19","v":""},{"$f":"'5_入力シート【検査結果表】 ドレンチャー'!GD19","v":"現在不使用"},{"$f":"'5_入力シート【検査結果表】 ドレンチャー'!GE19","v":"現在不使用"}]
[null,null,null,null,null,null,null,null,null,null,null,null,null,null,null,null,null,null,null,null,null,null,null,null,null,null,null,null,null,null,null,null,null,null,null,null,null,null,null,null,null,null,null,null,null,null,null,null,null,null,null,null,null,null,null,null,null,null,null,null,null,null,null,null,null,null,null,null,null,null,null,null,null,null,null,null,null,null,null,null,null,null,null,null,null,null,null,null,null,null,null,null,null,null,null,null,null,null,null,null,null,null,null,null,null,null,null,null,null,null,null,null,null,null,null,null,null,null,null,null,null,null,null,null,null,null,null,null,null,null,null,null,null,null,null,null,null,null,null,{"$f":"IF(AND(EK605<>\"レ\",EL605<>\"レ\",EM605<>\"レ\",COUNTIF(EJ593:EJ604,\"レ\")>0),\"レ\",\"\")","v":""},{"$f":"IF(AND(EL605<>\"レ\",EM605<>\"レ\",COUNTIF(EK593:EK604,\"レ\")>0),\"レ\",\"\")","v":""},{"$f":"IF(COUNTIF(EL593:EL604,\"レ\")>0,\"レ\",\"\")","v":""},{"$f":"IF(AND(EL605<>\"レ\",COUNTIF(EM593:EM604,\"レ\")>0),\"レ\",\"\")","v":""},{"$f":"INDEX(EN593:EN604,MATCH(MIN(ABS(EN593:EN604-$EJ$4)),ABS(EN593:EN604-$EJ$4),0))","v":"0"},"対象外",{"$f":"COUNTIF(EP593:EP604,\"レ\")","v":0},"現在不使用","現在不使用",{"$f":"INDEX(ES593:ES604,MATCH(MIN(ABS(ES593:ES604-$EJ$4)),ABS(ES593:ES604-$EJ$4),0))","v":"0"},"対象外",{"$f":"COUNTIF(EU593:EU604,\"レ\")","v":1},"現在不使用","現在不使用"]

{"sheet":"＜入力不要＞概要書","index":8,"n_rows":134,"n_cols":46,"rows_kept":134,"cut":false,"hidden":false,"merged":[[27,14,27,44],[19,14,19,20],[20,14,20,44],[24,14,24,44],[25,14,25,44],[26,14,26,44],[44,21,44,43],[61,0,61,42],[66,14,66,16],[66,21,66,23],[3,1,3,44],[4,1,4,44],[5,1,5,44],[10,14,10,44],[11,14,11,44],[12,14,12,20],[37,12,37,44],[38,12,38,44],[39,12,39,44],[13,14,13,44],[17,14,17,44],[18,14,18,44],[40,12,40,44],[41,12,41,44],[42,12,42,44],[43,23,43,24],[43,25,43,26],[43,28,43,29],[72,27,72,28],[72,33,72,43],[73,32,73,44],[74,19,74,20],[74,21,74,22],[74,24,74,25],[74,27,74,28],[74,33,74,43],[80,17,80,18],[80,19,80,20],[80,22,80,23],[80,25,80,26],[67,12,67,18],[68,12,68,18],[72,19,72,20],[72,21,72,22],[72,24,72,25],[75,32,75,44],[79,17,79,18],[79,19,79,20],[79,22,79,23],[79,25,79,26],[97,38,97,43],[98,14,98,44],[99,14,99,44],[86,15,86,16],[86,25,86,32],[86,38,86,43],[87,38,87,43],[88,14,88,44],[89,14,89,44],[90,14,90,44],[91,15,91,16],[91,25,91,30],[91,38,91,43],[92,14,92,18],[93,14,93,44],[94,14,94,22],[96,15,96,16],[96,25,96,32],[96,38,96,43],[112,14,112,18],[113,14,113,44],[100,14,100,44],[101,15,101,16],[101,25,101,30],[101,38,101,43],[102,14,102,18],[103,14,103,44],[104,14,104,22],[106,15,106,16],[106,25,106,32],[106,38,106,43],[107,38,107,43],[108,14,108,44],[109,14,109,44],[110,14,110,44],[111,15,111,16],[111,25,111,30],[111,38,111,43],[133,1,133,45],[122,16,122,18],[122,33,122,35],[123,16,123,18],[123,33,123,35],[124,16,124,18],[128,4,129,44],[114,14,114,22],[119,15,119,17],[119,33,119,35],[120,30,120,43],[132,1,132,45]]}
[]
[null,"第三十六号の九様式 （第六条、第六条の三、第十一条の三関係）（Ａ４）"]
[]
[null,"定期検査報告概要書"]
[null,"（防火設備）"]
[null,"（第一面）"]
[]
[]
[]
[null,"【１．所有者】"]
[null,null,null,"【イ．氏名のフリガナ】",null,null,null,null,null,null,null,null,null,null,{"$f":"IF('＜入力不要＞報告書'!O21=\"\",\"\",'＜入力不要＞報告書'!O21)","v":""}]
[null,null,null,"【ロ．氏名】",null,null,null,null,null,null,null,null,null,null,{"$f":"'＜入力不要＞報告書'!O22:AS22","v":""}]
[null,null,null,"【ハ．郵便番号】",null,null,null,null,null,null,null,null,null,null,{"$f":"IF('＜入力不要＞報告書'!O23=\"\",\"\",'＜入力不要＞報告書'!O23)","v":""}]
[null,null,null,"【ニ．住所】",null,null,null,null,null,null,null,null,null,null,{"$f":"IF('＜入力不要＞報告書'!O24=\"\",\"\",'＜入力不要＞報告書'!O24 )","v":""}]
[]
[]
[null,"【２．管理者】"]
[null,null,null,"【イ．氏名のフリガナ】",null,null,null,null,null,null,null,null,null,null,{"$f":"IF('＜入力不要＞報告書'!O29=\"\",\"\",'＜入力不要＞報告書'!O29)","v":""}]
[null,null,null,"【ロ．氏名】",null,null,null,null,null,null,null,null,null,null,{"$f":"IF('＜入力不要＞報告書'!O30=\"\",\"\",'＜入力不要＞報告書'!O30 )","v":""}]
[null,null,null,"【ハ．郵便番号】",null,null,null,null,null,null,null,null,null,null,{"$f":"IF('＜入力不要＞報告書'!O31=\"\",\"\",'＜入力不要＞報告書'!O31)","v":""}]
[null,null,null,"【ニ．住所】",null,null,null,null,null,null,null,null,null,null,{"$f":"IF('＜入力不要＞報告書'!O32=\"\",\"\",'＜入力不要＞報告書'!O32 )","v":""}]
[]
[]
[null,"【３．報告対象建築物】"]
[null,null,null,"【イ．所在地】",null,null,null,null,null,null,null,null,null,null,{"$f":"IF('＜入力不要＞報告書'!O37=\"\",\"\",'＜入力不要＞報告書'!O37)&IF('＜入力不要＞報告書'!V37=\"\",\"\",'＜入力不要＞報告書'!V37)&IF('＜入力不要＞報告書'!AC37=\"\",\"\",'＜入力不要＞報告書'!AC37)&IF('＜入力不要＞報告書'!AJ37=\"\",\"\",'＜入力不要＞報告書'!AJ37)","v":""}]
[null,null,null,"【ロ．名称のフリガナ】",null,null,null,null,null,null,null,null,null,null,{"$f":"IF('＜入力不要＞報告書'!O38=\"\",\"\",'＜入力不要＞報告書'!O38)","v":""}]
[null,null,null,"【ハ．名称】",null,null,null,null,null,null,null,null,null,null,{"$f":"IF('＜入力不要＞報告書'!O39=\"\",\"\",'＜入力不要＞報告書'!O39)","v":0}]
[null,null,null,"【ニ．用途】",null,null,null,null,null,null,null,null,null,null,{"$f":"IF('＜入力不要＞報告書'!O40=\"\",\"\",'＜入力不要＞報告書'!O40)","v":0}]
[]
[]
[null,"【４．検査による指摘の概要】"]
[null,null,null,null,{"$f":"IF('＜入力不要＞報告書'!E44=\"\",\"\",'＜入力不要＞報告書'!E44)","v":""},"要是正の指摘あり 　",null,null,null,null,null,null,null,null,"（",{"$f":"IF('＜入力不要＞報告書'!P44=\"\",\"\",'＜入力不要＞報告書'!P44)","v":""},"既存不適格 ）",null,null,null,null,null,null,null,{"$f":"IF('＜入力不要＞報告書'!Y44=\"\",\"\",'＜入力不要＞報告書'!Y44)","v":""},"指摘なし"]
[]
[]
[null,"【５．不具合の発生状況】"]
[null,null,"【イ．不具合】　",null,null,null,null,null,null,null,null,null,{"$f":"IF('＜入力不要＞報告書'!M138=\"\",\"\",'＜入力不要＞報告書'!M138)","v":""},"有",null,null,null,{"$f":"IF('＜入力不要＞報告書'!R138=\"\",\"\",'＜入力不要＞報告書'!R138)","v":""},"無"]
[null,null,"【ロ．不具合記録】",null,null,null,null,null,null,null,null,null,{"$f":"IF('＜入力不要＞報告書'!M139=\"\",\"\",'＜入力不要＞報告書'!M139)","v":""},"有",null,null,null,{"$f":"IF('＜入力不要＞報告書'!R139=\"\",\"\",'＜入力不要＞報告書'!R139)","v":""},"無"]
[null,null,"【ハ．不具合の概要】",null,null,null,null,null,null,null,null,null,{"$f":"'1_入力シート【基本情報】'!$ET$144","v":""}]
[null,null,null,null,null,null,null,null,null,null,null,null,{"$f":"IF('＜入力不要＞報告書'!H201=\"\",\"\",'＜入力不要＞報告書'!H201)","v":0}]
[null,null,null,null,null,null,null,null,null,null,null,null,{"$f":"IF('＜入力不要＞報告書'!H202=\"\",\"\",'＜入力不要＞報告書'!H202)","v":0}]
[null,null,null,null,null,null,null,null,null,null,null,null,{"$f":"IF('＜入力不要＞報告書'!H203=\"\",\"\",'＜入力不要＞報告書'!H203)","v":0}]
[null,null,null,null,null,null,null,null,null,null,null,null,{"$f":"IF('＜入力不要＞報告書'!H204=\"\",\"\",'＜入力不要＞報告書'!H204)","v":""}]
[null,null,null,null,null,null,null,null,null,null,null,null,{"$f":"IF('＜入力不要＞報告書'!H205=\"\",\"\",'＜入力不要＞報告書'!H205)","v":""}]
[null,null,"【ニ．改善の状況】　",null,null,null,null,null,null,null,null,null,{"$f":"IF('＜入力不要＞報告書'!M140=\"\",\"\",'＜入力不要＞報告書'!M140)","v":""},"実施済",null,null,null,{"$f":"IF('＜入力不要＞報告書'!R140=\"\",\"\",'＜入力不要＞報告書'!R140)","v":""},"改善予定（",null,null,null,null,{"$f":"IF('＜入力不要＞報告書'!X140=\"\",\"\",'＜入力不要＞報告書'!X140)","v":""},null,{"$f":"IF('＜入力不要＞報告書'!Z140=\"\",\"\",'＜入力不要＞報告書'!Z140)","v":""},null,"年",{"$f":"IF('＜入力不要＞報告書'!AC140=\"\",\"\",'＜入力不要＞報告書'!AC140)","v":""},null,"月に改善予定）"]
[null,null,null,null,null,null,null,null,null,null,null,null,{"$f":"IF('＜入力不要＞報告書'!AM140=\"\",\"\",'＜入力不要＞報告書'!AM140)","v":""},"予定なし",null,null,null,"（理由：",null,null,null,{"$f":"IF(M45=\"レ\",'1_入力シート【基本情報】'!EU144,\"\")","v":""},null,null,null,null,null,null,null,null,null,null,null,null,null,null,null,null,null,null,null,null,null,null,"）"]
[]
[]
[]
[]
[]
[]
[]
[]
[]
[]
[]
[]
[]
[]
[]
[]
["（第二面）"]
[null,"防火設備の状況等"]
[]
[]
[null,"【１．建築物の概要】"]
[null,null,null,"【イ．階数】　",null,null,null,null,null,null,null,null,"地上",null,{"$f":"IF('＜入力不要＞報告書'!N66=\"\",\"\",IF('＜入力不要＞報告書'!N66=\"\",\"\",'＜入力不要＞報告書'!N66))","v":""},null,null,"階",null,"地下",null,{"$f":"IF('＜入力不要＞報告書'!U66=\"\",\"\",IF('＜入力不要＞報告書'!U66=\"\",\"\",'＜入力不要＞報告書'!U66))","v":""},null,null,"階"]
[null,null,null,"【ロ．建築面積】",null,null,null,null,null,null,null,null,{"$f":"'＜入力不要＞報告書'!$L$67","v":""},null,null,null,null,null,null,"㎡"]
[null,null,null,"【ハ．延べ面積】",null,null,null,null,null,null,null,null,{"$f":"'＜入力不要＞報告書'!$L$68","v":""},null,null,null,null,null,null,"㎡"]
[]
[]
[null,"【２．確認済証交付年月日等】"]
[null,null,null,"【イ．確認済証交付年月日】",null,null,null,null,null,null,null,null,null,null,null,null,null,null,null,{"$f":"IF('＜入力不要＞報告書'!T72=\"\",\"\",IF('＜入力不要＞報告書'!T72=\"\",\"\",'＜入力不要＞報告書'!T72))","v":0},null,{"$f":"IF('＜入力不要＞報告書'!V72=\"\",\"\",'＜入力不要＞報告書'!V72)","v":0},null,"年",{"$f":"IF('＜入力不要＞報告書'!Y72=\"\",\"\",IF('＜入力不要＞報告書'!Y72=\"\",\"\",'＜入力不要＞報告書'!Y72))","v":0},null,"月",{"$f":"IF('＜入力不要＞報告書'!AB72=\"\",\"\",IF('＜入力不要＞報告書'!AB72=\"\",\"\",'＜入力不要＞報告書'!AB72))","v":0},null,"日",null,null,"第",{"$f":"IF('＜入力不要＞報告書'!AH72=\"\",\"\",IF('＜入力不要＞報告書'!AH72=\"\",\"\",'＜入力不要＞報告書'!AH72))","v":""},null,null,null,null,null,null,null,null,null,null,"号"]
[null,null,null,"【ロ．確認済証交付者】",null,null,null,null,null,null,null,null,null,null,null,null,{"$f":"IF('＜入力不要＞報告書'!Q73=\"\",\"\",IF('＜入力不要＞報告書'!Q73=\"\",\"\",'＜入力不要＞報告書'!Q73))","v":""},"建築主事",null,null,null,null,{"$f":"IF('＜入力不要＞報告書'!W73=\"\",\"\",IF('＜入力不要＞報告書'!W73=\"\",\"\",'＜入力不要＞報告書'!W73))","v":""},"指定確認検査機関",null,null,null,null,null,null,null," (",{"$f":"IF('＜入力不要＞報告書'!AG73=\"\",\"\",IF('＜入力不要＞報告書'!AG73=\"\",\"\",'＜入力不要＞報告書'!AG73))","v":""},null,null,null,null,null,null,null,null,null,null,null,null,")"]
[null,null,null,"【ハ．検査済証交付年月日】",null,null,null,null,null,null,null,null,null,null,null,null,null,null,null,{"$f":"IF('＜入力不要＞報告書'!T74=\"\",\"\",IF('＜入力不要＞報告書'!T74=\"\",\"\",'＜入力不要＞報告書'!T74))","v":0},null,{"$f":"IF('＜入力不要＞報告書'!V74=\"\",\"\",IF('＜入力不要＞報告書'!V74=\"\",\"\",'＜入力不要＞報告書'!V74))","v":0},null,"年",{"$f":"IF('＜入力不要＞報告書'!Y74=\"\",\"\",IF('＜入力不要＞報告書'!Y74=\"\",\"\",'＜入力不要＞報告書'!Y74))","v":0},null,"月",{"$f":"IF('＜入力不要＞報告書'!AB74=\"\",\"\",IF('＜入力不要＞報告書'!AB74=\"\",\"\",'＜入力不要＞報告書'!AB74))","v":0},null,"日",null,null,"第",{"$f":"IF('＜入力不要＞報告書'!AH74=\"\",\"\",IF('＜入力不要＞報告書'!AH74=\"\",\"\",'＜入力不要＞報告書'!AH74))","v":""},null,null,null,null,null,null,null,null,null,null,"号"]
[null,null,null,"【ニ．検査済証交付者】",null,null,null,null,null,null,null,null,null,null,null,null,{"$f":"IF('＜入力不要＞報告書'!Q75=\"\",\"\",IF('＜入力不要＞報告書'!Q75=\"\",\"\",'＜入力不要＞報告書'!Q75))","v":""},"建築主事",null,null,null,null,{"$f":"IF('＜入力不要＞報告書'!W75=\"\",\"\",IF('＜入力不要＞報告書'!W75=\"\",\"\",'＜入力不要＞報告書'!W75))","v":""},"指定確認検査機関",null,null,null,null,null,null,null," (",{"$f":"IF('＜入力不要＞報告書'!AG75=\"\",\"\",IF('＜入力不要＞報告書'!AG75=\"\",\"\",'＜入力不要＞報告書'!AG75))","v":""},null,null,null,null,null,null,null,null,null,null,null,null,")"]
[]
[]
[null,"【３．検査日等】"]
[null,null,null,"【イ．今回の検査】",null,null,null,null,null,null,null,null,null,null,null,null,null,{"$f":"IF('＜入力不要＞報告書'!R79=\"\",\"\",IF('＜入力不要＞報告書'!R79=\"\",\"\",'＜入力不要＞報告書'!R79))","v":""},null,{"$f":"IF('＜入力不要＞報告書'!T79=\"\",\"\",IF('＜入力不要＞報告書'!T79=\"\",\"\",'＜入力不要＞報告書'!T79))","v":0},null,"年",{"$f":"IF('＜入力不要＞報告書'!W79=\"\",\"\",IF('＜入力不要＞報告書'!W79=\"\",\"\",'＜入力不要＞報告書'!W79))","v":0},null,"月",{"$f":"IF('＜入力不要＞報告書'!Z79=\"\",\"\",IF('＜入力不要＞報告書'!Z79=\"\",\"\",'＜入力不要＞報告書'!Z79))","v":0},null,"日","実施"]
[null,null,null,"【ロ．前回の検査】",null,null,null,null,null,null,null,null,null,{"$f":"IF('＜入力不要＞報告書'!N80=\"\",\"\",IF('＜入力不要＞報告書'!N80=\"\",\"\",'＜入力不要＞報告書'!N80))","v":""},"実施（",null,null,{"$f":"IF('＜入力不要＞報告書'!R80=\"\",\"\",IF('＜入力不要＞報告書'!R80=\"\",\"\",'＜入力不要＞報告書'!R80))","v":0},null,{"$f":"IF('＜入力不要＞報告書'!T80=\"\",\"\",IF('＜入力不要＞報告書'!T80=\"\",\"\",'＜入力不要＞報告書'!T80))","v":0},null,"年",{"$f":"IF('＜入力不要＞報告書'!W80=\"\",\"\",IF('＜入力不要＞報告書'!W80=\"\",\"\",'＜入力不要＞報告書'!W80))","v":0},null,"月",{"$f":"IF('＜入力不要＞報告書'!Z80=\"\",\"\",IF('＜入力不要＞報告書'!Z80=\"\",\"\",'＜入力不要＞報告書'!Z80))","v":0},null,"日","報告）",null,null,null,{"$f":"IF('＜入力不要＞報告書'!AG80=\"\",\"\",IF('＜入力不要＞報告書'!AG80=\"\",\"\",'＜入力不要＞報告書'!AG80))","v":""},"未実施"]
[null,null,null,"【ハ．前回の検査に関する書類の写し】",null,null,null,null,null,null,null,null,null,null,null,null,null,null,null,null,null,{"$f":"IF('＜入力不要＞報告書'!V81=\"\",\"\",IF('＜入力不要＞報告書'!V81=\"\",\"\",'＜入力不要＞報告書'!V81))","v":""},"有",null,null,{"$f":"IF('＜入力不要＞報告書'!Z81=\"\",\"\",IF('＜入力不要＞報告書'!Z81=\"\",\"\",'＜入力不要＞報告書'!Z81))","v":""},"無"]
[]
[]
[null,"【４．防火設備の検査者】"]
[null,null,"（代表となる検査者）"]
[null,null,null,"【イ．資格】",null,null,null,null,null,null,null,null,null,null,"（",{"$f":"IF('＜入力不要＞報告書'!P86=\"\",\"\",IF('＜入力不要＞報告書'!P86=\"\",\"\",'＜入力不要＞報告書'!P86))","v":""},null,"）建築士",null,null,null,null,null,null,"（",{"$f":"IF('＜入力不要＞報告書'!Z86=\"\",\"\",IF('＜入力不要＞報告書'!Z86=\"\",\"\",'＜入力不要＞報告書'!Z86))","v":""},null,null,null,null,null,null,null,"）登録",null,null,null,"第",{"$f":"IF('＜入力不要＞報告書'!AM86=\"\",\"\",IF('＜入力不要＞報告書'!AM86=\"\",\"\",'＜入力不要＞報告書'!AM86))","v":""},null,null,null,null,null,"号"]
[null,null,null,null,null,null,null,null,null,null,null,null,null,null,"防火設備検査員",null,null,null,null,null,null,null,null,null,null,null,null,null,null,null,null,null,null,null,null,null,null,"第",{"$f":"IF('＜入力不要＞報告書'!AM87=\"\",\"\",IF('＜入力不要＞報告書'!AM87=\"\",\"\",'＜入力不要＞報告書'!AM87))","v":""},null,null,null,null,null,"号"]
[null,null,null,"【ロ．氏名のフリガナ】",null,null,null,null,null,null,null,null,null,null,{"$f":"IF('＜入力不要＞報告書'!O88=\"\",\"\",IF('＜入力不要＞報告書'!O88=\"\",\"\",'＜入力不要＞報告書'!O88))","v":""}]
[null,null,null,"【ハ．氏名】 ",null,null,null,null,null,null,null,null,null,null,{"$f":"IF('＜入力不要＞報告書'!O89=\"\",\"\",IF('＜入力不要＞報告書'!O89=\"\",\"\",'＜入力不要＞報告書'!O89))","v":""}]
[null,null,null,"【ニ．勤務先】",null,null,null,null,null,null,null,null,null,null,{"$f":"IF('＜入力不要＞報告書'!O90=\"\",\"\",IF('＜入力不要＞報告書'!O90=\"\",\"\",'＜入力不要＞報告書'!O90))","v":""}]
[null,null,null,null,null,null,null,null,null,null,null,null,null,null,"（",{"$f":"IF('＜入力不要＞報告書'!P91=\"\",\"\",IF('＜入力不要＞報告書'!P91=\"\",\"\",'＜入力不要＞報告書'!P91))","v":""},null,"）建築士事務所",null,null,null,null,null,null,"（",{"$f":"IF('＜入力不要＞報告書'!Z91=\"\",\"\",IF('＜入力不要＞報告書'!Z91=\"\",\"\",'＜入力不要＞報告書'!Z91))","v":""},null,null,null,null,null,"）知事登録",null,null,null,null,null,"第",{"$f":"IF('＜入力不要＞報告書'!AM91=\"\",\"\",IF('＜入力不要＞報告書'!AM91=\"\",\"\",'＜入力不要＞報告書'!AM91))","v":""},null,null,null,null,null,"号"]
[null,null,null,"【ホ．郵便番号】",null,null,null,null,null,null,null,null,null,null,{"$f":"IF('＜入力不要＞報告書'!O92=\"\",\"\",IF('＜入力不要＞報告書'!O92=\"\",\"\",'＜入力不要＞報告書'!O92))","v":""}]
[null,null,null,"【へ．所在地】",null,null,null,null,null,null,null,null,null,null,{"$f":"IF('＜入力不要＞報告書'!O93=\"\",\"\",IF('＜入力不要＞報告書'!O93=\"\",\"\",'＜入力不要＞報告書'!O93))","v":0}]
[null,null,null,"【ト．電話番号】",null,null,null,null,null,null,null,null,null,null,{"$f":"IF('＜入力不要＞報告書'!O94=\"\",\"\",IF('＜入力不要＞報告書'!O94=\"\",\"\",'＜入力不要＞報告書'!O94))","v":""}]
[null,null,"（その他の検査者）"]
[null,null,null,"【イ．資格】",null,null,null,null,null,null,null,null,null,null,"（",{"$f":"IF('＜入力不要＞報告書'!P96=\"\",\"\",IF('＜入力不要＞報告書'!P96=\"\",\"\",'＜入力不要＞報告書'!P96))","v":""},null,"）建築士",null,null,null,null,null,null,"（",{"$f":"IF('＜入力不要＞報告書'!Z96=\"\",\"\",IF('＜入力不要＞報告書'!Z96=\"\",\"\",'＜入力不要＞報告書'!Z96))","v":""},null,null,null,null,null,null,null,"）登録",null,null,null,"第",{"$f":"IF('＜入力不要＞報告書'!AM96=\"\",\"\",IF('＜入力不要＞報告書'!AM96=\"\",\"\",'＜入力不要＞報告書'!AM96))","v":""},null,null,null,null,null,"号"]
[null,null,null,null,null,null,null,null,null,null,null,null,null,null,"防火設備検査員",null,null,null,null,null,null,null,null,null,null,null,null,null,null,null,null,null,null,null,null,null,null,"第",{"$f":"IF('＜入力不要＞報告書'!AM97=\"\",\"\",'＜入力不要＞報告書'!AM97)","v":""},null,null,null,null,null,"号"]
[null,null,null,"【ロ．氏名のフリガナ】",null,null,null,null,null,null,null,null,null,null,{"$f":"IF('＜入力不要＞報告書'!O98=\"\",\"\",IF('＜入力不要＞報告書'!O98=\"\",\"\",'＜入力不要＞報告書'!O98))","v":""}]
[null,null,null,"【ハ．氏名】 ",null,null,null,null,null,null,null,null,null,null,{"$f":"IF('＜入力不要＞報告書'!O99=\"\",\"\",IF('＜入力不要＞報告書'!O99=\"\",\"\",'＜入力不要＞報告書'!O99))","v":""}]
[null,null,null,"【ニ．勤務先】",null,null,null,null,null,null,null,null,null,null,{"$f":"IF('＜入力不要＞報告書'!O100=\"\",\"\",IF('＜入力不要＞報告書'!O100=\"\",\"\",'＜入力不要＞報告書'!O100))","v":0}]
[null,null,null,null,null,null,null,null,null,null,null,null,null,null,"（",{"$f":"IF('＜入力不要＞報告書'!P101=\"\",\"\",IF('＜入力不要＞報告書'!P101=\"\",\"\",'＜入力不要＞報告書'!P101))","v":""},null,"）建築士事務所",null,null,null,null,null,null,"（",{"$f":"IF('＜入力不要＞報告書'!Z101=\"\",\"\",IF('＜入力不要＞報告書'!Z101=\"\",\"\",'＜入力不要＞報告書'!Z101))","v":""},null,null,null,null,null,"）知事登録",null,null,null,null,null,"第",{"$f":"IF('＜入力不要＞報告書'!AM101=\"\",\"\",IF('＜入力不要＞報告書'!AM101=\"\",\"\",'＜入力不要＞報告書'!AM101))","v":""},null,null,null,null,null,"号"]
[null,null,null,"【ホ．郵便番号】",null,null,null,null,null,null,null,null,null,null,{"$f":"IF('＜入力不要＞報告書'!O102=\"\",\"\",IF('＜入力不要＞報告書'!O102=\"\",\"\",'＜入力不要＞報告書'!O102))","v":""}]
[null,null,null,"【へ．所在地】",null,null,null,null,null,null,null,null,null,null,{"$f":"IF('＜入力不要＞報告書'!O103=\"\",\"\",IF('＜入力不要＞報告書'!O103=\"\",\"\",'＜入力不要＞報告書'!O103))","v":""}]
[null,null,null,"【ト．電話番号】",null,null,null,null,null,null,null,null,null,null,{"$f":"IF('＜入力不要＞報告書'!O104=\"\",\"\",IF('＜入力不要＞報告書'!O104=\"\",\"\",'＜入力不要＞報告書'!O104))","v":""}]
[null,null,"（その他の検査者２）"]
[null,null,null,"【イ．資格】",null,null,null,null,null,null,null,null,null,null,"（",{"$f":"IF('＜入力不要＞報告書'!P106=\"\",\"\",'＜入力不要＞報告書'!P106)","v":""},null,"）建築士",null,null,null,null,null,null,"（",{"$f":"IF('＜入力不要＞報告書'!Z106=\"\",\"\",'＜入力不要＞報告書'!Z106)","v":""},null,null,null,null,null,null,null,"）登録",null,null,null,"第",{"$f":"IF('＜入力不要＞報告書'!AM106=\"\",\"\",'＜入力不要＞報告書'!AM106)","v":""},null,null,null,null,null,"号"]
[null,null,null,null,null,null,null,null,null,null,null,null,null,null,"防火設備検査員",null,null,null,null,null,null,null,null,null,null,null,null,null,null,null,null,null,null,null,null,null,null,"第",{"$f":"IF('＜入力不要＞報告書'!AM107=\"\",\"\",'＜入力不要＞報告書'!AM107)","v":""},null,null,null,null,null,"号"]
[null,null,null,"【ロ．氏名のフリガナ】",null,null,null,null,null,null,null,null,null,null,{"$f":"IF('＜入力不要＞報告書'!O108=\"\",\"\",'＜入力不要＞報告書'!O108)","v":""}]
[null,null,null,"【ハ．氏名】 ",null,null,null,null,null,null,null,null,null,null,{"$f":"IF('＜入力不要＞報告書'!O109=\"\",\"\",'＜入力不要＞報告書'!O109)","v":""}]
[null,null,null,"【ニ．勤務先】",null,null,null,null,null,null,null,null,null,null,{"$f":"IF('＜入力不要＞報告書'!O110=\"\",\"\",'＜入力不要＞報告書'!O110)","v":""}]
[null,null,null,null,null,null,null,null,null,null,null,null,null,null,"（",{"$f":"IF('＜入力不要＞報告書'!P111=\"\",\"\",'＜入力不要＞報告書'!P111)","v":""},null,"）建築士事務所",null,null,null,null,null,null,"（",{"$f":"IF('＜入力不要＞報告書'!Z111=\"\",\"\",'＜入力不要＞報告書'!Z111)","v":""},null,null,null,null,null,"）知事登録",null,null,null,null,null,"第",{"$f":"IF('＜入力不要＞報告書'!AM111=\"\",\"\",'＜入力不要＞報告書'!AM111)","v":""},null,null,null,null,null,"号"]
[null,null,null,"【ホ．郵便番号】",null,null,null,null,null,null,null,null,null,null,{"$f":"IF('＜入力不要＞報告書'!O112=\"\",\"\",'＜入力不要＞報告書'!O112)","v":""}]
[null,null,null,"【へ．所在地】",null,null,null,null,null,null,null,null,null,null,{"$f":"IF('＜入力不要＞報告書'!O113=\"\",\"\",'＜入力不要＞報告書'!O113)","v":""}]
[null,null,null,"【ト．電話番号】",null,null,null,null,null,null,null,null,null,null,{"$f":"IF('＜入力不要＞報告書'!O114=\"\",\"\",'＜入力不要＞報告書'!O114)","v":""}]
[]
[]
[null,"【５．防火設備の概要】"]
[null,null,"【イ．避難安全検証法等の適用】　"]
[null,null,null,null,{"$f":"IF('＜入力不要＞報告書'!E119=\"\",\"\",IF('＜入力不要＞報告書'!E119=\"\",\"\",'＜入力不要＞報告書'!E119))","v":""},"区画避難安全検証法",null,null,null,null,null,null,null,null,"（",{"$f":"IF('＜入力不要＞報告書'!P119=\"\",\"\",IF('＜入力不要＞報告書'!P119=\"\",\"\",'＜入力不要＞報告書'!P119))","v":""},null,null,"階）",null,null,null,null,{"$f":"IF('＜入力不要＞報告書'!X119=\"\",\"\",IF('＜入力不要＞報告書'!X119=\"\",\"\",'＜入力不要＞報告書'!X119))","v":""},"階避難安全検証法",null,null,null,null,null,null,null,"（",{"$f":"IF('＜入力不要＞報告書'!AH119=\"\",\"\",IF('＜入力不要＞報告書'!AH119=\"\",\"\",'＜入力不要＞報告書'!AH119))","v":""},null,null,"階）"]
[null,null,null,null,{"$f":"IF('＜入力不要＞報告書'!E120=\"\",\"\",IF('＜入力不要＞報告書'!E120=\"\",\"\",'＜入力不要＞報告書'!E120))","v":""},"全館避難安全検証法",null,null,null,null,null,null,null,null,null,null,null,null,null,null,null,null,null,{"$f":"IF('＜入力不要＞報告書'!X120=\"\",\"\",IF('＜入力不要＞報告書'!X120=\"\",\"\",'＜入力不要＞報告書'!X120))","v":""},"その他",null,null,null,null,"（",{"$f":"IF('＜入力不要＞報告書'!AE120=\"\",\"\",IF('＜入力不要＞報告書'!AE120=\"\",\"\",'＜入力不要＞報告書'!AE120))","v":""},null,null,null,null,null,null,null,null,null,null,null,null,null,"）"]
[null,null,"【ロ．防火設備】　"]
[null,null,null,null,{"$f":"IF('＜入力不要＞報告書'!E122=\"\",\"\",IF('＜入力不要＞報告書'!E122=\"\",\"\",'＜入力不要＞報告書'!E122))","v":""},"防火扉",null,null,null,null,null,null,null,null,null,"（",{"$f":"IF('＜入力不要＞報告書'!Q122=\"\",\"\",IF('＜入力不要＞報告書'!Q122=\"\",\"\",'＜入力不要＞報告書'!Q122))","v":""},null,null,"枚）",null,null,null,{"$f":"IF('＜入力不要＞報告書'!X122=\"\",\"\",IF('＜入力不要＞報告書'!X122=\"\",\"\",'＜入力不要＞報告書'!X122))","v":""},"防火シャッター",null,null,null,null,null,null,null,"（",{"$f":"IF('＜入力不要＞報告書'!AH122=\"\",\"\",IF('＜入力不要＞報告書'!AH122=\"\",\"\",'＜入力不要＞報告書'!AH122))","v":""},null,null,"枚）"]
[null,null,null,null,{"$f":"IF('＜入力不要＞報告書'!E123=\"\",\"\",IF('＜入力不要＞報告書'!E123=\"\",\"\",'＜入力不要＞報告書'!E123))","v":""},"耐火クロススクリーン",null,null,null,null,null,null,null,null,null,"（",{"$f":"IF('＜入力不要＞報告書'!Q123=\"\",\"\",IF('＜入力不要＞報告書'!Q123=\"\",\"\",'＜入力不要＞報告書'!Q123))","v":""},null,null,"枚）",null,null,null,{"$f":"IF('＜入力不要＞報告書'!X123=\"\",\"\",IF('＜入力不要＞報告書'!X123=\"\",\"\",'＜入力不要＞報告書'!X123))","v":""},"ドレンチャー",null,null,null,null,null,null,null,"（",{"$f":"IF('＜入力不要＞報告書'!AH123=\"\",\"\",IF('＜入力不要＞報告書'!AH123=\"\",\"\",'＜入力不要＞報告書'!AH123))","v":""},null,null,"台）"]
[null,null,null,null,{"$f":"IF('＜入力不要＞報告書'!E124=\"\",\"\",IF('＜入力不要＞報告書'!E124=\"\",\"\",'＜入力不要＞報告書'!E124))","v":""},"その他　",null,null,null,null,null,null,null,null,null,"（",{"$f":"IF('＜入力不要＞報告書'!E124=\"\",\"\",IF('＜入力不要＞報告書'!Q124=\"\",\"\",'＜入力不要＞報告書'!Q124))","v":""},null,null,"台）"]
[]
[]
[null,"【６．備考】"]
[null,null,null,null,{"$f":"IF('＜入力不要＞報告書'!E144=\"\",\"\",IF('＜入力不要＞報告書'!E144=\"\",\"\",'＜入力不要＞報告書'!E144))","v":0}]
[]
[]
[null,"（注意）"]
[null,"　この様式には、第三十六号の八様式に記入した内容と同一の内容を記入してください。第二面は、同様式"]
[null,"第二面において指摘があった防火設備についてのみ作成し、第一面に添えてください。"]

{"sheet":"＜入力不要＞3_別記第一号（防火扉）","index":9,"n_rows":55,"n_cols":9,"rows_kept":55,"cut":false,"hidden":false,"merged":[[42,1,42,8],[54,1,54,8],[43,1,43,8],[44,1,44,8],[45,1,45,8],[46,1,46,8],[47,1,47,8],[48,1,48,8],[49,1,49,8],[50,1,50,8],[51,1,51,8],[52,1,52,8],[53,1,53,8],[35,1,35,2],[36,1,36,2],[37,1,37,2],[39,5,39,7],[41,0,41,8],[35,5,35,7],[36,5,36,7],[37,5,37,7],[38,5,38,7],[38,1,38,2],[39,1,39,2],[33,0,33,3],[34,1,34,2],[34,4,34,7],[12,1,15,1],[13,2,14,2],[16,1,26,1],[16,2,17,2],[19,2,22,2],[23,2,24,2],[25,2,26,2],[9,5,9,7],[9,8,11,8],[10,5,11,5],[27,1,28,2],[29,0,29,8],[9,0,11,0],[9,1,11,2],[9,3,11,3],[9,4,10,4],[1,0,1,8],[2,0,2,8],[4,0,7,1],[4,3,4,6],[4,7,4,8],[5,3,5,6],[5,7,5,8],[6,2,7,2],[6,3,6,6],[6,7,6,8],[7,3,7,6],[7,7,7,8]]}
["別記第一号（A４)　"]
["検査結果表"]
["（防火扉）"]
[]
["当該検査に関与した検査者",null,null,"　　氏　名",null,null,null,"検査者番号"]
[null,null,"代表となる検査者",{"$f":"'1_入力シート【基本情報】'!$AB$81","v":0},null,null,null,1]
[null,null,"その他の検査者",{"$f":"'1_入力シート【基本情報】'!$AB$95","v":0},null,null,null,2]
[null,null,null,{"$f":"'1_入力シート【基本情報】'!$AB$109","v":0},null,null,null,3]
[]
["番号","検　査　項　目　",null,"検査事項","対象外項目","検査結果",null,null,"担当\n検査者\n番号"]
[null,null,null,null,null,"指摘\nなし","要是正"]
[null,null,null,null,null,null,null,"既　存\n不適格"]
["(1)","防火扉","設置場所の周囲状況","閉鎖の障害となる物品の放置の状況",null,{"$f":"'2_入力シート【検査結果表】 防火扉'!GK17","v":""},{"$f":"'2_入力シート【検査結果表】 防火扉'!GL17","v":""},{"$f":"'2_入力シート【検査結果表】 防火扉'!GM17","v":""},{"$f":"'2_入力シート【検査結果表】 防火扉'!GN17","v":0}]
["(2)",null,"扉、枠及び金物","扉の取付けの状況",null,{"$f":"'2_入力シート【検査結果表】 防火扉'!GK18","v":""},{"$f":"'2_入力シート【検査結果表】 防火扉'!GL18","v":""},{"$f":"'2_入力シート【検査結果表】 防火扉'!GM18","v":""},{"$f":"'2_入力シート【検査結果表】 防火扉'!GN18","v":0}]
["(3)",null,null,"扉、枠及び金物の劣化及び損傷の状況",null,{"$f":"'2_入力シート【検査結果表】 防火扉'!GK19","v":""},{"$f":"'2_入力シート【検査結果表】 防火扉'!GL19","v":""},{"$f":"'2_入力シート【検査結果表】 防火扉'!GM19","v":""},{"$f":"'2_入力シート【検査結果表】 防火扉'!GN19","v":0}]
["(4)",null,"危害防止装置","作動の状況",null,{"$f":"'2_入力シート【検査結果表】 防火扉'!GK20","v":""},{"$f":"'2_入力シート【検査結果表】 防火扉'!GL20","v":""},{"$f":"'2_入力シート【検査結果表】 防火扉'!GM20","v":""},{"$f":"'2_入力シート【検査結果表】 防火扉'!GN20","v":0}]
["(5)","連動機構","煙感知器、熱煙複合式感知器及び熱感知器","設置位置",null,{"$f":"'2_入力シート【検査結果表】 防火扉'!GK21","v":""},{"$f":"'2_入力シート【検査結果表】 防火扉'!GL21","v":""},{"$f":"'2_入力シート【検査結果表】 防火扉'!GM21","v":""},{"$f":"'2_入力シート【検査結果表】 防火扉'!GN21","v":0}]
["(6)",null,null,"感知の状況",null,{"$f":"'2_入力シート【検査結果表】 防火扉'!GK22","v":""},{"$f":"'2_入力シート【検査結果表】 防火扉'!GL22","v":""},{"$f":"'2_入力シート【検査結果表】 防火扉'!GM22","v":""},{"$f":"'2_入力シート【検査結果表】 防火扉'!GN22","v":0}]
["(7)",null,"温度ヒューズ装置","設置の状況",null,{"$f":"'2_入力シート【検査結果表】 防火扉'!GK23","v":""},{"$f":"'2_入力シート【検査結果表】 防火扉'!GL23","v":""},{"$f":"'2_入力シート【検査結果表】 防火扉'!GM23","v":""},{"$f":"'2_入力シート【検査結果表】 防火扉'!GN23","v":0}]
["(8)",null,"連動制御器","スイッチ類及び表示灯の状況",null,{"$f":"'2_入力シート【検査結果表】 防火扉'!GK24","v":""},{"$f":"'2_入力シート【検査結果表】 防火扉'!GL24","v":""},{"$f":"'2_入力シート【検査結果表】 防火扉'!GM24","v":""},{"$f":"'2_入力シート【検査結果表】 防火扉'!GN24","v":0}]
["(9)",null,null,"結線接続の状況",null,{"$f":"'2_入力シート【検査結果表】 防火扉'!GK25","v":""},{"$f":"'2_入力シート【検査結果表】 防火扉'!GL25","v":""},{"$f":"'2_入力シート【検査結果表】 防火扉'!GM25","v":""},{"$f":"'2_入力シート【検査結果表】 防火扉'!GN25","v":0}]
["(10)",null,null,"接地の状況",null,{"$f":"'2_入力シート【検査結果表】 防火扉'!GK26","v":""},{"$f":"'2_入力シート【検査結果表】 防火扉'!GL26","v":""},{"$f":"'2_入力シート【検査結果表】 防火扉'!GM26","v":""},{"$f":"'2_入力シート【検査結果表】 防火扉'!GN26","v":0}]
["(11)",null,null,"予備電源への切り替えの状況",null,{"$f":"'2_入力シート【検査結果表】 防火扉'!GK27","v":""},{"$f":"'2_入力シート【検査結果表】 防火扉'!GL27","v":""},{"$f":"'2_入力シート【検査結果表】 防火扉'!GM27","v":""},{"$f":"'2_入力シート【検査結果表】 防火扉'!GN27","v":0}]
["(12)",null,"連動機構用予備電源","劣化及び損傷の状況",null,{"$f":"'2_入力シート【検査結果表】 防火扉'!GK28","v":""},{"$f":"'2_入力シート【検査結果表】 防火扉'!GL28","v":""},{"$f":"'2_入力シート【検査結果表】 防火扉'!GM28","v":""},{"$f":"'2_入力シート【検査結果表】 防火扉'!GN28","v":0}]
["(13)",null,null,"容量の状況",null,{"$f":"'2_入力シート【検査結果表】 防火扉'!GK29","v":""},{"$f":"'2_入力シート【検査結果表】 防火扉'!GL29","v":""},{"$f":"'2_入力シート【検査結果表】 防火扉'!GM29","v":""},{"$f":"'2_入力シート【検査結果表】 防火扉'!GN29","v":0}]
["(14)",null,"自動閉鎖装置","設置の状況",null,{"$f":"'2_入力シート【検査結果表】 防火扉'!GK30","v":""},{"$f":"'2_入力シート【検査結果表】 防火扉'!GL30","v":""},{"$f":"'2_入力シート【検査結果表】 防火扉'!GM30","v":""},{"$f":"'2_入力シート【検査結果表】 防火扉'!GN30","v":0}]
["(15)",null,null,"再ロック防止機構の作動の状況",null,{"$f":"'2_入力シート【検査結果表】 防火扉'!GK31","v":""},{"$f":"'2_入力シート【検査結果表】 防火扉'!GL31","v":""},{"$f":"'2_入力シート【検査結果表】 防火扉'!GM31","v":""},{"$f":"'2_入力シート【検査結果表】 防火扉'!GN31","v":0}]
["(16)","総合的な作動の状況",null,"防火扉の閉鎖の状況",null,{"$f":"'2_入力シート【検査結果表】 防火扉'!GK32","v":""},{"$f":"'2_入力シート【検査結果表】 防火扉'!GL32","v":""},{"$f":"'2_入力シート【検査結果表】 防火扉'!GM32","v":""},{"$f":"'2_入力シート【検査結果表】 防火扉'!GN32","v":0}]
["(17)",null,null,"防火区画の形成の状況",null,{"$f":"'2_入力シート【検査結果表】 防火扉'!GK33","v":""},{"$f":"'2_入力シート【検査結果表】 防火扉'!GL33","v":""},{"$f":"'2_入力シート【検査結果表】 防火扉'!GM33","v":""},{"$f":"'2_入力シート【検査結果表】 防火扉'!GN33","v":0}]
["上記以外の検査項目"]
[null,null,null,null,{"$f":"'2_入力シート【検査結果表】 防火扉'!Q41","v":0},{"$f":"'2_入力シート【検査結果表】 防火扉'!GK41","v":""},{"$f":"'2_入力シート【検査結果表】 防火扉'!GL41","v":""},{"$f":"'2_入力シート【検査結果表】 防火扉'!GM41","v":""},{"$f":"'2_入力シート【検査結果表】 防火扉'!GN41","v":0}]
[null,null,null,null,{"$f":"'2_入力シート【検査結果表】 防火扉'!Q42","v":0},{"$f":"'2_入力シート【検査結果表】 防火扉'!GK42","v":""},{"$f":"'2_入力シート【検査結果表】 防火扉'!GL42","v":""},{"$f":"'2_入力シート【検査結果表】 防火扉'!GM42","v":""},{"$f":"'2_入力シート【検査結果表】 防火扉'!GN42","v":0}]
[null,null,null,null,{"$f":"'2_入力シート【検査結果表】 防火扉'!Q43","v":0},{"$f":"'2_入力シート【検査結果表】 防火扉'!GK43","v":""},{"$f":"'2_入力シート【検査結果表】 防火扉'!GL43","v":""},{"$f":"'2_入力シート【検査結果表】 防火扉'!GM43","v":""},{"$f":"'2_入力シート【検査結果表】 防火扉'!GN43","v":0}]
["特記事項"]
["番号","検査項目",null,"指摘の具体的内容等","改善の具体的内容等",null,null,null,"改善（予定）年月"]
[{"$f":"IFERROR(INDEX('2_入力シート【検査結果表】 防火扉'!ER:ER,1/LARGE(INDEX(('2_入力シート【検査結果表】 防火扉'!$BA$17:$BA$70={\"×要是正（既存不適格以外）\",\"△既存不適格\"})/ROW('2_入力シート【検査結果表】 防火扉'!$ER$17:$ER$70),0),ROW(A1))),\"\")","v":""},{"$f":"IFERROR(INDEX('2_入力シート【検査結果表】 防火扉'!EM:EM,1/LARGE(INDEX(('2_入力シート【検査結果表】 防火扉'!$BA$17:$BA$70={\"×要是正（既存不適格以外）\",\"△既存不適格\"})/ROW('2_入力シート【検査結果表】 防火扉'!$EM$17:$EM$70),0),ROW(A1))),\"\")","v":""},null,{"$f":"IFERROR(INDEX('2_入力シート【検査結果表】 防火扉'!GX:GX,1/LARGE(INDEX(('2_入力シート【検査結果表】 防火扉'!$BA$17:$BA$70={\"×要是正（既存不適格以外）\",\"△既存不適格\"})/ROW('2_入力シート【検査結果表】 防火扉'!$GX$17:$GX$70),0),ROW(A1))),\"\")","v":""},null,{"$f":"IFERROR(INDEX('2_入力シート【検査結果表】 防火扉'!BY:BY,1/LARGE(INDEX(('2_入力シート【検査結果表】 防火扉'!$BA$17:$BA$70={\"×要是正（既存不適格以外）\",\"△既存不適格\"})/ROW('2_入力シート【検査結果表】 防火扉'!$BY$17:$BY$70),0),ROW(A1))),\"\")","v":""},null,null,{"$f":"IFERROR(INDEX('2_入力シート【検査結果表】 防火扉'!EV:EV,1/LARGE(INDEX(('2_入力シート【検査結果表】 防火扉'!$BA$17:$BA$70={\"×要是正（既存不適格以外）\",\"△既存不適格\"})/ROW('2_入力シート【検査結果表】 防火扉'!$EV$17:$EV$70),0),ROW(A1))),\"\")","v":""}]
[{"$f":"IFERROR(INDEX('2_入力シート【検査結果表】 防火扉'!ER:ER,1/LARGE(INDEX(('2_入力シート【検査結果表】 防火扉'!$BA$17:$BA$70={\"×要是正（既存不適格以外）\",\"△既存不適格\"})/ROW('2_入力シート【検査結果表】 防火扉'!$ER$17:$ER$70),0),ROW(A2))),\"\")","v":""},{"$f":"IFERROR(INDEX('2_入力シート【検査結果表】 防火扉'!EM:EM,1/LARGE(INDEX(('2_入力シート【検査結果表】 防火扉'!$BA$17:$BA$70={\"×要是正（既存不適格以外）\",\"△既存不適格\"})/ROW('2_入力シート【検査結果表】 防火扉'!$EM$17:$EM$70),0),ROW(A2))),\"\")","v":""},null,{"$f":"IFERROR(INDEX('2_入力シート【検査結果表】 防火扉'!GX:GX,1/LARGE(INDEX(('2_入力シート【検査結果表】 防火扉'!$BA$17:$BA$70={\"×要是正（既存不適格以外）\",\"△既存不適格\"})/ROW('2_入力シート【検査結果表】 防火扉'!$GX$17:$GX$70),0),ROW(A2))),\"\")","v":""},null,{"$f":"IFERROR(INDEX('2_入力シート【検査結果表】 防火扉'!BY:BY,1/LARGE(INDEX(('2_入力シート【検査結果表】 防火扉'!$BA$17:$BA$70={\"×要是正（既存不適格以外）\",\"△既存不適格\"})/ROW('2_入力シート【検査結果表】 防火扉'!$BY$17:$BY$70),0),ROW(A2))),\"\")","v":""},null,null,{"$f":"IFERROR(INDEX('2_入力シート【検査結果表】 防火扉'!EV:EV,1/LARGE(INDEX(('2_入力シート【検査結果表】 防火扉'!$BA$17:$BA$70={\"×要是正（既存不適格以外）\",\"△既存不適格\"})/ROW('2_入力シート【検査結果表】 防火扉'!$EV$17:$EV$70),0),ROW(A2))),\"\")","v":""}]
[{"$f":"IFERROR(INDEX('2_入力シート【検査結果表】 防火扉'!ER:ER,1/LARGE(INDEX(('2_入力シート【検査結果表】 防火扉'!$BA$17:$BA$70={\"×要是正（既存不適格以外）\",\"△既存不適格\"})/ROW('2_入力シート【検査結果表】 防火扉'!$ER$17:$ER$70),0),ROW(A3))),\"\")","v":""},{"$f":"IFERROR(INDEX('2_入力シート【検査結果表】 防火扉'!EM:EM,1/LARGE(INDEX(('2_入力シート【検査結果表】 防火扉'!$BA$17:$BA$70={\"×要是正（既存不適格以外）\",\"△既存不適格\"})/ROW('2_入力シート【検査結果表】 防火扉'!$EM$17:$EM$70),0),ROW(A3))),\"\")","v":""},null,{"$f":"IFERROR(INDEX('2_入力シート【検査結果表】 防火扉'!GX:GX,1/LARGE(INDEX(('2_入力シート【検査結果表】 防火扉'!$BA$17:$BA$70={\"×要是正（既存不適格以外）\",\"△既存不適格\"})/ROW('2_入力シート【検査結果表】 防火扉'!$GX$17:$GX$70),0),ROW(A3))),\"\")","v":""},null,{"$f":"IFERROR(INDEX('2_入力シート【検査結果表】 防火扉'!BY:BY,1/LARGE(INDEX(('2_入力シート【検査結果表】 防火扉'!$BA$17:$BA$70={\"×要是正（既存不適格以外）\",\"△既存不適格\"})/ROW('2_入力シート【検査結果表】 防火扉'!$BY$17:$BY$70),0),ROW(A3))),\"\")","v":""},null,null,{"$f":"IFERROR(INDEX('2_入力シート【検査結果表】 防火扉'!EV:EV,1/LARGE(INDEX(('2_入力シート【検査結果表】 防火扉'!$BA$17:$BA$70={\"×要是正（既存不適格以外）\",\"△既存不適格\"})/ROW('2_入力シート【検査結果表】 防火扉'!$EV$17:$EV$70),0),ROW(A3))),\"\")","v":""}]
[{"$f":"IFERROR(INDEX('2_入力シート【検査結果表】 防火扉'!ER:ER,1/LARGE(INDEX(('2_入力シート【検査結果表】 防火扉'!$BA$17:$BA$70={\"×要是正（既存不適格以外）\",\"△既存不適格\"})/ROW('2_入力シート【検査結果表】 防火扉'!$ER$17:$ER$70),0),ROW(A4))),\"\")","v":""},{"$f":"IFERROR(INDEX('2_入力シート【検査結果表】 防火扉'!EM:EM,1/LARGE(INDEX(('2_入力シート【検査結果表】 防火扉'!$BA$17:$BA$70={\"×要是正（既存不適格以外）\",\"△既存不適格\"})/ROW('2_入力シート【検査結果表】 防火扉'!$EM$17:$EM$70),0),ROW(A4))),\"\")","v":""},null,{"$f":"IFERROR(INDEX('2_入力シート【検査結果表】 防火扉'!GX:GX,1/LARGE(INDEX(('2_入力シート【検査結果表】 防火扉'!$BA$17:$BA$70={\"×要是正（既存不適格以外）\",\"△既存不適格\"})/ROW('2_入力シート【検査結果表】 防火扉'!$GX$17:$GX$70),0),ROW(A4))),\"\")","v":""},null,{"$f":"IFERROR(INDEX('2_入力シート【検査結果表】 防火扉'!BY:BY,1/LARGE(INDEX(('2_入力シート【検査結果表】 防火扉'!$BA$17:$BA$70={\"×要是正（既存不適格以外）\",\"△既存不適格\"})/ROW('2_入力シート【検査結果表】 防火扉'!$BY$17:$BY$70),0),ROW(A4))),\"\")","v":""},null,null,{"$f":"IFERROR(INDEX('2_入力シート【検査結果表】 防火扉'!EV:EV,1/LARGE(INDEX(('2_入力シート【検査結果表】 防火扉'!$BA$17:$BA$70={\"×要是正（既存不適格以外）\",\"△既存不適格\"})/ROW('2_入力シート【検査結果表】 防火扉'!$EV$17:$EV$70),0),ROW(A4))),\"\")","v":""}]
[{"$f":"IFERROR(INDEX('2_入力シート【検査結果表】 防火扉'!ER:ER,1/LARGE(INDEX(('2_入力シート【検査結果表】 防火扉'!$BA$17:$BA$70={\"×要是正（既存不適格以外）\",\"△既存不適格\"})/ROW('2_入力シート【検査結果表】 防火扉'!$ER$17:$ER$70),0),ROW(A5))),\"\")","v":""},{"$f":"IFERROR(INDEX('2_入力シート【検査結果表】 防火扉'!EM:EM,1/LARGE(INDEX(('2_入力シート【検査結果表】 防火扉'!$BA$17:$BA$70={\"×要是正（既存不適格以外）\",\"△既存不適格\"})/ROW('2_入力シート【検査結果表】 防火扉'!$EM$17:$EM$70),0),ROW(A5))),\"\")","v":""},null,{"$f":"IFERROR(INDEX('2_入力シート【検査結果表】 防火扉'!GX:GX,1/LARGE(INDEX(('2_入力シート【検査結果表】 防火扉'!$BA$17:$BA$70={\"×要是正（既存不適格以外）\",\"△既存不適格\"})/ROW('2_入力シート【検査結果表】 防火扉'!$GX$17:$GX$70),0),ROW(A5))),\"\")","v":""},null,{"$f":"IFERROR(INDEX('2_入力シート【検査結果表】 防火扉'!BY:BY,1/LARGE(INDEX(('2_入力シート【検査結果表】 防火扉'!$BA$17:$BA$70={\"×要是正（既存不適格以外）\",\"△既存不適格\"})/ROW('2_入力シート【検査結果表】 防火扉'!$BY$17:$BY$70),0),ROW(A5))),\"\")","v":""},null,null,{"$f":"IFERROR(INDEX('2_入力シート【検査結果表】 防火扉'!EV:EV,1/LARGE(INDEX(('2_入力シート【検査結果表】 防火扉'!$BA$17:$BA$70={\"×要是正（既存不適格以外）\",\"△既存不適格\"})/ROW('2_入力シート【検査結果表】 防火扉'!$EV$17:$EV$70),0),ROW(A5))),\"\")","v":""}]
[]
["（注意）"]
["①","　この書類は、建築物ごとに作成してください。"]
["②","　記入欄が不足する場合は、枠を拡大、行を追加して記入するか、別紙に必要な事項を記入して添えてください。"]
["③","　「当該検査に関与した検査者」欄は、建築基準法施行規則別記第36の８様式第二面４欄に記入した検査者について記入し、「検査者番号」欄に検査者を特定できる番号、記号等を記入してください。当該防火設備の検査を行った検査者が１人の場合は、その他の検査者欄は削除して構いません。"]
["④","　該当しない検査項目がある場合は、当該項目の「番号」欄から「担当検査者番号」欄までを取消線で抹消してください。"]
["⑤","　「検査結果」欄は、別表（い）欄に掲げる各検査項目ごとに記入してください。"]
["⑥","　「検査結果」欄のうち「要是正」欄は、別表（い）欄に掲げる検査項目について同表（ろ）欄に掲げる検査事項のいずれかが同表（に）欄に掲げる判定基準に該当する場合に○印を記入してください。"]
["⑦","　「検査結果」欄のうち「指摘なし」欄は、⑥に該当しない場合に○印を記入してください。"]
["⑧","　「既存不適格」欄は、「要是正」欄に○印を記入した場合で、建築基準法第３条第２項の規定の適用を受けているものであることが確認されたときは、○印を記入してください。"]
["⑨","　「担当検査者番号」欄は、「検査に関与した検査者」欄で記入した番号、記号等を記入してください。ただし、当該防火設備の検査を行った検査者が１人の場合は、記入しなくても構いません。"]
["⑩","　「上記以外の検査項目」欄は、第１ただし書の規定により特定行政庁が検査項目を追加したときに、当該検査項目を追加し、⑤から⑨に準じて検査結果等を記入してください。また、第１第２項の規定により同項に規定する図書等に検査の方法が記載されている場合に、当該図書等に記載されている検査項目を追加し、⑤から⑨に準じて検査結果等を記入してください。なお、これらの項目がない場合は、この欄を削除して構いません。"]
["⑪","　「特記事項」は、検査の結果、要是正の指摘があった場合のほか、指摘がない場合にあっても特記すべき事項がある場合に、該当する検査項目の番号、検査項目を記入し、「指摘の具体的内容等」欄に指摘又は特記すべき事項の具体的内容を記入するとともに、改善済みの場合及び改善策が明らかになっている場合は「改善策の具体的内容等」欄にその内容を記入し、改善した場合は「改善（予定）年月」欄に当該年月を記入し、改善予定年月が明らかになっている場合は「改善（予定）年月」欄に当該年月を（　）書きで記入してください。"]
["⑫","　各階平面図を別添１の様式に従い添付し、防火扉の設置されている箇所及び指摘(特記すべき事項を含む）のあった箇所を明記してください。なお、別添１の様式は別記第二号、別記第三号又は別記第四号の各々の別添１の様式に記載すべき事項を合わせて記載することとして構いません。"]
["⑬","　要是正とされた検査項目（既存不適格の場合を除く。）については、要是正とされた部分を撮影した写真を別添２の様式に従い添付するとともに、撮影した写真の位置を別添１の様式に明記してください。"]

{"sheet":"＜入力不要＞6_別記第二号（防火シャッター）","index":10,"n_rows":66,"n_cols":9,"rows_kept":66,"cut":false,"hidden":false,"merged":[[54,1,54,8],[55,1,55,8],[56,1,56,8],[65,1,65,8],[59,1,59,8],[60,1,60,8],[61,1,61,8],[62,1,62,8],[63,1,63,8],[64,1,64,8],[29,2,32,2],[33,2,34,2],[58,1,58,8],[46,5,46,7],[47,5,47,7],[48,5,48,7],[49,5,49,7],[51,0,51,8],[57,1,57,8],[39,0,39,8],[43,0,43,3],[44,1,44,2],[44,4,44,7],[45,5,45,7],[52,1,52,8],[53,1,53,8],[37,1,38,2],[7,3,7,6],[7,7,7,8],[9,0,11,0],[9,1,11,2],[9,3,11,3],[9,4,10,4],[9,5,9,7],[9,8,11,8],[10,5,11,5],[12,1,25,1],[13,2,16,2],[17,2,18,2],[21,2,25,2],[26,1,36,1],[26,2,27,2],[1,0,1,8],[2,0,2,8],[4,0,7,1],[4,3,4,6],[4,7,4,8],[5,3,5,6],[5,7,5,8],[6,2,7,2],[6,3,6,6],[6,7,6,8],[45,1,45,2],[46,1,46,2],[47,1,47,2],[48,1,48,2],[49,1,49,2]]}
["別記第二号（A４)　"]
["検査結果表"]
["（防火シャッター）"]
[]
["当該検査に関与した検査者",null,null,"　　氏　名",null,null,null,"検査者番号"]
[null,null,"代表となる検査者",{"$f":"'1_入力シート【基本情報】'!$AB$81","v":0},null,null,null,1]
[null,null,"その他の検査者",{"$f":"'1_入力シート【基本情報】'!$AB$95","v":0},null,null,null,2]
[null,null,null,{"$f":"'1_入力シート【基本情報】'!$AB$109","v":0},null,null,null,3]
[]
["番号","検　査　項　目　",null,"検査事項","対象外項目","検査結果",null,null,"担当\n検査者\n番号"]
[null,null,null,null,null,"指摘\nなし","要是正"]
[null,null,null,null,null,null,null,"既　存\n不適格"]
["(1)","防火シャッター","設置場所の周囲状況","閉鎖の障害となる物品の放置の状況",null,{"$f":"'3_入力シート【検査結果表】防火シャッター'!GJ17","v":""},{"$f":"'3_入力シート【検査結果表】防火シャッター'!GK17","v":""},{"$f":"'3_入力シート【検査結果表】防火シャッター'!GL17","v":""},{"$f":"'3_入力シート【検査結果表】防火シャッター'!BM17","v":0}]
["(2)",null,"駆動装置","軸受け部のブラケット、巻取りシャフト及び開閉機の取付けの状況※",null,{"$f":"'3_入力シート【検査結果表】防火シャッター'!GJ18","v":""},{"$f":"'3_入力シート【検査結果表】防火シャッター'!GK18","v":""},{"$f":"'3_入力シート【検査結果表】防火シャッター'!GL18","v":""},{"$f":"'3_入力シート【検査結果表】防火シャッター'!BM18","v":0}]
["(3)",null,null,"スプロケットの設置の状況※",null,{"$f":"'3_入力シート【検査結果表】防火シャッター'!GJ19","v":""},{"$f":"'3_入力シート【検査結果表】防火シャッター'!GK19","v":""},{"$f":"'3_入力シート【検査結果表】防火シャッター'!GL19","v":""},{"$f":"'3_入力シート【検査結果表】防火シャッター'!BM19","v":0}]
["(4)",null,null,"軸受け部のブラケット、ベアリング及びスプロケット又はロープ車の劣化及び損傷の状況※",null,{"$f":"'3_入力シート【検査結果表】防火シャッター'!GJ20","v":""},{"$f":"'3_入力シート【検査結果表】防火シャッター'!GK20","v":""},{"$f":"'3_入力シート【検査結果表】防火シャッター'!GL20","v":""},{"$f":"'3_入力シート【検査結果表】防火シャッター'!BM20","v":0}]
["(5)",null,null,"ローラチェーン又はワイヤーロープの劣化及び損傷の状況",null,{"$f":"'3_入力シート【検査結果表】防火シャッター'!GJ21","v":""},{"$f":"'3_入力シート【検査結果表】防火シャッター'!GK21","v":""},{"$f":"'3_入力シート【検査結果表】防火シャッター'!GL21","v":""},{"$f":"'3_入力シート【検査結果表】防火シャッター'!BM21","v":0}]
["(6)",null,"カーテン部 ","スラット及び座板の劣化等の状況",null,{"$f":"'3_入力シート【検査結果表】防火シャッター'!GJ22","v":""},{"$f":"'3_入力シート【検査結果表】防火シャッター'!GK22","v":""},{"$f":"'3_入力シート【検査結果表】防火シャッター'!GL22","v":""},{"$f":"'3_入力シート【検査結果表】防火シャッター'!BM22","v":0}]
["(7)",null,null,"吊り元の劣化及び損傷並びに固定の状況",null,{"$f":"'3_入力シート【検査結果表】防火シャッター'!GJ23","v":""},{"$f":"'3_入力シート【検査結果表】防火シャッター'!GK23","v":""},{"$f":"'3_入力シート【検査結果表】防火シャッター'!GL23","v":""},{"$f":"'3_入力シート【検査結果表】防火シャッター'!BM23","v":0}]
["(8)",null,"ケース","劣化及び損傷の状況",null,{"$f":"'3_入力シート【検査結果表】防火シャッター'!GJ24","v":""},{"$f":"'3_入力シート【検査結果表】防火シャッター'!GK24","v":""},{"$f":"'3_入力シート【検査結果表】防火シャッター'!GL24","v":""},{"$f":"'3_入力シート【検査結果表】防火シャッター'!BM24","v":0}]
["(9)",null,"まぐさ及びガイドレール","劣化及び損傷の状況",null,{"$f":"'3_入力シート【検査結果表】防火シャッター'!GJ25","v":""},{"$f":"'3_入力シート【検査結果表】防火シャッター'!GK25","v":""},{"$f":"'3_入力シート【検査結果表】防火シャッター'!GL25","v":""},{"$f":"'3_入力シート【検査結果表】防火シャッター'!BM25","v":0}]
["(10)",null,"危害防止装置","危害防止用連動中継器の配線の状況",null,{"$f":"'3_入力シート【検査結果表】防火シャッター'!GJ26","v":""},{"$f":"'3_入力シート【検査結果表】防火シャッター'!GK26","v":""},{"$f":"'3_入力シート【検査結果表】防火シャッター'!GL26","v":""},{"$f":"'3_入力シート【検査結果表】防火シャッター'!BM26","v":0}]
["(11)",null,null,"危害防止装置用予備電源の劣化及び損傷の状況",null,{"$f":"'3_入力シート【検査結果表】防火シャッター'!GJ27","v":""},{"$f":"'3_入力シート【検査結果表】防火シャッター'!GK27","v":""},{"$f":"'3_入力シート【検査結果表】防火シャッター'!GL27","v":""},{"$f":"'3_入力シート【検査結果表】防火シャッター'!BM27","v":0}]
["(12)",null,null,"危害防止装置用予備電源の容量の状況",null,{"$f":"'3_入力シート【検査結果表】防火シャッター'!GJ28","v":""},{"$f":"'3_入力シート【検査結果表】防火シャッター'!GK28","v":""},{"$f":"'3_入力シート【検査結果表】防火シャッター'!GL28","v":""},{"$f":"'3_入力シート【検査結果表】防火シャッター'!BM28","v":0}]
["(13)",null,null,"座板感知部の劣化及び損傷並びに作動の状況",null,{"$f":"'3_入力シート【検査結果表】防火シャッター'!GJ29","v":""},{"$f":"'3_入力シート【検査結果表】防火シャッター'!GK29","v":""},{"$f":"'3_入力シート【検査結果表】防火シャッター'!GL29","v":""},{"$f":"'3_入力シート【検査結果表】防火シャッター'!BM29","v":0}]
["(14)",null,null,"作動の状況",null,{"$f":"'3_入力シート【検査結果表】防火シャッター'!GJ30","v":""},{"$f":"'3_入力シート【検査結果表】防火シャッター'!GK30","v":""},{"$f":"'3_入力シート【検査結果表】防火シャッター'!GL30","v":""},{"$f":"'3_入力シート【検査結果表】防火シャッター'!BM30","v":0}]
["(15)","連動機構","煙感知器、熱煙複合式感知器及び熱感知器","設置位置",null,{"$f":"'3_入力シート【検査結果表】防火シャッター'!GJ31","v":""},{"$f":"'3_入力シート【検査結果表】防火シャッター'!GK31","v":""},{"$f":"'3_入力シート【検査結果表】防火シャッター'!GL31","v":""},{"$f":"'3_入力シート【検査結果表】防火シャッター'!BM31","v":0}]
["(16)",null,null,"感知の状況",null,{"$f":"'3_入力シート【検査結果表】防火シャッター'!GJ32","v":""},{"$f":"'3_入力シート【検査結果表】防火シャッター'!GK32","v":""},{"$f":"'3_入力シート【検査結果表】防火シャッター'!GL32","v":""},{"$f":"'3_入力シート【検査結果表】防火シャッター'!BM32","v":0}]
["(17)",null,"温度ヒューズ装置","設置の状況",null,{"$f":"'3_入力シート【検査結果表】防火シャッター'!GJ33","v":""},{"$f":"'3_入力シート【検査結果表】防火シャッター'!GK33","v":""},{"$f":"'3_入力シート【検査結果表】防火シャッター'!GL33","v":""},{"$f":"'3_入力シート【検査結果表】防火シャッター'!BM33","v":0}]
["(18)",null,"連動制御器","スイッチ類及び表示灯の状況",null,{"$f":"'3_入力シート【検査結果表】防火シャッター'!GJ34","v":""},{"$f":"'3_入力シート【検査結果表】防火シャッター'!GK34","v":""},{"$f":"'3_入力シート【検査結果表】防火シャッター'!GL34","v":""},{"$f":"'3_入力シート【検査結果表】防火シャッター'!BM34","v":0}]
["(19)",null,null,"結線接続の状況",null,{"$f":"'3_入力シート【検査結果表】防火シャッター'!GJ35","v":""},{"$f":"'3_入力シート【検査結果表】防火シャッター'!GK35","v":""},{"$f":"'3_入力シート【検査結果表】防火シャッター'!GL35","v":""},{"$f":"'3_入力シート【検査結果表】防火シャッター'!BM35","v":0}]
["(20)",null,null,"接地の状況",null,{"$f":"'3_入力シート【検査結果表】防火シャッター'!GJ36","v":""},{"$f":"'3_入力シート【検査結果表】防火シャッター'!GK36","v":""},{"$f":"'3_入力シート【検査結果表】防火シャッター'!GL36","v":""},{"$f":"'3_入力シート【検査結果表】防火シャッター'!BM36","v":0}]
["(21)",null,null,"予備電源への切り替えの状況",null,{"$f":"'3_入力シート【検査結果表】防火シャッター'!GJ37","v":""},{"$f":"'3_入力シート【検査結果表】防火シャッター'!GK37","v":""},{"$f":"'3_入力シート【検査結果表】防火シャッター'!GL37","v":""},{"$f":"'3_入力シート【検査結果表】防火シャッター'!BM37","v":0}]
["(22)",null,"連動機構用予備電源","劣化及び損傷の状況",null,{"$f":"'3_入力シート【検査結果表】防火シャッター'!GJ38","v":""},{"$f":"'3_入力シート【検査結果表】防火シャッター'!GK38","v":""},{"$f":"'3_入力シート【検査結果表】防火シャッター'!GL38","v":""},{"$f":"'3_入力シート【検査結果表】防火シャッター'!BM38","v":0}]
["(23)",null,null,"容量の状況",null,{"$f":"'3_入力シート【検査結果表】防火シャッター'!GJ39","v":""},{"$f":"'3_入力シート【検査結果表】防火シャッター'!GK39","v":""},{"$f":"'3_入力シート【検査結果表】防火シャッター'!GL39","v":""},{"$f":"'3_入力シート【検査結果表】防火シャッター'!BM39","v":0}]
["(24)",null,"自動閉鎖装置","設置の状況",null,{"$f":"'3_入力シート【検査結果表】防火シャッター'!GJ40","v":""},{"$f":"'3_入力シート【検査結果表】防火シャッター'!GK40","v":""},{"$f":"'3_入力シート【検査結果表】防火シャッター'!GL40","v":""},{"$f":"'3_入力シート【検査結果表】防火シャッター'!BM40","v":0}]
["(25)",null,"手動閉鎖装置","設置の状況",null,{"$f":"'3_入力シート【検査結果表】防火シャッター'!GJ41","v":""},{"$f":"'3_入力シート【検査結果表】防火シャッター'!GK41","v":""},{"$f":"'3_入力シート【検査結果表】防火シャッター'!GL41","v":""},{"$f":"'3_入力シート【検査結果表】防火シャッター'!BM41","v":0}]
["(26)","総合的な作動の状況",null,"防火シャッターの閉鎖の状況",null,{"$f":"'3_入力シート【検査結果表】防火シャッター'!GJ42","v":""},{"$f":"'3_入力シート【検査結果表】防火シャッター'!GK42","v":""},{"$f":"'3_入力シート【検査結果表】防火シャッター'!GL42","v":""},{"$f":"'3_入力シート【検査結果表】防火シャッター'!BM42","v":0}]
["(27)",null,null,"防火区画の形成の状況",null,{"$f":"'3_入力シート【検査結果表】防火シャッター'!GJ43","v":""},{"$f":"'3_入力シート【検査結果表】防火シャッター'!GK43","v":""},{"$f":"'3_入力シート【検査結果表】防火シャッター'!GL43","v":""},{"$f":"'3_入力シート【検査結果表】防火シャッター'!BM43","v":0}]
["上記以外の検査項目"]
[null,null,null,null,{"$f":"'3_入力シート【検査結果表】防火シャッター'!Q51","v":0},{"$f":"IF('3_入力シート【検査結果表】防火シャッター'!EI51>=1,\"○\",\"\")&IF('3_入力シート【検査結果表】防火シャッター'!EH51>=1,\"－\",\"\")","v":""},{"$f":"IF('3_入力シート【検査結果表】防火シャッター'!EJ51,\"○\",\"\")","v":""},{"$f":"IF('3_入力シート【検査結果表】防火シャッター'!EK51,\"○\",\"\")","v":""},{"$f":"'3_入力シート【検査結果表】防火シャッター'!BM51","v":0}]
[null,null,null,null,{"$f":"'3_入力シート【検査結果表】防火シャッター'!Q52","v":0},{"$f":"IF('3_入力シート【検査結果表】防火シャッター'!EI52>=1,\"○\",\"\")&IF('3_入力シート【検査結果表】防火シャッター'!EH52>=1,\"－\",\"\")","v":""},{"$f":"IF('3_入力シート【検査結果表】防火シャッター'!EJ52,\"○\",\"\")","v":""},{"$f":"IF('3_入力シート【検査結果表】防火シャッター'!EK52,\"○\",\"\")","v":""},{"$f":"'3_入力シート【検査結果表】防火シャッター'!BM52","v":0}]
[null,null,null,null,{"$f":"'3_入力シート【検査結果表】防火シャッター'!Q53","v":0},{"$f":"IF('3_入力シート【検査結果表】防火シャッター'!EI53>=1,\"○\",\"\")&IF('3_入力シート【検査結果表】防火シャッター'!EH53>=1,\"－\",\"\")","v":""},{"$f":"IF('3_入力シート【検査結果表】防火シャッター'!EJ53,\"○\",\"\")","v":""},{"$f":"IF('3_入力シート【検査結果表】防火シャッター'!EK53,\"○\",\"\")","v":""},{"$f":"'3_入力シート【検査結果表】防火シャッター'!BM53","v":0}]
["特記事項"]
["番号","検査項目",null,"指摘の具体的内容等","改善の具体的内容等",null,null,null,"改善（予定）年月"]
[{"$f":"IFERROR(INDEX('3_入力シート【検査結果表】防火シャッター'!ER:ER,1/LARGE(INDEX(('3_入力シート【検査結果表】防火シャッター'!$BA$17:$BA$75={\"×要是正（既存不適格以外）\",\"△既存不適格\"})/ROW('3_入力シート【検査結果表】防火シャッター'!$ER$17:$ER$75),0),ROW(A1))),\"\")","v":""},{"$f":"IFERROR(INDEX('3_入力シート【検査結果表】防火シャッター'!EM:EM,1/LARGE(INDEX(('3_入力シート【検査結果表】防火シャッター'!$BA$17:$BA$75={\"×要是正（既存不適格以外）\",\"△既存不適格\"})/ROW('3_入力シート【検査結果表】防火シャッター'!$EM$17:$EM$75),0),ROW(A1))),\"\")","v":""},null,{"$f":"IFERROR(INDEX('3_入力シート【検査結果表】防火シャッター'!GW:GW,1/LARGE(INDEX(('3_入力シート【検査結果表】防火シャッター'!$BA$17:$BA$75={\"×要是正（既存不適格以外）\",\"△既存不適格\"})/ROW('3_入力シート【検査結果表】防火シャッター'!$GW$17:$GW$75),0),ROW(A1))),\"\")","v":""},null,{"$f":"IFERROR(INDEX('3_入力シート【検査結果表】防火シャッター'!BY:BY,1/LARGE(INDEX(('3_入力シート【検査結果表】防火シャッター'!$BA$17:$BA$75={\"×要是正（既存不適格以外）\",\"△既存不適格\"})/ROW('3_入力シート【検査結果表】防火シャッター'!$BY$17:$BY$75),0),ROW(A1))),\"\")","v":""},null,null,{"$f":"IFERROR(INDEX('3_入力シート【検査結果表】防火シャッター'!EV:EV,1/LARGE(INDEX(('3_入力シート【検査結果表】防火シャッター'!$BA$17:$BA$75={\"×要是正（既存不適格以外）\",\"△既存不適格\"})/ROW('3_入力シート【検査結果表】防火シャッター'!$EV$17:$EV$75),0),ROW(A1))),\"\")","v":""}]
[{"$f":"IFERROR(INDEX('3_入力シート【検査結果表】防火シャッター'!ER:ER,1/LARGE(INDEX(('3_入力シート【検査結果表】防火シャッター'!$BA$17:$BA$75={\"×要是正（既存不適格以外）\",\"△既存不適格\"})/ROW('3_入力シート【検査結果表】防火シャッター'!$ER$17:$ER$75),0),ROW(A2))),\"\")","v":""},{"$f":"IFERROR(INDEX('3_入力シート【検査結果表】防火シャッター'!EM:EM,1/LARGE(INDEX(('3_入力シート【検査結果表】防火シャッター'!$BA$17:$BA$75={\"×要是正（既存不適格以外）\",\"△既存不適格\"})/ROW('3_入力シート【検査結果表】防火シャッター'!$EM$17:$EM$75),0),ROW(A2))),\"\")","v":""},null,{"$f":"IFERROR(INDEX('3_入力シート【検査結果表】防火シャッター'!GW:GW,1/LARGE(INDEX(('3_入力シート【検査結果表】防火シャッター'!$BA$17:$BA$75={\"×要是正（既存不適格以外）\",\"△既存不適格\"})/ROW('3_入力シート【検査結果表】防火シャッター'!$GW$17:$GW$75),0),ROW(A2))),\"\")","v":""},null,{"$f":"IFERROR(INDEX('3_入力シート【検査結果表】防火シャッター'!BY:BY,1/LARGE(INDEX(('3_入力シート【検査結果表】防火シャッター'!$BA$17:$BA$75={\"×要是正（既存不適格以外）\",\"△既存不適格\"})/ROW('3_入力シート【検査結果表】防火シャッター'!$BY$17:$BY$75),0),ROW(A2))),\"\")","v":""},null,null,{"$f":"IFERROR(INDEX('3_入力シート【検査結果表】防火シャッター'!EV:EV,1/LARGE(INDEX(('3_入力シート【検査結果表】防火シャッター'!$BA$17:$BA$75={\"×要是正（既存不適格以外）\",\"△既存不適格\"})/ROW('3_入力シート【検査結果表】防火シャッター'!$EV$17:$EV$75),0),ROW(A2))),\"\")","v":""}]
[{"$f":"IFERROR(INDEX('3_入力シート【検査結果表】防火シャッター'!ER:ER,1/LARGE(INDEX(('3_入力シート【検査結果表】防火シャッター'!$BA$17:$BA$75={\"×要是正（既存不適格以外）\",\"△既存不適格\"})/ROW('3_入力シート【検査結果表】防火シャッター'!$ER$17:$ER$75),0),ROW(A3))),\"\")","v":""},{"$f":"IFERROR(INDEX('3_入力シート【検査結果表】防火シャッター'!EM:EM,1/LARGE(INDEX(('3_入力シート【検査結果表】防火シャッター'!$BA$17:$BA$75={\"×要是正（既存不適格以外）\",\"△既存不適格\"})/ROW('3_入力シート【検査結果表】防火シャッター'!$EM$17:$EM$75),0),ROW(A3))),\"\")","v":""},null,{"$f":"IFERROR(INDEX('3_入力シート【検査結果表】防火シャッター'!GW:GW,1/LARGE(INDEX(('3_入力シート【検査結果表】防火シャッター'!$BA$17:$BA$75={\"×要是正（既存不適格以外）\",\"△既存不適格\"})/ROW('3_入力シート【検査結果表】防火シャッター'!$GW$17:$GW$75),0),ROW(A3))),\"\")","v":""},null,{"$f":"IFERROR(INDEX('3_入力シート【検査結果表】防火シャッター'!BY:BY,1/LARGE(INDEX(('3_入力シート【検査結果表】防火シャッター'!$BA$17:$BA$75={\"×要是正（既存不適格以外）\",\"△既存不適格\"})/ROW('3_入力シート【検査結果表】防火シャッター'!$BY$17:$BY$75),0),ROW(A3))),\"\")","v":""},null,null,{"$f":"IFERROR(INDEX('3_入力シート【検査結果表】防火シャッター'!EV:EV,1/LARGE(INDEX(('3_入力シート【検査結果表】防火シャッター'!$BA$17:$BA$75={\"×要是正（既存不適格以外）\",\"△既存不適格\"})/ROW('3_入力シート【検査結果表】防火シャッター'!$EV$17:$EV$75),0),ROW(A3))),\"\")","v":""}]
[{"$f":"IFERROR(INDEX('3_入力シート【検査結果表】防火シャッター'!ER:ER,1/LARGE(INDEX(('3_入力シート【検査結果表】防火シャッター'!$BA$17:$BA$75={\"×要是正（既存不適格以外）\",\"△既存不適格\"})/ROW('3_入力シート【検査結果表】防火シャッター'!$ER$17:$ER$75),0),ROW(A4))),\"\")","v":""},{"$f":"IFERROR(INDEX('3_入力シート【検査結果表】防火シャッター'!EM:EM,1/LARGE(INDEX(('3_入力シート【検査結果表】防火シャッター'!$BA$17:$BA$75={\"×要是正（既存不適格以外）\",\"△既存不適格\"})/ROW('3_入力シート【検査結果表】防火シャッター'!$EM$17:$EM$75),0),ROW(A4))),\"\")","v":""},null,{"$f":"IFERROR(INDEX('3_入力シート【検査結果表】防火シャッター'!GW:GW,1/LARGE(INDEX(('3_入力シート【検査結果表】防火シャッター'!$BA$17:$BA$75={\"×要是正（既存不適格以外）\",\"△既存不適格\"})/ROW('3_入力シート【検査結果表】防火シャッター'!$GW$17:$GW$75),0),ROW(A4))),\"\")","v":""},null,{"$f":"IFERROR(INDEX('3_入力シート【検査結果表】防火シャッター'!BY:BY,1/LARGE(INDEX(('3_入力シート【検査結果表】防火シャッター'!$BA$17:$BA$75={\"×要是正（既存不適格以外）\",\"△既存不適格\"})/ROW('3_入力シート【検査結果表】防火シャッター'!$BY$17:$BY$75),0),ROW(A4))),\"\")","v":""},null,null,{"$f":"IFERROR(INDEX('3_入力シート【検査結果表】防火シャッター'!EV:EV,1/LARGE(INDEX(('3_入力シート【検査結果表】防火シャッター'!$BA$17:$BA$75={\"×要是正（既存不適格以外）\",\"△既存不適格\"})/ROW('3_入力シート【検査結果表】防火シャッター'!$EV$17:$EV$75),0),ROW(A4))),\"\")","v":""}]
[{"$f":"IFERROR(INDEX('3_入力シート【検査結果表】防火シャッター'!ER:ER,1/LARGE(INDEX(('3_入力シート【検査結果表】防火シャッター'!$BA$17:$BA$75={\"×要是正（既存不適格以外）\",\"△既存不適格\"})/ROW('3_入力シート【検査結果表】防火シャッター'!$ER$17:$ER$75),0),ROW(A5))),\"\")","v":""},{"$f":"IFERROR(INDEX('3_入力シート【検査結果表】防火シャッター'!EM:EM,1/LARGE(INDEX(('3_入力シート【検査結果表】防火シャッター'!$BA$17:$BA$75={\"×要是正（既存不適格以外）\",\"△既存不適格\"})/ROW('3_入力シート【検査結果表】防火シャッター'!$EM$17:$EM$75),0),ROW(A5))),\"\")","v":""},null,{"$f":"IFERROR(INDEX('3_入力シート【検査結果表】防火シャッター'!GW:GW,1/LARGE(INDEX(('3_入力シート【検査結果表】防火シャッター'!$BA$17:$BA$75={\"×要是正（既存不適格以外）\",\"△既存不適格\"})/ROW('3_入力シート【検査結果表】防火シャッター'!$GW$17:$GW$75),0),ROW(A5))),\"\")","v":""},null,{"$f":"IFERROR(INDEX('3_入力シート【検査結果表】防火シャッター'!BY:BY,1/LARGE(INDEX(('3_入力シート【検査結果表】防火シャッター'!$BA$17:$BA$75={\"×要是正（既存不適格以外）\",\"△既存不適格\"})/ROW('3_入力シート【検査結果表】防火シャッター'!$BY$17:$BY$75),0),ROW(A5))),\"\")","v":""},null,null,{"$f":"IFERROR(INDEX('3_入力シート【検査結果表】防火シャッター'!EV:EV,1/LARGE(INDEX(('3_入力シート【検査結果表】防火シャッター'!$BA$17:$BA$75={\"×要是正（既存不適格以外）\",\"△既存不適格\"})/ROW('3_入力シート【検査結果表】防火シャッター'!$EV$17:$EV$75),0),ROW(A5))),\"\")","v":""}]
[]
["（注意）"]
["①","　この書類は、建築物ごとに作成してください。"]
["②","　記入欄が不足する場合は、枠を拡大、行を追加して記入するか、別紙に必要な事項を記入して添えてください。"]
["③","　「当該検査に関与した検査者」欄は、建築基準法施行規則別記第36の８様式第二面４欄に記入した検査者について記入し、「検査者番号」欄に検査者を特定できる番号、記号等を記入してください。当該防火設備の検査を行った検査者が１人の場合は、その他の検査者欄は削除して構いません。"]
["④","　該当しない検査項目がある場合は、当該項目の「番号」欄から「担当検査者番号」欄までを取消線で抹消してください。"]
["⑤","　「検査結果」欄は、別表（い）欄に掲げる各検査項目ごとに記入してください。"]
["⑥","　「検査結果」欄のうち「要是正」欄は、別表（い）欄に掲げる検査項目について同表（ろ）欄に掲げる検査事項のいずれかが同表（に）欄に掲げる判定基準に該当する場合に○印を記入してください。"]
["⑦","　「検査結果」欄のうち「指摘なし」欄は、⑥に該当しない場合に○印を記入してください。"]
["⑧","　「既存不適格」欄は、「要是正」欄に○印を記入した場合で、建築基準法第３条第２項の規定の適用を受けているものであることが確認されたときは、○印を記入してください。"]
["⑨","　「担当検査者番号」欄は、「検査に関与した検査者」欄で記入した番号、記号等を記入してください。ただし、当該防火設備の検査を行った検査者が１人の場合は、記入しなくても構いません。"]
["⑩","　※欄は、日常的に開閉するものについてのみ記入してください。"]
["⑪","　「上記以外の検査項目」欄は、第１ただし書の規定により特定行政庁が検査項目を追加したときに、当該検査項目を追加し、⑤から⑨に準じて検査結果等を記入してください。また、第１第２項の規定により同項に規定する図書等に検査の方法が記載されている場合に、当該図書等に記載されている検査項目を追加し、⑤から⑨に準じて検査結果等を記入してください。なお、これらの項目がない場合は、この欄を削除して構いません。"]
["⑫","　「特記事項」は、検査の結果、要是正の指摘があった場合のほか、指摘がない場合にあっても特記すべき事項がある場合に、該当する検査項目の番号、検査項目を記入し、「指摘の具体的内容等」欄に指摘又は特記すべき事項の具体的内容を記入するとともに、改善済みの場合及び改善策が明らかになっている場合は「改善策の具体的内容等」欄にその内容を記入し、改善した場合は「改善（予定）年月」欄に当該年月を記入し、改善予定年月が明らかになっている場合は「改善（予定）年月」欄に当該年月を（　）書きで記入してください。"]
["⑬","　各階平面図を別添１の様式に従い添付し、防火シャッターの設置されている箇所及び指摘(特記すべき事項を含む）のあった箇所を明記してください。なお、別添１の様式は別記第一号、別記第三号又は別記第四号の各々の別添１の様式に記載すべき事項を合わせて記載することとして構いません。"]
["⑭","　要是正とされた検査項目（既存不適格の場合を除く。）については、要是正とされた部分を撮影した写真を別添２の様式に従い添付するとともに、撮影した写真の位置を別添１の様式に明記してください。"]

{"sheet":"＜入力不要＞4_別記第三号（耐火クロススクリーン）","index":11,"n_rows":61,"n_cols":9,"rows_kept":61,"cut":false,"hidden":false,"merged":[[48,1,48,8],[60,1,60,8],[49,1,49,8],[50,1,50,8],[51,1,51,8],[52,1,52,8],[53,1,53,8],[54,1,54,8],[55,1,55,8],[56,1,56,8],[57,1,57,8],[58,1,58,8],[59,1,59,8],[41,1,41,2],[42,1,42,2],[43,1,43,2],[45,5,45,7],[47,0,47,8],[41,5,41,7],[42,5,42,7],[43,5,43,7],[44,5,44,7],[44,1,44,2],[45,1,45,2],[39,0,39,3],[40,1,40,2],[40,4,40,7],[12,1,22,1],[14,2,15,2],[18,2,22,2],[23,1,32,1],[23,2,24,2],[25,2,28,2],[29,2,30,2],[9,5,9,7],[9,8,11,8],[10,5,11,5],[33,1,34,2],[35,0,35,8],[9,0,11,0],[9,1,11,2],[9,3,11,3],[9,4,10,4],[1,0,1,8],[2,0,2,8],[4,0,7,1],[4,3,4,6],[4,7,4,8],[5,3,5,6],[5,7,5,8],[6,2,7,2],[6,3,6,6],[6,7,6,8],[7,3,7,6],[7,7,7,8]]}
["別記第三号（A４)　"]
["検査結果表"]
["（耐火クロススクリーン）"]
[]
["当該検査に関与した検査者",null,null,"　　氏　名",null,null,null,"検査者番号"]
[null,null,"代表となる検査者",{"$f":"'1_入力シート【基本情報】'!$AB$81","v":0},null,null,null,1]
[null,null,"その他の検査者",{"$f":"'1_入力シート【基本情報】'!$AB$95","v":0},null,null,null,2]
[null,null,null,{"$f":"'1_入力シート【基本情報】'!$AB$109","v":0},null,null,null,3]
[]
["番号","検　査　項　目　",null,"検査事項","対象外項目","検査結果",null,null,"担当\n検査者\n番号"]
[null,null,null,null,null,"指摘\nなし","要是正"]
[null,null,null,null,null,null,null,"既　存\n不適格"]
["(1)","耐火クロススクリーン","設置場所の周囲状況","閉鎖の障害となる物品の放置の状況",null,{"$f":"'4_入力シート【検査結果表】 耐火クロススクリーン'!GJ17","v":""},{"$f":"'4_入力シート【検査結果表】 耐火クロススクリーン'!GK17","v":""},{"$f":"'4_入力シート【検査結果表】 耐火クロススクリーン'!GL17","v":""},{"$f":"'4_入力シート【検査結果表】 耐火クロススクリーン'!GM17","v":0}]
["(2)",null,"駆動装置","ローラチェーンの劣化及び損傷の状況",null,{"$f":"'4_入力シート【検査結果表】 耐火クロススクリーン'!GJ18","v":""},{"$f":"'4_入力シート【検査結果表】 耐火クロススクリーン'!GK18","v":""},{"$f":"'4_入力シート【検査結果表】 耐火クロススクリーン'!GL18","v":""},{"$f":"'4_入力シート【検査結果表】 耐火クロススクリーン'!GM18","v":0}]
["(3)",null,"カーテン部","耐火クロス及び座板の劣化及び損傷の状況",null,{"$f":"'4_入力シート【検査結果表】 耐火クロススクリーン'!GJ19","v":""},{"$f":"'4_入力シート【検査結果表】 耐火クロススクリーン'!GK19","v":""},{"$f":"'4_入力シート【検査結果表】 耐火クロススクリーン'!GL19","v":""},{"$f":"'4_入力シート【検査結果表】 耐火クロススクリーン'!GM19","v":0}]
["(4)",null,null,"吊り元の劣化及び損傷並びに固定の状況",null,{"$f":"'4_入力シート【検査結果表】 耐火クロススクリーン'!GJ20","v":""},{"$f":"'4_入力シート【検査結果表】 耐火クロススクリーン'!GK20","v":""},{"$f":"'4_入力シート【検査結果表】 耐火クロススクリーン'!GL20","v":""},{"$f":"'4_入力シート【検査結果表】 耐火クロススクリーン'!GM20","v":0}]
["(5)",null,"ケース","劣化及び損傷の状況",null,{"$f":"'4_入力シート【検査結果表】 耐火クロススクリーン'!GJ21","v":""},{"$f":"'4_入力シート【検査結果表】 耐火クロススクリーン'!GK21","v":""},{"$f":"'4_入力シート【検査結果表】 耐火クロススクリーン'!GL21","v":""},{"$f":"'4_入力シート【検査結果表】 耐火クロススクリーン'!GM21","v":0}]
["(6)",null,"まぐさ及びガイドレール","劣化及び損傷の状況",null,{"$f":"'4_入力シート【検査結果表】 耐火クロススクリーン'!GJ22","v":""},{"$f":"'4_入力シート【検査結果表】 耐火クロススクリーン'!GK22","v":""},{"$f":"'4_入力シート【検査結果表】 耐火クロススクリーン'!GL22","v":""},{"$f":"'4_入力シート【検査結果表】 耐火クロススクリーン'!GM22","v":0}]
["(7)",null,"危害防止装置","危害防止用連動中継器の配線の状況",null,{"$f":"'4_入力シート【検査結果表】 耐火クロススクリーン'!GJ23","v":""},{"$f":"'4_入力シート【検査結果表】 耐火クロススクリーン'!GK23","v":""},{"$f":"'4_入力シート【検査結果表】 耐火クロススクリーン'!GL23","v":""},{"$f":"'4_入力シート【検査結果表】 耐火クロススクリーン'!GM23","v":0}]
["(8)",null,null,"危害防止装置用予備電源の劣化及び損傷の状況",null,{"$f":"'4_入力シート【検査結果表】 耐火クロススクリーン'!GJ24","v":""},{"$f":"'4_入力シート【検査結果表】 耐火クロススクリーン'!GK24","v":""},{"$f":"'4_入力シート【検査結果表】 耐火クロススクリーン'!GL24","v":""},{"$f":"'4_入力シート【検査結果表】 耐火クロススクリーン'!GM24","v":0}]
["(9)",null,null,"危害防止装置用予備電源の容量の状況",null,{"$f":"'4_入力シート【検査結果表】 耐火クロススクリーン'!GJ25","v":""},{"$f":"'4_入力シート【検査結果表】 耐火クロススクリーン'!GK25","v":""},{"$f":"'4_入力シート【検査結果表】 耐火クロススクリーン'!GL25","v":""},{"$f":"'4_入力シート【検査結果表】 耐火クロススクリーン'!GM25","v":0}]
["(10)",null,null,"座板感知部の劣化及び損傷並びに作動の状況",null,{"$f":"'4_入力シート【検査結果表】 耐火クロススクリーン'!GJ26","v":""},{"$f":"'4_入力シート【検査結果表】 耐火クロススクリーン'!GK26","v":""},{"$f":"'4_入力シート【検査結果表】 耐火クロススクリーン'!GL26","v":""},{"$f":"'4_入力シート【検査結果表】 耐火クロススクリーン'!GM26","v":0}]
["(11)",null,null,"作動の状況",null,{"$f":"'4_入力シート【検査結果表】 耐火クロススクリーン'!GJ27","v":""},{"$f":"'4_入力シート【検査結果表】 耐火クロススクリーン'!GK27","v":""},{"$f":"'4_入力シート【検査結果表】 耐火クロススクリーン'!GL27","v":""},{"$f":"'4_入力シート【検査結果表】 耐火クロススクリーン'!GM27","v":0}]
["(12)","連動機構","煙感知器、熱煙複合式感知器及び熱感知器","設置位置",null,{"$f":"'4_入力シート【検査結果表】 耐火クロススクリーン'!GJ28","v":""},{"$f":"'4_入力シート【検査結果表】 耐火クロススクリーン'!GK28","v":""},{"$f":"'4_入力シート【検査結果表】 耐火クロススクリーン'!GL28","v":""},{"$f":"'4_入力シート【検査結果表】 耐火クロススクリーン'!GM28","v":0}]
["(13)",null,null,"感知の状況",null,{"$f":"'4_入力シート【検査結果表】 耐火クロススクリーン'!GJ29","v":""},{"$f":"'4_入力シート【検査結果表】 耐火クロススクリーン'!GK29","v":""},{"$f":"'4_入力シート【検査結果表】 耐火クロススクリーン'!GL29","v":""},{"$f":"'4_入力シート【検査結果表】 耐火クロススクリーン'!GM29","v":0}]
["(14)",null,"連動制御器","スイッチ類及び表示灯の状況",null,{"$f":"'4_入力シート【検査結果表】 耐火クロススクリーン'!GJ30","v":""},{"$f":"'4_入力シート【検査結果表】 耐火クロススクリーン'!GK30","v":""},{"$f":"'4_入力シート【検査結果表】 耐火クロススクリーン'!GL30","v":""},{"$f":"'4_入力シート【検査結果表】 耐火クロススクリーン'!GM30","v":0}]
["(15)",null,null,"結線接続の状況",null,{"$f":"'4_入力シート【検査結果表】 耐火クロススクリーン'!GJ31","v":""},{"$f":"'4_入力シート【検査結果表】 耐火クロススクリーン'!GK31","v":""},{"$f":"'4_入力シート【検査結果表】 耐火クロススクリーン'!GL31","v":""},{"$f":"'4_入力シート【検査結果表】 耐火クロススクリーン'!GM31","v":0}]
["(16)",null,null,"接地の状況",null,{"$f":"'4_入力シート【検査結果表】 耐火クロススクリーン'!GJ32","v":""},{"$f":"'4_入力シート【検査結果表】 耐火クロススクリーン'!GK32","v":""},{"$f":"'4_入力シート【検査結果表】 耐火クロススクリーン'!GL32","v":""},{"$f":"'4_入力シート【検査結果表】 耐火クロススクリーン'!GM32","v":0}]
["(17)",null,null,"予備電源への切り替えの状況",null,{"$f":"'4_入力シート【検査結果表】 耐火クロススクリーン'!GJ33","v":""},{"$f":"'4_入力シート【検査結果表】 耐火クロススクリーン'!GK33","v":""},{"$f":"'4_入力シート【検査結果表】 耐火クロススクリーン'!GL33","v":""},{"$f":"'4_入力シート【検査結果表】 耐火クロススクリーン'!GM33","v":0}]
["(18)",null,"連動機構用予備電源","劣化及び損傷の状況",null,{"$f":"'4_入力シート【検査結果表】 耐火クロススクリーン'!GJ34","v":""},{"$f":"'4_入力シート【検査結果表】 耐火クロススクリーン'!GK34","v":""},{"$f":"'4_入力シート【検査結果表】 耐火クロススクリーン'!GL34","v":""},{"$f":"'4_入力シート【検査結果表】 耐火クロススクリーン'!GM34","v":0}]
["(19)",null,null,"容量の状況",null,{"$f":"'4_入力シート【検査結果表】 耐火クロススクリーン'!GJ35","v":""},{"$f":"'4_入力シート【検査結果表】 耐火クロススクリーン'!GK35","v":""},{"$f":"'4_入力シート【検査結果表】 耐火クロススクリーン'!GL35","v":""},{"$f":"'4_入力シート【検査結果表】 耐火クロススクリーン'!GM35","v":0}]
["(20)",null,"自動閉鎖装置","設置の状況",null,{"$f":"'4_入力シート【検査結果表】 耐火クロススクリーン'!GJ36","v":""},{"$f":"'4_入力シート【検査結果表】 耐火クロススクリーン'!GK36","v":""},{"$f":"'4_入力シート【検査結果表】 耐火クロススクリーン'!GL36","v":""},{"$f":"'4_入力シート【検査結果表】 耐火クロススクリーン'!GM36","v":0}]
["(21)",null,"手動閉鎖装置","設置の状況",null,{"$f":"'4_入力シート【検査結果表】 耐火クロススクリーン'!GJ37","v":""},{"$f":"'4_入力シート【検査結果表】 耐火クロススクリーン'!GK37","v":""},{"$f":"'4_入力シート【検査結果表】 耐火クロススクリーン'!GL37","v":""},{"$f":"'4_入力シート【検査結果表】 耐火クロススクリーン'!GM37","v":0}]
["(22)","総合的な作動の状況",null,"耐火クロススクリーンの閉鎖の状況",null,{"$f":"'4_入力シート【検査結果表】 耐火クロススクリーン'!GJ38","v":""},{"$f":"'4_入力シート【検査結果表】 耐火クロススクリーン'!GK38","v":""},{"$f":"'4_入力シート【検査結果表】 耐火クロススクリーン'!GL38","v":""},{"$f":"'4_入力シート【検査結果表】 耐火クロススクリーン'!GM38","v":0}]
["(23)",null,null,"防火区画の形成の状況",null,{"$f":"'4_入力シート【検査結果表】 耐火クロススクリーン'!GJ39","v":""},{"$f":"'4_入力シート【検査結果表】 耐火クロススクリーン'!GK39","v":""},{"$f":"'4_入力シート【検査結果表】 耐火クロススクリーン'!GL39","v":""},{"$f":"'4_入力シート【検査結果表】 耐火クロススクリーン'!GM39","v":0}]
["上記以外の検査項目"]
[null,null,null,null,{"$f":"'4_入力シート【検査結果表】 耐火クロススクリーン'!Q47","v":0},{"$f":"'4_入力シート【検査結果表】 耐火クロススクリーン'!GJ47","v":""},{"$f":"'4_入力シート【検査結果表】 耐火クロススクリーン'!GK47","v":""},{"$f":"'4_入力シート【検査結果表】 耐火クロススクリーン'!GL47","v":""},{"$f":"'4_入力シート【検査結果表】 耐火クロススクリーン'!GM47","v":0}]
[null,null,null,null,{"$f":"'4_入力シート【検査結果表】 耐火クロススクリーン'!Q48","v":0},{"$f":"'4_入力シート【検査結果表】 耐火クロススクリーン'!GJ48","v":""},{"$f":"'4_入力シート【検査結果表】 耐火クロススクリーン'!GK48","v":""},{"$f":"'4_入力シート【検査結果表】 耐火クロススクリーン'!GL48","v":""},{"$f":"'4_入力シート【検査結果表】 耐火クロススクリーン'!GM48","v":0}]
[null,null,null,null,{"$f":"'4_入力シート【検査結果表】 耐火クロススクリーン'!Q49","v":0},{"$f":"'4_入力シート【検査結果表】 耐火クロススクリーン'!GJ49","v":""},{"$f":"'4_入力シート【検査結果表】 耐火クロススクリーン'!GK49","v":""},{"$f":"'4_入力シート【検査結果表】 耐火クロススクリーン'!GL49","v":""},{"$f":"'4_入力シート【検査結果表】 耐火クロススクリーン'!GM49","v":0}]
["特記事項"]
["番号","検査項目",null,"指摘の具体的内容等","改善の具体的内容等",null,null,null,"改善（予定）年月"]
[{"$f":"IFERROR(INDEX('4_入力シート【検査結果表】 耐火クロススクリーン'!ER:ER,1/LARGE(INDEX(('4_入力シート【検査結果表】 耐火クロススクリーン'!$BA$17:$BA$71={\"×要是正（既存不適格以外）\",\"△既存不適格\"})/ROW('4_入力シート【検査結果表】 耐火クロススクリーン'!$ER$17:$ER$71),0),ROW(A1))),\"\")","v":""},{"$f":"IFERROR(INDEX('4_入力シート【検査結果表】 耐火クロススクリーン'!EM:EM,1/LARGE(INDEX(('4_入力シート【検査結果表】 耐火クロススクリーン'!$BA$17:$BA$71={\"×要是正（既存不適格以外）\",\"△既存不適格\"})/ROW('4_入力シート【検査結果表】 耐火クロススクリーン'!$EM$17:$EM$71),0),ROW(A1))),\"\")","v":""},null,{"$f":"IFERROR(INDEX('4_入力シート【検査結果表】 耐火クロススクリーン'!GW:GW,1/LARGE(INDEX(('4_入力シート【検査結果表】 耐火クロススクリーン'!$BA$17:$BA$71={\"×要是正（既存不適格以外）\",\"△既存不適格\"})/ROW('4_入力シート【検査結果表】 耐火クロススクリーン'!$GW$17:$GW$71),0),ROW(A1))),\"\")","v":""},null,{"$f":"IFERROR(INDEX('4_入力シート【検査結果表】 耐火クロススクリーン'!BY:BY,1/LARGE(INDEX(('4_入力シート【検査結果表】 耐火クロススクリーン'!$BA$17:$BA$71={\"×要是正（既存不適格以外）\",\"△既存不適格\"})/ROW('4_入力シート【検査結果表】 耐火クロススクリーン'!$BY$17:$BY$71),0),ROW(A1))),\"\")","v":""},null,null,{"$f":"IFERROR(INDEX('4_入力シート【検査結果表】 耐火クロススクリーン'!EV:EV,1/LARGE(INDEX(('4_入力シート【検査結果表】 耐火クロススクリーン'!$BA$17:$BA$71={\"×要是正（既存不適格以外）\",\"△既存不適格\"})/ROW('4_入力シート【検査結果表】 耐火クロススクリーン'!$EV$17:$EV$71),0),ROW(A1))),\"\")","v":""}]
[{"$f":"IFERROR(INDEX('4_入力シート【検査結果表】 耐火クロススクリーン'!ER:ER,1/LARGE(INDEX(('4_入力シート【検査結果表】 耐火クロススクリーン'!$BA$17:$BA$71={\"×要是正（既存不適格以外）\",\"△既存不適格\"})/ROW('4_入力シート【検査結果表】 耐火クロススクリーン'!$ER$17:$ER$71),0),ROW(A2))),\"\")","v":""},{"$f":"IFERROR(INDEX('4_入力シート【検査結果表】 耐火クロススクリーン'!EM:EM,1/LARGE(INDEX(('4_入力シート【検査結果表】 耐火クロススクリーン'!$BA$17:$BA$71={\"×要是正（既存不適格以外）\",\"△既存不適格\"})/ROW('4_入力シート【検査結果表】 耐火クロススクリーン'!$EM$17:$EM$71),0),ROW(A2))),\"\")","v":""},null,{"$f":"IFERROR(INDEX('4_入力シート【検査結果表】 耐火クロススクリーン'!GW:GW,1/LARGE(INDEX(('4_入力シート【検査結果表】 耐火クロススクリーン'!$BA$17:$BA$71={\"×要是正（既存不適格以外）\",\"△既存不適格\"})/ROW('4_入力シート【検査結果表】 耐火クロススクリーン'!$GW$17:$GW$71),0),ROW(A2))),\"\")","v":""},null,{"$f":"IFERROR(INDEX('4_入力シート【検査結果表】 耐火クロススクリーン'!BY:BY,1/LARGE(INDEX(('4_入力シート【検査結果表】 耐火クロススクリーン'!$BA$17:$BA$71={\"×要是正（既存不適格以外）\",\"△既存不適格\"})/ROW('4_入力シート【検査結果表】 耐火クロススクリーン'!$BY$17:$BY$71),0),ROW(A2))),\"\")","v":""},null,null,{"$f":"IFERROR(INDEX('4_入力シート【検査結果表】 耐火クロススクリーン'!EV:EV,1/LARGE(INDEX(('4_入力シート【検査結果表】 耐火クロススクリーン'!$BA$17:$BA$71={\"×要是正（既存不適格以外）\",\"△既存不適格\"})/ROW('4_入力シート【検査結果表】 耐火クロススクリーン'!$EV$17:$EV$71),0),ROW(A2))),\"\")","v":""}]
[{"$f":"IFERROR(INDEX('4_入力シート【検査結果表】 耐火クロススクリーン'!ER:ER,1/LARGE(INDEX(('4_入力シート【検査結果表】 耐火クロススクリーン'!$BA$17:$BA$71={\"×要是正（既存不適格以外）\",\"△既存不適格\"})/ROW('4_入力シート【検査結果表】 耐火クロススクリーン'!$ER$17:$ER$71),0),ROW(A3))),\"\")","v":""},{"$f":"IFERROR(INDEX('4_入力シート【検査結果表】 耐火クロススクリーン'!EM:EM,1/LARGE(INDEX(('4_入力シート【検査結果表】 耐火クロススクリーン'!$BA$17:$BA$71={\"×要是正（既存不適格以外）\",\"△既存不適格\"})/ROW('4_入力シート【検査結果表】 耐火クロススクリーン'!$EM$17:$EM$71),0),ROW(A3))),\"\")","v":""},null,{"$f":"IFERROR(INDEX('4_入力シート【検査結果表】 耐火クロススクリーン'!GW:GW,1/LARGE(INDEX(('4_入力シート【検査結果表】 耐火クロススクリーン'!$BA$17:$BA$71={\"×要是正（既存不適格以外）\",\"△既存不適格\"})/ROW('4_入力シート【検査結果表】 耐火クロススクリーン'!$GW$17:$GW$71),0),ROW(A3))),\"\")","v":""},null,{"$f":"IFERROR(INDEX('4_入力シート【検査結果表】 耐火クロススクリーン'!BY:BY,1/LARGE(INDEX(('4_入力シート【検査結果表】 耐火クロススクリーン'!$BA$17:$BA$71={\"×要是正（既存不適格以外）\",\"△既存不適格\"})/ROW('4_入力シート【検査結果表】 耐火クロススクリーン'!$BY$17:$BY$71),0),ROW(A3))),\"\")","v":""},null,null,{"$f":"IFERROR(INDEX('4_入力シート【検査結果表】 耐火クロススクリーン'!EV:EV,1/LARGE(INDEX(('4_入力シート【検査結果表】 耐火クロススクリーン'!$BA$17:$BA$71={\"×要是正（既存不適格以外）\",\"△既存不適格\"})/ROW('4_入力シート【検査結果表】 耐火クロススクリーン'!$EV$17:$EV$71),0),ROW(A3))),\"\")","v":""}]
[{"$f":"IFERROR(INDEX('4_入力シート【検査結果表】 耐火クロススクリーン'!ER:ER,1/LARGE(INDEX(('4_入力シート【検査結果表】 耐火クロススクリーン'!$BA$17:$BA$71={\"×要是正（既存不適格以外）\",\"△既存不適格\"})/ROW('4_入力シート【検査結果表】 耐火クロススクリーン'!$ER$17:$ER$71),0),ROW(A4))),\"\")","v":""},{"$f":"IFERROR(INDEX('4_入力シート【検査結果表】 耐火クロススクリーン'!EM:EM,1/LARGE(INDEX(('4_入力シート【検査結果表】 耐火クロススクリーン'!$BA$17:$BA$71={\"×要是正（既存不適格以外）\",\"△既存不適格\"})/ROW('4_入力シート【検査結果表】 耐火クロススクリーン'!$EM$17:$EM$71),0),ROW(A4))),\"\")","v":""},null,{"$f":"IFERROR(INDEX('4_入力シート【検査結果表】 耐火クロススクリーン'!GW:GW,1/LARGE(INDEX(('4_入力シート【検査結果表】 耐火クロススクリーン'!$BA$17:$BA$71={\"×要是正（既存不適格以外）\",\"△既存不適格\"})/ROW('4_入力シート【検査結果表】 耐火クロススクリーン'!$GW$17:$GW$71),0),ROW(A4))),\"\")","v":""},null,{"$f":"IFERROR(INDEX('4_入力シート【検査結果表】 耐火クロススクリーン'!BY:BY,1/LARGE(INDEX(('4_入力シート【検査結果表】 耐火クロススクリーン'!$BA$17:$BA$71={\"×要是正（既存不適格以外）\",\"△既存不適格\"})/ROW('4_入力シート【検査結果表】 耐火クロススクリーン'!$BY$17:$BY$71),0),ROW(A4))),\"\")","v":""},null,null,{"$f":"IFERROR(INDEX('4_入力シート【検査結果表】 耐火クロススクリーン'!EV:EV,1/LARGE(INDEX(('4_入力シート【検査結果表】 耐火クロススクリーン'!$BA$17:$BA$71={\"×要是正（既存不適格以外）\",\"△既存不適格\"})/ROW('4_入力シート【検査結果表】 耐火クロススクリーン'!$EV$17:$EV$71),0),ROW(A4))),\"\")","v":""}]
[{"$f":"IFERROR(INDEX('4_入力シート【検査結果表】 耐火クロススクリーン'!ER:ER,1/LARGE(INDEX(('4_入力シート【検査結果表】 耐火クロススクリーン'!$BA$17:$BA$71={\"×要是正（既存不適格以外）\",\"△既存不適格\"})/ROW('4_入力シート【検査結果表】 耐火クロススクリーン'!$ER$17:$ER$71),0),ROW(A5))),\"\")","v":""},{"$f":"IFERROR(INDEX('4_入力シート【検査結果表】 耐火クロススクリーン'!EM:EM,1/LARGE(INDEX(('4_入力シート【検査結果表】 耐火クロススクリーン'!$BA$17:$BA$71={\"×要是正（既存不適格以外）\",\"△既存不適格\"})/ROW('4_入力シート【検査結果表】 耐火クロススクリーン'!$EM$17:$EM$71),0),ROW(A5))),\"\")","v":""},null,{"$f":"IFERROR(INDEX('4_入力シート【検査結果表】 耐火クロススクリーン'!GW:GW,1/LARGE(INDEX(('4_入力シート【検査結果表】 耐火クロススクリーン'!$BA$17:$BA$71={\"×要是正（既存不適格以外）\",\"△既存不適格\"})/ROW('4_入力シート【検査結果表】 耐火クロススクリーン'!$GW$17:$GW$71),0),ROW(A5))),\"\")","v":""},null,{"$f":"IFERROR(INDEX('4_入力シート【検査結果表】 耐火クロススクリーン'!BY:BY,1/LARGE(INDEX(('4_入力シート【検査結果表】 耐火クロススクリーン'!$BA$17:$BA$71={\"×要是正（既存不適格以外）\",\"△既存不適格\"})/ROW('4_入力シート【検査結果表】 耐火クロススクリーン'!$BY$17:$BY$71),0),ROW(A5))),\"\")","v":""},null,null,{"$f":"IFERROR(INDEX('4_入力シート【検査結果表】 耐火クロススクリーン'!EV:EV,1/LARGE(INDEX(('4_入力シート【検査結果表】 耐火クロススクリーン'!$BA$17:$BA$71={\"×要是正（既存不適格以外）\",\"△既存不適格\"})/ROW('4_入力シート【検査結果表】 耐火クロススクリーン'!$EV$17:$EV$71),0),ROW(A5))),\"\")","v":""}]
[]
["（注意）"]
["①","　この書類は、建築物ごとに作成してください。"]
["②","　記入欄が不足する場合は、枠を拡大、行を追加して記入するか、別紙に必要な事項を記入して添えてください。"]
["③","　「当該検査に関与した検査者」欄は、建築基準法施行規則別記第36の８様式第二面４欄に記入した検査者について記入し、「検査者番号」欄に検査者を特定できる番号、記号等を記入してください。当該防火設備の検査を行った検査者が１人の場合は、その他の検査者欄は削除して構いません。"]
["④","　該当しない検査項目がある場合は、当該項目の「番号」欄から「担当検査者番号」欄までを取消線で抹消してください。"]
["⑤","　「検査結果」欄は、別表（い）欄に掲げる各検査項目ごとに記入してください。"]
["⑥","　「検査結果」欄のうち「要是正」欄は、別表（い）欄に掲げる検査項目について同表（ろ）欄に掲げる検査事項のいずれかが同表（に）欄に掲げる判定基準に該当する場合に○印を記入してください。"]
["⑦","　「検査結果」欄のうち「指摘なし」欄は、⑥に該当しない場合に○印を記入してください。"]
["⑧","　「既存不適格」欄は、「要是正」欄に○印を記入した場合で、建築基準法第３条第２項の規定の適用を受けているものであることが確認されたときは、○印を記入してください。"]
["⑨","　「担当検査者番号」欄は、「検査に関与した検査者」欄で記入した番号、記号等を記入してください。ただし、当該防火設備の検査を行った検査者が１人の場合は、記入しなくても構いません。"]
["⑩","　「上記以外の検査項目」欄は、第１ただし書の規定により特定行政庁が検査項目を追加したときに、当該検査項目を追加し、⑤から⑨に準じて検査結果等を記入してください。また、第１第２項の規定により同項に規定する図書等に検査の方法が記載されている場合に、当該図書等に記載されている検査項目を追加し、⑤から⑨に準じて検査結果等を記入してください。なお、これらの項目がない場合は、この欄を削除して構いません。"]
["⑪","　「特記事項」は、検査の結果、要是正の指摘があった場合のほか、指摘がない場合にあっても特記すべき事項がある場合に、該当する検査項目の番号、検査項目を記入し、「指摘の具体的内容等」欄に指摘又は特記すべき事項の具体的内容を記入するとともに、改善済みの場合及び改善策が明らかになっている場合は「改善策の具体的内容等」欄にその内容を記入し、改善した場合は「改善（予定）年月」欄に当該年月を記入し、改善予定年月が明らかになっている場合は「改善（予定）年月」欄に当該年月を（　）書きで記入してください。"]
["⑫","　各階平面図を別添１の様式に従い添付し、耐火クロススクリーンの設置されている箇所及び指摘(特記すべき事項を含む）のあった箇所を明記してください。なお、別添１の様式は別記第一号、別記第二号又は別記第四号の各々の別添１の様式に記載すべき事項を合わせて記載することとして構いません。"]
["⑬","　要是正とされた検査項目（既存不適格の場合を除く。）については、要是正とされた部分を撮影した写真を別添２の様式に従い添付するとともに、撮影した写真の位置を別添１の様式に明記してください。"]

{"sheet":"＜入力不要＞5_別記第四号（ドレンチャー）","index":12,"n_rows":64,"n_cols":9,"rows_kept":64,"cut":false,"hidden":false,"merged":[[51,1,51,8],[63,1,63,8],[52,1,52,8],[53,1,53,8],[54,1,54,8],[55,1,55,8],[56,1,56,8],[57,1,57,8],[58,1,58,8],[59,1,59,8],[60,1,60,8],[61,1,61,8],[62,1,62,8],[44,1,44,2],[45,1,45,2],[46,1,46,2],[48,5,48,7],[50,0,50,8],[44,5,44,7],[45,5,45,7],[46,5,46,7],[47,5,47,7],[47,1,47,2],[48,1,48,2],[42,0,42,3],[43,1,43,2],[43,4,43,7],[12,1,25,1],[16,2,17,2],[18,2,25,2],[26,1,35,1],[26,2,27,2],[28,2,31,2],[32,2,33,2],[9,5,9,7],[9,8,11,8],[10,5,11,5],[36,1,37,2],[38,0,38,8],[9,0,11,0],[9,1,11,2],[9,3,11,3],[9,4,10,4],[1,0,1,8],[2,0,2,8],[4,0,7,1],[4,3,4,6],[4,7,4,8],[5,3,5,6],[5,7,5,8],[6,2,7,2],[6,3,6,6],[6,7,6,8],[7,3,7,6],[7,7,7,8]]}
["別記第四号（A４)　"]
["検査結果表"]
["（ドレンチャーその他の水幕を形成する防火設備）"]
[]
["当該検査に関与した検査者",null,null,"　　氏　名",null,null,null,"検査者番号"]
[null,null,"代表となる検査者",{"$f":"'1_入力シート【基本情報】'!$AB$81","v":0},null,null,null,1]
[null,null,"その他の検査者",{"$f":"'1_入力シート【基本情報】'!$AB$95","v":0},null,null,null,2]
[null,null,null,{"$f":"'1_入力シート【基本情報】'!$AB$109","v":0},null,null,null,3]
[]
["番号","検　査　項　目　",null,"検査事項","対象外項目","検査結果",null,null,"担当\n検査者\n番号"]
[null,null,null,null,null,"指摘\nなし","要是正"]
[null,null,null,null,null,null,null,"既　存\n不適格"]
["(1)","ドレンチャー等","設置場所の周囲状況","作動の障害となる物品の放置の状況",null,{"$f":"'5_入力シート【検査結果表】 ドレンチャー'!GI17","v":""},{"$f":"'5_入力シート【検査結果表】 ドレンチャー'!GJ17","v":""},{"$f":"'5_入力シート【検査結果表】 ドレンチャー'!GK17","v":""},{"$f":"'5_入力シート【検査結果表】 ドレンチャー'!GL17","v":0}]
["(2)",null,"散水ヘッド ","散水ヘッドの設置の状況",null,{"$f":"'5_入力シート【検査結果表】 ドレンチャー'!GI18","v":""},{"$f":"'5_入力シート【検査結果表】 ドレンチャー'!GJ18","v":""},{"$f":"'5_入力シート【検査結果表】 ドレンチャー'!GK18","v":""},{"$f":"'5_入力シート【検査結果表】 ドレンチャー'!GL18","v":0}]
["(3)",null,"開閉弁","開閉弁の状況",null,{"$f":"'5_入力シート【検査結果表】 ドレンチャー'!GI19","v":""},{"$f":"'5_入力シート【検査結果表】 ドレンチャー'!GJ19","v":""},{"$f":"'5_入力シート【検査結果表】 ドレンチャー'!GK19","v":""},{"$f":"'5_入力シート【検査結果表】 ドレンチャー'!GL19","v":0}]
["(4)",null,"排水設備","排水の状況",null,{"$f":"'5_入力シート【検査結果表】 ドレンチャー'!GI20","v":""},{"$f":"'5_入力シート【検査結果表】 ドレンチャー'!GJ20","v":""},{"$f":"'5_入力シート【検査結果表】 ドレンチャー'!GK20","v":""},{"$f":"'5_入力シート【検査結果表】 ドレンチャー'!GL20","v":0}]
["(5)",null,"水源","貯水槽の劣化及び損傷、水質並びに水量の状況",null,{"$f":"'5_入力シート【検査結果表】 ドレンチャー'!GI21","v":""},{"$f":"'5_入力シート【検査結果表】 ドレンチャー'!GJ21","v":""},{"$f":"'5_入力シート【検査結果表】 ドレンチャー'!GK21","v":""},{"$f":"'5_入力シート【検査結果表】 ドレンチャー'!GL21","v":0}]
["(6)",null,null,"給水装置の状況",null,{"$f":"'5_入力シート【検査結果表】 ドレンチャー'!GI22","v":""},{"$f":"'5_入力シート【検査結果表】 ドレンチャー'!GJ22","v":""},{"$f":"'5_入力シート【検査結果表】 ドレンチャー'!GK22","v":""},{"$f":"'5_入力シート【検査結果表】 ドレンチャー'!GL22","v":0}]
["(7)",null,"加圧送水装置","ポンプ制御盤のスイッチ類及び表示灯の状況",null,{"$f":"'5_入力シート【検査結果表】 ドレンチャー'!GI23","v":""},{"$f":"'5_入力シート【検査結果表】 ドレンチャー'!GJ23","v":""},{"$f":"'5_入力シート【検査結果表】 ドレンチャー'!GK23","v":""},{"$f":"'5_入力シート【検査結果表】 ドレンチャー'!GL23","v":0}]
["(8)",null,null,"結線接続の状況",null,{"$f":"'5_入力シート【検査結果表】 ドレンチャー'!GI24","v":""},{"$f":"'5_入力シート【検査結果表】 ドレンチャー'!GJ24","v":""},{"$f":"'5_入力シート【検査結果表】 ドレンチャー'!GK24","v":""},{"$f":"'5_入力シート【検査結果表】 ドレンチャー'!GL24","v":0}]
["(9)",null,null,"接地の状況",null,{"$f":"'5_入力シート【検査結果表】 ドレンチャー'!GI25","v":""},{"$f":"'5_入力シート【検査結果表】 ドレンチャー'!GJ25","v":""},{"$f":"'5_入力シート【検査結果表】 ドレンチャー'!GK25","v":""},{"$f":"'5_入力シート【検査結果表】 ドレンチャー'!GL25","v":0}]
["(10)",null,null,"ポンプ及び電動機の状況",null,{"$f":"'5_入力シート【検査結果表】 ドレンチャー'!GI26","v":""},{"$f":"'5_入力シート【検査結果表】 ドレンチャー'!GJ26","v":""},{"$f":"'5_入力シート【検査結果表】 ドレンチャー'!GK26","v":""},{"$f":"'5_入力シート【検査結果表】 ドレンチャー'!GL26","v":0}]
["(11)",null,null,"加圧送水装置用予備電源への切り替えの状況",null,{"$f":"'5_入力シート【検査結果表】 ドレンチャー'!GI27","v":""},{"$f":"'5_入力シート【検査結果表】 ドレンチャー'!GJ27","v":""},{"$f":"'5_入力シート【検査結果表】 ドレンチャー'!GK27","v":""},{"$f":"'5_入力シート【検査結果表】 ドレンチャー'!GL27","v":0}]
["(12)",null,null,"加圧送水装置用予備電源の劣化及び損傷の状況",null,{"$f":"'5_入力シート【検査結果表】 ドレンチャー'!GI28","v":""},{"$f":"'5_入力シート【検査結果表】 ドレンチャー'!GJ28","v":""},{"$f":"'5_入力シート【検査結果表】 ドレンチャー'!GK28","v":""},{"$f":"'5_入力シート【検査結果表】 ドレンチャー'!GL28","v":0}]
["(13)",null,null,"加圧送水装置用予備電源の容量の状況",null,{"$f":"'5_入力シート【検査結果表】 ドレンチャー'!GI29","v":""},{"$f":"'5_入力シート【検査結果表】 ドレンチャー'!GJ29","v":""},{"$f":"'5_入力シート【検査結果表】 ドレンチャー'!GK29","v":""},{"$f":"'5_入力シート【検査結果表】 ドレンチャー'!GL29","v":0}]
["(14)",null,null,"圧力計、呼水槽、起動用圧力スイッチ等の付属装置の状況",null,{"$f":"'5_入力シート【検査結果表】 ドレンチャー'!GI30","v":""},{"$f":"'5_入力シート【検査結果表】 ドレンチャー'!GJ30","v":""},{"$f":"'5_入力シート【検査結果表】 ドレンチャー'!GK30","v":""},{"$f":"'5_入力シート【検査結果表】 ドレンチャー'!GL30","v":0}]
["(15)","連動機構","煙感知器、熱煙複合式感知器及び熱感知器","設置位置",null,{"$f":"'5_入力シート【検査結果表】 ドレンチャー'!GI31","v":""},{"$f":"'5_入力シート【検査結果表】 ドレンチャー'!GJ31","v":""},{"$f":"'5_入力シート【検査結果表】 ドレンチャー'!GK31","v":""},{"$f":"'5_入力シート【検査結果表】 ドレンチャー'!GL31","v":0}]
["(16)",null,null,"感知の状況",null,{"$f":"'5_入力シート【検査結果表】 ドレンチャー'!GI32","v":""},{"$f":"'5_入力シート【検査結果表】 ドレンチャー'!GJ32","v":""},{"$f":"'5_入力シート【検査結果表】 ドレンチャー'!GK32","v":""},{"$f":"'5_入力シート【検査結果表】 ドレンチャー'!GL32","v":0}]
["(17)",null,"制御盤","スイッチ類及び表示灯の状況",null,{"$f":"'5_入力シート【検査結果表】 ドレンチャー'!GI33","v":""},{"$f":"'5_入力シート【検査結果表】 ドレンチャー'!GJ33","v":""},{"$f":"'5_入力シート【検査結果表】 ドレンチャー'!GK33","v":""},{"$f":"'5_入力シート【検査結果表】 ドレンチャー'!GL33","v":0}]
["(18)",null,null,"結線接続の状況",null,{"$f":"'5_入力シート【検査結果表】 ドレンチャー'!GI34","v":""},{"$f":"'5_入力シート【検査結果表】 ドレンチャー'!GJ34","v":""},{"$f":"'5_入力シート【検査結果表】 ドレンチャー'!GK34","v":""},{"$f":"'5_入力シート【検査結果表】 ドレンチャー'!GL34","v":0}]
["(19)",null,null,"接地の状況",null,{"$f":"'5_入力シート【検査結果表】 ドレンチャー'!GI35","v":""},{"$f":"'5_入力シート【検査結果表】 ドレンチャー'!GJ35","v":""},{"$f":"'5_入力シート【検査結果表】 ドレンチャー'!GK35","v":""},{"$f":"'5_入力シート【検査結果表】 ドレンチャー'!GL35","v":0}]
["(20)",null,null,"予備電源への切り替えの状況",null,{"$f":"'5_入力シート【検査結果表】 ドレンチャー'!GI36","v":""},{"$f":"'5_入力シート【検査結果表】 ドレンチャー'!GJ36","v":""},{"$f":"'5_入力シート【検査結果表】 ドレンチャー'!GK36","v":""},{"$f":"'5_入力シート【検査結果表】 ドレンチャー'!GL36","v":0}]
["(21)",null,"連動機構用予備電源","劣化及び損傷の状況",null,{"$f":"'5_入力シート【検査結果表】 ドレンチャー'!GI37","v":""},{"$f":"'5_入力シート【検査結果表】 ドレンチャー'!GJ37","v":""},{"$f":"'5_入力シート【検査結果表】 ドレンチャー'!GK37","v":""},{"$f":"'5_入力シート【検査結果表】 ドレンチャー'!GL37","v":0}]
["(22)",null,null,"容量の状況",null,{"$f":"'5_入力シート【検査結果表】 ドレンチャー'!GI38","v":""},{"$f":"'5_入力シート【検査結果表】 ドレンチャー'!GJ38","v":""},{"$f":"'5_入力シート【検査結果表】 ドレンチャー'!GK38","v":""},{"$f":"'5_入力シート【検査結果表】 ドレンチャー'!GL38","v":0}]
["(23)",null,"自動作動装置","設置の状況",null,{"$f":"'5_入力シート【検査結果表】 ドレンチャー'!GI39","v":""},{"$f":"'5_入力シート【検査結果表】 ドレンチャー'!GJ39","v":""},{"$f":"'5_入力シート【検査結果表】 ドレンチャー'!GK39","v":""},{"$f":"'5_入力シート【検査結果表】 ドレンチャー'!GL39","v":0}]
["(24)",null,"手動作動装置","設置の状況",null,{"$f":"'5_入力シート【検査結果表】 ドレンチャー'!GI40","v":""},{"$f":"'5_入力シート【検査結果表】 ドレンチャー'!GJ40","v":""},{"$f":"'5_入力シート【検査結果表】 ドレンチャー'!GK40","v":""},{"$f":"'5_入力シート【検査結果表】 ドレンチャー'!GL40","v":0}]
["(25)","総合的な作動の状況",null,"ドレンチャー等の作動の状況",null,{"$f":"'5_入力シート【検査結果表】 ドレンチャー'!GI41","v":""},{"$f":"'5_入力シート【検査結果表】 ドレンチャー'!GJ41","v":""},{"$f":"'5_入力シート【検査結果表】 ドレンチャー'!GK41","v":""},{"$f":"'5_入力シート【検査結果表】 ドレンチャー'!GL41","v":0}]
["(26)",null,null,"防火区画の形成の状況",null,{"$f":"'5_入力シート【検査結果表】 ドレンチャー'!GI42","v":""},{"$f":"'5_入力シート【検査結果表】 ドレンチャー'!GJ42","v":""},{"$f":"'5_入力シート【検査結果表】 ドレンチャー'!GK42","v":""},{"$f":"'5_入力シート【検査結果表】 ドレンチャー'!GL42","v":0}]
["上記以外の検査項目"]
[null,null,null,null,{"$f":"'5_入力シート【検査結果表】 ドレンチャー'!Q50","v":0},{"$f":"IF('5_入力シート【検査結果表】 ドレンチャー'!EI50>=1,\"○\",\"\")&IF('5_入力シート【検査結果表】 ドレンチャー'!EH50>=1,\"－\",\"\")","v":""},{"$f":"'5_入力シート【検査結果表】 ドレンチャー'!GJ50","v":""},{"$f":"IF('5_入力シート【検査結果表】 ドレンチャー'!EK50,\"○\",\"\")","v":""},{"$f":"'5_入力シート【検査結果表】 ドレンチャー'!BM50","v":0}]
[null,null,null,null,{"$f":"'5_入力シート【検査結果表】 ドレンチャー'!Q51","v":0},{"$f":"IF('5_入力シート【検査結果表】 ドレンチャー'!EI51>=1,\"○\",\"\")&IF('5_入力シート【検査結果表】 ドレンチャー'!EH51>=1,\"－\",\"\")","v":""},{"$f":"'5_入力シート【検査結果表】 ドレンチャー'!GJ51","v":""},{"$f":"IF('5_入力シート【検査結果表】 ドレンチャー'!EK51,\"○\",\"\")","v":""},{"$f":"'5_入力シート【検査結果表】 ドレンチャー'!BM51","v":0}]
[null,null,null,null,{"$f":"'5_入力シート【検査結果表】 ドレンチャー'!Q52","v":0},{"$f":"IF('5_入力シート【検査結果表】 ドレンチャー'!EI52>=1,\"○\",\"\")&IF('5_入力シート【検査結果表】 ドレンチャー'!EH52>=1,\"－\",\"\")","v":""},{"$f":"'5_入力シート【検査結果表】 ドレンチャー'!GJ52","v":""},{"$f":"IF('5_入力シート【検査結果表】 ドレンチャー'!EK52,\"○\",\"\")","v":""},{"$f":"'5_入力シート【検査結果表】 ドレンチャー'!BM52","v":0}]
["特記事項"]
["番号","検査項目",null,"指摘の具体的内容等","改善の具体的内容等",null,null,null,"改善（予定）年月"]
[{"$f":"IFERROR(INDEX('5_入力シート【検査結果表】 ドレンチャー'!ER:ER,1/LARGE(INDEX(('5_入力シート【検査結果表】 ドレンチャー'!$BA$17:$BA$74={\"×要是正（既存不適格以外）\",\"△既存不適格\"})/ROW('5_入力シート【検査結果表】 ドレンチャー'!$EQ$17:$EQ$74),0),ROW(A1))),\"\")","v":""},{"$f":"IFERROR(INDEX('5_入力シート【検査結果表】 ドレンチャー'!EM:EM,1/LARGE(INDEX(('5_入力シート【検査結果表】 ドレンチャー'!$BA$17:$BA$74={\"×要是正（既存不適格以外）\",\"△既存不適格\"})/ROW('5_入力シート【検査結果表】 ドレンチャー'!$EM$17:$EM$74),0),ROW(A1))),\"\")","v":""},null,{"$f":"IFERROR(INDEX('5_入力シート【検査結果表】 ドレンチャー'!GW:GW,1/LARGE(INDEX(('5_入力シート【検査結果表】 ドレンチャー'!$BA$17:$BA$74={\"×要是正（既存不適格以外）\",\"△既存不適格\"})/ROW('5_入力シート【検査結果表】 ドレンチャー'!$GW$17:$GW$74),0),ROW(A1))),\"\")","v":""},null,{"$f":"IFERROR(INDEX('5_入力シート【検査結果表】 ドレンチャー'!BY:BY,1/LARGE(INDEX(('5_入力シート【検査結果表】 ドレンチャー'!$BA$17:$BA$74={\"×要是正（既存不適格以外）\",\"△既存不適格\"})/ROW('5_入力シート【検査結果表】 ドレンチャー'!$BY$17:$BY$74),0),ROW(A1))),\"\")","v":""},null,null,{"$f":"IFERROR(INDEX('5_入力シート【検査結果表】 ドレンチャー'!EV:EV,1/LARGE(INDEX(('5_入力シート【検査結果表】 ドレンチャー'!$BA$17:$BA$74={\"×要是正（既存不適格以外）\",\"△既存不適格\"})/ROW('5_入力シート【検査結果表】 ドレンチャー'!$EV$17:$EV$74),0),ROW(A1))),\"\")","v":""}]
[{"$f":"IFERROR(INDEX('5_入力シート【検査結果表】 ドレンチャー'!ER:ER,1/LARGE(INDEX(('5_入力シート【検査結果表】 ドレンチャー'!$BA$17:$BA$74={\"×要是正（既存不適格以外）\",\"△既存不適格\"})/ROW('5_入力シート【検査結果表】 ドレンチャー'!$EQ$17:$EQ$74),0),ROW(A2))),\"\")","v":""},{"$f":"IFERROR(INDEX('5_入力シート【検査結果表】 ドレンチャー'!EM:EM,1/LARGE(INDEX(('5_入力シート【検査結果表】 ドレンチャー'!$BA$17:$BA$74={\"×要是正（既存不適格以外）\",\"△既存不適格\"})/ROW('5_入力シート【検査結果表】 ドレンチャー'!$EM$17:$EM$74),0),ROW(A2))),\"\")","v":""},null,{"$f":"IFERROR(INDEX('5_入力シート【検査結果表】 ドレンチャー'!GW:GW,1/LARGE(INDEX(('5_入力シート【検査結果表】 ドレンチャー'!$BA$17:$BA$74={\"×要是正（既存不適格以外）\",\"△既存不適格\"})/ROW('5_入力シート【検査結果表】 ドレンチャー'!$GW$17:$GW$74),0),ROW(A2))),\"\")","v":""},null,{"$f":"IFERROR(INDEX('5_入力シート【検査結果表】 ドレンチャー'!BY:BY,1/LARGE(INDEX(('5_入力シート【検査結果表】 ドレンチャー'!$BA$17:$BA$74={\"×要是正（既存不適格以外）\",\"△既存不適格\"})/ROW('5_入力シート【検査結果表】 ドレンチャー'!$BY$17:$BY$74),0),ROW(A2))),\"\")","v":""},null,null,{"$f":"IFERROR(INDEX('5_入力シート【検査結果表】 ドレンチャー'!EV:EV,1/LARGE(INDEX(('5_入力シート【検査結果表】 ドレンチャー'!$BA$17:$BA$74={\"×要是正（既存不適格以外）\",\"△既存不適格\"})/ROW('5_入力シート【検査結果表】 ドレンチャー'!$EV$17:$EV$74),0),ROW(A2))),\"\")","v":""}]
[{"$f":"IFERROR(INDEX('5_入力シート【検査結果表】 ドレンチャー'!ER:ER,1/LARGE(INDEX(('5_入力シート【検査結果表】 ドレンチャー'!$BA$17:$BA$74={\"×要是正（既存不適格以外）\",\"△既存不適格\"})/ROW('5_入力シート【検査結果表】 ドレンチャー'!$EQ$17:$EQ$74),0),ROW(A3))),\"\")","v":""},{"$f":"IFERROR(INDEX('5_入力シート【検査結果表】 ドレンチャー'!EM:EM,1/LARGE(INDEX(('5_入力シート【検査結果表】 ドレンチャー'!$BA$17:$BA$74={\"×要是正（既存不適格以外）\",\"△既存不適格\"})/ROW('5_入力シート【検査結果表】 ドレンチャー'!$EM$17:$EM$74),0),ROW(A3))),\"\")","v":""},null,{"$f":"IFERROR(INDEX('5_入力シート【検査結果表】 ドレンチャー'!GW:GW,1/LARGE(INDEX(('5_入力シート【検査結果表】 ドレンチャー'!$BA$17:$BA$74={\"×要是正（既存不適格以外）\",\"△既存不適格\"})/ROW('5_入力シート【検査結果表】 ドレンチャー'!$GW$17:$GW$74),0),ROW(A3))),\"\")","v":""},null,{"$f":"IFERROR(INDEX('5_入力シート【検査結果表】 ドレンチャー'!BY:BY,1/LARGE(INDEX(('5_入力シート【検査結果表】 ドレンチャー'!$BA$17:$BA$74={\"×要是正（既存不適格以外）\",\"△既存不適格\"})/ROW('5_入力シート【検査結果表】 ドレンチャー'!$BY$17:$BY$74),0),ROW(A3))),\"\")","v":""},null,null,{"$f":"IFERROR(INDEX('5_入力シート【検査結果表】 ドレンチャー'!EV:EV,1/LARGE(INDEX(('5_入力シート【検査結果表】 ドレンチャー'!$BA$17:$BA$74={\"×要是正（既存不適格以外）\",\"△既存不適格\"})/ROW('5_入力シート【検査結果表】 ドレンチャー'!$EV$17:$EV$74),0),ROW(A3))),\"\")","v":""}]
[{"$f":"IFERROR(INDEX('5_入力シート【検査結果表】 ドレンチャー'!ER:ER,1/LARGE(INDEX(('5_入力シート【検査結果表】 ドレンチャー'!$BA$17:$BA$74={\"×要是正（既存不適格以外）\",\"△既存不適格\"})/ROW('5_入力シート【検査結果表】 ドレンチャー'!$EQ$17:$EQ$74),0),ROW(A4))),\"\")","v":""},{"$f":"IFERROR(INDEX('5_入力シート【検査結果表】 ドレンチャー'!EM:EM,1/LARGE(INDEX(('5_入力シート【検査結果表】 ドレンチャー'!$BA$17:$BA$74={\"×要是正（既存不適格以外）\",\"△既存不適格\"})/ROW('5_入力シート【検査結果表】 ドレンチャー'!$EM$17:$EM$74),0),ROW(A4))),\"\")","v":""},null,{"$f":"IFERROR(INDEX('5_入力シート【検査結果表】 ドレンチャー'!GW:GW,1/LARGE(INDEX(('5_入力シート【検査結果表】 ドレンチャー'!$BA$17:$BA$74={\"×要是正（既存不適格以外）\",\"△既存不適格\"})/ROW('5_入力シート【検査結果表】 ドレンチャー'!$GW$17:$GW$74),0),ROW(A4))),\"\")","v":""},null,{"$f":"IFERROR(INDEX('5_入力シート【検査結果表】 ドレンチャー'!BY:BY,1/LARGE(INDEX(('5_入力シート【検査結果表】 ドレンチャー'!$BA$17:$BA$74={\"×要是正（既存不適格以外）\",\"△既存不適格\"})/ROW('5_入力シート【検査結果表】 ドレンチャー'!$BY$17:$BY$74),0),ROW(A4))),\"\")","v":""},null,null,{"$f":"IFERROR(INDEX('5_入力シート【検査結果表】 ドレンチャー'!EV:EV,1/LARGE(INDEX(('5_入力シート【検査結果表】 ドレンチャー'!$BA$17:$BA$74={\"×要是正（既存不適格以外）\",\"△既存不適格\"})/ROW('5_入力シート【検査結果表】 ドレンチャー'!$EV$17:$EV$74),0),ROW(A4))),\"\")","v":""}]
[{"$f":"IFERROR(INDEX('5_入力シート【検査結果表】 ドレンチャー'!ER:ER,1/LARGE(INDEX(('5_入力シート【検査結果表】 ドレンチャー'!$BA$17:$BA$74={\"×要是正（既存不適格以外）\",\"△既存不適格\"})/ROW('5_入力シート【検査結果表】 ドレンチャー'!$EQ$17:$EQ$74),0),ROW(A5))),\"\")","v":""},{"$f":"IFERROR(INDEX('5_入力シート【検査結果表】 ドレンチャー'!EM:EM,1/LARGE(INDEX(('5_入力シート【検査結果表】 ドレンチャー'!$BA$17:$BA$74={\"×要是正（既存不適格以外）\",\"△既存不適格\"})/ROW('5_入力シート【検査結果表】 ドレンチャー'!$EM$17:$EM$74),0),ROW(A5))),\"\")","v":""},null,{"$f":"IFERROR(INDEX('5_入力シート【検査結果表】 ドレンチャー'!GW:GW,1/LARGE(INDEX(('5_入力シート【検査結果表】 ドレンチャー'!$BA$17:$BA$74={\"×要是正（既存不適格以外）\",\"△既存不適格\"})/ROW('5_入力シート【検査結果表】 ドレンチャー'!$GW$17:$GW$74),0),ROW(A5))),\"\")","v":""},null,{"$f":"IFERROR(INDEX('5_入力シート【検査結果表】 ドレンチャー'!BY:BY,1/LARGE(INDEX(('5_入力シート【検査結果表】 ドレンチャー'!$BA$17:$BA$74={\"×要是正（既存不適格以外）\",\"△既存不適格\"})/ROW('5_入力シート【検査結果表】 ドレンチャー'!$BY$17:$BY$74),0),ROW(A5))),\"\")","v":""},null,null,{"$f":"IFERROR(INDEX('5_入力シート【検査結果表】 ドレンチャー'!EV:EV,1/LARGE(INDEX(('5_入力シート【検査結果表】 ドレンチャー'!$BA$17:$BA$74={\"×要是正（既存不適格以外）\",\"△既存不適格\"})/ROW('5_入力シート【検査結果表】 ドレンチャー'!$EV$17:$EV$74),0),ROW(A5))),\"\")","v":""}]
[]
["（注意）"]
["①","　この書類は、建築物ごとに作成してください。"]
["②","　記入欄が不足する場合は、枠を拡大、行を追加して記入するか、別紙に必要な事項を記入して添えてください。"]
["③","　「当該検査に関与した検査者」欄は、建築基準法施行規則別記第36の８様式第二面４欄に記入した検査者について記入し、「検査者番号」欄に検査者を特定できる番号、記号等を記入してください。当該防火設備の検査を行った検査者が１人の場合は、その他の検査者欄は削除して構いません。"]
["④","　該当しない検査項目がある場合は、当該項目の「番号」欄から「担当検査者番号」欄までを取消線で抹消してください。"]
["⑤","　「検査結果」欄は、別表（い）欄に掲げる各検査項目ごとに記入してください。"]
["⑥","　「検査結果」欄のうち「要是正」欄は、別表（い）欄に掲げる検査項目について同表（ろ）欄に掲げる検査事項のいずれかが同表（に）欄に掲げる判定基準に該当する場合に○印を記入してください。"]
["⑦","　「検査結果」欄のうち「指摘なし」欄は、⑥に該当しない場合に○印を記入してください。"]
["⑧","　「既存不適格」欄は、「要是正」欄に○印を記入した場合で、建築基準法第３条第２項の規定の適用を受けているものであることが確認されたときは、○印を記入してください。"]
["⑨","　「担当検査者番号」欄は、「検査に関与した検査者」欄で記入した番号、記号等を記入してください。ただし、当該防火設備の検査を行った検査者が１人の場合は、記入しなくても構いません。"]
["⑩","　「上記以外の検査項目」欄は、第１ただし書の規定により特定行政庁が検査項目を追加したときに、当該検査項目を追加し、⑤から⑨に準じて検査結果等を記入してください。また、第１第２項の規定により同項に規定する図書等に検査の方法が記載されている場合に、当該図書等に記載されている検査項目を追加し、⑤から⑨に準じて検査結果等を記入してください。なお、これらの項目がない場合は、この欄を削除して構いません。"]
["⑪","　「特記事項」は、検査の結果、要是正の指摘があった場合のほか、指摘がない場合にあっても特記すべき事項がある場合に、該当する検査項目の番号、検査項目を記入し、「指摘の具体的内容等」欄に指摘又は特記すべき事項の具体的内容を記入するとともに、改善済みの場合及び改善策が明らかになっている場合は「改善策の具体的内容等」欄にその内容を記入し、改善した場合は「改善（予定）年月」欄に当該年月を記入し、改善予定年月が明らかになっている場合は「改善（予定）年月」欄に当該年月を（　）書きで記入してください。"]
["⑫","　各階平面図を別添１の様式に従い添付し、ドレンチャーその他の水幕を形成する防火設備の設置されている箇所及び指摘(特記すべき事項を含む）のあった箇所を明記してください。なお、別添１の様式は別記第一号、別記第二号又は別記第三号の各々の別添１の様式に記載すべき事項を合わせて記載することとして構いません。"]
["⑬","　要是正とされた検査項目（既存不適格の場合を除く。）については、要是正とされた部分を撮影した写真を別添２の様式に従い添付するとともに、撮影した写真の位置を別添１の様式に明記してください。"]

{"sheet":"プルダウン選択肢","index":13,"n_rows":47,"n_cols":19,"rows_kept":47,"cut":false,"hidden":true,"merged":[]}
[]
["●入力シート基本情報",null,"●入力シート基本情報",null,null,null,"●入力シート基本情報",null,"●入力シート基本情報",null,"●入力シート検査結果表",null,"●入力シート基本情報",null,"●入力シート基本情報",null,"●2_入力シート【検査結果表】 防火扉",null,"●2_入力シート【検査結果表】 防火扉"]
["　　６　確認済証交付年月日等",null,"　７　検査日等　",null,null,null,"　７　検査日等",null,"　防火設備に係る不具合等の状況",null,"　別記第一号　検査結果表　（防火扉）",null,"　８　防火設備の検査者(代表となる検査者)",null,"　８　防火設備の検査者(代表となる検査者)",null,"　別記第一号　検査結果表　（防火扉）",null,"　別記第一号　検査結果表　（防火扉）"]
["　　確認済証交付年月日等",null,"　前回の書類に関する写しの有無　",null,null,null,"　前回の検査",null,"　改善の状況",null,"　調査結果",null,"　資格名称","93　107　114　121　128","　資格名称",null," 　状況",null,"　上記以外の検査項目等"]
["建築主事",null,null,null,null,null,null,null,null,null,"要是正の指摘あり",null,"一級建築士",null,null,null,null,null,"　上記に記載のない事項"]
["指定確認検査機関",null,"●入力シート基本情報",null,null,null,"●入力シート基本情報",null,null,null,"既存不適格",null,"二級建築士",null,"●入力シート基本情報",null,"●3_入力シート【検査結果表】防火シャッター",null,"　調査結果"]
[null,null,"　防火設備に係る不具合等の状況",null,null,null,"　９　防火設備の概要",null,null,null,"指摘なし",null,"防火設備検査員",null,"　(その他検査者1)",null,"　検査結果表　（防火シャッター）別記第二号"]
[null,null,"　不具合等の記録",null,null,null,"　区画避難安全検証法",null,"●入力シート検査結果表",null,null,null,null,null,"　資格名称",null," 　状況"]
[null,null,"有",null,null,null,"　階避難安全検証法",null,"改善（予定）年月",null,null,null,null,null,"一級",null,"予定"]
[null,null,"無",null,null,null,"　全館避難安全検証法",null,"状況　検査結果表（耐火クロススクリーン）別記第三号",null,null,null,null,null,"二級",null,"改善済",null,"●3_入力シート【検査結果表】防火シャッター"]
[null,null,null,null,null,null,"　その他",null,"実施済",null,null,null,null,null,"防火設備検査員",null,"未定",null,"　検査結果表　（防火シャッター）別記第二号"]
[null,null,null,null,null,null,"実施",null,"改善予定",null,null,null,null,null,null,null,null,null,"　調査結果"]
[null,null,null,null,null,null,"未実施",null,"予定なし",null,null,null,null,null,null,null,null,null,"―対象外"]
[null,null,null,null,null,null,null,null,null,null,null,null,null,null,null,null,null,null,"○指摘なし"]
[null,null,null,null,null,null,null,null,null,null,null,null,null,null,null,null,null,null,"×要是正（既存不適格以外）"]
[null,null,null,null,null,null,null,null,null,null,null,null,null,null,null,null,null,null,"△既存不適格"]
[]
[]
[]
[]
[]
["●入力シート基本情報",null,"●入力シート基本情報",null,"●入力シート基本情報",null,"●2_入力シート【検査結果表】 防火扉",null,null,null,"●3_入力シート【検査結果表】防火シャッター",null,"●入力シート【写真】"]
["　９　防火設備の概要",null,"　６　確認済証交付年月日等",null,"　防火設備に係る不具合等の状況",null,"　別記第一号　検査結果表　（防火扉）",null,"第一種低層住居専用地域",null,"　上記に記載のない事項",null,"●入力シート【図面】"]
["　区画避難安全検証法",null,"　確認済証交付年月日等",null,"　不具合等を把握した年月",null,"　調査結果",null,"第二種低層住居専用地域",null,"　調査結果",null,"要是正、その他・・・単独使用"]
["　階避難安全検証法",null,null,null,null,null,null,null,"第一種中高層住居専用地域",null,"要是正の指摘あり",null,"☑"]
["　全館避難安全検証法",null,null,null,null,null,null,null,"第二種中高層住居専用地域",null,"既存不適格",null,"☐"]
["　その他",null,null,null,null,null,null,null,"第一種住居地域"]
["適用",null,null,null,null,null,null,null,"第二種住居地域"]
[null,null,"　防火設備に係る不具合等の状況",null,null,null,null,null,"準住居地域"]
[null,null,"　不具合等を把握した年月",null,null,null,null,null,"田園住居地域内"]
[null,null,"昭和",null,"平成",null,null,null,"近隣商業地域"]
[null,null,"平成",null,"令和",null,null,null,"商業地域"]
[null,null,"令和",null,null,null,"●3_入力シート【検査結果表】防火シャッター",null,"準工業地域"]
[null,null,null,null,null,null,"　検査結果表　（防火シャッター）別記第二号",null,"工業地域"]
[null,null,null,null,null,null,"　調査結果",null,"工業専用地域"]
[null,null,null,null,null,null,null,null,"指定なし"]
[null,null,null,null,null,null,"●3_入力シート【検査結果表】防火シャッター"]
[null,null,null,null,null,null,"   上記以外の検査項目等"]
[null,null,null,null,null,null,"　調査結果"]
[]
[null,null,null,null,null,null,"●3_入力シート【検査結果表】防火シャッター"]
[null,null,null,null,null,null,"  上記に記載のない事項"]
[null,null,null,null,null,null,"　調査結果"]
[]
[null,null,null,null,null,null,1]
[null,null,null,null,null,null,2]
[null,null,null,null,null,null,3]

{"sheet":"リンクシート","index":14,"n_rows":1655,"n_cols":19,"rows_kept":1655,"cut":false,"hidden":true,"merged":[]}
[]
[]
[null,"＜必要に応じて使用＞"]
[null,"事前処理","事前処理","事前処理反映前",null,"項番なし0"]
[null,"CSVリンク用","CSVリンク用","CSVリンク用","CSVリンク用","特殊","項目番号",null,null,null,null,null,null,null,null,null,"csv項目名称",null,"csv項目名称"]
["-",null,null,null,"●●●●","固定","0","行政所管庁(初期値固定)",null,null,null,null,null,null,null,null,{"$f":"CONCATENATE(G6,H6,I6,J6,K6,L6,M6,N6,O6,P6)","v":"0行政所管庁(初期値固定)"},null,"0行政所管庁(初期値固定)"]
[null,null,null,null,"令和","固定","0","報告","-","和暦",null,null,null,null,null,null,"0報告-和暦",null,"0報告-和暦"]
[null,null,{"$f":"ASC(D8)","v":"4"},{"$f":"'1_入力シート【基本情報】'!$M$10","v":4},{"$f":"$C$8","v":"4"},null,"0","報告","-","年",null,null,null,null,null,null,"0報告-年",null,"0報告-年"]
[null,null,null,null,"防火設備","固定","0","報告","-","報告種別",null,null,null,null,null,null,"0報告-報告種別",null,"0報告-報告種別"]
[null,null,null,null,"令和","固定","0","報告日","-","令和",null,null,null,null,null,null,"0報告日-令和",null,"0報告日-令和"]
[null,null,null,null,{"$f":"'1_入力シート【基本情報】'!$BF$10","v":0},null,"0","報告日","-","年",null,null,null,null,null,null,"0報告日-年",null,"0報告日-年"]
[null,null,null,null,{"$f":"'1_入力シート【基本情報】'!$BK$10","v":0},null,"0","報告日","-","月",null,null,null,null,null,null,"0報告日-月",null,"0報告日-月"]
[null,null,null,null,{"$f":"'1_入力シート【基本情報】'!$BP$10","v":0},null,"0","報告日","-","日",null,null,null,null,null,null,"0報告日-日",null,"0報告日-日"]
[null,null,{"$f":"ASC(D14)","v":"0"},{"$f":"'1_入力シート【基本情報】'!$AB$13","v":0},{"$f":"C14","v":"0"},null,1,"報告対象建築物","-","ID","-","1",null,null,null,null,"1報告対象建築物-ID-1",null,"1報告対象建築物-ID-1"]
[null,null,{"$f":"ASC(D15)","v":"0"},{"$f":"'1_入力シート【基本情報】'!$AK$13","v":0},"0",null,1,"報告対象建築物","-","ID","-","2",null,null,null,null,"1報告対象建築物-ID-2",null,"1報告対象建築物-ID-2"]
[null,null,"0",{"$f":"'1_入力シート【基本情報】'!$AT$13","v":0},"0",null,1,"報告対象建築物","-","ID","-","3",null,null,null,null,"1報告対象建築物-ID-3",null,"1報告対象建築物-ID-3"]
[null,null,null,null,{"$f":"'1_入力シート【基本情報】'!$AB$14","v":0},null,1,"報告対象建築物","-","建築名称","-","フリガナ",null,null,null,null,"1報告対象建築物-建築名称-フリガナ",null,"1報告対象建築物-建築名称-フリガナ"]
[null,null,null,null,{"$f":"'1_入力シート【基本情報】'!$AB$15","v":0},null,1,"報告対象建築物","-","建築名称","-","建築名称",null,null,null,null,"1報告対象建築物-建築名称-建築名称",null,"1報告対象建築物-建築名称-建築名称"]
[null,null,null,null,{"$f":"'1_入力シート【基本情報】'!AB16","v":0},null,1,"報告対象建築物","-","建物所在地","-","都道府県",null,null,null,null,"1報告対象建築物-建物所在地-都道府県",null,"1報告対象建築物-建物所在地-都道府県"]
[null,null,null,null,{"$f":"'1_入力シート【基本情報】'!AB17","v":0},null,1,"報告対象建築物","-","建物所在地","-","市郡",null,null,null,null,"1報告対象建築物-建物所在地-市郡",null,"1報告対象建築物-建物所在地-市郡"]
[null,null,null,null,{"$f":"'1_入力シート【基本情報】'!AB18","v":0},null,1,"報告対象建築物","-","建物所在地","-","区町村",null,null,null,null,"1報告対象建築物-建物所在地-区町村",null,"1報告対象建築物-建物所在地-区町村"]
[null,null,null,null,{"$f":"'1_入力シート【基本情報】'!AB19","v":0},null,1,"報告対象建築物","-","建物所在地","-","大字・町名",null,null,null,null,"1報告対象建築物-建物所在地-大字・町名",null,"1報告対象建築物-建物所在地-大字・町名"]
[null,null,null,null,{"$f":"'1_入力シート【基本情報】'!AB20","v":0},null,1,"報告対象建築物","-","建物所在地","-","番地など",null,null,null,null,"1報告対象建築物-建物所在地-番地など",null,"1報告対象建築物-建物所在地-番地など"]
[null,null,null,null,{"$f":"'1_入力シート【基本情報】'!AB21","v":0},null,1,"報告対象建築物","-","用途",null,null,null,null,null,null,"1報告対象建築物-用途",null,"1報告対象建築物-用途"]
[null,null,null,null,{"$f":"'1_入力シート【基本情報】'!$AB$24","v":0},null,2,"報告内容に関する問合せ先","-","法人名","-","法人名フリガナ",null,null,null,null,"2報告内容に関する問合せ先-法人名-法人名フリガナ",null,"2報告内容に関する問合せ先-法人名-法人名フリガナ"]
[null,null,null,null,{"$f":"'1_入力シート【基本情報】'!$AB$25","v":0},null,2,"報告内容に関する問合せ先","-","法人名","-","法人名称",null,null,null,null,"2報告内容に関する問合せ先-法人名-法人名称",null,"2報告内容に関する問合せ先-法人名-法人名称"]
[null,null,null,null,{"$f":"'1_入力シート【基本情報】'!$AB$26","v":0},null,2,"報告内容に関する問合せ先","-","肩書","-","肩書フリガナ",null,null,null,null,"2報告内容に関する問合せ先-肩書-肩書フリガナ",null,"2報告内容に関する問合せ先-肩書-肩書フリガナ"]
[null,null,null,null,{"$f":"'1_入力シート【基本情報】'!$AB$27","v":0},null,2,"報告内容に関する問合せ先","-","肩書","-","肩書名",null,null,null,null,"2報告内容に関する問合せ先-肩書-肩書名",null,"2報告内容に関する問合せ先-肩書-肩書名"]
[null,null,null,null,{"$f":"'1_入力シート【基本情報】'!$AB$28","v":0},null,2,"報告内容に関する問合せ先","-","問合せ先氏名","-","氏名フリガナ",null,null,null,null,"2報告内容に関する問合せ先-問合せ先氏名-氏名フリガナ",null,"2報告内容に関する問合せ先-問合せ先氏名-氏名フリガナ"]
[null,null,null,null,{"$f":"'1_入力シート【基本情報】'!$AB$29","v":0},null,2,"報告内容に関する問合せ先","-","問合せ先氏名","-","氏名",null,null,null,null,"2報告内容に関する問合せ先-問合せ先氏名-氏名",null,"2報告内容に関する問合せ先-問合せ先氏名-氏名"]
[null,null,{"$f":"IF(D31=\"-\",0,D31)","v":0},{"$f":"'1_入力シート【基本情報】'!$EI$30","v":"-"},{"$f":"C31","v":0},null,"2","報告内容に関する問合せ先","-","郵便番号",null,null,null,null,null,null,"2報告内容に関する問合せ先-郵便番号",null,"2報告内容に関する問合せ先-郵便番号"]
[null,null,null,null,{"$f":"'1_入力シート【基本情報】'!$AB$31","v":0},null,"2","報告内容に関する問合せ先","-","住所",null,null,null,null,null,null,"2報告内容に関する問合せ先-住所",null,"2報告内容に関する問合せ先-住所"]
[null,null,{"$f":"IF(D33=\"--\",0,D33)","v":0},{"$f":"'1_入力シート【基本情報】'!$EI$32","v":"--"},{"$f":"C33","v":0},null,"2","報告内容に関する問合せ先","-","電話番号",null,null,null,null,null,null,"2報告内容に関する問合せ先-電話番号",null,"2報告内容に関する問合せ先-電話番号"]
[null,null,{"$f":"IF(D34=\"--\",0,D34)","v":0},{"$f":"'1_入力シート【基本情報】'!$EK$32","v":"--"},{"$f":"C34","v":0},null,"2","報告内容に関する問合せ先","-","FAX番号",null,null,null,null,null,null,"2報告内容に関する問合せ先-FAX番号",null,"2報告内容に関する問合せ先-FAX番号"]
[null,null,null,null,{"$f":"'1_入力シート【基本情報】'!$AB$34","v":0},null,"2","報告内容に関する問合せ先","-","メールアドレス",null,null,null,null,null,null,"2報告内容に関する問合せ先-メールアドレス",null,"2報告内容に関する問合せ先-メールアドレス"]
[null,null,null,null,{"$f":"'1_入力シート【基本情報】'!$AB$37","v":0},null,"3","所有者","-","法人名","-","法人名フリガナ",null,null,null,null,"3所有者-法人名-法人名フリガナ","5/28追加","3所有者-法人名-法人名フリガナ"]
[null,null,null,null,{"$f":"'1_入力シート【基本情報】'!$AB$38","v":0},null,"3","所有者","-","法人名","-","法人名称",null,null,null,null,"3所有者-法人名-法人名称","5/28追加","3所有者-法人名-法人名称"]
[null,null,null,null,{"$f":"'1_入力シート【基本情報】'!$AB$39","v":0},null,"3","所有者","-","肩書","-","肩書フリガナ",null,null,null,null,"3所有者-肩書-肩書フリガナ","5/28追加","3所有者-肩書-肩書フリガナ"]
[null,null,null,null,{"$f":"'1_入力シート【基本情報】'!$AB$40","v":0},null,"3","所有者","-","肩書","-","肩書名",null,null,null,null,"3所有者-肩書-肩書名","5/28追加","3所有者-肩書-肩書名"]
[null,null,null,null,{"$f":"'1_入力シート【基本情報】'!$AB$41","v":0},null,"3","所有者","-","所有者氏名","-","氏名フリガナ",null,null,null,null,"3所有者-所有者氏名-氏名フリガナ",null,"3所有者-所有者氏名-氏名フリガナ"]
[null,null,{"$f":"IF(D41=\"\",0,D41)","v":0},{"$f":"'1_入力シート【基本情報】'!$EP$42","v":""},{"$f":"C41","v":0},null,"4","管理者","-","所有者氏名","-","氏名",null,null,null,null,"4管理者-所有者氏名-氏名",null,"3所有者-所有者氏名-氏名"]
[null,null,{"$f":"IF(D42=\"-\",0,D42)","v":0},{"$f":"'1_入力シート【基本情報】'!$EP$43","v":"-"},{"$f":"C42","v":0},null,"3","所有者","-","郵便番号",null,null,null,null,null,null,"3所有者-郵便番号",null,"3所有者-郵便番号"]
[null,null,{"$f":"IF(D43=\"\",0,D43)","v":0},{"$f":"'1_入力シート【基本情報】'!$EP$44","v":""},{"$f":"C43","v":0},null,"3","所有者","-","住所",null,null,null,null,null,null,"3所有者-住所",null,"3所有者-住所"]
[null,null,{"$f":"IF(D44=\"--\",0,D44)","v":0},{"$f":"'1_入力シート【基本情報】'!$EP$45","v":"--"},{"$f":"C44","v":0},null,"3","所有者","-","電話番号",null,null,null,null,null,null,"3所有者-電話番号",null,"3所有者-電話番号"]
[null,null,null,null,{"$f":"'1_入力シート【基本情報】'!$EM$47","v":false},null,"4","管理者","-","所有者同一と同一チェック",null,null,null,null,null,null,"4管理者-所有者同一と同一チェック",null,"4管理者-所有者同一と同一チェック"]
[null,null,null,null,{"$f":"'1_入力シート【基本情報】'!$AB$48","v":0},null,"4","管理者","-","法人名","-","法人名フリガナ",null,null,null,null,"4管理者-法人名-法人名フリガナ","5/28追加","4管理者-法人名-法人名フリガナ"]
[null,null,null,null,{"$f":"'1_入力シート【基本情報】'!$AB$49","v":0},null,"4","管理者","-","法人名","-","法人名称",null,null,null,null,"4管理者-法人名-法人名称","5/28追加","4管理者-法人名-法人名称"]
[null,null,null,null,{"$f":"'1_入力シート【基本情報】'!$AB$50","v":0},null,"4","管理者","-","肩書","-","肩書フリガナ",null,null,null,null,"4管理者-肩書-肩書フリガナ","5/28追加","4管理者-肩書-肩書フリガナ"]
[null,null,null,null,{"$f":"'1_入力シート【基本情報】'!$AB$51","v":0},null,"4","管理者","-","肩書","-","肩書名",null,null,null,null,"4管理者-肩書-肩書名","5/28追加","4管理者-肩書-肩書名"]
[null,null,{"$f":"IF(D50=\"\",0,D50)","v":0},{"$f":"'1_入力シート【基本情報】'!$EP$52","v":""},{"$f":"C50","v":0},null,"4","管理者","-","管理者氏名","-","氏名フリガナ",null,null,null,null,"4管理者-管理者氏名-氏名フリガナ",null,"4管理者-管理者氏名-氏名フリガナ"]
[null,null,{"$f":"IF(D51=\"\",0,D51)","v":0},{"$f":"'1_入力シート【基本情報】'!$EP$53","v":""},{"$f":"C51","v":0},null,"4","管理者","-","管理者氏名","-","氏名",null,null,null,null,"4管理者-管理者氏名-氏名",null,"4管理者-管理者氏名-氏名"]
[null,null,{"$f":"IF(D52=\"-\",0,D52)","v":0},{"$f":"'1_入力シート【基本情報】'!$EP$54","v":"-"},{"$f":"C52","v":0},null,"4","管理者","-","郵便番号",null,null,null,null,null,null,"4管理者-郵便番号",null,"4管理者-郵便番号"]
[null,null,{"$f":"IF(D53=\"\",0,D53)","v":0},{"$f":"'1_入力シート【基本情報】'!$EP$55","v":""},{"$f":"C53","v":0},null,"4","管理者","-","住所",null,null,null,null,null,null,"4管理者-住所",null,"4管理者-住所"]
[null,null,{"$f":"IF(D54=\"--\",0,D54)","v":0},{"$f":"'1_入力シート【基本情報】'!$EP$56","v":"--"},{"$f":"C54","v":0},null,"4","管理者","-","電話番号",null,null,null,null,null,null,"4管理者-電話番号",null,"4管理者-電話番号"]
[null,null,null,null,{"$f":"'1_入力シート【基本情報】'!AB59","v":0},null,5,"建築物の概要","-","階数","-","地上",null,null,null,null,"5建築物の概要-階数-地上",null,"5建築物の概要-階数-地上"]
[null,null,null,null,{"$f":"'1_入力シート【基本情報】'!AB60","v":0},null,5,"建築物の概要","-","階数","-","地下",null,null,null,null,"5建築物の概要-階数-地下",null,"5建築物の概要-階数-地下"]
[null,null,null,null,{"$f":"'1_入力シート【基本情報】'!AB61","v":0},null,5,"建築物の概要","-","建築面積","-","構造 3",null,null,null,null,"5建築物の概要-建築面積-構造 3",null,"5建築物の概要-建築面積-構造 3"]
[null,null,null,null,{"$f":"'1_入力シート【基本情報】'!AB62","v":0},null,5,"建築物の概要","-","延べ面積",null,null,null,null,null,null,"5建築物の概要-延べ面積",null,"5建築物の概要-延べ面積"]
[null,null,null,null,{"$f":"'1_入力シート【基本情報】'!$AB$65","v":0},null,6,"確認済証交付年月日等","-","確認済証交付年月日等","-","年月日","-","元号",null,null,"6確認済証交付年月日等-確認済証交付年月日等-年月日-元号",null,"6確認済証交付年月日等-確認済証交付年月日等-年月日-元号"]
[null,null,null,null,{"$f":"'1_入力シート【基本情報】'!$AE$65","v":0},null,6,"確認済証交付年月日等","-","確認済証交付年月日等","-","年月日","-","年",null,null,"6確認済証交付年月日等-確認済証交付年月日等-年月日-年",null,"6確認済証交付年月日等-確認済証交付年月日等-年月日-年"]
[null,null,null,null,{"$f":"'1_入力シート【基本情報】'!$AJ$65","v":0},null,6,"確認済証交付年月日等","-","確認済証交付年月日等","-","年月日","-","月",null,null,"6確認済証交付年月日等-確認済証交付年月日等-年月日-月",null,"6確認済証交付年月日等-確認済証交付年月日等-年月日-月"]
[null,null,null,null,{"$f":"'1_入力シート【基本情報】'!$AO$65","v":0},null,6,"確認済証交付年月日等","-","確認済証交付年月日等","-","年月日","-","日",null,null,"6確認済証交付年月日等-確認済証交付年月日等-年月日-日",null,"6確認済証交付年月日等-確認済証交付年月日等-年月日-日"]
[null,null,null,null,{"$f":"'1_入力シート【基本情報】'!$AV$65","v":0},null,6,"確認済証交付年月日等","-","確認済証交付年月日等","-","年月日","-","号",null,null,"6確認済証交付年月日等-確認済証交付年月日等-年月日-号",null,"6確認済証交付年月日等-確認済証交付年月日等-年月日-号"]
[null,null,null,null,{"$f":"'1_入力シート【基本情報】'!$AB$66","v":0},null,6,"確認済証交付年月日等","-","確認済証交付年月日等","-","確認済み証明交付者",null,null,null,null,"6確認済証交付年月日等-確認済証交付年月日等-確認済み証明交付者",null,"6確認済証交付年月日等-確認済証交付年月日等-確認済み証明交付者"]
[null,null,null,null,{"$f":"'1_入力シート【基本情報】'!$AJ$66","v":0},null,6,"確認済証交付年月日等","-","確認済証交付年月日等","-","確認済み証明交付者","-","検査機関名",null,null,"6確認済証交付年月日等-確認済証交付年月日等-確認済み証明交付者-検査機関名",null,"6確認済証交付年月日等-確認済証交付年月日等-確認済み証明交付者-検査機関名"]
[null,null,null,null,{"$f":"'1_入力シート【基本情報】'!$AB$67","v":0},null,6,"確認済証交付年月日等","-","検査済証交付年月日等","-","年月日","-","元号",null,null,"6確認済証交付年月日等-検査済証交付年月日等-年月日-元号",null,"6確認済証交付年月日等-検査済証交付年月日等-年月日-元号"]
[null,null,null,null,{"$f":"'1_入力シート【基本情報】'!$AE$67","v":0},null,6,"確認済証交付年月日等","-","検査済証交付年月日等","-","年月日","-","年",null,null,"6確認済証交付年月日等-検査済証交付年月日等-年月日-年",null,"6確認済証交付年月日等-検査済証交付年月日等-年月日-年"]
[null,null,null,null,{"$f":"'1_入力シート【基本情報】'!$AJ$67","v":0},null,6,"確認済証交付年月日等","-","検査済証交付年月日等","-","年月日","-","月",null,null,"6確認済証交付年月日等-検査済証交付年月日等-年月日-月",null,"6確認済証交付年月日等-検査済証交付年月日等-年月日-月"]
[null,null,null,null,{"$f":"'1_入力シート【基本情報】'!$AO$67","v":0},null,6,"確認済証交付年月日等","-","検査済証交付年月日等","-","年月日","-","日",null,null,"6確認済証交付年月日等-検査済証交付年月日等-年月日-日",null,"6確認済証交付年月日等-検査済証交付年月日等-年月日-日"]
[null,null,null,null,{"$f":"'1_入力シート【基本情報】'!$AV$67","v":0},null,6,"確認済証交付年月日等","-","検査済証交付年月日等","-","年月日","-","号",null,null,"6確認済証交付年月日等-検査済証交付年月日等-年月日-号",null,"6確認済証交付年月日等-検査済証交付年月日等-年月日-号"]
[null,null,null,null,{"$f":"'1_入力シート【基本情報】'!$AB$68","v":0},null,6,"確認済証交付年月日等","-","検査済証交付年月日等","-","検査済み証明交付者",null,null,null,null,"6確認済証交付年月日等-検査済証交付年月日等-検査済み証明交付者",null,"6確認済証交付年月日等-検査済証交付年月日等-検査済み証明交付者"]
[null,null,null,null,{"$f":"'1_入力シート【基本情報】'!$AJ$68","v":0},null,6,"確認済証交付年月日等","-","検査済証交付年月日等","-","検査済み証明交付者","-","検査機関名",null,null,"6確認済証交付年月日等-検査済証交付年月日等-検査済み証明交付者-検査機関名",null,"6確認済証交付年月日等-検査済証交付年月日等-検査済み証明交付者-検査機関名"]
[null,{"$f":"'1_入力シート【基本情報】'!$EG$71","v":1},{"$f":"IF(B73=1,0,D73)","v":0},{"$f":"'1_入力シート【基本情報】'!$AF$71","v":"令和"},{"$f":"C73","v":0},null,7,"検査日等","-","今回の検査","-","実施日","-","元号",null,null,"7検査日等-今回の検査-実施日-元号",null,"7検査日等-今回の検査-実施日-元号"]
[null,null,null,null,{"$f":"'1_入力シート【基本情報】'!$AI$71","v":0},null,7,"検査日等","-","今回の検査","-","実施日","-","年",null,null,"7検査日等-今回の検査-実施日-年",null,"7検査日等-今回の検査-実施日-年"]
[null,null,null,null,{"$f":"'1_入力シート【基本情報】'!$AN$71","v":0},null,7,"検査日等","-","今回の検査","-","実施日","-","月",null,null,"7検査日等-今回の検査-実施日-月",null,"7検査日等-今回の検査-実施日-月"]
[null,null,null,null,{"$f":"'1_入力シート【基本情報】'!$AS$71","v":0},null,7,"検査日等","-","今回の検査","-","実施日","-","日",null,null,"7検査日等-今回の検査-実施日-日",null,"7検査日等-今回の検査-実施日-日"]
[null,null,null,null,{"$f":"'1_入力シート【基本情報】'!$X$72","v":0},null,7,"検査日等","-","前回の検査",null,"実施・未実施",null,null,null,null,"7検査日等-前回の検査実施・未実施",null,"7検査日等-前回の検査実施・未実施"]
[null,null,null,null,{"$f":"'1_入力シート【基本情報】'!$AF$72","v":0},null,7,"検査日等","-","前回の検査",null,"報告日",null,"元号",null,null,"7検査日等-前回の検査報告日元号",null,"7検査日等-前回の検査報告日元号"]
[null,null,null,null,{"$f":"'1_入力シート【基本情報】'!$AI$72","v":0},null,7,"検査日等","-","前回の検査",null,"報告日",null,"年",null,null,"7検査日等-前回の検査報告日年",null,"7検査日等-前回の検査報告日年"]
[null,null,null,null,{"$f":"'1_入力シート【基本情報】'!$AN$72","v":0},null,7,"検査日等","-","前回の検査",null,"報告日",null,"月",null,null,"7検査日等-前回の検査報告日月",null,"7検査日等-前回の検査報告日月"]
[null,null,null,null,{"$f":"'1_入力シート【基本情報】'!$AS$72","v":0},null,7,"検査日等","-","前回の検査",null,"報告日",null,"日",null,null,"7検査日等-前回の検査報告日日",null,"7検査日等-前回の検査報告日日"]
[null,null,null,null,{"$f":"'1_入力シート【基本情報】'!$AB$73","v":0},null,7,"検査日等","-","前回の書類に関する写しの有無",null,null,null,null,null,null,"7検査日等-前回の書類に関する写しの有無",null,"7検査日等-前回の書類に関する写しの有無"]
[null,null,null,null,{"$f":"'1_入力シート【基本情報】'!AB76","v":0},null,8,"代表となる検査者","-","資格","-","資格名称",null,null,null,null,"8代表となる検査者-資格-資格名称",null,"8代表となる検査者-資格-資格名称"]
[null,null,null,null,{"$f":"'1_入力シート【基本情報】'!AB77","v":0},null,8,"代表となる検査者","-","資格","-","建築士","-","登録",null,null,{"$f":"CONCATENATE(G84,H84,I84,J84,K84,L84,M84,N84,O84,P84)","v":"8代表となる検査者-資格-建築士-登録"},null,"8代表となる検査者-資格-建築士-登録"]
[null,null,null,null,{"$f":"'1_入力シート【基本情報】'!AB78","v":0},null,8,"代表となる検査者","-","資格","-","建築士","-","号",null,null,"8代表となる検査者-資格-建築士-号",null,"8代表となる検査者-資格-建築士-号"]
[null,null,null,null,{"$f":"'1_入力シート【基本情報】'!AB79","v":0},null,8,"代表となる検査者","-","資格","-","防火設備検査員","-","号",null,null,"8代表となる検査者-資格-防火設備検査員-号",null,"8代表となる検査者-資格-防火設備検査員-号"]
[null,null,null,null,{"$f":"'1_入力シート【基本情報】'!AB80","v":0},null,8,"代表となる検査者","-","氏名","-","フリガナ",null,null,null,null,"8代表となる検査者-氏名-フリガナ",null,"8代表となる検査者-氏名-フリガナ"]
[null,null,null,null,{"$f":"'1_入力シート【基本情報】'!AB81","v":0},null,8,"代表となる検査者","-","氏名","-","氏名",null,null,null,null,"8代表となる検査者-氏名-氏名",null,"8代表となる検査者-氏名-氏名"]
[null,null,null,null,{"$f":"'1_入力シート【基本情報】'!AB82","v":0},null,8,"代表となる検査者","-","勤務先","-","名称",null,null,null,null,"8代表となる検査者-勤務先-名称",null,"8代表となる検査者-勤務先-名称"]
[null,null,null,null,{"$f":"'1_入力シート【基本情報】'!AB83","v":0},null,8,"代表となる検査者","-","勤務先","-","事務所登録","-","建築士事務所",null,null,"8代表となる検査者-勤務先-事務所登録-建築士事務所",null,"8代表となる検査者-勤務先-事務所登録-建築士事務所"]
[null,null,null,null,{"$f":"'1_入力シート【基本情報】'!AB84","v":0},null,8,"代表となる検査者","-","勤務先","-","事務所登録","-","知事登録",null,null,"8代表となる検査者-勤務先-事務所登録-知事登録",null,"8代表となる検査者-勤務先-事務所登録-知事登録"]
[null,null,null,null,{"$f":"'1_入力シート【基本情報】'!AB85","v":0},null,8,"代表となる検査者","-","勤務先","-","事務所登録","-","号",null,null,"8代表となる検査者-勤務先-事務所登録-号",null,"8代表となる検査者-勤務先-事務所登録-号"]
[null,null,{"$f":"IF(D93=\"-\",0,D93)","v":0},{"$f":"'1_入力シート【基本情報】'!$EI$86","v":"-"},{"$f":"C93","v":0},null,8,"代表となる検査者","-","勤務先","-","郵便番号",null,null,null,null,"8代表となる検査者-勤務先-郵便番号",null,"8代表となる検査者-勤務先-郵便番号"]
[null,null,null,null,{"$f":"'1_入力シート【基本情報】'!$AB$87","v":0},null,8,"代表となる検査者","-","勤務先","-","所在地",null,null,null,null,"8代表となる検査者-勤務先-所在地",null,"8代表となる検査者-勤務先-所在地"]
[null,null,{"$f":"IF(D95=\"--\",0,D95)","v":0},{"$f":"'1_入力シート【基本情報】'!$EI$88","v":"--"},{"$f":"C95","v":0},null,8,"代表となる検査者","-","勤務先","-","電話番号",null,null,null,null,"8代表となる検査者-勤務先-電話番号",null,"8代表となる検査者-勤務先-電話番号"]
[null,null,null,null,{"$f":"'1_入力シート【基本情報】'!$EO$89","v":false},null,8,"その他の検査者1","-","代表となる検査者と勤務先が同一及び同一チェック",null,null,null,null,null,null,"8その他の検査者1-代表となる検査者と勤務先が同一及び同一チェック",null,"8その他の検査者1-代表となる調査者と勤務先が同一及び同一チェック"]
[null,null,null,null,{"$f":"'1_入力シート【基本情報】'!AB90","v":0},null,8,"その他の検査者1","-","資格","-","資格名称",null,null,null,null,"8その他の検査者1-資格-資格名称",null,"8その他の検査者1-資格-資格名称"]
[null,null,null,null,{"$f":"'1_入力シート【基本情報】'!AB91","v":0},null,8,"その他の検査者1","-","資格","-","建築士","-","登録",null,null,"8その他の検査者1-資格-建築士-登録",null,"8その他の検査者1-資格-建築士-登録"]
[null,null,null,null,{"$f":"'1_入力シート【基本情報】'!AB92","v":0},null,8,"その他の検査者1","-","資格","-","建築士","-","号",null,null,"8その他の検査者1-資格-建築士-号",null,"8その他の検査者1-資格-建築士-号"]
[null,null,null,null,{"$f":"'1_入力シート【基本情報】'!AB93","v":0},null,8,"その他の検査者1","-","資格","-","防火設備検査員","-","号",null,null,"8その他の検査者1-資格-防火設備検査員-号",null,"8その他の検査者1-資格-防火設備検査員-号"]
[null,null,null,null,{"$f":"'1_入力シート【基本情報】'!AB94","v":0},null,8,"その他の検査者1","-","氏名","-","フリガナ",null,null,null,null,"8その他の検査者1-氏名-フリガナ",null,"8その他の検査者1-氏名-フリガナ"]
[null,null,null,null,{"$f":"'1_入力シート【基本情報】'!AB95","v":0},null,8,"その他の検査者1","-","氏名","-","氏名",null,null,null,null,"8その他の検査者1-氏名-氏名",null,"8その他の検査者1-氏名-氏名"]
[null,null,null,null,{"$f":"'1_入力シート【基本情報】'!AB96","v":0},null,8,"その他の検査者1","-","勤務先","-","名称",null,null,null,null,"8その他の検査者1-勤務先-名称",null,"8その他の検査者1-勤務先-名称"]
[null,null,null,null,{"$f":"'1_入力シート【基本情報】'!AB97","v":0},null,8,"その他の検査者1","-","勤務先","-","事務所登録","-","建築士事務所",null,null,"8その他の検査者1-勤務先-事務所登録-建築士事務所",null,"8その他の検査者1-勤務先-事務所登録-建築士事務所"]
[null,null,null,null,{"$f":"'1_入力シート【基本情報】'!AB98","v":0},null,8,"その他の検査者1","-","勤務先","-","事務所登録","-","知事登録",null,null,"8その他の検査者1-勤務先-事務所登録-知事登録",null,"8その他の検査者1-勤務先-事務所登録-知事登録"]
[null,null,null,null,{"$f":"'1_入力シート【基本情報】'!AB99","v":0},null,8,"その他の検査者1","-","勤務先","-","事務所登録","-","号",null,null,"8その他の検査者1-勤務先-事務所登録-号",null,"8その他の検査者1-勤務先-事務所登録-号"]
[null,null,{"$f":"IF(D107=\"-\",0,D107)","v":0},{"$f":"'1_入力シート【基本情報】'!$EI$100","v":"-"},{"$f":"C107","v":0},null,8,"その他の検査者1","-","勤務先","-","郵便番号",null,null,null,null,"8その他の検査者1-勤務先-郵便番号",null,"8その他の検査者1-勤務先-郵便番号"]
[null,null,null,null,{"$f":"'1_入力シート【基本情報】'!$AB$101","v":0},null,8,"その他の検査者1","-","勤務先","-","所在地",null,null,null,null,"8その他の検査者1-勤務先-所在地",null,"8その他の検査者1-勤務先-所在地"]
[null,null,{"$f":"IF(D109=\"--\",0,D109)","v":0},{"$f":"'1_入力シート【基本情報】'!$EI$102","v":"--"},{"$f":"C109","v":0},null,8,"その他の検査者1","-","勤務先","-","電話番号",null,null,null,null,"8その他の検査者1-勤務先-電話番号",null,"8その他の検査者1-勤務先-電話番号"]
[null,null,null,null,{"$f":"'1_入力シート【基本情報】'!$EO$103","v":false},null,8,"その他の検査者2","-","代表となる検査者と勤務先が同一及び同一チェック",null,null,null,null,null,null,"8その他の検査者2-代表となる検査者と勤務先が同一及び同一チェック",null,"8その他の検査者2-代表となる調査者と勤務先が同一及び同一チェック"]
[null,null,null,null,{"$f":"'1_入力シート【基本情報】'!AB104","v":0},null,8,"その他の検査者2","-","資格","-","資格名称",null,null,null,null,"8その他の検査者2-資格-資格名称",null,"8その他の検査者2-資格-資格名称"]
[null,null,null,null,{"$f":"'1_入力シート【基本情報】'!AB105","v":0},null,8,"その他の検査者2","-","資格","-","建築士","-","登録",null,null,"8その他の検査者2-資格-建築士-登録",null,"8その他の検査者2-資格-建築士-登録"]
[null,null,null,null,{"$f":"'1_入力シート【基本情報】'!AB106","v":0},null,8,"その他の検査者2","-","資格","-","建築士","-","号",null,null,"8その他の検査者2-資格-建築士-号",null,"8その他の検査者2-資格-建築士-号"]
[null,null,null,null,{"$f":"'1_入力シート【基本情報】'!AB107","v":0},null,8,"その他の検査者2","-","資格","-","防火設備検査員","-","号",null,null,"8その他の検査者2-資格-防火設備検査員-号",null,"8その他の検査者2-資格-防火設備検査員-号"]
[null,null,null,null,{"$f":"'1_入力シート【基本情報】'!AB108","v":0},null,8,"その他の検査者2","-","氏名","-","フリガナ",null,null,null,null,"8その他の検査者2-氏名-フリガナ",null,"8その他の検査者2-氏名-フリガナ"]
[null,null,null,null,{"$f":"'1_入力シート【基本情報】'!AB109","v":0},null,8,"その他の検査者2","-","氏名","-","氏名",null,null,null,null,"8その他の検査者2-氏名-氏名",null,"8その他の検査者2-氏名-氏名"]
[null,null,null,null,{"$f":"'1_入力シート【基本情報】'!AB110","v":0},null,8,"その他の検査者2","-","勤務先","-","名称",null,null,null,null,"8その他の検査者2-勤務先-名称",null,"8その他の検査者2-勤務先-名称"]
[null,null,null,null,{"$f":"'1_入力シート【基本情報】'!AB111","v":0},null,8,"その他の検査者2","-","勤務先","-","事務所登録","-","建築士事務所",null,null,"8その他の検査者2-勤務先-事務所登録-建築士事務所",null,"8その他の検査者2-勤務先-事務所登録-建築士事務所"]
[null,null,null,null,{"$f":"'1_入力シート【基本情報】'!AB112","v":0},null,8,"その他の検査者2","-","勤務先","-","事務所登録","-","知事登録",null,null,"8その他の検査者2-勤務先-事務所登録-知事登録",null,"8その他の検査者2-勤務先-事務所登録-知事登録"]
[null,null,null,null,{"$f":"'1_入力シート【基本情報】'!AB113","v":0},null,8,"その他の検査者2","-","勤務先","-","事務所登録","-","号",null,null,"8その他の検査者2-勤務先-事務所登録-号",null,"8その他の検査者2-勤務先-事務所登録-号"]
[null,null,{"$f":"IF(D121=\"-\",0,D121)","v":0},{"$f":"'1_入力シート【基本情報】'!$EI$114","v":"-"},{"$f":"C121","v":0},null,8,"その他の検査者2","-","勤務先","-","郵便番号",null,null,null,null,"8その他の検査者2-勤務先-郵便番号",null,"8その他の検査者2-勤務先-郵便番号"]
[null,null,null,null,{"$f":"'1_入力シート【基本情報】'!$AB$115","v":0},null,8,"その他の検査者2","-","勤務先","-","所在地",null,null,null,null,"8その他の検査者2-勤務先-所在地",null,"8その他の検査者2-勤務先-所在地"]
[null,null,{"$f":"IF(D123=\"--\",0,D123)","v":0},{"$f":"'1_入力シート【基本情報】'!$EI$116","v":"--"},{"$f":"C123","v":0},null,8,"その他の検査者2","-","勤務先","-","電話番号",null,null,null,null,"8その他の検査者2-勤務先-電話番号",null,"8その他の検査者2-勤務先-電話番号"]
[null,null,null,null,{"$f":"'1_入力シート【基本情報】'!$AB$122","v":0},null,9,"防火設備の概要","-","避難安全検証法の適用","-","区画避難安全検証法",null,null,null,null,"9防火設備の概要-避難安全検証法の適用-区画避難安全検証法",null,"9防火設備の概要-避難安全検証法の適用-区画避難安全検証法"]
[null,null,null,null,{"$f":"'1_入力シート【基本情報】'!$AE$122","v":0},null,9,"防火設備の概要","-","避難安全検証法の適用","-","区画避難安全検証法","-","階",null,null,"9防火設備の概要-避難安全検証法の適用-区画避難安全検証法-階",null,"9防火設備の概要-避難安全検証法の適用-区画避難安全検証法-階"]
[null,null,null,null,{"$f":"'1_入力シート【基本情報】'!$AB$123","v":0},null,9,"防火設備の概要","-","避難安全検証法の適用","-","階避難安全検証法",null,null,null,null,"9防火設備の概要-避難安全検証法の適用-階避難安全検証法",null,"9防火設備の概要-避難安全検証法の適用-階避難安全検証法"]
[null,null,null,null,{"$f":"'1_入力シート【基本情報】'!$AE$123","v":0},null,9,"防火設備の概要","-","避難安全検証法の適用","-","階避難安全検証法","-","階",null,null,"9防火設備の概要-避難安全検証法の適用-階避難安全検証法-階",null,"9防火設備の概要-避難安全検証法の適用-階避難安全検証法-階"]
[null,null,null,null,{"$f":"'1_入力シート【基本情報】'!$AB$124","v":0},null,9,"防火設備の概要","-","避難安全検証法の適用","-","全館避難安全検証法",null,null,null,null,"9防火設備の概要-避難安全検証法の適用-全館避難安全検証法",null,"9防火設備の概要-避難安全検証法の適用-全館避難安全検証法"]
[null,null,null,null,{"$f":"'1_入力シート【基本情報】'!$AB$125","v":0},null,9,"防火設備の概要","-","避難安全検証法の適用","-","その他",null,null,null,null,"9防火設備の概要-避難安全検証法の適用-その他",null,"9防火設備の概要-避難安全検証法の適用-その他"]
[null,null,null,null,{"$f":"'1_入力シート【基本情報】'!$AF$125","v":0},null,9,"防火設備の概要","-","避難安全検証法の適用","-","その他","-","説明",null,null,"9防火設備の概要-避難安全検証法の適用-その他-説明",null,"9防火設備の概要-避難安全検証法の適用-その他-説明"]
[null,null,null,null,{"$f":"'1_入力シート【基本情報】'!AB126","v":0},null,9,"防火設備の概要","-","防火設備","-","防火扉","-","枚",null,null,"9防火設備の概要-防火設備-防火扉-枚",null,"9防火設備の概要-防火設備-防火扉-枚"]
[null,null,null,null,{"$f":"'1_入力シート【基本情報】'!AB127","v":0},null,9,"防火設備の概要","-","防火設備","-","防火シャッター","-","枚",null,null,"9防火設備の概要-防火設備-防火シャッター-枚",null,"9防火設備の概要-防火設備-防火シャッター-枚"]
[null,null,null,null,{"$f":"'1_入力シート【基本情報】'!AB128","v":0},null,9,"防火設備の概要","-","防火設備","-","耐火クロススクリーン","-","枚",null,null,"9防火設備の概要-防火設備-耐火クロススクリーン-枚",null,"9防火設備の概要-防火設備-耐火クロススクリーン-枚"]
[null,null,null,null,{"$f":"'1_入力シート【基本情報】'!AB129","v":0},null,9,"防火設備の概要","-","防火設備","-","ドレンチャー","-","台",null,null,"9防火設備の概要-防火設備-ドレンチャー-台",null,"9防火設備の概要-防火設備-ドレンチャー-台"]
[null,null,null,null,{"$f":"'1_入力シート【基本情報】'!$AB$130","v":0},null,9,"防火設備の概要","-","防火設備","-","その他","-","台",null,null,"9防火設備の概要-防火設備-その他-台",null,"9防火設備の概要-防火設備-その他-台"]
[null,null,null,null,{"$f":"'1_入力シート【基本情報】'!$AB$133","v":0},null,10,"備考","-","備考（第二面）",null,null,null,null,null,null,"10備考-備考（第二面）",null,"10備考-備考（第二面）"]
[null,null,null,null,{"$f":"'1_入力シート【基本情報】'!$AB$142","v":0},null,11,"防火設備に係る不具合等の状況","-","不具合等","-","有無",null,null,null,null,"11防火設備に係る不具合等の状況-不具合等-有無",null,"11防火設備に係る不具合等の状況-不具合等-有無"]
[null,null,null,null,{"$f":"'1_入力シート【基本情報】'!$AB$143","v":0},null,11,"防火設備に係る不具合等の状況","-","不具合等の記録","-","有無",null,null,null,null,"11防火設備に係る不具合等の状況-不具合等の記録-有無",null,"11防火設備に係る不具合等の状況-不具合等の記録-有無"]
[null,null,null,null,{"$f":"'1_入力シート【基本情報】'!$M$146","v":0},null,11,"防火設備に係る不具合等の状況","-","不具合等を把握した年月","-","元号","-",1,null,null,"11防火設備に係る不具合等の状況-不具合等を把握した年月-元号-1",null,"11防火設備に係る不具合等の状況-不具合等を把握した年月-元号-1"]
[null,null,null,null,{"$f":"'1_入力シート【基本情報】'!$P$146","v":0},null,11,"防火設備に係る不具合等の状況","-","不具合等を把握した年月","-","年","-",1,null,null,"11防火設備に係る不具合等の状況-不具合等を把握した年月-年-1",null,"11防火設備に係る不具合等の状況-不具合等を把握した年月-年-1"]
[null,null,null,null,{"$f":"'1_入力シート【基本情報】'!$S$146","v":0},null,11,"防火設備に係る不具合等の状況","-","不具合等を把握した年月","-","月","-",null,null,null,"11防火設備に係る不具合等の状況-不具合等を把握した年月-月-",null,"11防火設備に係る不具合等の状況-不具合等を把握した年月-月-"]
[null,null,null,null,{"$f":"'1_入力シート【基本情報】'!$V$146","v":0},null,11,"防火設備に係る不具合等の状況","-","不具合等の概要","-",1,null,null,null,null,"11防火設備に係る不具合等の状況-不具合等の概要-1",null,"11防火設備に係る不具合等の状況-不具合等の概要-1"]
[null,null,null,null,{"$f":"'1_入力シート【基本情報】'!$AH$146","v":0},null,11,"防火設備に係る不具合等の状況","-","考えられる要因","-",1,null,null,null,null,"11防火設備に係る不具合等の状況-考えられる要因-1",null,"11防火設備に係る不具合等の状況-考えられる要因-1"]
[null,null,null,null,{"$f":"'1_入力シート【基本情報】'!$AT$146","v":0},null,11,"防火設備に係る不具合等の状況","-","改善の状況","-",1,null,null,null,null,"11防火設備に係る不具合等の状況-改善の状況-1",null,"11防火設備に係る不具合等の状況-改善の状況-1"]
[null,null,null,null,{"$f":"'1_入力シート【基本情報】'!$AZ$146","v":0},null,11,"防火設備に係る不具合等の状況","-","改善（予定）年月","-","年（令和）","-",1,null,null,"11防火設備に係る不具合等の状況-改善（予定）年月-年（令和）-1",null,"11防火設備に係る不具合等の状況-改善（予定）年月-年（令和）-1"]
[null,null,null,null,{"$f":"'1_入力シート【基本情報】'!$BC$146","v":0},null,11,"防火設備に係る不具合等の状況","-","改善（予定）年月","-","月","-",null,null,null,"11防火設備に係る不具合等の状況-改善（予定）年月-月-",null,"11防火設備に係る不具合等の状況-改善（予定）年月-月-"]
[null,null,null,null,{"$f":"'1_入力シート【基本情報】'!$BF$146","v":0},null,11,"防火設備に係る不具合等の状況","-","改善措置の概要等","-",1,null,null,null,null,"11防火設備に係る不具合等の状況-改善措置の概要等-1",null,"11防火設備に係る不具合等の状況-改善措置の概要等-1"]
[null,null,null,null,{"$f":"'1_入力シート【基本情報】'!$M$147","v":0},null,11,"防火設備に係る不具合等の状況","-","不具合等を把握した年月","-","元号","-",2,null,null,{"$f":"CONCATENATE(G148,H148,I148,J148,K148,L148,M148,N148,O148,P148)","v":"11防火設備に係る不具合等の状況-不具合等を把握した年月-元号-2"},null,"11防火設備に係る不具合等の状況-不具合等を把握した年月-元号-2"]
[null,null,null,null,{"$f":"'1_入力シート【基本情報】'!$P$147","v":0},null,11,"防火設備に係る不具合等の状況","-","不具合等を把握した年月","-","年","-",2,null,null,"11防火設備に係る不具合等の状況-不具合等を把握した年月-年-2",null,"11防火設備に係る不具合等の状況-不具合等を把握した年月-年-2"]
[null,null,null,null,{"$f":"'1_入力シート【基本情報】'!$S$147","v":0},null,11,"防火設備に係る不具合等の状況","-","不具合等を把握した年月","-","月","-",null,null,null,"11防火設備に係る不具合等の状況-不具合等を把握した年月-月-",null,"11防火設備に係る不具合等の状況-不具合等を把握した年月-月-"]
[null,null,null,null,{"$f":"'1_入力シート【基本情報】'!$V$147","v":0},null,11,"防火設備に係る不具合等の状況","-","不具合等の概要","-",2,null,null,null,null,"11防火設備に係る不具合等の状況-不具合等の概要-2",null,"11防火設備に係る不具合等の状況-不具合等の概要-2"]
[null,null,null,null,{"$f":"'1_入力シート【基本情報】'!$AH$147","v":0},null,11,"防火設備に係る不具合等の状況","-","考えられる要因","-",2,null,null,null,null,"11防火設備に係る不具合等の状況-考えられる要因-2",null,"11防火設備に係る不具合等の状況-考えられる要因-2"]
[null,null,null,null,{"$f":"'1_入力シート【基本情報】'!$AT$147","v":0},null,11,"防火設備に係る不具合等の状況","-","改善の状況","-",2,null,null,null,null,"11防火設備に係る不具合等の状況-改善の状況-2",null,"11防火設備に係る不具合等の状況-改善の状況-2"]
[null,null,null,null,{"$f":"'1_入力シート【基本情報】'!$AZ$147","v":0},null,11,"防火設備に係る不具合等の状況","-","改善（予定）年月","-","年（令和）","-",2,null,null,"11防火設備に係る不具合等の状況-改善（予定）年月-年（令和）-2",null,"11防火設備に係る不具合等の状況-改善（予定）年月-年（令和）-2"]
[null,null,null,null,{"$f":"'1_入力シート【基本情報】'!$BC$147","v":0},null,11,"防火設備に係る不具合等の状況","-","改善（予定）年月","-","月","-",null,null,null,"11防火設備に係る不具合等の状況-改善（予定）年月-月-",null,"11防火設備に係る不具合等の状況-改善（予定）年月-月-"]
[null,null,null,null,{"$f":"'1_入力シート【基本情報】'!$BF$147","v":0},null,11,"防火設備に係る不具合等の状況","-","改善措置の概要等","-",2,null,null,null,null,"11防火設備に係る不具合等の状況-改善措置の概要等-2",null,"11防火設備に係る不具合等の状況-改善措置の概要等-2"]
[null,null,null,null,{"$f":"'1_入力シート【基本情報】'!$M$148","v":0},null,11,"防火設備に係る不具合等の状況","-","不具合等を把握した年月","-","元号","-",3,null,null,"11防火設備に係る不具合等の状況-不具合等を把握した年月-元号-3",null,"11防火設備に係る不具合等の状況-不具合等を把握した年月-元号-3"]
[null,null,null,null,{"$f":"'1_入力シート【基本情報】'!$P$148","v":0},null,11,"防火設備に係る不具合等の状況","-","不具合等を把握した年月","-","年","-",3,null,null,"11防火設備に係る不具合等の状況-不具合等を把握した年月-年-3",null,"11防火設備に係る不具合等の状況-不具合等を把握した年月-年-3"]
[null,null,null,null,{"$f":"'1_入力シート【基本情報】'!$S$148","v":0},null,11,"防火設備に係る不具合等の状況","-","不具合等を把握した年月","-","月","-",null,null,null,"11防火設備に係る不具合等の状況-不具合等を把握した年月-月-",null,"11防火設備に係る不具合等の状況-不具合等を把握した年月-月-"]
[null,null,null,null,{"$f":"'1_入力シート【基本情報】'!$V$148","v":0},null,11,"防火設備に係る不具合等の状況","-","不具合等の概要","-",3,null,null,null,null,"11防火設備に係る不具合等の状況-不具合等の概要-3",null,"11防火設備に係る不具合等の状況-不具合等の概要-3"]
[null,null,null,null,{"$f":"'1_入力シート【基本情報】'!$AH$148","v":0},null,11,"防火設備に係る不具合等の状況","-","考えられる要因","-",3,null,null,null,null,"11防火設備に係る不具合等の状況-考えられる要因-3",null,"11防火設備に係る不具合等の状況-考えられる要因-3"]
[null,null,null,null,{"$f":"'1_入力シート【基本情報】'!$AT$148","v":0},null,11,"防火設備に係る不具合等の状況","-","改善の状況","-",3,null,null,null,null,"11防火設備に係る不具合等の状況-改善の状況-3",null,"11防火設備に係る不具合等の状況-改善の状況-3"]
[null,null,null,null,{"$f":"'1_入力シート【基本情報】'!$AZ$148","v":0},null,11,"防火設備に係る不具合等の状況","-","改善（予定）年月","-","年（令和）","-",3,null,null,"11防火設備に係る不具合等の状況-改善（予定）年月-年（令和）-3",null,"11防火設備に係る不具合等の状況-改善（予定）年月-年（令和）-3"]
[null,null,null,null,{"$f":"'1_入力シート【基本情報】'!$BC$148","v":0},null,11,"防火設備に係る不具合等の状況","-","改善（予定）年月","-","月","-",3,null,null,"11防火設備に係る不具合等の状況-改善（予定）年月-月-3",null,"11防火設備に係る不具合等の状況-改善（予定）年月-月-3"]
[null,null,null,null,{"$f":"'1_入力シート【基本情報】'!$BF$148","v":0},null,11,"防火設備に係る不具合等の状況","-","改善措置の概要等","-",3,null,null,null,null,"11防火設備に係る不具合等の状況-改善措置の概要等-3",null,"11防火設備に係る不具合等の状況-改善措置の概要等-3"]
[null,null,null,null,{"$f":"'1_入力シート【基本情報】'!$M$149","v":0},null,11,"防火設備に係る不具合等の状況","-","不具合等を把握した年月","-","元号","-",4,null,null,"11防火設備に係る不具合等の状況-不具合等を把握した年月-元号-4",null,"11防火設備に係る不具合等の状況-不具合等を把握した年月-元号-4"]
[null,null,null,null,{"$f":"'1_入力シート【基本情報】'!$P$149","v":0},null,11,"防火設備に係る不具合等の状況","-","不具合等を把握した年月","-","年","-",4,null,null,"11防火設備に係る不具合等の状況-不具合等を把握した年月-年-4",null,"11防火設備に係る不具合等の状況-不具合等を把握した年月-年-4"]
[null,null,null,null,{"$f":"'1_入力シート【基本情報】'!$S$149","v":0},null,11,"防火設備に係る不具合等の状況","-","不具合等を把握した年月","-","月","-",null,null,null,"11防火設備に係る不具合等の状況-不具合等を把握した年月-月-",null,"11防火設備に係る不具合等の状況-不具合等を把握した年月-月-"]
[null,null,null,null,{"$f":"'1_入力シート【基本情報】'!$V$149","v":0},null,11,"防火設備に係る不具合等の状況","-","不具合等の概要","-",4,null,null,null,null,"11防火設備に係る不具合等の状況-不具合等の概要-4",null,"11防火設備に係る不具合等の状況-不具合等の概要-4"]
[null,null,null,null,{"$f":"'1_入力シート【基本情報】'!$AH$149","v":0},null,11,"防火設備に係る不具合等の状況","-","考えられる要因","-",4,null,null,null,null,"11防火設備に係る不具合等の状況-考えられる要因-4",null,"11防火設備に係る不具合等の状況-考えられる要因-4"]
[null,null,null,null,{"$f":"'1_入力シート【基本情報】'!$AT$149","v":0},null,11,"防火設備に係る不具合等の状況","-","改善の状況","-",4,null,null,null,null,"11防火設備に係る不具合等の状況-改善の状況-4",null,"11防火設備に係る不具合等の状況-改善の状況-4"]
[null,null,null,null,{"$f":"'1_入力シート【基本情報】'!$AZ$149","v":0},null,11,"防火設備に係る不具合等の状況","-","改善（予定）年月","-","年（令和）","-",4,null,null,"11防火設備に係る不具合等の状況-改善（予定）年月-年（令和）-4",null,"11防火設備に係る不具合等の状況-改善（予定）年月-年（令和）-4"]
[null,null,null,null,{"$f":"'1_入力シート【基本情報】'!$BC$149","v":0},null,11,"防火設備に係る不具合等の状況","-","改善（予定）年月","-","月","-",4,null,null,"11防火設備に係る不具合等の状況-改善（予定）年月-月-4",null,"11防火設備に係る不具合等の状況-改善（予定）年月-月-4"]
[null,null,null,null,{"$f":"'1_入力シート【基本情報】'!$BF$149","v":0},null,11,"防火設備に係る不具合等の状況","-","改善措置の概要等","-",4,null,null,null,null,"11防火設備に係る不具合等の状況-改善措置の概要等-4",null,"11防火設備に係る不具合等の状況-改善措置の概要等-4"]
[null,null,null,null,{"$f":"'1_入力シート【基本情報】'!$M$150","v":0},null,11,"防火設備に係る不具合等の状況","-","不具合等を把握した年月","-","元号","-",5,null,null,"11防火設備に係る不具合等の状況-不具合等を把握した年月-元号-5",null,"11防火設備に係る不具合等の状況-不具合等を把握した年月-元号-5"]
[null,null,null,null,{"$f":"'1_入力シート【基本情報】'!$P$150","v":0},null,11,"防火設備に係る不具合等の状況","-","不具合等を把握した年月","-","年","-",5,null,null,"11防火設備に係る不具合等の状況-不具合等を把握した年月-年-5",null,"11防火設備に係る不具合等の状況-不具合等を把握した年月-年-5"]
[null,null,null,null,{"$f":"'1_入力シート【基本情報】'!$S$150","v":0},null,11,"防火設備に係る不具合等の状況","-","不具合等を把握した年月","-","月","-",null,null,null,"11防火設備に係る不具合等の状況-不具合等を把握した年月-月-",null,"11防火設備に係る不具合等の状況-不具合等を把握した年月-月-"]
[null,null,null,null,{"$f":"'1_入力シート【基本情報】'!$V$150","v":0},null,11,"防火設備に係る不具合等の状況","-","不具合等の概要","-",5,null,null,null,null,"11防火設備に係る不具合等の状況-不具合等の概要-5",null,"11防火設備に係る不具合等の状況-不具合等の概要-5"]
[null,null,null,null,{"$f":"'1_入力シート【基本情報】'!$AH$150","v":0},null,11,"防火設備に係る不具合等の状況","-","考えられる要因","-",5,null,null,null,null,"11防火設備に係る不具合等の状況-考えられる要因-5",null,"11防火設備に係る不具合等の状況-考えられる要因-5"]
[null,null,null,null,{"$f":"'1_入力シート【基本情報】'!$AT$150","v":0},null,11,"防火設備に係る不具合等の状況","-","改善の状況","-",5,null,null,null,null,"11防火設備に係る不具合等の状況-改善の状況-5",null,"11防火設備に係る不具合等の状況-改善の状況-5"]
[null,null,null,null,{"$f":"'1_入力シート【基本情報】'!$AZ$150","v":0},null,11,"防火設備に係る不具合等の状況","-","改善（予定）年月","-","年（令和）","-",5,null,null,"11防火設備に係る不具合等の状況-改善（予定）年月-年（令和）-5",null,"11防火設備に係る不具合等の状況-改善（予定）年月-年（令和）-5"]
[null,null,null,null,{"$f":"'1_入力シート【基本情報】'!$BC$150","v":0},null,11,"防火設備に係る不具合等の状況","-","改善（予定）年月","-","月","-",5,null,null,"11防火設備に係る不具合等の状況-改善（予定）年月-月-5",null,"11防火設備に係る不具合等の状況-改善（予定）年月-月-5"]
[null,null,null,null,{"$f":"'1_入力シート【基本情報】'!$BF$150","v":0},null,11,"防火設備に係る不具合等の状況","-","改善措置の概要等","-",5,null,null,null,null,"11防火設備に係る不具合等の状況-改善措置の概要等-5",null,"11防火設備に係る不具合等の状況-改善措置の概要等-5"]
[null,null,null,null,{"$f":"'1_入力シート【基本情報】'!$M$151","v":0},null,11,"防火設備に係る不具合等の状況","-","不具合等を把握した年月","-","元号","-",6,null,null,"11防火設備に係る不具合等の状況-不具合等を把握した年月-元号-6",null,"11防火設備に係る不具合等の状況-不具合等を把握した年月-元号-6"]
[null,null,null,null,{"$f":"'1_入力シート【基本情報】'!$P$151","v":0},null,11,"防火設備に係る不具合等の状況","-","不具合等を把握した年月","-","年","-",6,null,null,"11防火設備に係る不具合等の状況-不具合等を把握した年月-年-6",null,"11防火設備に係る不具合等の状況-不具合等を把握した年月-年-6"]
[null,null,null,null,{"$f":"'1_入力シート【基本情報】'!$S$151","v":0},null,11,"防火設備に係る不具合等の状況","-","不具合等を把握した年月","-","月","-",6,null,null,"11防火設備に係る不具合等の状況-不具合等を把握した年月-月-6",null,"11防火設備に係る不具合等の状況-不具合等を把握した年月-月-6"]
[null,null,null,null,{"$f":"'1_入力シート【基本情報】'!$V$151","v":0},null,11,"防火設備に係る不具合等の状況","-","不具合等の概要","-",6,null,null,null,null,"11防火設備に係る不具合等の状況-不具合等の概要-6",null,"11防火設備に係る不具合等の状況-不具合等の概要-6"]
[null,null,null,null,{"$f":"'1_入力シート【基本情報】'!$AH$151","v":0},null,11,"防火設備に係る不具合等の状況","-","考えられる要因","-",6,null,null,null,null,"11防火設備に係る不具合等の状況-考えられる要因-6",null,"11防火設備に係る不具合等の状況-考えられる要因-6"]
[null,null,null,null,{"$f":"'1_入力シート【基本情報】'!$AT$151","v":0},null,11,"防火設備に係る不具合等の状況","-","改善の状況","-",6,null,null,null,null,"11防火設備に係る不具合等の状況-改善の状況-6",null,"11防火設備に係る不具合等の状況-改善の状況-6"]
[null,null,null,null,{"$f":"'1_入力シート【基本情報】'!$AZ$151","v":0},null,11,"防火設備に係る不具合等の状況","-","改善（予定）年月","-","年（令和）","-",6,null,null,"11防火設備に係る不具合等の状況-改善（予定）年月-年（令和）-6",null,"11防火設備に係る不具合等の状況-改善（予定）年月-年（令和）-6"]
[null,null,null,null,{"$f":"'1_入力シート【基本情報】'!$BC$151","v":0},null,11,"防火設備に係る不具合等の状況","-","改善（予定）年月","-","月","-",6,null,null,"11防火設備に係る不具合等の状況-改善（予定）年月-月-6",null,"11防火設備に係る不具合等の状況-改善（予定）年月-月-6"]
[null,null,null,null,{"$f":"'1_入力シート【基本情報】'!$BF$151","v":0},null,11,"防火設備に係る不具合等の状況","-","改善措置の概要等","-",6,null,null,null,null,"11防火設備に係る不具合等の状況-改善措置の概要等-6",null,"11防火設備に係る不具合等の状況-改善措置の概要等-6"]
[null,null,null,null,{"$f":"'1_入力シート【基本情報】'!$M$152","v":0},null,11,"防火設備に係る不具合等の状況","-","不具合等を把握した年月","-","元号","-",7,null,null,"11防火設備に係る不具合等の状況-不具合等を把握した年月-元号-7",null,"11防火設備に係る不具合等の状況-不具合等を把握した年月-元号-7"]
[null,null,null,null,{"$f":"'1_入力シート【基本情報】'!$P$152","v":0},null,11,"防火設備に係る不具合等の状況","-","不具合等を把握した年月","-","年","-",7,null,null,"11防火設備に係る不具合等の状況-不具合等を把握した年月-年-7",null,"11防火設備に係る不具合等の状況-不具合等を把握した年月-年-7"]
[null,null,null,null,{"$f":"'1_入力シート【基本情報】'!$S$152","v":0},null,11,"防火設備に係る不具合等の状況","-","不具合等を把握した年月","-","月","-",7,null,null,"11防火設備に係る不具合等の状況-不具合等を把握した年月-月-7",null,"11防火設備に係る不具合等の状況-不具合等を把握した年月-月-7"]
[null,null,null,null,{"$f":"'1_入力シート【基本情報】'!$V$152","v":0},null,11,"防火設備に係る不具合等の状況","-","不具合等の概要","-",7,null,null,null,null,"11防火設備に係る不具合等の状況-不具合等の概要-7",null,"11防火設備に係る不具合等の状況-不具合等の概要-7"]
[null,null,null,null,{"$f":"'1_入力シート【基本情報】'!$AH$152","v":0},null,11,"防火設備に係る不具合等の状況","-","考えられる要因","-",7,null,null,null,null,"11防火設備に係る不具合等の状況-考えられる要因-7",null,"11防火設備に係る不具合等の状況-考えられる要因-7"]
[null,null,null,null,{"$f":"'1_入力シート【基本情報】'!$AT$152","v":0},null,11,"防火設備に係る不具合等の状況","-","改善の状況","-",7,null,null,null,null,"11防火設備に係る不具合等の状況-改善の状況-7",null,"11防火設備に係る不具合等の状況-改善の状況-7"]
[null,null,null,null,{"$f":"'1_入力シート【基本情報】'!$AZ$152","v":0},null,11,"防火設備に係る不具合等の状況","-","改善（予定）年月","-","年（令和）","-",7,null,null,"11防火設備に係る不具合等の状況-改善（予定）年月-年（令和）-7",null,"11防火設備に係る不具合等の状況-改善（予定）年月-年（令和）-7"]
[null,null,null,null,{"$f":"'1_入力シート【基本情報】'!$BC$152","v":0},null,11,"防火設備に係る不具合等の状況","-","改善（予定）年月","-","月","-",7,null,null,"11防火設備に係る不具合等の状況-改善（予定）年月-月-7",null,"11防火設備に係る不具合等の状況-改善（予定）年月-月-7"]
[null,null,null,null,{"$f":"'1_入力シート【基本情報】'!$BF$152","v":0},null,11,"防火設備に係る不具合等の状況","-","改善措置の概要等","-",7,null,null,null,null,"11防火設備に係る不具合等の状況-改善措置の概要等-7",null,"11防火設備に係る不具合等の状況-改善措置の概要等-7"]
[null,null,null,null,{"$f":"'1_入力シート【基本情報】'!$M$153","v":0},null,11,"防火設備に係る不具合等の状況","-","不具合等を把握した年月","-","元号","-",8,null,null,"11防火設備に係る不具合等の状況-不具合等を把握した年月-元号-8",null,"11防火設備に係る不具合等の状況-不具合等を把握した年月-元号-8"]
[null,null,null,null,{"$f":"'1_入力シート【基本情報】'!$P$153","v":0},null,11,"防火設備に係る不具合等の状況","-","不具合等を把握した年月","-","年","-",8,null,null,"11防火設備に係る不具合等の状況-不具合等を把握した年月-年-8",null,"11防火設備に係る不具合等の状況-不具合等を把握した年月-年-8"]
[null,null,null,null,{"$f":"'1_入力シート【基本情報】'!$S$153","v":0},null,11,"防火設備に係る不具合等の状況","-","不具合等を把握した年月","-","月","-",8,null,null,"11防火設備に係る不具合等の状況-不具合等を把握した年月-月-8",null,"11防火設備に係る不具合等の状況-不具合等を把握した年月-月-8"]
[null,null,null,null,{"$f":"'1_入力シート【基本情報】'!$V$153","v":0},null,11,"防火設備に係る不具合等の状況","-","不具合等の概要","-",8,null,null,null,null,"11防火設備に係る不具合等の状況-不具合等の概要-8",null,"11防火設備に係る不具合等の状況-不具合等の概要-8"]
[null,null,null,null,{"$f":"'1_入力シート【基本情報】'!$AH$153","v":0},null,11,"防火設備に係る不具合等の状況","-","考えられる要因","-",8,null,null,null,null,"11防火設備に係る不具合等の状況-考えられる要因-8",null,"11防火設備に係る不具合等の状況-考えられる要因-8"]
[null,null,null,null,{"$f":"'1_入力シート【基本情報】'!$AT$153","v":0},null,11,"防火設備に係る不具合等の状況","-","改善の状況","-",8,null,null,null,null,"11防火設備に係る不具合等の状況-改善の状況-8",null,"11防火設備に係る不具合等の状況-改善の状況-8"]
[null,null,null,null,{"$f":"'1_入力シート【基本情報】'!$AZ$153","v":0},null,11,"防火設備に係る不具合等の状況","-","改善（予定）年月","-","年（令和）","-",8,null,null,"11防火設備に係る不具合等の状況-改善（予定）年月-年（令和）-8",null,"11防火設備に係る不具合等の状況-改善（予定）年月-年（令和）-8"]
[null,null,null,null,{"$f":"'1_入力シート【基本情報】'!$BC$153","v":0},null,11,"防火設備に係る不具合等の状況","-","改善（予定）年月","-","月","-",8,null,null,"11防火設備に係る不具合等の状況-改善（予定）年月-月-8",null,"11防火設備に係る不具合等の状況-改善（予定）年月-月-8"]
[null,null,null,null,{"$f":"'1_入力シート【基本情報】'!$BF$153","v":0},null,11,"防火設備に係る不具合等の状況","-","改善措置の概要等","-",8,null,null,null,null,"11防火設備に係る不具合等の状況-改善措置の概要等-8",null,"11防火設備に係る不具合等の状況-改善措置の概要等-8"]
[null,null,null,null,{"$f":"'1_入力シート【基本情報】'!$AB$81","v":0},null,12,"検査結果（共通）","-","検査員番号1","-","氏名",null,null,null,null,"12検査結果（共通）-検査員番号1-氏名",null,"12検査結果（共通）-検査員番号1-氏名"]
[null,null,null,null,{"$f":"'1_入力シート【基本情報】'!$AB$95","v":0},null,12,"検査結果（共通）","-","検査員番号2","-","氏名",null,null,null,null,{"$f":"CONCATENATE(G212,H212,I212,J212,K212,L212,M212,N212,O212,P212)","v":"12検査結果（共通）-検査員番号2-氏名"},null,"12検査結果（共通）-検査員番号2-氏名"]
[null,null,null,null,{"$f":"'1_入力シート【基本情報】'!$AB$109","v":0},null,12,"検査結果（共通）","-","検査員番号3","-","氏名",null,null,null,null,"12検査結果（共通）-検査員番号3-氏名",null,"12検査結果（共通）-検査員番号3-氏名"]
[null,null,null,null,{"$f":"'2_入力シート【検査結果表】 防火扉'!$BA$17","v":0},null,12,"検査結果(防火扉）","-","1（1）","-","検査結果",null,null,null,null,"12検査結果(防火扉）-1（1）-検査結果",null,"12検査結果(防火扉）-1（1）-検査結果"]
[null,null,null,null,{"$f":"'2_入力シート【検査結果表】 防火扉'!$BM$17","v":0},null,12,"検査結果(防火扉）","-","1（1）","-","検査者番号",null,null,null,null,"12検査結果(防火扉）-1（1）-検査者番号",null,"12検査結果(防火扉）-1（1）-検査者番号"]
[null,null,null,null,{"$f":"'2_入力シート【検査結果表】 防火扉'!$BO$17","v":0},null,12,"検査結果(防火扉）","-","1（1）","-","指摘の具体的内容等",null,null,null,null,"12検査結果(防火扉）-1（1）-指摘の具体的内容等",null,"12検査結果(防火扉）-1（1）-指摘の具体的内容等"]
[null,null,null,null,{"$f":"'2_入力シート【検査結果表】 防火扉'!$BY$17","v":0},null,12,"検査結果(防火扉）","-","1（1）","-","改善策の具体的内容等",null,null,null,null,"12検査結果(防火扉）-1（1）-改善策の具体的内容等",null,"12検査結果(防火扉）-1（1）-改善策の具体的内容等"]
[null,null,null,null,{"$f":"'2_入力シート【検査結果表】 防火扉'!$CN$17","v":0},null,12,"検査結果(防火扉）","-","1（1）","-","改善（予定）年月","-","年（令和）",null,null,"12検査結果(防火扉）-1（1）-改善（予定）年月-年（令和）",null,"12検査結果(防火扉）-1（1）-改善（予定）年月-年（令和）"]
[null,null,null,null,{"$f":"'2_入力シート【検査結果表】 防火扉'!$CQ$17","v":0},null,12,"検査結果(防火扉）","-","1（1）","-","改善（予定）年月","-","月",null,null,"12検査結果(防火扉）-1（1）-改善（予定）年月-月",null,"12検査結果(防火扉）-1（1）-改善（予定）年月-月"]
[null,null,null,null,{"$f":"'2_入力シート【検査結果表】 防火扉'!$CT$17","v":0},null,12,"検査結果(防火扉）","-","1（1）","-","改善（予定）年月","-","状況",null,null,"12検査結果(防火扉）-1（1）-改善（予定）年月-状況",null,"12検査結果(防火扉）-1（1）-改善（予定）年月-状況"]
[null,null,null,null,{"$f":"'2_入力シート【検査結果表】 防火扉'!$BA$18","v":0},null,12,"検査結果(防火扉）","-","1（2）","-","検査結果",null,null,null,null,"12検査結果(防火扉）-1（2）-検査結果",null,"12検査結果(防火扉）-1（2）-検査結果"]
[null,null,null,null,{"$f":"'2_入力シート【検査結果表】 防火扉'!$BM$18","v":0},null,12,"検査結果(防火扉）","-","1（2）","-","検査者番号",null,null,null,null,"12検査結果(防火扉）-1（2）-検査者番号",null,"12検査結果(防火扉）-1（2）-検査者番号"]
[null,null,null,null,{"$f":"'2_入力シート【検査結果表】 防火扉'!$BO$18","v":0},null,12,"検査結果(防火扉）","-","1（2）","-","指摘の具体的内容等",null,null,null,null,"12検査結果(防火扉）-1（2）-指摘の具体的内容等",null,"12検査結果(防火扉）-1（2）-指摘の具体的内容等"]
[null,null,null,null,{"$f":"'2_入力シート【検査結果表】 防火扉'!$BY$18","v":0},null,12,"検査結果(防火扉）","-","1（2）","-","改善策の具体的内容等",null,null,null,null,"12検査結果(防火扉）-1（2）-改善策の具体的内容等",null,"12検査結果(防火扉）-1（2）-改善策の具体的内容等"]
[null,null,null,null,{"$f":"'2_入力シート【検査結果表】 防火扉'!$CN$18","v":0},null,12,"検査結果(防火扉）","-","1（2）","-","改善（予定）年月","-","年（令和）",null,null,"12検査結果(防火扉）-1（2）-改善（予定）年月-年（令和）",null,"12検査結果(防火扉）-1（2）-改善（予定）年月-年（令和）"]
[null,null,null,null,{"$f":"'2_入力シート【検査結果表】 防火扉'!$CQ$18","v":0},null,12,"検査結果(防火扉）","-","1（2）","-","改善（予定）年月","-","月",null,null,"12検査結果(防火扉）-1（2）-改善（予定）年月-月",null,"12検査結果(防火扉）-1（2）-改善（予定）年月-月"]
[null,null,null,null,{"$f":"'2_入力シート【検査結果表】 防火扉'!$CT$18","v":0},null,12,"検査結果(防火扉）","-","1（2）","-","改善（予定）年月","-","状況",null,null,"12検査結果(防火扉）-1（2）-改善（予定）年月-状況",null,"12検査結果(防火扉）-1（2）-改善（予定）年月-状況"]
[null,null,null,null,{"$f":"'2_入力シート【検査結果表】 防火扉'!$BA$19","v":0},null,12,"検査結果(防火扉）","-","1（3）","-","検査結果",null,null,null,null,"12検査結果(防火扉）-1（3）-検査結果",null,"12検査結果(防火扉）-1（3）-検査結果"]
[null,null,null,null,{"$f":"'2_入力シート【検査結果表】 防火扉'!$BM$19","v":0},null,12,"検査結果(防火扉）","-","1（3）","-","検査者番号",null,null,null,null,"12検査結果(防火扉）-1（3）-検査者番号",null,"12検査結果(防火扉）-1（3）-検査者番号"]
[null,null,null,null,{"$f":"'2_入力シート【検査結果表】 防火扉'!$BO$19","v":0},null,12,"検査結果(防火扉）","-","1（3）","-","指摘の具体的内容等",null,null,null,null,"12検査結果(防火扉）-1（3）-指摘の具体的内容等",null,"12検査結果(防火扉）-1（3）-指摘の具体的内容等"]
[null,null,null,null,{"$f":"'2_入力シート【検査結果表】 防火扉'!$BY$19","v":0},null,12,"検査結果(防火扉）","-","1（3）","-","改善策の具体的内容等",null,null,null,null,"12検査結果(防火扉）-1（3）-改善策の具体的内容等",null,"12検査結果(防火扉）-1（3）-改善策の具体的内容等"]
[null,null,null,null,{"$f":"'2_入力シート【検査結果表】 防火扉'!$CN$19","v":0},null,12,"検査結果(防火扉）","-","1（3）","-","改善（予定）年月","-","年（令和）",null,null,"12検査結果(防火扉）-1（3）-改善（予定）年月-年（令和）",null,"12検査結果(防火扉）-1（3）-改善（予定）年月-年（令和）"]
[null,null,null,null,{"$f":"'2_入力シート【検査結果表】 防火扉'!$CQ$19","v":0},null,12,"検査結果(防火扉）","-","1（3）","-","改善（予定）年月","-","月",null,null,"12検査結果(防火扉）-1（3）-改善（予定）年月-月",null,"12検査結果(防火扉）-1（3）-改善（予定）年月-月"]
[null,null,null,null,{"$f":"'2_入力シート【検査結果表】 防火扉'!$CT$19","v":0},null,12,"検査結果(防火扉）","-","1（3）","-","改善（予定）年月","-","状況",null,null,"12検査結果(防火扉）-1（3）-改善（予定）年月-状況",null,"12検査結果(防火扉）-1（3）-改善（予定）年月-状況"]
[null,null,null,null,{"$f":"'2_入力シート【検査結果表】 防火扉'!$BA$20","v":0},null,12,"検査結果(防火扉）","-","1（4）","-","検査結果",null,null,null,null,"12検査結果(防火扉）-1（4）-検査結果",null,"12検査結果(防火扉）-1（4）-検査結果"]
[null,null,null,null,{"$f":"'2_入力シート【検査結果表】 防火扉'!$BM$20","v":0},null,12,"検査結果(防火扉）","-","1（4）","-","検査者番号",null,null,null,null,"12検査結果(防火扉）-1（4）-検査者番号",null,"12検査結果(防火扉）-1（4）-検査者番号"]
[null,null,null,null,{"$f":"'2_入力シート【検査結果表】 防火扉'!$BO$20","v":0},null,12,"検査結果(防火扉）","-","1（4）","-","指摘の具体的内容等",null,null,null,null,"12検査結果(防火扉）-1（4）-指摘の具体的内容等",null,"12検査結果(防火扉）-1（4）-指摘の具体的内容等"]
[null,null,null,null,{"$f":"'2_入力シート【検査結果表】 防火扉'!$BY$20","v":0},null,12,"検査結果(防火扉）","-","1（4）","-","改善策の具体的内容等",null,null,null,null,"12検査結果(防火扉）-1（4）-改善策の具体的内容等",null,"12検査結果(防火扉）-1（4）-改善策の具体的内容等"]
[null,null,null,null,{"$f":"'2_入力シート【検査結果表】 防火扉'!$CN$20","v":0},null,12,"検査結果(防火扉）","-","1（4）","-","改善（予定）年月","-","年（令和）",null,null,"12検査結果(防火扉）-1（4）-改善（予定）年月-年（令和）",null,"12検査結果(防火扉）-1（4）-改善（予定）年月-年（令和）"]
[null,null,null,null,{"$f":"'2_入力シート【検査結果表】 防火扉'!$CQ$20","v":0},null,12,"検査結果(防火扉）","-","1（4）","-","改善（予定）年月","-","月",null,null,"12検査結果(防火扉）-1（4）-改善（予定）年月-月",null,"12検査結果(防火扉）-1（4）-改善（予定）年月-月"]
[null,null,null,null,{"$f":"'2_入力シート【検査結果表】 防火扉'!$CT$20","v":0},null,12,"検査結果(防火扉）","-","1（4）","-","改善（予定）年月","-","状況",null,null,"12検査結果(防火扉）-1（4）-改善（予定）年月-状況",null,"12検査結果(防火扉）-1（4）-改善（予定）年月-状況"]
[null,null,null,null,{"$f":"'2_入力シート【検査結果表】 防火扉'!$BA$21","v":0},null,12,"検査結果(防火扉）","-","1（5）","-","検査結果",null,null,null,null,"12検査結果(防火扉）-1（5）-検査結果",null,"12検査結果(防火扉）-1（5）-検査結果"]
[null,null,null,null,{"$f":"'2_入力シート【検査結果表】 防火扉'!$BM$21","v":0},null,12,"検査結果(防火扉）","-","1（5）","-","検査者番号",null,null,null,null,"12検査結果(防火扉）-1（5）-検査者番号",null,"12検査結果(防火扉）-1（5）-検査者番号"]
[null,null,null,null,{"$f":"'2_入力シート【検査結果表】 防火扉'!$BO$21","v":0},null,12,"検査結果(防火扉）","-","1（5）","-","指摘の具体的内容等",null,null,null,null,"12検査結果(防火扉）-1（5）-指摘の具体的内容等",null,"12検査結果(防火扉）-1（5）-指摘の具体的内容等"]
[null,null,null,null,{"$f":"'2_入力シート【検査結果表】 防火扉'!$BY$21","v":0},null,12,"検査結果(防火扉）","-","1（5）","-","改善策の具体的内容等",null,null,null,null,"12検査結果(防火扉）-1（5）-改善策の具体的内容等",null,"12検査結果(防火扉）-1（5）-改善策の具体的内容等"]
[null,null,null,null,{"$f":"'2_入力シート【検査結果表】 防火扉'!$CN$21","v":0},null,12,"検査結果(防火扉）","-","1（5）","-","改善（予定）年月","-","年（令和）",null,null,"12検査結果(防火扉）-1（5）-改善（予定）年月-年（令和）",null,"12検査結果(防火扉）-1（5）-改善（予定）年月-年（令和）"]
[null,null,null,null,{"$f":"'2_入力シート【検査結果表】 防火扉'!$CQ$21","v":0},null,12,"検査結果(防火扉）","-","1（5）","-","改善（予定）年月","-","月",null,null,"12検査結果(防火扉）-1（5）-改善（予定）年月-月",null,"12検査結果(防火扉）-1（5）-改善（予定）年月-月"]
[null,null,null,null,{"$f":"'2_入力シート【検査結果表】 防火扉'!$CT$21","v":0},null,12,"検査結果(防火扉）","-","1（5）","-","改善（予定）年月","-","状況",null,null,"12検査結果(防火扉）-1（5）-改善（予定）年月-状況",null,"12検査結果(防火扉）-1（5）-改善（予定）年月-状況"]
[null,null,null,null,{"$f":"'2_入力シート【検査結果表】 防火扉'!$BA$22","v":0},null,12,"検査結果(防火扉）","-","1（6）","-","検査結果",null,null,null,null,"12検査結果(防火扉）-1（6）-検査結果",null,"12検査結果(防火扉）-1（6）-検査結果"]
[null,null,null,null,{"$f":"'2_入力シート【検査結果表】 防火扉'!$BM$22","v":0},null,12,"検査結果(防火扉）","-","1（6）","-","検査者番号",null,null,null,null,"12検査結果(防火扉）-1（6）-検査者番号",null,"12検査結果(防火扉）-1（6）-検査者番号"]
[null,null,null,null,{"$f":"'2_入力シート【検査結果表】 防火扉'!$BO$22","v":0},null,12,"検査結果(防火扉）","-","1（6）","-","指摘の具体的内容等",null,null,null,null,"12検査結果(防火扉）-1（6）-指摘の具体的内容等",null,"12検査結果(防火扉）-1（6）-指摘の具体的内容等"]
[null,null,null,null,{"$f":"'2_入力シート【検査結果表】 防火扉'!$BY$22","v":0},null,12,"検査結果(防火扉）","-","1（6）","-","改善策の具体的内容等",null,null,null,null,"12検査結果(防火扉）-1（6）-改善策の具体的内容等",null,"12検査結果(防火扉）-1（6）-改善策の具体的内容等"]
[null,null,null,null,{"$f":"'2_入力シート【検査結果表】 防火扉'!$CN$22","v":0},null,12,"検査結果(防火扉）","-","1（6）","-","改善（予定）年月","-","年（令和）",null,null,"12検査結果(防火扉）-1（6）-改善（予定）年月-年（令和）",null,"12検査結果(防火扉）-1（6）-改善（予定）年月-年（令和）"]
[null,null,null,null,{"$f":"'2_入力シート【検査結果表】 防火扉'!$CQ$22","v":0},null,12,"検査結果(防火扉）","-","1（6）","-","改善（予定）年月","-","月",null,null,"12検査結果(防火扉）-1（6）-改善（予定）年月-月",null,"12検査結果(防火扉）-1（6）-改善（予定）年月-月"]
[null,null,null,null,{"$f":"'2_入力シート【検査結果表】 防火扉'!$CT$22","v":0},null,12,"検査結果(防火扉）","-","1（6）","-","改善（予定）年月","-","状況",null,null,"12検査結果(防火扉）-1（6）-改善（予定）年月-状況",null,"12検査結果(防火扉）-1（6）-改善（予定）年月-状況"]
[null,null,null,null,{"$f":"'2_入力シート【検査結果表】 防火扉'!$BA$23","v":0},null,12,"検査結果(防火扉）","-","1（7）","-","検査結果",null,null,null,null,"12検査結果(防火扉）-1（7）-検査結果",null,"12検査結果(防火扉）-1（7）-検査結果"]
[null,null,null,null,{"$f":"'2_入力シート【検査結果表】 防火扉'!$BM$23","v":0},null,12,"検査結果(防火扉）","-","1（7）","-","検査者番号",null,null,null,null,"12検査結果(防火扉）-1（7）-検査者番号",null,"12検査結果(防火扉）-1（7）-検査者番号"]
[null,null,null,null,{"$f":"'2_入力シート【検査結果表】 防火扉'!$BO$23","v":0},null,12,"検査結果(防火扉）","-","1（7）","-","指摘の具体的内容等",null,null,null,null,"12検査結果(防火扉）-1（7）-指摘の具体的内容等",null,"12検査結果(防火扉）-1（7）-指摘の具体的内容等"]
[null,null,null,null,{"$f":"'2_入力シート【検査結果表】 防火扉'!$BY$23","v":0},null,12,"検査結果(防火扉）","-","1（7）","-","改善策の具体的内容等",null,null,null,null,"12検査結果(防火扉）-1（7）-改善策の具体的内容等",null,"12検査結果(防火扉）-1（7）-改善策の具体的内容等"]
[null,null,null,null,{"$f":"'2_入力シート【検査結果表】 防火扉'!$CN$23","v":0},null,12,"検査結果(防火扉）","-","1（7）","-","改善（予定）年月","-","年（令和）",null,null,"12検査結果(防火扉）-1（7）-改善（予定）年月-年（令和）",null,"12検査結果(防火扉）-1（7）-改善（予定）年月-年（令和）"]
[null,null,null,null,{"$f":"'2_入力シート【検査結果表】 防火扉'!$CQ$23","v":0},null,12,"検査結果(防火扉）","-","1（7）","-","改善（予定）年月","-","月",null,null,"12検査結果(防火扉）-1（7）-改善（予定）年月-月",null,"12検査結果(防火扉）-1（7）-改善（予定）年月-月"]
[null,null,null,null,{"$f":"'2_入力シート【検査結果表】 防火扉'!$CT$23","v":0},null,12,"検査結果(防火扉）","-","1（7）","-","改善（予定）年月","-","状況",null,null,"12検査結果(防火扉）-1（7）-改善（予定）年月-状況",null,"12検査結果(防火扉）-1（7）-改善（予定）年月-状況"]
[null,null,null,null,{"$f":"'2_入力シート【検査結果表】 防火扉'!$BA$24","v":0},null,12,"検査結果(防火扉）","-","1（8）","-","検査結果",null,null,null,null,"12検査結果(防火扉）-1（8）-検査結果",null,"12検査結果(防火扉）-1（8）-検査結果"]
[null,null,null,null,{"$f":"'2_入力シート【検査結果表】 防火扉'!$BM$24","v":0},null,12,"検査結果(防火扉）","-","1（8）","-","検査者番号",null,null,null,null,"12検査結果(防火扉）-1（8）-検査者番号",null,"12検査結果(防火扉）-1（8）-検査者番号"]
[null,null,null,null,{"$f":"'2_入力シート【検査結果表】 防火扉'!$BO$24","v":0},null,12,"検査結果(防火扉）","-","1（8）","-","指摘の具体的内容等",null,null,null,null,"12検査結果(防火扉）-1（8）-指摘の具体的内容等",null,"12検査結果(防火扉）-1（8）-指摘の具体的内容等"]
[null,null,null,null,{"$f":"'2_入力シート【検査結果表】 防火扉'!$BY$24","v":0},null,12,"検査結果(防火扉）","-","1（8）","-","改善策の具体的内容等",null,null,null,null,"12検査結果(防火扉）-1（8）-改善策の具体的内容等",null,"12検査結果(防火扉）-1（8）-改善策の具体的内容等"]
[null,null,null,null,{"$f":"'2_入力シート【検査結果表】 防火扉'!$CN$24","v":0},null,12,"検査結果(防火扉）","-","1（8）","-","改善（予定）年月","-","年（令和）",null,null,"12検査結果(防火扉）-1（8）-改善（予定）年月-年（令和）",null,"12検査結果(防火扉）-1（8）-改善（予定）年月-年（令和）"]
[null,null,null,null,{"$f":"'2_入力シート【検査結果表】 防火扉'!$CQ$24","v":0},null,12,"検査結果(防火扉）","-","1（8）","-","改善（予定）年月","-","月",null,null,"12検査結果(防火扉）-1（8）-改善（予定）年月-月",null,"12検査結果(防火扉）-1（8）-改善（予定）年月-月"]
[null,null,null,null,{"$f":"'2_入力シート【検査結果表】 防火扉'!$CT$24","v":0},null,12,"検査結果(防火扉）","-","1（8）","-","改善（予定）年月","-","状況",null,null,"12検査結果(防火扉）-1（8）-改善（予定）年月-状況",null,"12検査結果(防火扉）-1（8）-改善（予定）年月-状況"]
[null,null,null,null,{"$f":"'2_入力シート【検査結果表】 防火扉'!$BA$25","v":0},null,12,"検査結果(防火扉）","-","1（9）","-","検査結果",null,null,null,null,"12検査結果(防火扉）-1（9）-検査結果",null,"12検査結果(防火扉）-1（9）-検査結果"]
[null,null,null,null,{"$f":"'2_入力シート【検査結果表】 防火扉'!$BM$25","v":0},null,12,"検査結果(防火扉）","-","1（9）","-","検査者番号",null,null,null,null,"12検査結果(防火扉）-1（9）-検査者番号",null,"12検査結果(防火扉）-1（9）-検査者番号"]
[null,null,null,null,{"$f":"'2_入力シート【検査結果表】 防火扉'!$BO$25","v":0},null,12,"検査結果(防火扉）","-","1（9）","-","指摘の具体的内容等",null,null,null,null,"12検査結果(防火扉）-1（9）-指摘の具体的内容等",null,"12検査結果(防火扉）-1（9）-指摘の具体的内容等"]
[null,null,null,null,{"$f":"'2_入力シート【検査結果表】 防火扉'!$BY$25","v":0},null,12,"検査結果(防火扉）","-","1（9）","-","改善策の具体的内容等",null,null,null,null,"12検査結果(防火扉）-1（9）-改善策の具体的内容等",null,"12検査結果(防火扉）-1（9）-改善策の具体的内容等"]
[null,null,null,null,{"$f":"'2_入力シート【検査結果表】 防火扉'!$CN$25","v":0},null,12,"検査結果(防火扉）","-","1（9）","-","改善（予定）年月","-","年（令和）",null,null,"12検査結果(防火扉）-1（9）-改善（予定）年月-年（令和）",null,"12検査結果(防火扉）-1（9）-改善（予定）年月-年（令和）"]
[null,null,null,null,{"$f":"'2_入力シート【検査結果表】 防火扉'!$CQ$25","v":0},null,12,"検査結果(防火扉）","-","1（9）","-","改善（予定）年月","-","月",null,null,"12検査結果(防火扉）-1（9）-改善（予定）年月-月",null,"12検査結果(防火扉）-1（9）-改善（予定）年月-月"]
[null,null,null,null,{"$f":"'2_入力シート【検査結果表】 防火扉'!$CT$25","v":0},null,12,"検査結果(防火扉）","-","1（9）","-","改善（予定）年月","-","状況",null,null,{"$f":"CONCATENATE(G276,H276,I276,J276,K276,L276,M276,N276,O276,P276)","v":"12検査結果(防火扉）-1（9）-改善（予定）年月-状況"},null,"12検査結果(防火扉）-1（9）-改善（予定）年月-状況"]
[null,null,null,null,{"$f":"'2_入力シート【検査結果表】 防火扉'!$BA$26","v":0},null,12,"検査結果(防火扉）","-","1（10）","-","検査結果",null,null,null,null,"12検査結果(防火扉）-1（10）-検査結果",null,"12検査結果(防火扉）-1（10）-検査結果"]
[null,null,null,null,{"$f":"'2_入力シート【検査結果表】 防火扉'!$BM$26","v":0},null,12,"検査結果(防火扉）","-","1（10）","-","検査者番号",null,null,null,null,"12検査結果(防火扉）-1（10）-検査者番号",null,"12検査結果(防火扉）-1（10）-検査者番号"]
[null,null,null,null,{"$f":"'2_入力シート【検査結果表】 防火扉'!$BO$26","v":0},null,12,"検査結果(防火扉）","-","1（10）","-","指摘の具体的内容等",null,null,null,null,"12検査結果(防火扉）-1（10）-指摘の具体的内容等",null,"12検査結果(防火扉）-1（10）-指摘の具体的内容等"]
[null,null,null,null,{"$f":"'2_入力シート【検査結果表】 防火扉'!$BY$26","v":0},null,12,"検査結果(防火扉）","-","1（10）","-","改善策の具体的内容等",null,null,null,null,"12検査結果(防火扉）-1（10）-改善策の具体的内容等",null,"12検査結果(防火扉）-1（10）-改善策の具体的内容等"]
[null,null,null,null,{"$f":"'2_入力シート【検査結果表】 防火扉'!$CN$26","v":0},null,12,"検査結果(防火扉）","-","1（10）","-","改善（予定）年月","-","年（令和）",null,null,"12検査結果(防火扉）-1（10）-改善（予定）年月-年（令和）",null,"12検査結果(防火扉）-1（10）-改善（予定）年月-年（令和）"]
[null,null,null,null,{"$f":"'2_入力シート【検査結果表】 防火扉'!$CQ$26","v":0},null,12,"検査結果(防火扉）","-","1（10）","-","改善（予定）年月","-","月",null,null,"12検査結果(防火扉）-1（10）-改善（予定）年月-月",null,"12検査結果(防火扉）-1（10）-改善（予定）年月-月"]
[null,null,null,null,{"$f":"'2_入力シート【検査結果表】 防火扉'!$CT$26","v":0},null,12,"検査結果(防火扉）","-","1（10）","-","改善（予定）年月","-","状況",null,null,"12検査結果(防火扉）-1（10）-改善（予定）年月-状況",null,"12検査結果(防火扉）-1（10）-改善（予定）年月-状況"]
[null,null,null,null,{"$f":"'2_入力シート【検査結果表】 防火扉'!$BA$27","v":0},null,12,"検査結果(防火扉）","-","1（11）","-","検査結果",null,null,null,null,"12検査結果(防火扉）-1（11）-検査結果",null,"12検査結果(防火扉）-1（11）-検査結果"]
[null,null,null,null,{"$f":"'2_入力シート【検査結果表】 防火扉'!$BM$27","v":0},null,12,"検査結果(防火扉）","-","1（11）","-","検査者番号",null,null,null,null,"12検査結果(防火扉）-1（11）-検査者番号",null,"12検査結果(防火扉）-1（11）-検査者番号"]
[null,null,null,null,{"$f":"'2_入力シート【検査結果表】 防火扉'!$BO$27","v":0},null,12,"検査結果(防火扉）","-","1（11）","-","指摘の具体的内容等",null,null,null,null,"12検査結果(防火扉）-1（11）-指摘の具体的内容等",null,"12検査結果(防火扉）-1（11）-指摘の具体的内容等"]
[null,null,null,null,{"$f":"'2_入力シート【検査結果表】 防火扉'!$BY$27","v":0},null,12,"検査結果(防火扉）","-","1（11）","-","改善策の具体的内容等",null,null,null,null,"12検査結果(防火扉）-1（11）-改善策の具体的内容等",null,"12検査結果(防火扉）-1（11）-改善策の具体的内容等"]
[null,null,null,null,{"$f":"'2_入力シート【検査結果表】 防火扉'!$CN$27","v":0},null,12,"検査結果(防火扉）","-","1（11）","-","改善（予定）年月","-","年（令和）",null,null,"12検査結果(防火扉）-1（11）-改善（予定）年月-年（令和）",null,"12検査結果(防火扉）-1（11）-改善（予定）年月-年（令和）"]
[null,null,null,null,{"$f":"'2_入力シート【検査結果表】 防火扉'!$CQ$27","v":0},null,12,"検査結果(防火扉）","-","1（11）","-","改善（予定）年月","-","月",null,null,"12検査結果(防火扉）-1（11）-改善（予定）年月-月",null,"12検査結果(防火扉）-1（11）-改善（予定）年月-月"]
[null,null,null,null,{"$f":"'2_入力シート【検査結果表】 防火扉'!$CT$27","v":0},null,12,"検査結果(防火扉）","-","1（11）","-","改善（予定）年月","-","状況",null,null,"12検査結果(防火扉）-1（11）-改善（予定）年月-状況",null,"12検査結果(防火扉）-1（11）-改善（予定）年月-状況"]
[null,null,null,null,{"$f":"'2_入力シート【検査結果表】 防火扉'!$BA$28","v":0},null,12,"検査結果(防火扉）","-","1（12）","-","検査結果",null,null,null,null,"12検査結果(防火扉）-1（12）-検査結果",null,"12検査結果(防火扉）-1（12）-検査結果"]
[null,null,null,null,{"$f":"'2_入力シート【検査結果表】 防火扉'!$BM$28","v":0},null,12,"検査結果(防火扉）","-","1（12）","-","検査者番号",null,null,null,null,"12検査結果(防火扉）-1（12）-検査者番号",null,"12検査結果(防火扉）-1（12）-検査者番号"]
[null,null,null,null,{"$f":"'2_入力シート【検査結果表】 防火扉'!$BO$28","v":0},null,12,"検査結果(防火扉）","-","1（12）","-","指摘の具体的内容等",null,null,null,null,"12検査結果(防火扉）-1（12）-指摘の具体的内容等",null,"12検査結果(防火扉）-1（12）-指摘の具体的内容等"]
[null,null,null,null,{"$f":"'2_入力シート【検査結果表】 防火扉'!$BY$28","v":0},null,12,"検査結果(防火扉）","-","1（12）","-","改善策の具体的内容等",null,null,null,null,"12検査結果(防火扉）-1（12）-改善策の具体的内容等",null,"12検査結果(防火扉）-1（12）-改善策の具体的内容等"]
[null,null,null,null,{"$f":"'2_入力シート【検査結果表】 防火扉'!$CN$28","v":0},null,12,"検査結果(防火扉）","-","1（12）","-","改善（予定）年月","-","年（令和）",null,null,"12検査結果(防火扉）-1（12）-改善（予定）年月-年（令和）",null,"12検査結果(防火扉）-1（12）-改善（予定）年月-年（令和）"]
[null,null,null,null,{"$f":"'2_入力シート【検査結果表】 防火扉'!$CQ$28","v":0},null,12,"検査結果(防火扉）","-","1（12）","-","改善（予定）年月","-","月",null,null,"12検査結果(防火扉）-1（12）-改善（予定）年月-月",null,"12検査結果(防火扉）-1（12）-改善（予定）年月-月"]
[null,null,null,null,{"$f":"'2_入力シート【検査結果表】 防火扉'!$CT$28","v":0},null,12,"検査結果(防火扉）","-","1（12）","-","改善（予定）年月","-","状況",null,null,"12検査結果(防火扉）-1（12）-改善（予定）年月-状況",null,"12検査結果(防火扉）-1（12）-改善（予定）年月-状況"]
[null,null,null,null,{"$f":"'2_入力シート【検査結果表】 防火扉'!$BA$29","v":0},null,12,"検査結果(防火扉）","-","1（13）","-","検査結果",null,null,null,null,"12検査結果(防火扉）-1（13）-検査結果",null,"12検査結果(防火扉）-1（13）-検査結果"]
[null,null,null,null,{"$f":"'2_入力シート【検査結果表】 防火扉'!$BM$29","v":0},null,12,"検査結果(防火扉）","-","1（13）","-","検査者番号",null,null,null,null,"12検査結果(防火扉）-1（13）-検査者番号",null,"12検査結果(防火扉）-1（13）-検査者番号"]
[null,null,null,null,{"$f":"'2_入力シート【検査結果表】 防火扉'!$BO$29","v":0},null,12,"検査結果(防火扉）","-","1（13）","-","指摘の具体的内容等",null,null,null,null,"12検査結果(防火扉）-1（13）-指摘の具体的内容等",null,"12検査結果(防火扉）-1（13）-指摘の具体的内容等"]
[null,null,null,null,{"$f":"'2_入力シート【検査結果表】 防火扉'!$BY$29","v":0},null,12,"検査結果(防火扉）","-","1（13）","-","改善策の具体的内容等",null,null,null,null,"12検査結果(防火扉）-1（13）-改善策の具体的内容等",null,"12検査結果(防火扉）-1（13）-改善策の具体的内容等"]
[null,null,null,null,{"$f":"'2_入力シート【検査結果表】 防火扉'!$CN$29","v":0},null,12,"検査結果(防火扉）","-","1（13）","-","改善（予定）年月","-","年（令和）",null,null,"12検査結果(防火扉）-1（13）-改善（予定）年月-年（令和）",null,"12検査結果(防火扉）-1（13）-改善（予定）年月-年（令和）"]
[null,null,null,null,{"$f":"'2_入力シート【検査結果表】 防火扉'!$CQ$29","v":0},null,12,"検査結果(防火扉）","-","1（13）","-","改善（予定）年月","-","月",null,null,"12検査結果(防火扉）-1（13）-改善（予定）年月-月",null,"12検査結果(防火扉）-1（13）-改善（予定）年月-月"]
[null,null,null,null,{"$f":"'2_入力シート【検査結果表】 防火扉'!$CT$29","v":0},null,12,"検査結果(防火扉）","-","1（13）","-","改善（予定）年月","-","状況",null,null,"12検査結果(防火扉）-1（13）-改善（予定）年月-状況",null,"12検査結果(防火扉）-1（13）-改善（予定）年月-状況"]
[null,null,null,null,{"$f":"'2_入力シート【検査結果表】 防火扉'!$BA$30","v":0},null,12,"検査結果(防火扉）","-","1（14）","-","検査結果",null,null,null,null,"12検査結果(防火扉）-1（14）-検査結果",null,"12検査結果(防火扉）-1（14）-検査結果"]
[null,null,null,null,{"$f":"'2_入力シート【検査結果表】 防火扉'!$BM$30","v":0},null,12,"検査結果(防火扉）","-","1（14）","-","検査者番号",null,null,null,null,"12検査結果(防火扉）-1（14）-検査者番号",null,"12検査結果(防火扉）-1（14）-検査者番号"]
[null,null,null,null,{"$f":"'2_入力シート【検査結果表】 防火扉'!$BO$30","v":0},null,12,"検査結果(防火扉）","-","1（14）","-","指摘の具体的内容等",null,null,null,null,"12検査結果(防火扉）-1（14）-指摘の具体的内容等",null,"12検査結果(防火扉）-1（14）-指摘の具体的内容等"]
[null,null,null,null,{"$f":"'2_入力シート【検査結果表】 防火扉'!$BY$30","v":0},null,12,"検査結果(防火扉）","-","1（14）","-","改善策の具体的内容等",null,null,null,null,"12検査結果(防火扉）-1（14）-改善策の具体的内容等",null,"12検査結果(防火扉）-1（14）-改善策の具体的内容等"]
[null,null,null,null,{"$f":"'2_入力シート【検査結果表】 防火扉'!$CN$30","v":0},null,12,"検査結果(防火扉）","-","1（14）","-","改善（予定）年月","-","年（令和）",null,null,"12検査結果(防火扉）-1（14）-改善（予定）年月-年（令和）",null,"12検査結果(防火扉）-1（14）-改善（予定）年月-年（令和）"]
[null,null,null,null,{"$f":"'2_入力シート【検査結果表】 防火扉'!$CQ$30","v":0},null,12,"検査結果(防火扉）","-","1（14）","-","改善（予定）年月","-","月",null,null,"12検査結果(防火扉）-1（14）-改善（予定）年月-月",null,"12検査結果(防火扉）-1（14）-改善（予定）年月-月"]
[null,null,null,null,{"$f":"'2_入力シート【検査結果表】 防火扉'!$CT$30","v":0},null,12,"検査結果(防火扉）","-","1（14）","-","改善（予定）年月","-","状況",null,null,"12検査結果(防火扉）-1（14）-改善（予定）年月-状況",null,"12検査結果(防火扉）-1（14）-改善（予定）年月-状況"]
[null,null,null,null,{"$f":"'2_入力シート【検査結果表】 防火扉'!$BA$31","v":0},null,12,"検査結果(防火扉）","-","1（15）","-","検査結果",null,null,null,null,"12検査結果(防火扉）-1（15）-検査結果",null,"12検査結果(防火扉）-1（15）-検査結果"]
[null,null,null,null,{"$f":"'2_入力シート【検査結果表】 防火扉'!$BM$31","v":0},null,12,"検査結果(防火扉）","-","1（15）","-","検査者番号",null,null,null,null,"12検査結果(防火扉）-1（15）-検査者番号",null,"12検査結果(防火扉）-1（15）-検査者番号"]
[null,null,null,null,{"$f":"'2_入力シート【検査結果表】 防火扉'!$BO$31","v":0},null,12,"検査結果(防火扉）","-","1（15）","-","指摘の具体的内容等",null,null,null,null,"12検査結果(防火扉）-1（15）-指摘の具体的内容等",null,"12検査結果(防火扉）-1（15）-指摘の具体的内容等"]
[null,null,null,null,{"$f":"'2_入力シート【検査結果表】 防火扉'!$BY$31","v":0},null,12,"検査結果(防火扉）","-","1（15）","-","改善策の具体的内容等",null,null,null,null,"12検査結果(防火扉）-1（15）-改善策の具体的内容等",null,"12検査結果(防火扉）-1（15）-改善策の具体的内容等"]
[null,null,null,null,{"$f":"'2_入力シート【検査結果表】 防火扉'!$CN$31","v":0},null,12,"検査結果(防火扉）","-","1（15）","-","改善（予定）年月","-","年（令和）",null,null,"12検査結果(防火扉）-1（15）-改善（予定）年月-年（令和）",null,"12検査結果(防火扉）-1（15）-改善（予定）年月-年（令和）"]
[null,null,null,null,{"$f":"'2_入力シート【検査結果表】 防火扉'!$CQ$31","v":0},null,12,"検査結果(防火扉）","-","1（15）","-","改善（予定）年月","-","月",null,null,"12検査結果(防火扉）-1（15）-改善（予定）年月-月",null,"12検査結果(防火扉）-1（15）-改善（予定）年月-月"]
[null,null,null,null,{"$f":"'2_入力シート【検査結果表】 防火扉'!$CT$31","v":0},null,12,"検査結果(防火扉）","-","1（15）","-","改善（予定）年月","-","状況",null,null,"12検査結果(防火扉）-1（15）-改善（予定）年月-状況",null,"12検査結果(防火扉）-1（15）-改善（予定）年月-状況"]
[null,null,null,null,{"$f":"'2_入力シート【検査結果表】 防火扉'!$BA$32","v":0},null,12,"検査結果(防火扉）","-","1（16）","-","検査結果",null,null,null,null,"12検査結果(防火扉）-1（16）-検査結果",null,"12検査結果(防火扉）-1（16）-検査結果"]
[null,null,null,null,{"$f":"'2_入力シート【検査結果表】 防火扉'!$BM$32","v":0},null,12,"検査結果(防火扉）","-","1（16）","-","検査者番号",null,null,null,null,"12検査結果(防火扉）-1（16）-検査者番号",null,"12検査結果(防火扉）-1（16）-検査者番号"]
[null,null,null,null,{"$f":"'2_入力シート【検査結果表】 防火扉'!$BO$32","v":0},null,12,"検査結果(防火扉）","-","1（16）","-","指摘の具体的内容等",null,null,null,null,"12検査結果(防火扉）-1（16）-指摘の具体的内容等",null,"12検査結果(防火扉）-1（16）-指摘の具体的内容等"]
[null,null,null,null,{"$f":"'2_入力シート【検査結果表】 防火扉'!$BY$32","v":0},null,12,"検査結果(防火扉）","-","1（16）","-","改善策の具体的内容等",null,null,null,null,"12検査結果(防火扉）-1（16）-改善策の具体的内容等",null,"12検査結果(防火扉）-1（16）-改善策の具体的内容等"]
[null,null,null,null,{"$f":"'2_入力シート【検査結果表】 防火扉'!$CN$32","v":0},null,12,"検査結果(防火扉）","-","1（16）","-","改善（予定）年月","-","年（令和）",null,null,"12検査結果(防火扉）-1（16）-改善（予定）年月-年（令和）",null,"12検査結果(防火扉）-1（16）-改善（予定）年月-年（令和）"]
[null,null,null,null,{"$f":"'2_入力シート【検査結果表】 防火扉'!$CQ$32","v":0},null,12,"検査結果(防火扉）","-","1（16）","-","改善（予定）年月","-","月",null,null,"12検査結果(防火扉）-1（16）-改善（予定）年月-月",null,"12検査結果(防火扉）-1（16）-改善（予定）年月-月"]
[null,null,null,null,{"$f":"'2_入力シート【検査結果表】 防火扉'!$CT$32","v":0},null,12,"検査結果(防火扉）","-","1（16）","-","改善（予定）年月","-","状況",null,null,"12検査結果(防火扉）-1（16）-改善（予定）年月-状況",null,"12検査結果(防火扉）-1（16）-改善（予定）年月-状況"]
[null,null,null,null,{"$f":"'2_入力シート【検査結果表】 防火扉'!$BA$33","v":0},null,12,"検査結果(防火扉）","-","1（17）","-","検査結果",null,null,null,null,"12検査結果(防火扉）-1（17）-検査結果",null,"12検査結果(防火扉）-1（17）-検査結果"]
[null,null,null,null,{"$f":"'2_入力シート【検査結果表】 防火扉'!$BM$33","v":0},null,12,"検査結果(防火扉）","-","1（17）","-","検査者番号",null,null,null,null,"12検査結果(防火扉）-1（17）-検査者番号",null,"12検査結果(防火扉）-1（17）-検査者番号"]
[null,null,null,null,{"$f":"'2_入力シート【検査結果表】 防火扉'!$BO$33","v":0},null,12,"検査結果(防火扉）","-","1（17）","-","指摘の具体的内容等",null,null,null,null,"12検査結果(防火扉）-1（17）-指摘の具体的内容等",null,"12検査結果(防火扉）-1（17）-指摘の具体的内容等"]
[null,null,null,null,{"$f":"'2_入力シート【検査結果表】 防火扉'!$BY$33","v":0},null,12,"検査結果(防火扉）","-","1（17）","-","改善策の具体的内容等",null,null,null,null,"12検査結果(防火扉）-1（17）-改善策の具体的内容等",null,"12検査結果(防火扉）-1（17）-改善策の具体的内容等"]
[null,null,null,null,{"$f":"'2_入力シート【検査結果表】 防火扉'!$CN$33","v":0},null,12,"検査結果(防火扉）","-","1（17）","-","改善（予定）年月","-","年（令和）",null,null,"12検査結果(防火扉）-1（17）-改善（予定）年月-年（令和）",null,"12検査結果(防火扉）-1（17）-改善（予定）年月-年（令和）"]
[null,null,null,null,{"$f":"'2_入力シート【検査結果表】 防火扉'!$CQ$33","v":0},null,12,"検査結果(防火扉）","-","1（17）","-","改善（予定）年月","-","月",null,null,"12検査結果(防火扉）-1（17）-改善（予定）年月-月",null,"12検査結果(防火扉）-1（17）-改善（予定）年月-月"]
[null,null,null,null,{"$f":"'2_入力シート【検査結果表】 防火扉'!$CT$33","v":0},null,12,"検査結果(防火扉）","-","1（17）","-","改善（予定）年月","-","状況",null,null,"12検査結果(防火扉）-1（17）-改善（予定）年月-状況",null,"12検査結果(防火扉）-1（17）-改善（予定）年月-状況"]
[null,null,null,null,{"$f":"'2_入力シート【検査結果表】 防火扉'!$M$41","v":0},null,12,"検査結果(防火扉）","-","上記以外の検査項目等","-","1行目","-","番号",null,null,"12検査結果(防火扉）-上記以外の検査項目等-1行目-番号",null,"12検査結果(防火扉）-上記以外の検査項目等-1行目-番号"]
[null,null,null,null,{"$f":"'2_入力シート【検査結果表】 防火扉'!$P$41","v":0},null,12,"検査結果(防火扉）","-","上記以外の検査項目等","-","1行目","-","検査項目",null,null,"12検査結果(防火扉）-上記以外の検査項目等-1行目-検査項目",null,"12検査結果(防火扉）-上記以外の検査項目等-1行目-検査項目"]
[null,null,null,null,{"$f":"'2_入力シート【検査結果表】 防火扉'!$AG$41","v":0},null,12,"検査結果(防火扉）","-","上記以外の検査項目等","-","1行目","-","検査事項",null,null,"12検査結果(防火扉）-上記以外の検査項目等-1行目-検査事項",null,"12検査結果(防火扉）-上記以外の検査項目等-1行目-検査事項"]
[null,null,null,null,{"$f":"'2_入力シート【検査結果表】 防火扉'!$BA$41","v":0},null,12,"検査結果(防火扉）","-","上記以外の検査項目等","-","1行目","-","検査結果",null,null,"12検査結果(防火扉）-上記以外の検査項目等-1行目-検査結果",null,"12検査結果(防火扉）-上記以外の検査項目等-1行目-検査結果"]
[null,null,null,null,{"$f":"'2_入力シート【検査結果表】 防火扉'!$BM$41","v":0},null,12,"検査結果(防火扉）","-","上記以外の検査項目等","-","1行目","-","検査者番号",null,null,"12検査結果(防火扉）-上記以外の検査項目等-1行目-検査者番号",null,"12検査結果(防火扉）-上記以外の検査項目等-1行目-検査者番号"]
[null,null,null,null,{"$f":"'2_入力シート【検査結果表】 防火扉'!$BO$41","v":0},null,12,"検査結果(防火扉）","-","上記以外の検査項目等","-","1行目","-","指摘の具体的内容等",null,null,"12検査結果(防火扉）-上記以外の検査項目等-1行目-指摘の具体的内容等",null,"12検査結果(防火扉）-上記以外の検査項目等-1行目-指摘の具体的内容等"]
[null,null,null,null,{"$f":"'2_入力シート【検査結果表】 防火扉'!$BY$41","v":0},null,12,"検査結果(防火扉）","-","上記以外の検査項目等","-","1行目","-","改善策の具体的内容等",null,null,"12検査結果(防火扉）-上記以外の検査項目等-1行目-改善策の具体的内容等",null,"12検査結果(防火扉）-上記以外の検査項目等-1行目-改善策の具体的内容等"]
[null,null,null,null,{"$f":"'2_入力シート【検査結果表】 防火扉'!$CN$41","v":0},null,12,"検査結果(防火扉）","-","上記以外の検査項目等","-","1行目","-","改善（予定）年月","-","年（令和）",{"$f":"CONCATENATE(G340,H340,I340,J340,K340,L340,M340,N340,O340,P340)","v":"12検査結果(防火扉）-上記以外の検査項目等-1行目-改善（予定）年月-年（令和）"},null,"12検査結果(防火扉）-上記以外の検査項目等-1行目-改善（予定）年月-年（令和）"]
[null,null,null,null,{"$f":"'2_入力シート【検査結果表】 防火扉'!$CQ$41","v":0},null,12,"検査結果(防火扉）","-","上記以外の検査項目等","-","1行目","-","改善（予定）年月","-","月","12検査結果(防火扉）-上記以外の検査項目等-1行目-改善（予定）年月-月",null,"12検査結果(防火扉）-上記以外の検査項目等-1行目-改善（予定）年月-月"]
[null,null,null,null,{"$f":"'2_入力シート【検査結果表】 防火扉'!$CT$41","v":0},null,12,"検査結果(防火扉）","-","上記以外の検査項目等","-","1行目","-","改善（予定）年月","-","状況","12検査結果(防火扉）-上記以外の検査項目等-1行目-改善（予定）年月-状況",null,"12検査結果(防火扉）-上記以外の検査項目等-1行目-改善（予定）年月-状況"]
[null,null,null,null,{"$f":"'2_入力シート【検査結果表】 防火扉'!$M$42","v":0},null,12,"検査結果(防火扉）","-","上記以外の検査項目等","-","2行目","-","番号",null,null,"12検査結果(防火扉）-上記以外の検査項目等-2行目-番号",null,"12検査結果(防火扉）-上記以外の検査項目等-2行目-番号"]
[null,null,null,null,{"$f":"'2_入力シート【検査結果表】 防火扉'!$P$42","v":0},null,12,"検査結果(防火扉）","-","上記以外の検査項目等","-","2行目","-","検査項目",null,null,"12検査結果(防火扉）-上記以外の検査項目等-2行目-検査項目",null,"12検査結果(防火扉）-上記以外の検査項目等-2行目-検査項目"]
[null,null,null,null,{"$f":"'2_入力シート【検査結果表】 防火扉'!$AG$42","v":0},null,12,"検査結果(防火扉）","-","上記以外の検査項目等","-","2行目","-","検査事項",null,null,"12検査結果(防火扉）-上記以外の検査項目等-2行目-検査事項",null,"12検査結果(防火扉）-上記以外の検査項目等-2行目-検査事項"]
[null,null,null,null,{"$f":"'2_入力シート【検査結果表】 防火扉'!$BA$42","v":0},null,12,"検査結果(防火扉）","-","上記以外の検査項目等","-","2行目","-","検査結果",null,null,"12検査結果(防火扉）-上記以外の検査項目等-2行目-検査結果",null,"12検査結果(防火扉）-上記以外の検査項目等-2行目-検査結果"]
[null,null,null,null,{"$f":"'2_入力シート【検査結果表】 防火扉'!$BM$42","v":0},null,12,"検査結果(防火扉）","-","上記以外の検査項目等","-","2行目","-","検査者番号",null,null,"12検査結果(防火扉）-上記以外の検査項目等-2行目-検査者番号",null,"12検査結果(防火扉）-上記以外の検査項目等-2行目-検査者番号"]
[null,null,null,null,{"$f":"'2_入力シート【検査結果表】 防火扉'!$BO$42","v":0},null,12,"検査結果(防火扉）","-","上記以外の検査項目等","-","2行目","-","指摘の具体的内容等",null,null,"12検査結果(防火扉）-上記以外の検査項目等-2行目-指摘の具体的内容等",null,"12検査結果(防火扉）-上記以外の検査項目等-2行目-指摘の具体的内容等"]
[null,null,null,null,{"$f":"'2_入力シート【検査結果表】 防火扉'!$BY$42","v":0},null,12,"検査結果(防火扉）","-","上記以外の検査項目等","-","2行目","-","改善策の具体的内容等",null,null,"12検査結果(防火扉）-上記以外の検査項目等-2行目-改善策の具体的内容等",null,"12検査結果(防火扉）-上記以外の検査項目等-2行目-改善策の具体的内容等"]
[null,null,null,null,{"$f":"'2_入力シート【検査結果表】 防火扉'!$CN$42","v":0},null,12,"検査結果(防火扉）","-","上記以外の検査項目等","-","2行目","-","改善（予定）年月","-","年（令和）","12検査結果(防火扉）-上記以外の検査項目等-2行目-改善（予定）年月-年（令和）",null,"12検査結果(防火扉）-上記以外の検査項目等-2行目-改善（予定）年月-年（令和）"]
[null,null,null,null,{"$f":"'2_入力シート【検査結果表】 防火扉'!$CQ$42","v":0},null,12,"検査結果(防火扉）","-","上記以外の検査項目等","-","2行目","-","改善（予定）年月","-","月","12検査結果(防火扉）-上記以外の検査項目等-2行目-改善（予定）年月-月",null,"12検査結果(防火扉）-上記以外の検査項目等-2行目-改善（予定）年月-月"]
[null,null,null,null,{"$f":"'2_入力シート【検査結果表】 防火扉'!$CT$42","v":0},null,12,"検査結果(防火扉）","-","上記以外の検査項目等","-","2行目","-","改善（予定）年月","-","状況","12検査結果(防火扉）-上記以外の検査項目等-2行目-改善（予定）年月-状況",null,"12検査結果(防火扉）-上記以外の検査項目等-2行目-改善（予定）年月-状況"]
[null,null,null,null,{"$f":"'2_入力シート【検査結果表】 防火扉'!$M$43","v":0},null,12,"検査結果(防火扉）","-","上記以外の検査項目等","-","3行目","-","番号",null,null,"12検査結果(防火扉）-上記以外の検査項目等-3行目-番号",null,"12検査結果(防火扉）-上記以外の検査項目等-3行目-番号"]
[null,null,null,null,{"$f":"'2_入力シート【検査結果表】 防火扉'!$P$43","v":0},null,12,"検査結果(防火扉）","-","上記以外の検査項目等","-","3行目","-","検査項目",null,null,"12検査結果(防火扉）-上記以外の検査項目等-3行目-検査項目",null,"12検査結果(防火扉）-上記以外の検査項目等-3行目-検査項目"]
[null,null,null,null,{"$f":"'2_入力シート【検査結果表】 防火扉'!$AG$43","v":0},null,12,"検査結果(防火扉）","-","上記以外の検査項目等","-","3行目","-","検査事項",null,null,"12検査結果(防火扉）-上記以外の検査項目等-3行目-検査事項",null,"12検査結果(防火扉）-上記以外の検査項目等-3行目-検査事項"]
[null,null,null,null,{"$f":"'2_入力シート【検査結果表】 防火扉'!$BA$43","v":0},null,12,"検査結果(防火扉）","-","上記以外の検査項目等","-","3行目","-","検査結果",null,null,"12検査結果(防火扉）-上記以外の検査項目等-3行目-検査結果",null,"12検査結果(防火扉）-上記以外の検査項目等-3行目-検査結果"]
[null,null,null,null,{"$f":"'2_入力シート【検査結果表】 防火扉'!$BM$43","v":0},null,12,"検査結果(防火扉）","-","上記以外の検査項目等","-","3行目","-","検査者番号",null,null,"12検査結果(防火扉）-上記以外の検査項目等-3行目-検査者番号",null,"12検査結果(防火扉）-上記以外の検査項目等-3行目-検査者番号"]
[null,null,null,null,{"$f":"'2_入力シート【検査結果表】 防火扉'!$BO$43","v":0},null,12,"検査結果(防火扉）","-","上記以外の検査項目等","-","3行目","-","指摘の具体的内容等",null,null,"12検査結果(防火扉）-上記以外の検査項目等-3行目-指摘の具体的内容等",null,"12検査結果(防火扉）-上記以外の検査項目等-3行目-指摘の具体的内容等"]
[null,null,null,null,{"$f":"'2_入力シート【検査結果表】 防火扉'!$BY$43","v":0},null,12,"検査結果(防火扉）","-","上記以外の検査項目等","-","3行目","-","改善策の具体的内容等",null,null,"12検査結果(防火扉）-上記以外の検査項目等-3行目-改善策の具体的内容等",null,"12検査結果(防火扉）-上記以外の検査項目等-3行目-改善策の具体的内容等"]
[null,null,null,null,{"$f":"'2_入力シート【検査結果表】 防火扉'!$CN$43","v":0},null,12,"検査結果(防火扉）","-","上記以外の検査項目等","-","3行目","-","改善（予定）年月","-","年（令和）","12検査結果(防火扉）-上記以外の検査項目等-3行目-改善（予定）年月-年（令和）",null,"12検査結果(防火扉）-上記以外の検査項目等-3行目-改善（予定）年月-年（令和）"]
[null,null,null,null,{"$f":"'2_入力シート【検査結果表】 防火扉'!$CQ$43","v":0},null,12,"検査結果(防火扉）","-","上記以外の検査項目等","-","3行目","-","改善（予定）年月","-","月","12検査結果(防火扉）-上記以外の検査項目等-3行目-改善（予定）年月-月",null,"12検査結果(防火扉）-上記以外の検査項目等-3行目-改善（予定）年月-月"]
[null,null,null,null,{"$f":"'2_入力シート【検査結果表】 防火扉'!$CT$43","v":0},null,12,"検査結果(防火扉）","-","上記以外の検査項目等","-","3行目","-","改善（予定）年月","-","状況","12検査結果(防火扉）-上記以外の検査項目等-3行目-改善（予定）年月-状況",null,"12検査結果(防火扉）-上記以外の検査項目等-3行目-改善（予定）年月-状況"]
[null,null,null,null,{"$f":"'2_入力シート【検査結果表】 防火扉'!$M$51","v":0},null,12,"検査結果(防火扉）","-","上記に記載のない事項","-","1行目","-","番号",null,null,"12検査結果(防火扉）-上記に記載のない事項-1行目-番号",null,"12検査結果(防火扉）-上記に記載のない事項-1行目-番号"]
[null,null,null,null,{"$f":"'2_入力シート【検査結果表】 防火扉'!$P$51","v":0},null,12,"検査結果(防火扉）","-","上記に記載のない事項","-","1行目","-","検査項目",null,null,"12検査結果(防火扉）-上記に記載のない事項-1行目-検査項目",null,"12検査結果(防火扉）-上記に記載のない事項-1行目-検査項目"]
[null,null,null,null,{"$f":"'2_入力シート【検査結果表】 防火扉'!$AG$51","v":0},null,12,"検査結果(防火扉）","-","上記に記載のない事項","-","1行目","-","検査事項",null,null,"12検査結果(防火扉）-上記に記載のない事項-1行目-検査事項",null,"12検査結果(防火扉）-上記に記載のない事項-1行目-検査事項"]
[null,null,null,null,{"$f":"'2_入力シート【検査結果表】 防火扉'!$BA$51","v":0},null,12,"検査結果(防火扉）","-","上記に記載のない事項","-","1行目","-","検査結果",null,null,"12検査結果(防火扉）-上記に記載のない事項-1行目-検査結果",null,"12検査結果(防火扉）-上記に記載のない事項-1行目-検査結果"]
[null,null,null,null,{"$f":"'2_入力シート【検査結果表】 防火扉'!$BM$51","v":0},null,12,"検査結果(防火扉）","-","上記に記載のない事項","-","1行目","-","検査者番号",null,null,"12検査結果(防火扉）-上記に記載のない事項-1行目-検査者番号",null,"12検査結果(防火扉）-上記に記載のない事項-1行目-検査者番号"]
[null,null,null,null,{"$f":"'2_入力シート【検査結果表】 防火扉'!$BO$51","v":0},null,12,"検査結果(防火扉）","-","上記に記載のない事項","-","1行目","-","指摘の具体的内容等",null,null,"12検査結果(防火扉）-上記に記載のない事項-1行目-指摘の具体的内容等",null,"12検査結果(防火扉）-上記に記載のない事項-1行目-指摘の具体的内容等"]
[null,null,null,null,{"$f":"'2_入力シート【検査結果表】 防火扉'!$BY$51","v":0},null,12,"検査結果(防火扉）","-","上記に記載のない事項","-","1行目","-","改善策の具体的内容等",null,null,"12検査結果(防火扉）-上記に記載のない事項-1行目-改善策の具体的内容等",null,"12検査結果(防火扉）-上記に記載のない事項-1行目-改善策の具体的内容等"]
[null,null,null,null,{"$f":"'2_入力シート【検査結果表】 防火扉'!$CN$51","v":0},null,12,"検査結果(防火扉）","-","上記に記載のない事項","-","1行目","-","改善（予定）年月","-","年（令和）","12検査結果(防火扉）-上記に記載のない事項-1行目-改善（予定）年月-年（令和）",null,"12検査結果(防火扉）-上記に記載のない事項-1行目-改善（予定）年月-年（令和）"]
[null,null,null,null,{"$f":"'2_入力シート【検査結果表】 防火扉'!$CQ$51","v":0},null,12,"検査結果(防火扉）","-","上記に記載のない事項","-","1行目","-","改善（予定）年月","-","月","12検査結果(防火扉）-上記に記載のない事項-1行目-改善（予定）年月-月",null,"12検査結果(防火扉）-上記に記載のない事項-1行目-改善（予定）年月-月"]
[null,null,null,null,{"$f":"'2_入力シート【検査結果表】 防火扉'!$CT$51","v":0},null,12,"検査結果(防火扉）","-","上記に記載のない事項","-","1行目","-","改善（予定）年月","-","状況","12検査結果(防火扉）-上記に記載のない事項-1行目-改善（予定）年月-状況",null,"12検査結果(防火扉）-上記に記載のない事項-1行目-改善（予定）年月-状況"]
[null,null,null,null,{"$f":"'2_入力シート【検査結果表】 防火扉'!$M$52","v":0},null,12,"検査結果(防火扉）","-","上記に記載のない事項","-","2行目","-","番号",null,null,"12検査結果(防火扉）-上記に記載のない事項-2行目-番号",null,"12検査結果(防火扉）-上記に記載のない事項-2行目-番号"]
[null,null,null,null,{"$f":"'2_入力シート【検査結果表】 防火扉'!$P$52","v":0},null,12,"検査結果(防火扉）","-","上記に記載のない事項","-","2行目","-","検査項目",null,null,"12検査結果(防火扉）-上記に記載のない事項-2行目-検査項目",null,"12検査結果(防火扉）-上記に記載のない事項-2行目-検査項目"]
[null,null,null,null,{"$f":"'2_入力シート【検査結果表】 防火扉'!$AG$52","v":0},null,12,"検査結果(防火扉）","-","上記に記載のない事項","-","2行目","-","検査事項",null,null,"12検査結果(防火扉）-上記に記載のない事項-2行目-検査事項",null,"12検査結果(防火扉）-上記に記載のない事項-2行目-検査事項"]
[null,null,null,null,{"$f":"'2_入力シート【検査結果表】 防火扉'!$BA$52","v":0},null,12,"検査結果(防火扉）","-","上記に記載のない事項","-","2行目","-","検査結果",null,null,"12検査結果(防火扉）-上記に記載のない事項-2行目-検査結果",null,"12検査結果(防火扉）-上記に記載のない事項-2行目-検査結果"]
[null,null,null,null,{"$f":"'2_入力シート【検査結果表】 防火扉'!$BM$52","v":0},null,12,"検査結果(防火扉）","-","上記に記載のない事項","-","2行目","-","検査者番号",null,null,"12検査結果(防火扉）-上記に記載のない事項-2行目-検査者番号",null,"12検査結果(防火扉）-上記に記載のない事項-2行目-検査者番号"]
[null,null,null,null,{"$f":"'2_入力シート【検査結果表】 防火扉'!$BO$52","v":0},null,12,"検査結果(防火扉）","-","上記に記載のない事項","-","2行目","-","指摘の具体的内容等",null,null,"12検査結果(防火扉）-上記に記載のない事項-2行目-指摘の具体的内容等",null,"12検査結果(防火扉）-上記に記載のない事項-2行目-指摘の具体的内容等"]
[null,null,null,null,{"$f":"'2_入力シート【検査結果表】 防火扉'!$BY$52","v":0},null,12,"検査結果(防火扉）","-","上記に記載のない事項","-","2行目","-","改善策の具体的内容等",null,null,"12検査結果(防火扉）-上記に記載のない事項-2行目-改善策の具体的内容等",null,"12検査結果(防火扉）-上記に記載のない事項-2行目-改善策の具体的内容等"]
[null,null,null,null,{"$f":"'2_入力シート【検査結果表】 防火扉'!$CN$52","v":0},null,12,"検査結果(防火扉）","-","上記に記載のない事項","-","2行目","-","改善（予定）年月","-","年（令和）","12検査結果(防火扉）-上記に記載のない事項-2行目-改善（予定）年月-年（令和）",null,"12検査結果(防火扉）-上記に記載のない事項-2行目-改善（予定）年月-年（令和）"]
[null,null,null,null,{"$f":"'2_入力シート【検査結果表】 防火扉'!$CQ$52","v":0},null,12,"検査結果(防火扉）","-","上記に記載のない事項","-","2行目","-","改善（予定）年月","-","月","12検査結果(防火扉）-上記に記載のない事項-2行目-改善（予定）年月-月",null,"12検査結果(防火扉）-上記に記載のない事項-2行目-改善（予定）年月-月"]
[null,null,null,null,{"$f":"'2_入力シート【検査結果表】 防火扉'!$CT$52","v":0},null,12,"検査結果(防火扉）","-","上記に記載のない事項","-","2行目","-","改善（予定）年月","-","状況","12検査結果(防火扉）-上記に記載のない事項-2行目-改善（予定）年月-状況",null,"12検査結果(防火扉）-上記に記載のない事項-2行目-改善（予定）年月-状況"]
[null,null,null,null,{"$f":"'2_入力シート【検査結果表】 防火扉'!$M$53","v":0},null,12,"検査結果(防火扉）","-","上記に記載のない事項","-","3行目","-","番号",null,null,"12検査結果(防火扉）-上記に記載のない事項-3行目-番号",null,"12検査結果(防火扉）-上記に記載のない事項-3行目-番号"]
[null,null,null,null,{"$f":"'2_入力シート【検査結果表】 防火扉'!$P$53","v":0},null,12,"検査結果(防火扉）","-","上記に記載のない事項","-","3行目","-","検査項目",null,null,"12検査結果(防火扉）-上記に記載のない事項-3行目-検査項目",null,"12検査結果(防火扉）-上記に記載のない事項-3行目-検査項目"]
[null,null,null,null,{"$f":"'2_入力シート【検査結果表】 防火扉'!$AG$53","v":0},null,12,"検査結果(防火扉）","-","上記に記載のない事項","-","3行目","-","検査事項",null,null,"12検査結果(防火扉）-上記に記載のない事項-3行目-検査事項",null,"12検査結果(防火扉）-上記に記載のない事項-3行目-検査事項"]
[null,null,null,null,{"$f":"'2_入力シート【検査結果表】 防火扉'!$BA$53","v":0},null,12,"検査結果(防火扉）","-","上記に記載のない事項","-","3行目","-","検査結果",null,null,"12検査結果(防火扉）-上記に記載のない事項-3行目-検査結果",null,"12検査結果(防火扉）-上記に記載のない事項-3行目-検査結果"]
[null,null,null,null,{"$f":"'2_入力シート【検査結果表】 防火扉'!$BM$53","v":0},null,12,"検査結果(防火扉）","-","上記に記載のない事項","-","3行目","-","検査者番号",null,null,"12検査結果(防火扉）-上記に記載のない事項-3行目-検査者番号",null,"12検査結果(防火扉）-上記に記載のない事項-3行目-検査者番号"]
[null,null,null,null,{"$f":"'2_入力シート【検査結果表】 防火扉'!$BO$53","v":0},null,12,"検査結果(防火扉）","-","上記に記載のない事項","-","3行目","-","指摘の具体的内容等",null,null,"12検査結果(防火扉）-上記に記載のない事項-3行目-指摘の具体的内容等",null,"12検査結果(防火扉）-上記に記載のない事項-3行目-指摘の具体的内容等"]
[null,null,null,null,{"$f":"'2_入力シート【検査結果表】 防火扉'!$BY$53","v":0},null,12,"検査結果(防火扉）","-","上記に記載のない事項","-","3行目","-","改善策の具体的内容等",null,null,"12検査結果(防火扉）-上記に記載のない事項-3行目-改善策の具体的内容等",null,"12検査結果(防火扉）-上記に記載のない事項-3行目-改善策の具体的内容等"]
[null,null,null,null,{"$f":"'2_入力シート【検査結果表】 防火扉'!$CN$53","v":0},null,12,"検査結果(防火扉）","-","上記に記載のない事項","-","3行目","-","改善（予定）年月","-","年（令和）","12検査結果(防火扉）-上記に記載のない事項-3行目-改善（予定）年月-年（令和）",null,"12検査結果(防火扉）-上記に記載のない事項-3行目-改善（予定）年月-年（令和）"]
[null,null,null,null,{"$f":"'2_入力シート【検査結果表】 防火扉'!$CQ$53","v":0},null,12,"検査結果(防火扉）","-","上記に記載のない事項","-","3行目","-","改善（予定）年月","-","月","12検査結果(防火扉）-上記に記載のない事項-3行目-改善（予定）年月-月",null,"12検査結果(防火扉）-上記に記載のない事項-3行目-改善（予定）年月-月"]
[null,null,null,null,{"$f":"'2_入力シート【検査結果表】 防火扉'!$CT$53","v":0},null,12,"検査結果(防火扉）","-","上記に記載のない事項","-","3行目","-","改善（予定）年月","-","状況","12検査結果(防火扉）-上記に記載のない事項-3行目-改善（予定）年月-状況",null,"12検査結果(防火扉）-上記に記載のない事項-3行目-改善（予定）年月-状況"]
[null,null,null,null,{"$f":"'2_入力シート【検査結果表】 防火扉'!$M$54","v":0},null,12,"検査結果(防火扉）","-","上記に記載のない事項","-","4行目","-","番号",null,null,"12検査結果(防火扉）-上記に記載のない事項-4行目-番号",null,"12検査結果(防火扉）-上記に記載のない事項-4行目-番号"]
[null,null,null,null,{"$f":"'2_入力シート【検査結果表】 防火扉'!$P$54","v":0},null,12,"検査結果(防火扉）","-","上記に記載のない事項","-","4行目","-","検査項目",null,null,"12検査結果(防火扉）-上記に記載のない事項-4行目-検査項目",null,"12検査結果(防火扉）-上記に記載のない事項-4行目-検査項目"]
[null,null,null,null,{"$f":"'2_入力シート【検査結果表】 防火扉'!$AG$54","v":0},null,12,"検査結果(防火扉）","-","上記に記載のない事項","-","4行目","-","検査事項",null,null,"12検査結果(防火扉）-上記に記載のない事項-4行目-検査事項",null,"12検査結果(防火扉）-上記に記載のない事項-4行目-検査事項"]
[null,null,null,null,{"$f":"'2_入力シート【検査結果表】 防火扉'!$BA$54","v":0},null,12,"検査結果(防火扉）","-","上記に記載のない事項","-","4行目","-","検査結果",null,null,"12検査結果(防火扉）-上記に記載のない事項-4行目-検査結果",null,"12検査結果(防火扉）-上記に記載のない事項-4行目-検査結果"]
[null,null,null,null,{"$f":"'2_入力シート【検査結果表】 防火扉'!$BM$54","v":0},null,12,"検査結果(防火扉）","-","上記に記載のない事項","-","4行目","-","検査者番号",null,null,"12検査結果(防火扉）-上記に記載のない事項-4行目-検査者番号",null,"12検査結果(防火扉）-上記に記載のない事項-4行目-検査者番号"]
[null,null,null,null,{"$f":"'2_入力シート【検査結果表】 防火扉'!$BO$54","v":0},null,12,"検査結果(防火扉）","-","上記に記載のない事項","-","4行目","-","指摘の具体的内容等",null,null,"12検査結果(防火扉）-上記に記載のない事項-4行目-指摘の具体的内容等",null,"12検査結果(防火扉）-上記に記載のない事項-4行目-指摘の具体的内容等"]
[null,null,null,null,{"$f":"'2_入力シート【検査結果表】 防火扉'!$BY$54","v":0},null,12,"検査結果(防火扉）","-","上記に記載のない事項","-","4行目","-","改善策の具体的内容等",null,null,"12検査結果(防火扉）-上記に記載のない事項-4行目-改善策の具体的内容等",null,"12検査結果(防火扉）-上記に記載のない事項-4行目-改善策の具体的内容等"]
[null,null,null,null,{"$f":"'2_入力シート【検査結果表】 防火扉'!$CN$54","v":0},null,12,"検査結果(防火扉）","-","上記に記載のない事項","-","4行目","-","改善（予定）年月","-","年（令和）","12検査結果(防火扉）-上記に記載のない事項-4行目-改善（予定）年月-年（令和）",null,"12検査結果(防火扉）-上記に記載のない事項-4行目-改善（予定）年月-年（令和）"]
[null,null,null,null,{"$f":"'2_入力シート【検査結果表】 防火扉'!$CQ$54","v":0},null,12,"検査結果(防火扉）","-","上記に記載のない事項","-","4行目","-","改善（予定）年月","-","月","12検査結果(防火扉）-上記に記載のない事項-4行目-改善（予定）年月-月",null,"12検査結果(防火扉）-上記に記載のない事項-4行目-改善（予定）年月-月"]
[null,null,null,null,{"$f":"'2_入力シート【検査結果表】 防火扉'!$CT$54","v":0},null,12,"検査結果(防火扉）","-","上記に記載のない事項","-","4行目","-","改善（予定）年月","-","状況","12検査結果(防火扉）-上記に記載のない事項-4行目-改善（予定）年月-状況",null,"12検査結果(防火扉）-上記に記載のない事項-4行目-改善（予定）年月-状況"]
[null,null,null,null,{"$f":"'2_入力シート【検査結果表】 防火扉'!$M$55","v":0},null,12,"検査結果(防火扉）","-","上記に記載のない事項","-","5行目","-","番号",null,null,"12検査結果(防火扉）-上記に記載のない事項-5行目-番号",null,"12検査結果(防火扉）-上記に記載のない事項-5行目-番号"]
[null,null,null,null,{"$f":"'2_入力シート【検査結果表】 防火扉'!$P$55","v":0},null,12,"検査結果(防火扉）","-","上記に記載のない事項","-","5行目","-","検査項目",null,null,{"$f":"CONCATENATE(G404,H404,I404,J404,K404,L404,M404,N404,O404,P404)","v":"12検査結果(防火扉）-上記に記載のない事項-5行目-検査項目"},null,"12検査結果(防火扉）-上記に記載のない事項-5行目-検査項目"]
[null,null,null,null,{"$f":"'2_入力シート【検査結果表】 防火扉'!$AG$55","v":0},null,12,"検査結果(防火扉）","-","上記に記載のない事項","-","5行目","-","検査事項",null,null,"12検査結果(防火扉）-上記に記載のない事項-5行目-検査事項",null,"12検査結果(防火扉）-上記に記載のない事項-5行目-検査事項"]
[null,null,null,null,{"$f":"'2_入力シート【検査結果表】 防火扉'!$BA$55","v":0},null,12,"検査結果(防火扉）","-","上記に記載のない事項","-","5行目","-","検査結果",null,null,"12検査結果(防火扉）-上記に記載のない事項-5行目-検査結果",null,"12検査結果(防火扉）-上記に記載のない事項-5行目-検査結果"]
[null,null,null,null,{"$f":"'2_入力シート【検査結果表】 防火扉'!$BM$55","v":0},null,12,"検査結果(防火扉）","-","上記に記載のない事項","-","5行目","-","検査者番号",null,null,"12検査結果(防火扉）-上記に記載のない事項-5行目-検査者番号",null,"12検査結果(防火扉）-上記に記載のない事項-5行目-検査者番号"]
[null,null,null,null,{"$f":"'2_入力シート【検査結果表】 防火扉'!$BO$55","v":0},null,12,"検査結果(防火扉）","-","上記に記載のない事項","-","5行目","-","指摘の具体的内容等",null,null,"12検査結果(防火扉）-上記に記載のない事項-5行目-指摘の具体的内容等",null,"12検査結果(防火扉）-上記に記載のない事項-5行目-指摘の具体的内容等"]
[null,null,null,null,{"$f":"'2_入力シート【検査結果表】 防火扉'!$BY$55","v":0},null,12,"検査結果(防火扉）","-","上記に記載のない事項","-","5行目","-","改善策の具体的内容等",null,null,"12検査結果(防火扉）-上記に記載のない事項-5行目-改善策の具体的内容等",null,"12検査結果(防火扉）-上記に記載のない事項-5行目-改善策の具体的内容等"]
[null,null,null,null,{"$f":"'2_入力シート【検査結果表】 防火扉'!$CN$55","v":0},null,12,"検査結果(防火扉）","-","上記に記載のない事項","-","5行目","-","改善（予定）年月","-","年（令和）","12検査結果(防火扉）-上記に記載のない事項-5行目-改善（予定）年月-年（令和）",null,"12検査結果(防火扉）-上記に記載のない事項-5行目-改善（予定）年月-年（令和）"]
[null,null,null,null,{"$f":"'2_入力シート【検査結果表】 防火扉'!$CQ$55","v":0},null,12,"検査結果(防火扉）","-","上記に記載のない事項","-","5行目","-","改善（予定）年月","-","月","12検査結果(防火扉）-上記に記載のない事項-5行目-改善（予定）年月-月",null,"12検査結果(防火扉）-上記に記載のない事項-5行目-改善（予定）年月-月"]
[null,null,null,null,{"$f":"'2_入力シート【検査結果表】 防火扉'!$CT$55","v":0},null,12,"検査結果(防火扉）","-","上記に記載のない事項","-","5行目","-","改善（予定）年月","-","状況","12検査結果(防火扉）-上記に記載のない事項-5行目-改善（予定）年月-状況",null,"12検査結果(防火扉）-上記に記載のない事項-5行目-改善（予定）年月-状況"]
[null,null,null,null,{"$f":"'2_入力シート【検査結果表】 防火扉'!$M$56","v":0},null,12,"検査結果(防火扉）","-","上記に記載のない事項","-","6行目","-","番号",null,null,"12検査結果(防火扉）-上記に記載のない事項-6行目-番号",null,"12検査結果(防火扉）-上記に記載のない事項-6行目-番号"]
[null,null,null,null,{"$f":"'2_入力シート【検査結果表】 防火扉'!$P$56","v":0},null,12,"検査結果(防火扉）","-","上記に記載のない事項","-","6行目","-","検査項目",null,null,"12検査結果(防火扉）-上記に記載のない事項-6行目-検査項目",null,"12検査結果(防火扉）-上記に記載のない事項-6行目-検査項目"]
[null,null,null,null,{"$f":"'2_入力シート【検査結果表】 防火扉'!$AG$56","v":0},null,12,"検査結果(防火扉）","-","上記に記載のない事項","-","6行目","-","検査事項",null,null,"12検査結果(防火扉）-上記に記載のない事項-6行目-検査事項",null,"12検査結果(防火扉）-上記に記載のない事項-6行目-検査事項"]
[null,null,null,null,{"$f":"'2_入力シート【検査結果表】 防火扉'!$BA$56","v":0},null,12,"検査結果(防火扉）","-","上記に記載のない事項","-","6行目","-","検査結果",null,null,"12検査結果(防火扉）-上記に記載のない事項-6行目-検査結果",null,"12検査結果(防火扉）-上記に記載のない事項-6行目-検査結果"]
[null,null,null,null,{"$f":"'2_入力シート【検査結果表】 防火扉'!$BM$56","v":0},null,12,"検査結果(防火扉）","-","上記に記載のない事項","-","6行目","-","検査者番号",null,null,"12検査結果(防火扉）-上記に記載のない事項-6行目-検査者番号",null,"12検査結果(防火扉）-上記に記載のない事項-6行目-検査者番号"]
[null,null,null,null,{"$f":"'2_入力シート【検査結果表】 防火扉'!$BO$56","v":0},null,12,"検査結果(防火扉）","-","上記に記載のない事項","-","6行目","-","指摘の具体的内容等",null,null,"12検査結果(防火扉）-上記に記載のない事項-6行目-指摘の具体的内容等",null,"12検査結果(防火扉）-上記に記載のない事項-6行目-指摘の具体的内容等"]
[null,null,null,null,{"$f":"'2_入力シート【検査結果表】 防火扉'!$BY$56","v":0},null,12,"検査結果(防火扉）","-","上記に記載のない事項","-","6行目","-","改善策の具体的内容等",null,null,"12検査結果(防火扉）-上記に記載のない事項-6行目-改善策の具体的内容等",null,"12検査結果(防火扉）-上記に記載のない事項-6行目-改善策の具体的内容等"]
[null,null,null,null,{"$f":"'2_入力シート【検査結果表】 防火扉'!$CN$56","v":0},null,12,"検査結果(防火扉）","-","上記に記載のない事項","-","6行目","-","改善（予定）年月","-","年（令和）","12検査結果(防火扉）-上記に記載のない事項-6行目-改善（予定）年月-年（令和）",null,"12検査結果(防火扉）-上記に記載のない事項-6行目-改善（予定）年月-年（令和）"]
[null,null,null,null,{"$f":"'2_入力シート【検査結果表】 防火扉'!$CQ$56","v":0},null,12,"検査結果(防火扉）","-","上記に記載のない事項","-","6行目","-","改善（予定）年月","-","月","12検査結果(防火扉）-上記に記載のない事項-6行目-改善（予定）年月-月",null,"12検査結果(防火扉）-上記に記載のない事項-6行目-改善（予定）年月-月"]
[null,null,null,null,{"$f":"'2_入力シート【検査結果表】 防火扉'!$CT$56","v":0},null,12,"検査結果(防火扉）","-","上記に記載のない事項","-","6行目","-","改善（予定）年月","-","状況","12検査結果(防火扉）-上記に記載のない事項-6行目-改善（予定）年月-状況",null,"12検査結果(防火扉）-上記に記載のない事項-6行目-改善（予定）年月-状況"]
[null,null,null,null,{"$f":"'2_入力シート【検査結果表】 防火扉'!$M$57","v":0},null,12,"検査結果(防火扉）","-","上記に記載のない事項","-","7行目","-","番号",null,null,"12検査結果(防火扉）-上記に記載のない事項-7行目-番号",null,"12検査結果(防火扉）-上記に記載のない事項-7行目-番号"]
[null,null,null,null,{"$f":"'2_入力シート【検査結果表】 防火扉'!$P$57","v":0},null,12,"検査結果(防火扉）","-","上記に記載のない事項","-","7行目","-","検査項目",null,null,"12検査結果(防火扉）-上記に記載のない事項-7行目-検査項目",null,"12検査結果(防火扉）-上記に記載のない事項-7行目-検査項目"]
[null,null,null,null,{"$f":"'2_入力シート【検査結果表】 防火扉'!$AG$57","v":0},null,12,"検査結果(防火扉）","-","上記に記載のない事項","-","7行目","-","検査事項",null,null,"12検査結果(防火扉）-上記に記載のない事項-7行目-検査事項",null,"12検査結果(防火扉）-上記に記載のない事項-7行目-検査事項"]
[null,null,null,null,{"$f":"'2_入力シート【検査結果表】 防火扉'!$BA$57","v":0},null,12,"検査結果(防火扉）","-","上記に記載のない事項","-","7行目","-","検査結果",null,null,"12検査結果(防火扉）-上記に記載のない事項-7行目-検査結果",null,"12検査結果(防火扉）-上記に記載のない事項-7行目-検査結果"]
[null,null,null,null,{"$f":"'2_入力シート【検査結果表】 防火扉'!$BM$57","v":0},null,12,"検査結果(防火扉）","-","上記に記載のない事項","-","7行目","-","検査者番号",null,null,"12検査結果(防火扉）-上記に記載のない事項-7行目-検査者番号",null,"12検査結果(防火扉）-上記に記載のない事項-7行目-検査者番号"]
[null,null,null,null,{"$f":"'2_入力シート【検査結果表】 防火扉'!$BO$57","v":0},null,12,"検査結果(防火扉）","-","上記に記載のない事項","-","7行目","-","指摘の具体的内容等",null,null,"12検査結果(防火扉）-上記に記載のない事項-7行目-指摘の具体的内容等",null,"12検査結果(防火扉）-上記に記載のない事項-7行目-指摘の具体的内容等"]
[null,null,null,null,{"$f":"'2_入力シート【検査結果表】 防火扉'!$BY$57","v":0},null,12,"検査結果(防火扉）","-","上記に記載のない事項","-","7行目","-","改善策の具体的内容等",null,null,"12検査結果(防火扉）-上記に記載のない事項-7行目-改善策の具体的内容等",null,"12検査結果(防火扉）-上記に記載のない事項-7行目-改善策の具体的内容等"]
[null,null,null,null,{"$f":"'2_入力シート【検査結果表】 防火扉'!$CN$57","v":0},null,12,"検査結果(防火扉）","-","上記に記載のない事項","-","7行目","-","改善（予定）年月","-","年（令和）","12検査結果(防火扉）-上記に記載のない事項-7行目-改善（予定）年月-年（令和）",null,"12検査結果(防火扉）-上記に記載のない事項-7行目-改善（予定）年月-年（令和）"]
[null,null,null,null,{"$f":"'2_入力シート【検査結果表】 防火扉'!$CQ$57","v":0},null,12,"検査結果(防火扉）","-","上記に記載のない事項","-","7行目","-","改善（予定）年月","-","月","12検査結果(防火扉）-上記に記載のない事項-7行目-改善（予定）年月-月",null,"12検査結果(防火扉）-上記に記載のない事項-7行目-改善（予定）年月-月"]
[null,null,null,null,{"$f":"'2_入力シート【検査結果表】 防火扉'!$CT$57","v":0},null,12,"検査結果(防火扉）","-","上記に記載のない事項","-","7行目","-","改善（予定）年月","-","状況","12検査結果(防火扉）-上記に記載のない事項-7行目-改善（予定）年月-状況",null,"12検査結果(防火扉）-上記に記載のない事項-7行目-改善（予定）年月-状況"]
[null,null,null,null,{"$f":"'2_入力シート【検査結果表】 防火扉'!$M$58","v":0},null,12,"検査結果(防火扉）","-","上記に記載のない事項","-","8行目","-","番号",null,null,"12検査結果(防火扉）-上記に記載のない事項-8行目-番号",null,"12検査結果(防火扉）-上記に記載のない事項-8行目-番号"]
[null,null,null,null,{"$f":"'2_入力シート【検査結果表】 防火扉'!$P$58","v":0},null,12,"検査結果(防火扉）","-","上記に記載のない事項","-","8行目","-","検査項目",null,null,"12検査結果(防火扉）-上記に記載のない事項-8行目-検査項目",null,"12検査結果(防火扉）-上記に記載のない事項-8行目-検査項目"]
[null,null,null,null,{"$f":"'2_入力シート【検査結果表】 防火扉'!$AG$58","v":0},null,12,"検査結果(防火扉）","-","上記に記載のない事項","-","8行目","-","検査事項",null,null,"12検査結果(防火扉）-上記に記載のない事項-8行目-検査事項",null,"12検査結果(防火扉）-上記に記載のない事項-8行目-検査事項"]
[null,null,null,null,{"$f":"'2_入力シート【検査結果表】 防火扉'!$BA$58","v":0},null,12,"検査結果(防火扉）","-","上記に記載のない事項","-","8行目","-","検査結果",null,null,"12検査結果(防火扉）-上記に記載のない事項-8行目-検査結果",null,"12検査結果(防火扉）-上記に記載のない事項-8行目-検査結果"]
[null,null,null,null,{"$f":"'2_入力シート【検査結果表】 防火扉'!$BM$58","v":0},null,12,"検査結果(防火扉）","-","上記に記載のない事項","-","8行目","-","検査者番号",null,null,"12検査結果(防火扉）-上記に記載のない事項-8行目-検査者番号",null,"12検査結果(防火扉）-上記に記載のない事項-8行目-検査者番号"]
[null,null,null,null,{"$f":"'2_入力シート【検査結果表】 防火扉'!$BO$58","v":0},null,12,"検査結果(防火扉）","-","上記に記載のない事項","-","8行目","-","指摘の具体的内容等",null,null,"12検査結果(防火扉）-上記に記載のない事項-8行目-指摘の具体的内容等",null,"12検査結果(防火扉）-上記に記載のない事項-8行目-指摘の具体的内容等"]
[null,null,null,null,{"$f":"'2_入力シート【検査結果表】 防火扉'!$BY$58","v":0},null,12,"検査結果(防火扉）","-","上記に記載のない事項","-","8行目","-","改善策の具体的内容等",null,null,"12検査結果(防火扉）-上記に記載のない事項-8行目-改善策の具体的内容等",null,"12検査結果(防火扉）-上記に記載のない事項-8行目-改善策の具体的内容等"]
[null,null,null,null,{"$f":"'2_入力シート【検査結果表】 防火扉'!$CN$58","v":0},null,12,"検査結果(防火扉）","-","上記に記載のない事項","-","8行目","-","改善（予定）年月","-","年（令和）","12検査結果(防火扉）-上記に記載のない事項-8行目-改善（予定）年月-年（令和）",null,"12検査結果(防火扉）-上記に記載のない事項-8行目-改善（予定）年月-年（令和）"]
[null,null,null,null,{"$f":"'2_入力シート【検査結果表】 防火扉'!$CQ$58","v":0},null,12,"検査結果(防火扉）","-","上記に記載のない事項","-","8行目","-","改善（予定）年月","-","月","12検査結果(防火扉）-上記に記載のない事項-8行目-改善（予定）年月-月",null,"12検査結果(防火扉）-上記に記載のない事項-8行目-改善（予定）年月-月"]
[null,null,null,null,{"$f":"'2_入力シート【検査結果表】 防火扉'!$CT$58","v":0},null,12,"検査結果(防火扉）","-","上記に記載のない事項","-","8行目","-","改善（予定）年月","-","状況","12検査結果(防火扉）-上記に記載のない事項-8行目-改善（予定）年月-状況",null,"12検査結果(防火扉）-上記に記載のない事項-8行目-改善（予定）年月-状況"]
[null,null,null,null,{"$f":"'2_入力シート【検査結果表】 防火扉'!$M$59","v":0},null,12,"検査結果(防火扉）","-","上記に記載のない事項","-","9行目","-","番号",null,null,"12検査結果(防火扉）-上記に記載のない事項-9行目-番号",null,"12検査結果(防火扉）-上記に記載のない事項-9行目-番号"]
[null,null,null,null,{"$f":"'2_入力シート【検査結果表】 防火扉'!$P$59","v":0},null,12,"検査結果(防火扉）","-","上記に記載のない事項","-","9行目","-","検査項目",null,null,"12検査結果(防火扉）-上記に記載のない事項-9行目-検査項目",null,"12検査結果(防火扉）-上記に記載のない事項-9行目-検査項目"]
[null,null,null,null,{"$f":"'2_入力シート【検査結果表】 防火扉'!$AG$59","v":0},null,12,"検査結果(防火扉）","-","上記に記載のない事項","-","9行目","-","検査事項",null,null,"12検査結果(防火扉）-上記に記載のない事項-9行目-検査事項",null,"12検査結果(防火扉）-上記に記載のない事項-9行目-検査事項"]
[null,null,null,null,{"$f":"'2_入力シート【検査結果表】 防火扉'!$BA$59","v":0},null,12,"検査結果(防火扉）","-","上記に記載のない事項","-","9行目","-","検査結果",null,null,"12検査結果(防火扉）-上記に記載のない事項-9行目-検査結果",null,"12検査結果(防火扉）-上記に記載のない事項-9行目-検査結果"]
[null,null,null,null,{"$f":"'2_入力シート【検査結果表】 防火扉'!$BM$59","v":0},null,12,"検査結果(防火扉）","-","上記に記載のない事項","-","9行目","-","検査者番号",null,null,"12検査結果(防火扉）-上記に記載のない事項-9行目-検査者番号",null,"12検査結果(防火扉）-上記に記載のない事項-9行目-検査者番号"]
[null,null,null,null,{"$f":"'2_入力シート【検査結果表】 防火扉'!$BO$59","v":0},null,12,"検査結果(防火扉）","-","上記に記載のない事項","-","9行目","-","指摘の具体的内容等",null,null,"12検査結果(防火扉）-上記に記載のない事項-9行目-指摘の具体的内容等",null,"12検査結果(防火扉）-上記に記載のない事項-9行目-指摘の具体的内容等"]
[null,null,null,null,{"$f":"'2_入力シート【検査結果表】 防火扉'!$BY$59","v":0},null,12,"検査結果(防火扉）","-","上記に記載のない事項","-","9行目","-","改善策の具体的内容等",null,null,"12検査結果(防火扉）-上記に記載のない事項-9行目-改善策の具体的内容等",null,"12検査結果(防火扉）-上記に記載のない事項-9行目-改善策の具体的内容等"]
[null,null,null,null,{"$f":"'2_入力シート【検査結果表】 防火扉'!$CN$59","v":0},null,12,"検査結果(防火扉）","-","上記に記載のない事項","-","9行目","-","改善（予定）年月","-","年（令和）","12検査結果(防火扉）-上記に記載のない事項-9行目-改善（予定）年月-年（令和）",null,"12検査結果(防火扉）-上記に記載のない事項-9行目-改善（予定）年月-年（令和）"]
[null,null,null,null,{"$f":"'2_入力シート【検査結果表】 防火扉'!$CQ$59","v":0},null,12,"検査結果(防火扉）","-","上記に記載のない事項","-","9行目","-","改善（予定）年月","-","月","12検査結果(防火扉）-上記に記載のない事項-9行目-改善（予定）年月-月",null,"12検査結果(防火扉）-上記に記載のない事項-9行目-改善（予定）年月-月"]
[null,null,null,null,{"$f":"'2_入力シート【検査結果表】 防火扉'!$CT$59","v":0},null,12,"検査結果(防火扉）","-","上記に記載のない事項","-","9行目","-","改善（予定）年月","-","状況","12検査結果(防火扉）-上記に記載のない事項-9行目-改善（予定）年月-状況",null,"12検査結果(防火扉）-上記に記載のない事項-9行目-改善（予定）年月-状況"]
[null,null,null,null,{"$f":"'2_入力シート【検査結果表】 防火扉'!$M$60","v":0},null,12,"検査結果(防火扉）","-","上記に記載のない事項","-","10行目","-","番号",null,null,"12検査結果(防火扉）-上記に記載のない事項-10行目-番号",null,"12検査結果(防火扉）-上記に記載のない事項-10行目-番号"]
[null,null,null,null,{"$f":"'2_入力シート【検査結果表】 防火扉'!$P$60","v":0},null,12,"検査結果(防火扉）","-","上記に記載のない事項","-","10行目","-","検査項目",null,null,"12検査結果(防火扉）-上記に記載のない事項-10行目-検査項目",null,"12検査結果(防火扉）-上記に記載のない事項-10行目-検査項目"]
[null,null,null,null,{"$f":"'2_入力シート【検査結果表】 防火扉'!$AG$60","v":0},null,12,"検査結果(防火扉）","-","上記に記載のない事項","-","10行目","-","検査事項",null,null,"12検査結果(防火扉）-上記に記載のない事項-10行目-検査事項",null,"12検査結果(防火扉）-上記に記載のない事項-10行目-検査事項"]
[null,null,null,null,{"$f":"'2_入力シート【検査結果表】 防火扉'!$BA$60","v":0},null,12,"検査結果(防火扉）","-","上記に記載のない事項","-","10行目","-","検査結果",null,null,"12検査結果(防火扉）-上記に記載のない事項-10行目-検査結果",null,"12検査結果(防火扉）-上記に記載のない事項-10行目-検査結果"]
[null,null,null,null,{"$f":"'2_入力シート【検査結果表】 防火扉'!$BM$60","v":0},null,12,"検査結果(防火扉）","-","上記に記載のない事項","-","10行目","-","検査者番号",null,null,"12検査結果(防火扉）-上記に記載のない事項-10行目-検査者番号",null,"12検査結果(防火扉）-上記に記載のない事項-10行目-検査者番号"]
[null,null,null,null,{"$f":"'2_入力シート【検査結果表】 防火扉'!$BO$60","v":0},null,12,"検査結果(防火扉）","-","上記に記載のない事項","-","10行目","-","指摘の具体的内容等",null,null,"12検査結果(防火扉）-上記に記載のない事項-10行目-指摘の具体的内容等",null,"12検査結果(防火扉）-上記に記載のない事項-10行目-指摘の具体的内容等"]
[null,null,null,null,{"$f":"'2_入力シート【検査結果表】 防火扉'!$BY$60","v":0},null,12,"検査結果(防火扉）","-","上記に記載のない事項","-","10行目","-","改善策の具体的内容等",null,null,"12検査結果(防火扉）-上記に記載のない事項-10行目-改善策の具体的内容等",null,"12検査結果(防火扉）-上記に記載のない事項-10行目-改善策の具体的内容等"]
[null,null,null,null,{"$f":"'2_入力シート【検査結果表】 防火扉'!$CN$60","v":0},null,12,"検査結果(防火扉）","-","上記に記載のない事項","-","10行目","-","改善（予定）年月","-","年（令和）","12検査結果(防火扉）-上記に記載のない事項-10行目-改善（予定）年月-年（令和）",null,"12検査結果(防火扉）-上記に記載のない事項-10行目-改善（予定）年月-年（令和）"]
[null,null,null,null,{"$f":"'2_入力シート【検査結果表】 防火扉'!$CQ$60","v":0},null,12,"検査結果(防火扉）","-","上記に記載のない事項","-","10行目","-","改善（予定）年月","-","月","12検査結果(防火扉）-上記に記載のない事項-10行目-改善（予定）年月-月",null,"12検査結果(防火扉）-上記に記載のない事項-10行目-改善（予定）年月-月"]
[null,null,null,null,{"$f":"'2_入力シート【検査結果表】 防火扉'!$CT$60","v":0},null,12,"検査結果(防火扉）","-","上記に記載のない事項","-","10行目","-","改善（予定）年月","-","状況","12検査結果(防火扉）-上記に記載のない事項-10行目-改善（予定）年月-状況",null,"12検査結果(防火扉）-上記に記載のない事項-10行目-改善（予定）年月-状況"]
[null,null,null,null,{"$f":"'2_入力シート【検査結果表】 防火扉'!$M$61","v":0},null,12,"検査結果(防火扉）","-","上記に記載のない事項","-","11行目","-","番号",null,null,"12検査結果(防火扉）-上記に記載のない事項-11行目-番号",null,"12検査結果(防火扉）-上記に記載のない事項-11行目-番号"]
[null,null,null,null,{"$f":"'2_入力シート【検査結果表】 防火扉'!$P$61","v":0},null,12,"検査結果(防火扉）","-","上記に記載のない事項","-","11行目","-","検査項目",null,null,"12検査結果(防火扉）-上記に記載のない事項-11行目-検査項目",null,"12検査結果(防火扉）-上記に記載のない事項-11行目-検査項目"]
[null,null,null,null,{"$f":"'2_入力シート【検査結果表】 防火扉'!$AG$61","v":0},null,12,"検査結果(防火扉）","-","上記に記載のない事項","-","11行目","-","検査事項",null,null,"12検査結果(防火扉）-上記に記載のない事項-11行目-検査事項",null,"12検査結果(防火扉）-上記に記載のない事項-11行目-検査事項"]
[null,null,null,null,{"$f":"'2_入力シート【検査結果表】 防火扉'!$BA$61","v":0},null,12,"検査結果(防火扉）","-","上記に記載のない事項","-","11行目","-","検査結果",null,null,"12検査結果(防火扉）-上記に記載のない事項-11行目-検査結果",null,"12検査結果(防火扉）-上記に記載のない事項-11行目-検査結果"]
[null,null,null,null,{"$f":"'2_入力シート【検査結果表】 防火扉'!$BM$61","v":0},null,12,"検査結果(防火扉）","-","上記に記載のない事項","-","11行目","-","検査者番号",null,null,"12検査結果(防火扉）-上記に記載のない事項-11行目-検査者番号",null,"12検査結果(防火扉）-上記に記載のない事項-11行目-検査者番号"]
[null,null,null,null,{"$f":"'2_入力シート【検査結果表】 防火扉'!$BO$61","v":0},null,12,"検査結果(防火扉）","-","上記に記載のない事項","-","11行目","-","指摘の具体的内容等",null,null,{"$f":"CONCATENATE(G468,H468,I468,J468,K468,L468,M468,N468,O468,P468)","v":"12検査結果(防火扉）-上記に記載のない事項-11行目-指摘の具体的内容等"},null,"12検査結果(防火扉）-上記に記載のない事項-11行目-指摘の具体的内容等"]
[null,null,null,null,{"$f":"'2_入力シート【検査結果表】 防火扉'!$BY$61","v":0},null,12,"検査結果(防火扉）","-","上記に記載のない事項","-","11行目","-","改善策の具体的内容等",null,null,"12検査結果(防火扉）-上記に記載のない事項-11行目-改善策の具体的内容等",null,"12検査結果(防火扉）-上記に記載のない事項-11行目-改善策の具体的内容等"]
[null,null,null,null,{"$f":"'2_入力シート【検査結果表】 防火扉'!$CN$61","v":0},null,12,"検査結果(防火扉）","-","上記に記載のない事項","-","11行目","-","改善（予定）年月","-","年（令和）","12検査結果(防火扉）-上記に記載のない事項-11行目-改善（予定）年月-年（令和）",null,"12検査結果(防火扉）-上記に記載のない事項-11行目-改善（予定）年月-年（令和）"]
[null,null,null,null,{"$f":"'2_入力シート【検査結果表】 防火扉'!$CQ$61","v":0},null,12,"検査結果(防火扉）","-","上記に記載のない事項","-","11行目","-","改善（予定）年月","-","月","12検査結果(防火扉）-上記に記載のない事項-11行目-改善（予定）年月-月",null,"12検査結果(防火扉）-上記に記載のない事項-11行目-改善（予定）年月-月"]
[null,null,null,null,{"$f":"'2_入力シート【検査結果表】 防火扉'!$CT$61","v":0},null,12,"検査結果(防火扉）","-","上記に記載のない事項","-","11行目","-","改善（予定）年月","-","状況","12検査結果(防火扉）-上記に記載のない事項-11行目-改善（予定）年月-状況",null,"12検査結果(防火扉）-上記に記載のない事項-11行目-改善（予定）年月-状況"]
[null,null,null,null,{"$f":"'2_入力シート【検査結果表】 防火扉'!$M$62","v":0},null,12,"検査結果(防火扉）","-","上記に記載のない事項","-","12行目","-","番号",null,null,"12検査結果(防火扉）-上記に記載のない事項-12行目-番号",null,"12検査結果(防火扉）-上記に記載のない事項-12行目-番号"]
[null,null,null,null,{"$f":"'2_入力シート【検査結果表】 防火扉'!$P$62","v":0},null,12,"検査結果(防火扉）","-","上記に記載のない事項","-","12行目","-","検査項目",null,null,"12検査結果(防火扉）-上記に記載のない事項-12行目-検査項目",null,"12検査結果(防火扉）-上記に記載のない事項-12行目-検査項目"]
[null,null,null,null,{"$f":"'2_入力シート【検査結果表】 防火扉'!$AG$62","v":0},null,12,"検査結果(防火扉）","-","上記に記載のない事項","-","12行目","-","検査事項",null,null,"12検査結果(防火扉）-上記に記載のない事項-12行目-検査事項",null,"12検査結果(防火扉）-上記に記載のない事項-12行目-検査事項"]
[null,null,null,null,{"$f":"'2_入力シート【検査結果表】 防火扉'!$BA$62","v":0},null,12,"検査結果(防火扉）","-","上記に記載のない事項","-","12行目","-","検査結果",null,null,"12検査結果(防火扉）-上記に記載のない事項-12行目-検査結果",null,"12検査結果(防火扉）-上記に記載のない事項-12行目-検査結果"]
[null,null,null,null,{"$f":"'2_入力シート【検査結果表】 防火扉'!$BM$62","v":0},null,12,"検査結果(防火扉）","-","上記に記載のない事項","-","12行目","-","検査者番号",null,null,"12検査結果(防火扉）-上記に記載のない事項-12行目-検査者番号",null,"12検査結果(防火扉）-上記に記載のない事項-12行目-検査者番号"]
[null,null,null,null,{"$f":"'2_入力シート【検査結果表】 防火扉'!$BO$62","v":0},null,12,"検査結果(防火扉）","-","上記に記載のない事項","-","12行目","-","指摘の具体的内容等",null,null,"12検査結果(防火扉）-上記に記載のない事項-12行目-指摘の具体的内容等",null,"12検査結果(防火扉）-上記に記載のない事項-12行目-指摘の具体的内容等"]
[null,null,null,null,{"$f":"'2_入力シート【検査結果表】 防火扉'!$BY$62","v":0},null,12,"検査結果(防火扉）","-","上記に記載のない事項","-","12行目","-","改善策の具体的内容等",null,null,"12検査結果(防火扉）-上記に記載のない事項-12行目-改善策の具体的内容等",null,"12検査結果(防火扉）-上記に記載のない事項-12行目-改善策の具体的内容等"]
[null,null,null,null,{"$f":"'2_入力シート【検査結果表】 防火扉'!$CN$62","v":0},null,12,"検査結果(防火扉）","-","上記に記載のない事項","-","12行目","-","改善（予定）年月","-","年（令和）","12検査結果(防火扉）-上記に記載のない事項-12行目-改善（予定）年月-年（令和）",null,"12検査結果(防火扉）-上記に記載のない事項-12行目-改善（予定）年月-年（令和）"]
[null,null,null,null,{"$f":"'2_入力シート【検査結果表】 防火扉'!$CQ$62","v":0},null,12,"検査結果(防火扉）","-","上記に記載のない事項","-","12行目","-","改善（予定）年月","-","月","12検査結果(防火扉）-上記に記載のない事項-12行目-改善（予定）年月-月",null,"12検査結果(防火扉）-上記に記載のない事項-12行目-改善（予定）年月-月"]
[null,null,null,null,{"$f":"'2_入力シート【検査結果表】 防火扉'!$CT$62","v":0},null,12,"検査結果(防火扉）","-","上記に記載のない事項","-","12行目","-","改善（予定）年月","-","状況","12検査結果(防火扉）-上記に記載のない事項-12行目-改善（予定）年月-状況",null,"12検査結果(防火扉）-上記に記載のない事項-12行目-改善（予定）年月-状況"]
[null,null,null,null,{"$f":"'2_入力シート【検査結果表】 防火扉'!$M$63","v":0},null,12,"検査結果(防火扉）","-","上記に記載のない事項","-","13行目","-","番号",null,null,"12検査結果(防火扉）-上記に記載のない事項-13行目-番号",null,"12検査結果(防火扉）-上記に記載のない事項-13行目-番号"]
[null,null,null,null,{"$f":"'2_入力シート【検査結果表】 防火扉'!$P$63","v":0},null,12,"検査結果(防火扉）","-","上記に記載のない事項","-","13行目","-","検査項目",null,null,"12検査結果(防火扉）-上記に記載のない事項-13行目-検査項目",null,"12検査結果(防火扉）-上記に記載のない事項-13行目-検査項目"]
[null,null,null,null,{"$f":"'2_入力シート【検査結果表】 防火扉'!$AG$63","v":0},null,12,"検査結果(防火扉）","-","上記に記載のない事項","-","13行目","-","検査事項",null,null,"12検査結果(防火扉）-上記に記載のない事項-13行目-検査事項",null,"12検査結果(防火扉）-上記に記載のない事項-13行目-検査事項"]
[null,null,null,null,{"$f":"'2_入力シート【検査結果表】 防火扉'!$BA$63","v":0},null,12,"検査結果(防火扉）","-","上記に記載のない事項","-","13行目","-","検査結果",null,null,"12検査結果(防火扉）-上記に記載のない事項-13行目-検査結果",null,"12検査結果(防火扉）-上記に記載のない事項-13行目-検査結果"]
[null,null,null,null,{"$f":"'2_入力シート【検査結果表】 防火扉'!$BM$63","v":0},null,12,"検査結果(防火扉）","-","上記に記載のない事項","-","13行目","-","検査者番号",null,null,"12検査結果(防火扉）-上記に記載のない事項-13行目-検査者番号",null,"12検査結果(防火扉）-上記に記載のない事項-13行目-検査者番号"]
[null,null,null,null,{"$f":"'2_入力シート【検査結果表】 防火扉'!$BO$63","v":0},null,12,"検査結果(防火扉）","-","上記に記載のない事項","-","13行目","-","指摘の具体的内容等",null,null,"12検査結果(防火扉）-上記に記載のない事項-13行目-指摘の具体的内容等",null,"12検査結果(防火扉）-上記に記載のない事項-13行目-指摘の具体的内容等"]
[null,null,null,null,{"$f":"'2_入力シート【検査結果表】 防火扉'!$BY$63","v":0},null,12,"検査結果(防火扉）","-","上記に記載のない事項","-","13行目","-","改善策の具体的内容等",null,null,"12検査結果(防火扉）-上記に記載のない事項-13行目-改善策の具体的内容等",null,"12検査結果(防火扉）-上記に記載のない事項-13行目-改善策の具体的内容等"]
[null,null,null,null,{"$f":"'2_入力シート【検査結果表】 防火扉'!$CN$63","v":0},null,12,"検査結果(防火扉）","-","上記に記載のない事項","-","13行目","-","改善（予定）年月","-","年（令和）","12検査結果(防火扉）-上記に記載のない事項-13行目-改善（予定）年月-年（令和）",null,"12検査結果(防火扉）-上記に記載のない事項-13行目-改善（予定）年月-年（令和）"]
[null,null,null,null,{"$f":"'2_入力シート【検査結果表】 防火扉'!$CQ$63","v":0},null,12,"検査結果(防火扉）","-","上記に記載のない事項","-","13行目","-","改善（予定）年月","-","月","12検査結果(防火扉）-上記に記載のない事項-13行目-改善（予定）年月-月",null,"12検査結果(防火扉）-上記に記載のない事項-13行目-改善（予定）年月-月"]
[null,null,null,null,{"$f":"'2_入力シート【検査結果表】 防火扉'!$CT$63","v":0},null,12,"検査結果(防火扉）","-","上記に記載のない事項","-","13行目","-","改善（予定）年月","-","状況","12検査結果(防火扉）-上記に記載のない事項-13行目-改善（予定）年月-状況",null,"12検査結果(防火扉）-上記に記載のない事項-13行目-改善（予定）年月-状況"]
[null,null,null,null,{"$f":"'2_入力シート【検査結果表】 防火扉'!$M$64","v":0},null,12,"検査結果(防火扉）","-","上記に記載のない事項","-","14行目","-","番号",null,null,"12検査結果(防火扉）-上記に記載のない事項-14行目-番号",null,"12検査結果(防火扉）-上記に記載のない事項-14行目-番号"]
[null,null,null,null,{"$f":"'2_入力シート【検査結果表】 防火扉'!$P$64","v":0},null,12,"検査結果(防火扉）","-","上記に記載のない事項","-","14行目","-","検査項目",null,null,"12検査結果(防火扉）-上記に記載のない事項-14行目-検査項目",null,"12検査結果(防火扉）-上記に記載のない事項-14行目-検査項目"]
[null,null,null,null,{"$f":"'2_入力シート【検査結果表】 防火扉'!$AG$64","v":0},null,12,"検査結果(防火扉）","-","上記に記載のない事項","-","14行目","-","検査事項",null,null,"12検査結果(防火扉）-上記に記載のない事項-14行目-検査事項",null,"12検査結果(防火扉）-上記に記載のない事項-14行目-検査事項"]
[null,null,null,null,{"$f":"'2_入力シート【検査結果表】 防火扉'!$BA$64","v":0},null,12,"検査結果(防火扉）","-","上記に記載のない事項","-","14行目","-","検査結果",null,null,"12検査結果(防火扉）-上記に記載のない事項-14行目-検査結果",null,"12検査結果(防火扉）-上記に記載のない事項-14行目-検査結果"]
[null,null,null,null,{"$f":"'2_入力シート【検査結果表】 防火扉'!$BM$64","v":0},null,12,"検査結果(防火扉）","-","上記に記載のない事項","-","14行目","-","検査者番号",null,null,"12検査結果(防火扉）-上記に記載のない事項-14行目-検査者番号",null,"12検査結果(防火扉）-上記に記載のない事項-14行目-検査者番号"]
[null,null,null,null,{"$f":"'2_入力シート【検査結果表】 防火扉'!$BO$64","v":0},null,12,"検査結果(防火扉）","-","上記に記載のない事項","-","14行目","-","指摘の具体的内容等",null,null,"12検査結果(防火扉）-上記に記載のない事項-14行目-指摘の具体的内容等",null,"12検査結果(防火扉）-上記に記載のない事項-14行目-指摘の具体的内容等"]
[null,null,null,null,{"$f":"'2_入力シート【検査結果表】 防火扉'!$BY$64","v":0},null,12,"検査結果(防火扉）","-","上記に記載のない事項","-","14行目","-","改善策の具体的内容等",null,null,"12検査結果(防火扉）-上記に記載のない事項-14行目-改善策の具体的内容等",null,"12検査結果(防火扉）-上記に記載のない事項-14行目-改善策の具体的内容等"]
[null,null,null,null,{"$f":"'2_入力シート【検査結果表】 防火扉'!$CN$64","v":0},null,12,"検査結果(防火扉）","-","上記に記載のない事項","-","14行目","-","改善（予定）年月","-","年（令和）","12検査結果(防火扉）-上記に記載のない事項-14行目-改善（予定）年月-年（令和）",null,"12検査結果(防火扉）-上記に記載のない事項-14行目-改善（予定）年月-年（令和）"]
[null,null,null,null,{"$f":"'2_入力シート【検査結果表】 防火扉'!$CQ$64","v":0},null,12,"検査結果(防火扉）","-","上記に記載のない事項","-","14行目","-","改善（予定）年月","-","月","12検査結果(防火扉）-上記に記載のない事項-14行目-改善（予定）年月-月",null,"12検査結果(防火扉）-上記に記載のない事項-14行目-改善（予定）年月-月"]
[null,null,null,null,{"$f":"'2_入力シート【検査結果表】 防火扉'!$CT$64","v":0},null,12,"検査結果(防火扉）","-","上記に記載のない事項","-","14行目","-","改善（予定）年月","-","状況","12検査結果(防火扉）-上記に記載のない事項-14行目-改善（予定）年月-状況",null,"12検査結果(防火扉）-上記に記載のない事項-14行目-改善（予定）年月-状況"]
[null,null,null,null,{"$f":"'2_入力シート【検査結果表】 防火扉'!$M$65","v":0},null,12,"検査結果(防火扉）","-","上記に記載のない事項","-","15行目","-","番号",null,null,"12検査結果(防火扉）-上記に記載のない事項-15行目-番号",null,"12検査結果(防火扉）-上記に記載のない事項-15行目-番号"]
[null,null,null,null,{"$f":"'2_入力シート【検査結果表】 防火扉'!$P$65","v":0},null,12,"検査結果(防火扉）","-","上記に記載のない事項","-","15行目","-","検査項目",null,null,"12検査結果(防火扉）-上記に記載のない事項-15行目-検査項目",null,"12検査結果(防火扉）-上記に記載のない事項-15行目-検査項目"]
[null,null,null,null,{"$f":"'2_入力シート【検査結果表】 防火扉'!$AG$65","v":0},null,12,"検査結果(防火扉）","-","上記に記載のない事項","-","15行目","-","検査事項",null,null,"12検査結果(防火扉）-上記に記載のない事項-15行目-検査事項",null,"12検査結果(防火扉）-上記に記載のない事項-15行目-検査事項"]
[null,null,null,null,{"$f":"'2_入力シート【検査結果表】 防火扉'!$BA$65","v":0},null,12,"検査結果(防火扉）","-","上記に記載のない事項","-","15行目","-","検査結果",null,null,"12検査結果(防火扉）-上記に記載のない事項-15行目-検査結果",null,"12検査結果(防火扉）-上記に記載のない事項-15行目-検査結果"]
[null,null,null,null,{"$f":"'2_入力シート【検査結果表】 防火扉'!$BM$65","v":0},null,12,"検査結果(防火扉）","-","上記に記載のない事項","-","15行目","-","検査者番号",null,null,"12検査結果(防火扉）-上記に記載のない事項-15行目-検査者番号",null,"12検査結果(防火扉）-上記に記載のない事項-15行目-検査者番号"]
[null,null,null,null,{"$f":"'2_入力シート【検査結果表】 防火扉'!$BO$65","v":0},null,12,"検査結果(防火扉）","-","上記に記載のない事項","-","15行目","-","指摘の具体的内容等",null,null,"12検査結果(防火扉）-上記に記載のない事項-15行目-指摘の具体的内容等",null,"12検査結果(防火扉）-上記に記載のない事項-15行目-指摘の具体的内容等"]
[null,null,null,null,{"$f":"'2_入力シート【検査結果表】 防火扉'!$BY$65","v":0},null,12,"検査結果(防火扉）","-","上記に記載のない事項","-","15行目","-","改善策の具体的内容等",null,null,"12検査結果(防火扉）-上記に記載のない事項-15行目-改善策の具体的内容等",null,"12検査結果(防火扉）-上記に記載のない事項-15行目-改善策の具体的内容等"]
[null,null,null,null,{"$f":"'2_入力シート【検査結果表】 防火扉'!$CN$65","v":0},null,12,"検査結果(防火扉）","-","上記に記載のない事項","-","15行目","-","改善（予定）年月","-","年（令和）","12検査結果(防火扉）-上記に記載のない事項-15行目-改善（予定）年月-年（令和）",null,"12検査結果(防火扉）-上記に記載のない事項-15行目-改善（予定）年月-年（令和）"]
[null,null,null,null,{"$f":"'2_入力シート【検査結果表】 防火扉'!$CQ$65","v":0},null,12,"検査結果(防火扉）","-","上記に記載のない事項","-","15行目","-","改善（予定）年月","-","月","12検査結果(防火扉）-上記に記載のない事項-15行目-改善（予定）年月-月",null,"12検査結果(防火扉）-上記に記載のない事項-15行目-改善（予定）年月-月"]
[null,null,null,null,{"$f":"'2_入力シート【検査結果表】 防火扉'!$CT$65","v":0},null,12,"検査結果(防火扉）","-","上記に記載のない事項","-","15行目","-","改善（予定）年月","-","状況","12検査結果(防火扉）-上記に記載のない事項-15行目-改善（予定）年月-状況",null,"12検査結果(防火扉）-上記に記載のない事項-15行目-改善（予定）年月-状況"]
[null,null,null,null,{"$f":"'2_入力シート【検査結果表】 防火扉'!$M$66","v":0},null,12,"検査結果(防火扉）","-","上記に記載のない事項","-","16行目","-","番号",null,null,"12検査結果(防火扉）-上記に記載のない事項-16行目-番号",null,"12検査結果(防火扉）-上記に記載のない事項-16行目-番号"]
[null,null,null,null,{"$f":"'2_入力シート【検査結果表】 防火扉'!$P$66","v":0},null,12,"検査結果(防火扉）","-","上記に記載のない事項","-","16行目","-","検査項目",null,null,"12検査結果(防火扉）-上記に記載のない事項-16行目-検査項目",null,"12検査結果(防火扉）-上記に記載のない事項-16行目-検査項目"]
[null,null,null,null,{"$f":"'2_入力シート【検査結果表】 防火扉'!$AG$66","v":0},null,12,"検査結果(防火扉）","-","上記に記載のない事項","-","16行目","-","検査事項",null,null,"12検査結果(防火扉）-上記に記載のない事項-16行目-検査事項",null,"12検査結果(防火扉）-上記に記載のない事項-16行目-検査事項"]
[null,null,null,null,{"$f":"'2_入力シート【検査結果表】 防火扉'!$BA$66","v":0},null,12,"検査結果(防火扉）","-","上記に記載のない事項","-","16行目","-","検査結果",null,null,"12検査結果(防火扉）-上記に記載のない事項-16行目-検査結果",null,"12検査結果(防火扉）-上記に記載のない事項-16行目-検査結果"]
[null,null,null,null,{"$f":"'2_入力シート【検査結果表】 防火扉'!$BM$66","v":0},null,12,"検査結果(防火扉）","-","上記に記載のない事項","-","16行目","-","検査者番号",null,null,"12検査結果(防火扉）-上記に記載のない事項-16行目-検査者番号",null,"12検査結果(防火扉）-上記に記載のない事項-16行目-検査者番号"]
[null,null,null,null,{"$f":"'2_入力シート【検査結果表】 防火扉'!$BO$66","v":0},null,12,"検査結果(防火扉）","-","上記に記載のない事項","-","16行目","-","指摘の具体的内容等",null,null,"12検査結果(防火扉）-上記に記載のない事項-16行目-指摘の具体的内容等",null,"12検査結果(防火扉）-上記に記載のない事項-16行目-指摘の具体的内容等"]
[null,null,null,null,{"$f":"'2_入力シート【検査結果表】 防火扉'!$BY$66","v":0},null,12,"検査結果(防火扉）","-","上記に記載のない事項","-","16行目","-","改善策の具体的内容等",null,null,"12検査結果(防火扉）-上記に記載のない事項-16行目-改善策の具体的内容等",null,"12検査結果(防火扉）-上記に記載のない事項-16行目-改善策の具体的内容等"]
[null,null,null,null,{"$f":"'2_入力シート【検査結果表】 防火扉'!$CN$66","v":0},null,12,"検査結果(防火扉）","-","上記に記載のない事項","-","16行目","-","改善（予定）年月","-","年（令和）","12検査結果(防火扉）-上記に記載のない事項-16行目-改善（予定）年月-年（令和）",null,"12検査結果(防火扉）-上記に記載のない事項-16行目-改善（予定）年月-年（令和）"]
[null,null,null,null,{"$f":"'2_入力シート【検査結果表】 防火扉'!$CQ$66","v":0},null,12,"検査結果(防火扉）","-","上記に記載のない事項","-","16行目","-","改善（予定）年月","-","月","12検査結果(防火扉）-上記に記載のない事項-16行目-改善（予定）年月-月",null,"12検査結果(防火扉）-上記に記載のない事項-16行目-改善（予定）年月-月"]
[null,null,null,null,{"$f":"'2_入力シート【検査結果表】 防火扉'!$CT$66","v":0},null,12,"検査結果(防火扉）","-","上記に記載のない事項","-","16行目","-","改善（予定）年月","-","状況","12検査結果(防火扉）-上記に記載のない事項-16行目-改善（予定）年月-状況",null,"12検査結果(防火扉）-上記に記載のない事項-16行目-改善（予定）年月-状況"]
[null,null,null,null,{"$f":"'2_入力シート【検査結果表】 防火扉'!$M$67","v":0},null,12,"検査結果(防火扉）","-","上記に記載のない事項","-","17行目","-","番号",null,null,"12検査結果(防火扉）-上記に記載のない事項-17行目-番号",null,"12検査結果(防火扉）-上記に記載のない事項-17行目-番号"]
[null,null,null,null,{"$f":"'2_入力シート【検査結果表】 防火扉'!$P$67","v":0},null,12,"検査結果(防火扉）","-","上記に記載のない事項","-","17行目","-","検査項目",null,null,"12検査結果(防火扉）-上記に記載のない事項-17行目-検査項目",null,"12検査結果(防火扉）-上記に記載のない事項-17行目-検査項目"]
[null,null,null,null,{"$f":"'2_入力シート【検査結果表】 防火扉'!$AG$67","v":0},null,12,"検査結果(防火扉）","-","上記に記載のない事項","-","17行目","-","検査事項",null,null,"12検査結果(防火扉）-上記に記載のない事項-17行目-検査事項",null,"12検査結果(防火扉）-上記に記載のない事項-17行目-検査事項"]
[null,null,null,null,{"$f":"'2_入力シート【検査結果表】 防火扉'!$BA$67","v":0},null,12,"検査結果(防火扉）","-","上記に記載のない事項","-","17行目","-","検査結果",null,null,"12検査結果(防火扉）-上記に記載のない事項-17行目-検査結果",null,"12検査結果(防火扉）-上記に記載のない事項-17行目-検査結果"]
[null,null,null,null,{"$f":"'2_入力シート【検査結果表】 防火扉'!$BM$67","v":0},null,12,"検査結果(防火扉）","-","上記に記載のない事項","-","17行目","-","検査者番号",null,null,"12検査結果(防火扉）-上記に記載のない事項-17行目-検査者番号",null,"12検査結果(防火扉）-上記に記載のない事項-17行目-検査者番号"]
[null,null,null,null,{"$f":"'2_入力シート【検査結果表】 防火扉'!$BO$67","v":0},null,12,"検査結果(防火扉）","-","上記に記載のない事項","-","17行目","-","指摘の具体的内容等",null,null,"12検査結果(防火扉）-上記に記載のない事項-17行目-指摘の具体的内容等",null,"12検査結果(防火扉）-上記に記載のない事項-17行目-指摘の具体的内容等"]
[null,null,null,null,{"$f":"'2_入力シート【検査結果表】 防火扉'!$BY$67","v":0},null,12,"検査結果(防火扉）","-","上記に記載のない事項","-","17行目","-","改善策の具体的内容等",null,null,"12検査結果(防火扉）-上記に記載のない事項-17行目-改善策の具体的内容等",null,"12検査結果(防火扉）-上記に記載のない事項-17行目-改善策の具体的内容等"]
[null,null,null,null,{"$f":"'2_入力シート【検査結果表】 防火扉'!$CN$67","v":0},null,12,"検査結果(防火扉）","-","上記に記載のない事項","-","17行目","-","改善（予定）年月","-","年（令和）","12検査結果(防火扉）-上記に記載のない事項-17行目-改善（予定）年月-年（令和）",null,"12検査結果(防火扉）-上記に記載のない事項-17行目-改善（予定）年月-年（令和）"]
[null,null,null,null,{"$f":"'2_入力シート【検査結果表】 防火扉'!$CQ$67","v":0},null,12,"検査結果(防火扉）","-","上記に記載のない事項","-","17行目","-","改善（予定）年月","-","月","12検査結果(防火扉）-上記に記載のない事項-17行目-改善（予定）年月-月",null,"12検査結果(防火扉）-上記に記載のない事項-17行目-改善（予定）年月-月"]
[null,null,null,null,{"$f":"'2_入力シート【検査結果表】 防火扉'!$CT$67","v":0},null,12,"検査結果(防火扉）","-","上記に記載のない事項","-","17行目","-","改善（予定）年月","-","状況",{"$f":"CONCATENATE(G532,H532,I532,J532,K532,L532,M532,N532,O532,P532)","v":"12検査結果(防火扉）-上記に記載のない事項-17行目-改善（予定）年月-状況"},null,"12検査結果(防火扉）-上記に記載のない事項-17行目-改善（予定）年月-状況"]
[null,null,null,null,{"$f":"'2_入力シート【検査結果表】 防火扉'!$M$68","v":0},null,12,"検査結果(防火扉）","-","上記に記載のない事項","-","18行目","-","番号",null,null,"12検査結果(防火扉）-上記に記載のない事項-18行目-番号",null,"12検査結果(防火扉）-上記に記載のない事項-18行目-番号"]
[null,null,null,null,{"$f":"'2_入力シート【検査結果表】 防火扉'!$P$68","v":0},null,12,"検査結果(防火扉）","-","上記に記載のない事項","-","18行目","-","検査項目",null,null,"12検査結果(防火扉）-上記に記載のない事項-18行目-検査項目",null,"12検査結果(防火扉）-上記に記載のない事項-18行目-検査項目"]
[null,null,null,null,{"$f":"'2_入力シート【検査結果表】 防火扉'!$AG$68","v":0},null,12,"検査結果(防火扉）","-","上記に記載のない事項","-","18行目","-","検査事項",null,null,"12検査結果(防火扉）-上記に記載のない事項-18行目-検査事項",null,"12検査結果(防火扉）-上記に記載のない事項-18行目-検査事項"]
[null,null,null,null,{"$f":"'2_入力シート【検査結果表】 防火扉'!$BA$68","v":0},null,12,"検査結果(防火扉）","-","上記に記載のない事項","-","18行目","-","検査結果",null,null,"12検査結果(防火扉）-上記に記載のない事項-18行目-検査結果",null,"12検査結果(防火扉）-上記に記載のない事項-18行目-検査結果"]
[null,null,null,null,{"$f":"'2_入力シート【検査結果表】 防火扉'!$BM$68","v":0},null,12,"検査結果(防火扉）","-","上記に記載のない事項","-","18行目","-","検査者番号",null,null,"12検査結果(防火扉）-上記に記載のない事項-18行目-検査者番号",null,"12検査結果(防火扉）-上記に記載のない事項-18行目-検査者番号"]
[null,null,null,null,{"$f":"'2_入力シート【検査結果表】 防火扉'!$BO$68","v":0},null,12,"検査結果(防火扉）","-","上記に記載のない事項","-","18行目","-","指摘の具体的内容等",null,null,"12検査結果(防火扉）-上記に記載のない事項-18行目-指摘の具体的内容等",null,"12検査結果(防火扉）-上記に記載のない事項-18行目-指摘の具体的内容等"]
[null,null,null,null,{"$f":"'2_入力シート【検査結果表】 防火扉'!$BY$68","v":0},null,12,"検査結果(防火扉）","-","上記に記載のない事項","-","18行目","-","改善策の具体的内容等",null,null,"12検査結果(防火扉）-上記に記載のない事項-18行目-改善策の具体的内容等",null,"12検査結果(防火扉）-上記に記載のない事項-18行目-改善策の具体的内容等"]
[null,null,null,null,{"$f":"'2_入力シート【検査結果表】 防火扉'!$CN$68","v":0},null,12,"検査結果(防火扉）","-","上記に記載のない事項","-","18行目","-","改善（予定）年月","-","年（令和）","12検査結果(防火扉）-上記に記載のない事項-18行目-改善（予定）年月-年（令和）",null,"12検査結果(防火扉）-上記に記載のない事項-18行目-改善（予定）年月-年（令和）"]
[null,null,null,null,{"$f":"'2_入力シート【検査結果表】 防火扉'!$CQ$68","v":0},null,12,"検査結果(防火扉）","-","上記に記載のない事項","-","18行目","-","改善（予定）年月","-","月","12検査結果(防火扉）-上記に記載のない事項-18行目-改善（予定）年月-月",null,"12検査結果(防火扉）-上記に記載のない事項-18行目-改善（予定）年月-月"]
[null,null,null,null,{"$f":"'2_入力シート【検査結果表】 防火扉'!$CT$68","v":0},null,12,"検査結果(防火扉）","-","上記に記載のない事項","-","18行目","-","改善（予定）年月","-","状況","12検査結果(防火扉）-上記に記載のない事項-18行目-改善（予定）年月-状況",null,"12検査結果(防火扉）-上記に記載のない事項-18行目-改善（予定）年月-状況"]
[null,null,null,null,{"$f":"'2_入力シート【検査結果表】 防火扉'!$M$69","v":0},null,12,"検査結果(防火扉）","-","上記に記載のない事項","-","19行目","-","番号",null,null,"12検査結果(防火扉）-上記に記載のない事項-19行目-番号",null,"12検査結果(防火扉）-上記に記載のない事項-19行目-番号"]
[null,null,null,null,{"$f":"'2_入力シート【検査結果表】 防火扉'!$P$69","v":0},null,12,"検査結果(防火扉）","-","上記に記載のない事項","-","19行目","-","検査項目",null,null,"12検査結果(防火扉）-上記に記載のない事項-19行目-検査項目",null,"12検査結果(防火扉）-上記に記載のない事項-19行目-検査項目"]
[null,null,null,null,{"$f":"'2_入力シート【検査結果表】 防火扉'!$AG$69","v":0},null,12,"検査結果(防火扉）","-","上記に記載のない事項","-","19行目","-","検査事項",null,null,"12検査結果(防火扉）-上記に記載のない事項-19行目-検査事項",null,"12検査結果(防火扉）-上記に記載のない事項-19行目-検査事項"]
[null,null,null,null,{"$f":"'2_入力シート【検査結果表】 防火扉'!$BA$69","v":0},null,12,"検査結果(防火扉）","-","上記に記載のない事項","-","19行目","-","検査結果",null,null,"12検査結果(防火扉）-上記に記載のない事項-19行目-検査結果",null,"12検査結果(防火扉）-上記に記載のない事項-19行目-検査結果"]
[null,null,null,null,{"$f":"'2_入力シート【検査結果表】 防火扉'!$BM$69","v":0},null,12,"検査結果(防火扉）","-","上記に記載のない事項","-","19行目","-","検査者番号",null,null,"12検査結果(防火扉）-上記に記載のない事項-19行目-検査者番号",null,"12検査結果(防火扉）-上記に記載のない事項-19行目-検査者番号"]
[null,null,null,null,{"$f":"'2_入力シート【検査結果表】 防火扉'!$BO$69","v":0},null,12,"検査結果(防火扉）","-","上記に記載のない事項","-","19行目","-","指摘の具体的内容等",null,null,"12検査結果(防火扉）-上記に記載のない事項-19行目-指摘の具体的内容等",null,"12検査結果(防火扉）-上記に記載のない事項-19行目-指摘の具体的内容等"]
[null,null,null,null,{"$f":"'2_入力シート【検査結果表】 防火扉'!$BY$69","v":0},null,12,"検査結果(防火扉）","-","上記に記載のない事項","-","19行目","-","改善策の具体的内容等",null,null,"12検査結果(防火扉）-上記に記載のない事項-19行目-改善策の具体的内容等",null,"12検査結果(防火扉）-上記に記載のない事項-19行目-改善策の具体的内容等"]
[null,null,null,null,{"$f":"'2_入力シート【検査結果表】 防火扉'!$CN$69","v":0},null,12,"検査結果(防火扉）","-","上記に記載のない事項","-","19行目","-","改善（予定）年月","-","年（令和）","12検査結果(防火扉）-上記に記載のない事項-19行目-改善（予定）年月-年（令和）",null,"12検査結果(防火扉）-上記に記載のない事項-19行目-改善（予定）年月-年（令和）"]
[null,null,null,null,{"$f":"'2_入力シート【検査結果表】 防火扉'!$CQ$69","v":0},null,12,"検査結果(防火扉）","-","上記に記載のない事項","-","19行目","-","改善（予定）年月","-","月","12検査結果(防火扉）-上記に記載のない事項-19行目-改善（予定）年月-月",null,"12検査結果(防火扉）-上記に記載のない事項-19行目-改善（予定）年月-月"]
[null,null,null,null,{"$f":"'2_入力シート【検査結果表】 防火扉'!$CT$69","v":0},null,12,"検査結果(防火扉）","-","上記に記載のない事項","-","19行目","-","改善（予定）年月","-","状況","12検査結果(防火扉）-上記に記載のない事項-19行目-改善（予定）年月-状況",null,"12検査結果(防火扉）-上記に記載のない事項-19行目-改善（予定）年月-状況"]
[null,null,null,null,{"$f":"'2_入力シート【検査結果表】 防火扉'!$M$70","v":0},null,12,"検査結果(防火扉）","-","上記に記載のない事項","-","20行目","-","番号",null,null,"12検査結果(防火扉）-上記に記載のない事項-20行目-番号",null,"12検査結果(防火扉）-上記に記載のない事項-20行目-番号"]
[null,null,null,null,{"$f":"'2_入力シート【検査結果表】 防火扉'!$P$70","v":0},null,12,"検査結果(防火扉）","-","上記に記載のない事項","-","20行目","-","検査項目",null,null,"12検査結果(防火扉）-上記に記載のない事項-20行目-検査項目",null,"12検査結果(防火扉）-上記に記載のない事項-20行目-検査項目"]
[null,null,null,null,{"$f":"'2_入力シート【検査結果表】 防火扉'!$AG$70","v":0},null,12,"検査結果(防火扉）","-","上記に記載のない事項","-","20行目","-","検査事項",null,null,"12検査結果(防火扉）-上記に記載のない事項-20行目-検査事項",null,"12検査結果(防火扉）-上記に記載のない事項-20行目-検査事項"]
[null,null,null,null,{"$f":"'2_入力シート【検査結果表】 防火扉'!$BA$70","v":0},null,12,"検査結果(防火扉）","-","上記に記載のない事項","-","20行目","-","検査結果",null,null,"12検査結果(防火扉）-上記に記載のない事項-20行目-検査結果",null,"12検査結果(防火扉）-上記に記載のない事項-20行目-検査結果"]
[null,null,null,null,{"$f":"'2_入力シート【検査結果表】 防火扉'!$BM$70","v":0},null,12,"検査結果(防火扉）","-","上記に記載のない事項","-","20行目","-","検査者番号",null,null,"12検査結果(防火扉）-上記に記載のない事項-20行目-検査者番号",null,"12検査結果(防火扉）-上記に記載のない事項-20行目-検査者番号"]
[null,null,null,null,{"$f":"'2_入力シート【検査結果表】 防火扉'!$BO$70","v":0},null,12,"検査結果(防火扉）","-","上記に記載のない事項","-","20行目","-","指摘の具体的内容等",null,null,"12検査結果(防火扉）-上記に記載のない事項-20行目-指摘の具体的内容等",null,"12検査結果(防火扉）-上記に記載のない事項-20行目-指摘の具体的内容等"]
[null,null,null,null,{"$f":"'2_入力シート【検査結果表】 防火扉'!$BY$70","v":0},null,12,"検査結果(防火扉）","-","上記に記載のない事項","-","20行目","-","改善策の具体的内容等",null,null,"12検査結果(防火扉）-上記に記載のない事項-20行目-改善策の具体的内容等",null,"12検査結果(防火扉）-上記に記載のない事項-20行目-改善策の具体的内容等"]
[null,null,null,null,{"$f":"'2_入力シート【検査結果表】 防火扉'!$CN$70","v":0},null,12,"検査結果(防火扉）","-","上記に記載のない事項","-","20行目","-","改善（予定）年月","-","年（令和）","12検査結果(防火扉）-上記に記載のない事項-20行目-改善（予定）年月-年（令和）",null,"12検査結果(防火扉）-上記に記載のない事項-20行目-改善（予定）年月-年（令和）"]
[null,null,null,null,{"$f":"'2_入力シート【検査結果表】 防火扉'!$CQ$70","v":0},null,12,"検査結果(防火扉）","-","上記に記載のない事項","-","20行目","-","改善（予定）年月","-","月","12検査結果(防火扉）-上記に記載のない事項-20行目-改善（予定）年月-月",null,"12検査結果(防火扉）-上記に記載のない事項-20行目-改善（予定）年月-月"]
[null,null,null,null,{"$f":"'2_入力シート【検査結果表】 防火扉'!$CT$70","v":0},null,12,"検査結果(防火扉）","-","上記に記載のない事項","-","20行目","-","改善（予定）年月","-","状況","12検査結果(防火扉）-上記に記載のない事項-20行目-改善（予定）年月-状況",null,"12検査結果(防火扉）-上記に記載のない事項-20行目-改善（予定）年月-状況"]
[null,null,null,null,{"$f":"'3_入力シート【検査結果表】防火シャッター'!$BA$17","v":0},null,13,"検査結果(防火シャッター）","-","1（1）","-","検査結果",null,null,null,null,"13検査結果(防火シャッター）-1（1）-検査結果",null,"13検査結果(防火シャッター）-1（1）-検査結果"]
[null,null,null,null,{"$f":"'3_入力シート【検査結果表】防火シャッター'!$BM$17","v":0},null,13,"検査結果(防火シャッター）","-","1（1）","-","検査者番号",null,null,null,null,"13検査結果(防火シャッター）-1（1）-検査者番号",null,"13検査結果(防火シャッター）-1（1）-検査者番号"]
[null,null,null,null,{"$f":"'3_入力シート【検査結果表】防火シャッター'!$BO$17","v":0},null,13,"検査結果(防火シャッター）","-","1（1）","-","指摘の具体的内容等",null,null,null,null,"13検査結果(防火シャッター）-1（1）-指摘の具体的内容等",null,"13検査結果(防火シャッター）-1（1）-指摘の具体的内容等"]
[null,null,null,null,{"$f":"'3_入力シート【検査結果表】防火シャッター'!$BY$17","v":0},null,13,"検査結果(防火シャッター）","-","1（1）","-","改善策の具体的内容等",null,null,null,null,"13検査結果(防火シャッター）-1（1）-改善策の具体的内容等",null,"13検査結果(防火シャッター）-1（1）-改善策の具体的内容等"]
[null,null,null,null,{"$f":"'3_入力シート【検査結果表】防火シャッター'!$CN$17","v":0},null,13,"検査結果(防火シャッター）","-","1（1）","-","改善（予定）年月","-","年（令和）",null,null,"13検査結果(防火シャッター）-1（1）-改善（予定）年月-年（令和）",null,"13検査結果(防火シャッター）-1（1）-改善（予定）年月-年（令和）"]
[null,null,null,null,{"$f":"'3_入力シート【検査結果表】防火シャッター'!$CQ$17","v":0},null,13,"検査結果(防火シャッター）","-","1（1）","-","改善（予定）年月","-","月",null,null,"13検査結果(防火シャッター）-1（1）-改善（予定）年月-月",null,"13検査結果(防火シャッター）-1（1）-改善（予定）年月-月"]
[null,null,null,null,{"$f":"'3_入力シート【検査結果表】防火シャッター'!$CT$17","v":0},null,13,"検査結果(防火シャッター）","-","1（1）","-","改善（予定）年月","-","状況",null,null,"13検査結果(防火シャッター）-1（1）-改善（予定）年月-状況",null,"13検査結果(防火シャッター）-1（1）-改善（予定）年月-状況"]
[null,null,null,null,{"$f":"'3_入力シート【検査結果表】防火シャッター'!$BA$18","v":0},null,13,"検査結果(防火シャッター）","-","1（2）","-","検査結果",null,null,null,null,"13検査結果(防火シャッター）-1（2）-検査結果",null,"13検査結果(防火シャッター）-1（2）-検査結果"]
[null,null,null,null,{"$f":"'3_入力シート【検査結果表】防火シャッター'!$BM$18","v":0},null,13,"検査結果(防火シャッター）","-","1（2）","-","検査者番号",null,null,null,null,"13検査結果(防火シャッター）-1（2）-検査者番号",null,"13検査結果(防火シャッター）-1（2）-検査者番号"]
[null,null,null,null,{"$f":"'3_入力シート【検査結果表】防火シャッター'!$BO$18","v":0},null,13,"検査結果(防火シャッター）","-","1（2）","-","指摘の具体的内容等",null,null,null,null,"13検査結果(防火シャッター）-1（2）-指摘の具体的内容等",null,"13検査結果(防火シャッター）-1（2）-指摘の具体的内容等"]
[null,null,null,null,{"$f":"'3_入力シート【検査結果表】防火シャッター'!$BY$18","v":0},null,13,"検査結果(防火シャッター）","-","1（2）","-","改善策の具体的内容等",null,null,null,null,"13検査結果(防火シャッター）-1（2）-改善策の具体的内容等",null,"13検査結果(防火シャッター）-1（2）-改善策の具体的内容等"]
[null,null,null,null,{"$f":"'3_入力シート【検査結果表】防火シャッター'!$CN$18","v":0},null,13,"検査結果(防火シャッター）","-","1（2）","-","改善（予定）年月","-","年（令和）",null,null,"13検査結果(防火シャッター）-1（2）-改善（予定）年月-年（令和）",null,"13検査結果(防火シャッター）-1（2）-改善（予定）年月-年（令和）"]
[null,null,null,null,{"$f":"'3_入力シート【検査結果表】防火シャッター'!$CQ$18","v":0},null,13,"検査結果(防火シャッター）","-","1（2）","-","改善（予定）年月","-","月",null,null,"13検査結果(防火シャッター）-1（2）-改善（予定）年月-月",null,"13検査結果(防火シャッター）-1（2）-改善（予定）年月-月"]
[null,null,null,null,{"$f":"'3_入力シート【検査結果表】防火シャッター'!$CT$18","v":0},null,13,"検査結果(防火シャッター）","-","1（2）","-","改善（予定）年月","-","状況",null,null,"13検査結果(防火シャッター）-1（2）-改善（予定）年月-状況",null,"13検査結果(防火シャッター）-1（2）-改善（予定）年月-状況"]
[null,null,null,null,{"$f":"'3_入力シート【検査結果表】防火シャッター'!$BA$19","v":0},null,13,"検査結果(防火シャッター）","-","1（3）","-","検査結果",null,null,null,null,"13検査結果(防火シャッター）-1（3）-検査結果",null,"13検査結果(防火シャッター）-1（3）-検査結果"]
[null,null,null,null,{"$f":"'3_入力シート【検査結果表】防火シャッター'!$BM$19","v":0},null,13,"検査結果(防火シャッター）","-","1（3）","-","検査者番号",null,null,null,null,"13検査結果(防火シャッター）-1（3）-検査者番号",null,"13検査結果(防火シャッター）-1（3）-検査者番号"]
[null,null,null,null,{"$f":"'3_入力シート【検査結果表】防火シャッター'!$BO$19","v":0},null,13,"検査結果(防火シャッター）","-","1（3）","-","指摘の具体的内容等",null,null,null,null,"13検査結果(防火シャッター）-1（3）-指摘の具体的内容等",null,"13検査結果(防火シャッター）-1（3）-指摘の具体的内容等"]
[null,null,null,null,{"$f":"'3_入力シート【検査結果表】防火シャッター'!$BY$19","v":0},null,13,"検査結果(防火シャッター）","-","1（3）","-","改善策の具体的内容等",null,null,null,null,"13検査結果(防火シャッター）-1（3）-改善策の具体的内容等",null,"13検査結果(防火シャッター）-1（3）-改善策の具体的内容等"]
[null,null,null,null,{"$f":"'3_入力シート【検査結果表】防火シャッター'!$CN$19","v":0},null,13,"検査結果(防火シャッター）","-","1（3）","-","改善（予定）年月","-","年（令和）",null,null,"13検査結果(防火シャッター）-1（3）-改善（予定）年月-年（令和）",null,"13検査結果(防火シャッター）-1（3）-改善（予定）年月-年（令和）"]
[null,null,null,null,{"$f":"'3_入力シート【検査結果表】防火シャッター'!$CQ$19","v":0},null,13,"検査結果(防火シャッター）","-","1（3）","-","改善（予定）年月","-","月",null,null,"13検査結果(防火シャッター）-1（3）-改善（予定）年月-月",null,"13検査結果(防火シャッター）-1（3）-改善（予定）年月-月"]
[null,null,null,null,{"$f":"'3_入力シート【検査結果表】防火シャッター'!$CT$19","v":0},null,13,"検査結果(防火シャッター）","-","1（3）","-","改善（予定）年月","-","状況",null,null,"13検査結果(防火シャッター）-1（3）-改善（予定）年月-状況",null,"13検査結果(防火シャッター）-1（3）-改善（予定）年月-状況"]
[null,null,null,null,{"$f":"'3_入力シート【検査結果表】防火シャッター'!$BA$20","v":0},null,13,"検査結果(防火シャッター）","-","1（4）","-","検査結果",null,null,null,null,"13検査結果(防火シャッター）-1（4）-検査結果",null,"13検査結果(防火シャッター）-1（4）-検査結果"]
[null,null,null,null,{"$f":"'3_入力シート【検査結果表】防火シャッター'!$BM$20","v":0},null,13,"検査結果(防火シャッター）","-","1（4）","-","検査者番号",null,null,null,null,"13検査結果(防火シャッター）-1（4）-検査者番号",null,"13検査結果(防火シャッター）-1（4）-検査者番号"]
[null,null,null,null,{"$f":"'3_入力シート【検査結果表】防火シャッター'!$BO$20","v":0},null,13,"検査結果(防火シャッター）","-","1（4）","-","指摘の具体的内容等",null,null,null,null,"13検査結果(防火シャッター）-1（4）-指摘の具体的内容等",null,"13検査結果(防火シャッター）-1（4）-指摘の具体的内容等"]
[null,null,null,null,{"$f":"'3_入力シート【検査結果表】防火シャッター'!$BY$20","v":0},null,13,"検査結果(防火シャッター）","-","1（4）","-","改善策の具体的内容等",null,null,null,null,"13検査結果(防火シャッター）-1（4）-改善策の具体的内容等",null,"13検査結果(防火シャッター）-1（4）-改善策の具体的内容等"]
[null,null,null,null,{"$f":"'3_入力シート【検査結果表】防火シャッター'!$CN$20","v":0},null,13,"検査結果(防火シャッター）","-","1（4）","-","改善（予定）年月","-","年（令和）",null,null,"13検査結果(防火シャッター）-1（4）-改善（予定）年月-年（令和）",null,"13検査結果(防火シャッター）-1（4）-改善（予定）年月-年（令和）"]
[null,null,null,null,{"$f":"'3_入力シート【検査結果表】防火シャッター'!$CQ$20","v":0},null,13,"検査結果(防火シャッター）","-","1（4）","-","改善（予定）年月","-","月",null,null,"13検査結果(防火シャッター）-1（4）-改善（予定）年月-月",null,"13検査結果(防火シャッター）-1（4）-改善（予定）年月-月"]
[null,null,null,null,{"$f":"'3_入力シート【検査結果表】防火シャッター'!$CT$20","v":0},null,13,"検査結果(防火シャッター）","-","1（4）","-","改善（予定）年月","-","状況",null,null,"13検査結果(防火シャッター）-1（4）-改善（予定）年月-状況",null,"13検査結果(防火シャッター）-1（4）-改善（予定）年月-状況"]
[null,null,null,null,{"$f":"'3_入力シート【検査結果表】防火シャッター'!$BA$21","v":0},null,13,"検査結果(防火シャッター）","-","1（5）","-","検査結果",null,null,null,null,"13検査結果(防火シャッター）-1（5）-検査結果",null,"13検査結果(防火シャッター）-1（5）-検査結果"]
[null,null,null,null,{"$f":"'3_入力シート【検査結果表】防火シャッター'!$BM$21","v":0},null,13,"検査結果(防火シャッター）","-","1（5）","-","検査者番号",null,null,null,null,"13検査結果(防火シャッター）-1（5）-検査者番号",null,"13検査結果(防火シャッター）-1（5）-検査者番号"]
[null,null,null,null,{"$f":"'3_入力シート【検査結果表】防火シャッター'!$BO$21","v":0},null,13,"検査結果(防火シャッター）","-","1（5）","-","指摘の具体的内容等",null,null,null,null,"13検査結果(防火シャッター）-1（5）-指摘の具体的内容等",null,"13検査結果(防火シャッター）-1（5）-指摘の具体的内容等"]
[null,null,null,null,{"$f":"'3_入力シート【検査結果表】防火シャッター'!$BY$21","v":0},null,13,"検査結果(防火シャッター）","-","1（5）","-","改善策の具体的内容等",null,null,null,null,"13検査結果(防火シャッター）-1（5）-改善策の具体的内容等",null,"13検査結果(防火シャッター）-1（5）-改善策の具体的内容等"]
[null,null,null,null,{"$f":"'3_入力シート【検査結果表】防火シャッター'!$CN$21","v":0},null,13,"検査結果(防火シャッター）","-","1（5）","-","改善（予定）年月","-","年（令和）",null,null,"13検査結果(防火シャッター）-1（5）-改善（予定）年月-年（令和）",null,"13検査結果(防火シャッター）-1（5）-改善（予定）年月-年（令和）"]
[null,null,null,null,{"$f":"'3_入力シート【検査結果表】防火シャッター'!$CQ$21","v":0},null,13,"検査結果(防火シャッター）","-","1（5）","-","改善（予定）年月","-","月",null,null,{"$f":"CONCATENATE(G596,H596,I596,J596,K596,L596,M596,N596,O596,P596)","v":"13検査結果(防火シャッター）-1（5）-改善（予定）年月-月"},null,"13検査結果(防火シャッター）-1（5）-改善（予定）年月-月"]
[null,null,null,null,{"$f":"'3_入力シート【検査結果表】防火シャッター'!$CT$21","v":0},null,13,"検査結果(防火シャッター）","-","1（5）","-","改善（予定）年月","-","状況",null,null,"13検査結果(防火シャッター）-1（5）-改善（予定）年月-状況",null,"13検査結果(防火シャッター）-1（5）-改善（予定）年月-状況"]
[null,null,null,null,{"$f":"'3_入力シート【検査結果表】防火シャッター'!$BA$22","v":0},null,13,"検査結果(防火シャッター）","-","1（6）","-","検査結果",null,null,null,null,"13検査結果(防火シャッター）-1（6）-検査結果",null,"13検査結果(防火シャッター）-1（6）-検査結果"]
[null,null,null,null,{"$f":"'3_入力シート【検査結果表】防火シャッター'!$BM$22","v":0},null,13,"検査結果(防火シャッター）","-","1（6）","-","検査者番号",null,null,null,null,"13検査結果(防火シャッター）-1（6）-検査者番号",null,"13検査結果(防火シャッター）-1（6）-検査者番号"]
[null,null,null,null,{"$f":"'3_入力シート【検査結果表】防火シャッター'!$BO$22","v":0},null,13,"検査結果(防火シャッター）","-","1（6）","-","指摘の具体的内容等",null,null,null,null,"13検査結果(防火シャッター）-1（6）-指摘の具体的内容等",null,"13検査結果(防火シャッター）-1（6）-指摘の具体的内容等"]
[null,null,null,null,{"$f":"'3_入力シート【検査結果表】防火シャッター'!$BY$22","v":0},null,13,"検査結果(防火シャッター）","-","1（6）","-","改善策の具体的内容等",null,null,null,null,"13検査結果(防火シャッター）-1（6）-改善策の具体的内容等",null,"13検査結果(防火シャッター）-1（6）-改善策の具体的内容等"]
[null,null,null,null,{"$f":"'3_入力シート【検査結果表】防火シャッター'!$CN$22","v":0},null,13,"検査結果(防火シャッター）","-","1（6）","-","改善（予定）年月","-","年（令和）",null,null,"13検査結果(防火シャッター）-1（6）-改善（予定）年月-年（令和）",null,"13検査結果(防火シャッター）-1（6）-改善（予定）年月-年（令和）"]
[null,null,null,null,{"$f":"'3_入力シート【検査結果表】防火シャッター'!$CQ$22","v":0},null,13,"検査結果(防火シャッター）","-","1（6）","-","改善（予定）年月","-","月",null,null,"13検査結果(防火シャッター）-1（6）-改善（予定）年月-月",null,"13検査結果(防火シャッター）-1（6）-改善（予定）年月-月"]
[null,null,null,null,{"$f":"'3_入力シート【検査結果表】防火シャッター'!$CT$22","v":0},null,13,"検査結果(防火シャッター）","-","1（6）","-","改善（予定）年月","-","状況",null,null,"13検査結果(防火シャッター）-1（6）-改善（予定）年月-状況",null,"13検査結果(防火シャッター）-1（6）-改善（予定）年月-状況"]
[null,null,null,null,{"$f":"'3_入力シート【検査結果表】防火シャッター'!$BA$23","v":0},null,13,"検査結果(防火シャッター）","-","1（7）","-","検査結果",null,null,null,null,"13検査結果(防火シャッター）-1（7）-検査結果",null,"13検査結果(防火シャッター）-1（7）-検査結果"]
[null,null,null,null,{"$f":"'3_入力シート【検査結果表】防火シャッター'!$BM$23","v":0},null,13,"検査結果(防火シャッター）","-","1（7）","-","検査者番号",null,null,null,null,"13検査結果(防火シャッター）-1（7）-検査者番号",null,"13検査結果(防火シャッター）-1（7）-検査者番号"]
[null,null,null,null,{"$f":"'3_入力シート【検査結果表】防火シャッター'!$BO$23","v":0},null,13,"検査結果(防火シャッター）","-","1（7）","-","指摘の具体的内容等",null,null,null,null,"13検査結果(防火シャッター）-1（7）-指摘の具体的内容等",null,"13検査結果(防火シャッター）-1（7）-指摘の具体的内容等"]
[null,null,null,null,{"$f":"'3_入力シート【検査結果表】防火シャッター'!$BY$23","v":0},null,13,"検査結果(防火シャッター）","-","1（7）","-","改善策の具体的内容等",null,null,null,null,"13検査結果(防火シャッター）-1（7）-改善策の具体的内容等",null,"13検査結果(防火シャッター）-1（7）-改善策の具体的内容等"]
[null,null,null,null,{"$f":"'3_入力シート【検査結果表】防火シャッター'!$CN$23","v":0},null,13,"検査結果(防火シャッター）","-","1（7）","-","改善（予定）年月","-","年（令和）",null,null,"13検査結果(防火シャッター）-1（7）-改善（予定）年月-年（令和）",null,"13検査結果(防火シャッター）-1（7）-改善（予定）年月-年（令和）"]
[null,null,null,null,{"$f":"'3_入力シート【検査結果表】防火シャッター'!$CQ$23","v":0},null,13,"検査結果(防火シャッター）","-","1（7）","-","改善（予定）年月","-","月",null,null,"13検査結果(防火シャッター）-1（7）-改善（予定）年月-月",null,"13検査結果(防火シャッター）-1（7）-改善（予定）年月-月"]
[null,null,null,null,{"$f":"'3_入力シート【検査結果表】防火シャッター'!$CT$23","v":0},null,13,"検査結果(防火シャッター）","-","1（7）","-","改善（予定）年月","-","状況",null,null,"13検査結果(防火シャッター）-1（7）-改善（予定）年月-状況",null,"13検査結果(防火シャッター）-1（7）-改善（予定）年月-状況"]
[null,null,null,null,{"$f":"'3_入力シート【検査結果表】防火シャッター'!$BA$24","v":0},null,13,"検査結果(防火シャッター）","-","1（8）","-","検査結果",null,null,null,null,"13検査結果(防火シャッター）-1（8）-検査結果",null,"13検査結果(防火シャッター）-1（8）-検査結果"]
[null,null,null,null,{"$f":"'3_入力シート【検査結果表】防火シャッター'!$BM$24","v":0},null,13,"検査結果(防火シャッター）","-","1（8）","-","検査者番号",null,null,null,null,"13検査結果(防火シャッター）-1（8）-検査者番号",null,"13検査結果(防火シャッター）-1（8）-検査者番号"]
[null,null,null,null,{"$f":"'3_入力シート【検査結果表】防火シャッター'!$BO$24","v":0},null,13,"検査結果(防火シャッター）","-","1（8）","-","指摘の具体的内容等",null,null,null,null,"13検査結果(防火シャッター）-1（8）-指摘の具体的内容等",null,"13検査結果(防火シャッター）-1（8）-指摘の具体的内容等"]
[null,null,null,null,{"$f":"'3_入力シート【検査結果表】防火シャッター'!$BY$24","v":0},null,13,"検査結果(防火シャッター）","-","1（8）","-","改善策の具体的内容等",null,null,null,null,"13検査結果(防火シャッター）-1（8）-改善策の具体的内容等",null,"13検査結果(防火シャッター）-1（8）-改善策の具体的内容等"]
[null,null,null,null,{"$f":"'3_入力シート【検査結果表】防火シャッター'!$CN$24","v":0},null,13,"検査結果(防火シャッター）","-","1（8）","-","改善（予定）年月","-","年（令和）",null,null,"13検査結果(防火シャッター）-1（8）-改善（予定）年月-年（令和）",null,"13検査結果(防火シャッター）-1（8）-改善（予定）年月-年（令和）"]
[null,null,null,null,{"$f":"'3_入力シート【検査結果表】防火シャッター'!$CQ$24","v":0},null,13,"検査結果(防火シャッター）","-","1（8）","-","改善（予定）年月","-","月",null,null,"13検査結果(防火シャッター）-1（8）-改善（予定）年月-月",null,"13検査結果(防火シャッター）-1（8）-改善（予定）年月-月"]
[null,null,null,null,{"$f":"'3_入力シート【検査結果表】防火シャッター'!$CT$24","v":0},null,13,"検査結果(防火シャッター）","-","1（8）","-","改善（予定）年月","-","状況",null,null,"13検査結果(防火シャッター）-1（8）-改善（予定）年月-状況",null,"13検査結果(防火シャッター）-1（8）-改善（予定）年月-状況"]
[null,null,null,null,{"$f":"'3_入力シート【検査結果表】防火シャッター'!$BA$25","v":0},null,13,"検査結果(防火シャッター）","-","1（9）","-","検査結果",null,null,null,null,"13検査結果(防火シャッター）-1（9）-検査結果",null,"13検査結果(防火シャッター）-1（9）-検査結果"]
[null,null,null,null,{"$f":"'3_入力シート【検査結果表】防火シャッター'!$BM$25","v":0},null,13,"検査結果(防火シャッター）","-","1（9）","-","検査者番号",null,null,null,null,"13検査結果(防火シャッター）-1（9）-検査者番号",null,"13検査結果(防火シャッター）-1（9）-検査者番号"]
[null,null,null,null,{"$f":"'3_入力シート【検査結果表】防火シャッター'!$BO$25","v":0},null,13,"検査結果(防火シャッター）","-","1（9）","-","指摘の具体的内容等",null,null,null,null,"13検査結果(防火シャッター）-1（9）-指摘の具体的内容等",null,"13検査結果(防火シャッター）-1（9）-指摘の具体的内容等"]
[null,null,null,null,{"$f":"'3_入力シート【検査結果表】防火シャッター'!$BY$25","v":0},null,13,"検査結果(防火シャッター）","-","1（9）","-","改善策の具体的内容等",null,null,null,null,"13検査結果(防火シャッター）-1（9）-改善策の具体的内容等",null,"13検査結果(防火シャッター）-1（9）-改善策の具体的内容等"]
[null,null,null,null,{"$f":"'3_入力シート【検査結果表】防火シャッター'!$CN$25","v":0},null,13,"検査結果(防火シャッター）","-","1（9）","-","改善（予定）年月","-","年（令和）",null,null,"13検査結果(防火シャッター）-1（9）-改善（予定）年月-年（令和）",null,"13検査結果(防火シャッター）-1（9）-改善（予定）年月-年（令和）"]
[null,null,null,null,{"$f":"'3_入力シート【検査結果表】防火シャッター'!$CQ$25","v":0},null,13,"検査結果(防火シャッター）","-","1（9）","-","改善（予定）年月","-","月",null,null,"13検査結果(防火シャッター）-1（9）-改善（予定）年月-月",null,"13検査結果(防火シャッター）-1（9）-改善（予定）年月-月"]
[null,null,null,null,{"$f":"'3_入力シート【検査結果表】防火シャッター'!$CT$25","v":0},null,13,"検査結果(防火シャッター）","-","1（9）","-","改善（予定）年月","-","状況",null,null,"13検査結果(防火シャッター）-1（9）-改善（予定）年月-状況",null,"13検査結果(防火シャッター）-1（9）-改善（予定）年月-状況"]
[null,null,null,null,{"$f":"'3_入力シート【検査結果表】防火シャッター'!$BA$26","v":0},null,13,"検査結果(防火シャッター）","-","1（10）","-","検査結果",null,null,null,null,"13検査結果(防火シャッター）-1（10）-検査結果",null,"13検査結果(防火シャッター）-1（10）-検査結果"]
[null,null,null,null,{"$f":"'3_入力シート【検査結果表】防火シャッター'!$BM$26","v":0},null,13,"検査結果(防火シャッター）","-","1（10）","-","検査者番号",null,null,null,null,"13検査結果(防火シャッター）-1（10）-検査者番号",null,"13検査結果(防火シャッター）-1（10）-検査者番号"]
[null,null,null,null,{"$f":"'3_入力シート【検査結果表】防火シャッター'!$BO$26","v":0},null,13,"検査結果(防火シャッター）","-","1（10）","-","指摘の具体的内容等",null,null,null,null,"13検査結果(防火シャッター）-1（10）-指摘の具体的内容等",null,"13検査結果(防火シャッター）-1（10）-指摘の具体的内容等"]
[null,null,null,null,{"$f":"'3_入力シート【検査結果表】防火シャッター'!$BY$26","v":0},null,13,"検査結果(防火シャッター）","-","1（10）","-","改善策の具体的内容等",null,null,null,null,"13検査結果(防火シャッター）-1（10）-改善策の具体的内容等",null,"13検査結果(防火シャッター）-1（10）-改善策の具体的内容等"]
[null,null,null,null,{"$f":"'3_入力シート【検査結果表】防火シャッター'!$CN$26","v":0},null,13,"検査結果(防火シャッター）","-","1（10）","-","改善（予定）年月","-","年（令和）",null,null,"13検査結果(防火シャッター）-1（10）-改善（予定）年月-年（令和）",null,"13検査結果(防火シャッター）-1（10）-改善（予定）年月-年（令和）"]
[null,null,null,null,{"$f":"'3_入力シート【検査結果表】防火シャッター'!$CQ$26","v":0},null,13,"検査結果(防火シャッター）","-","1（10）","-","改善（予定）年月","-","月",null,null,"13検査結果(防火シャッター）-1（10）-改善（予定）年月-月",null,"13検査結果(防火シャッター）-1（10）-改善（予定）年月-月"]
[null,null,null,null,{"$f":"'3_入力シート【検査結果表】防火シャッター'!$CT$26","v":0},null,13,"検査結果(防火シャッター）","-","1（10）","-","改善（予定）年月","-","状況",null,null,"13検査結果(防火シャッター）-1（10）-改善（予定）年月-状況",null,"13検査結果(防火シャッター）-1（10）-改善（予定）年月-状況"]
[null,null,null,null,{"$f":"'3_入力シート【検査結果表】防火シャッター'!$BA$27","v":0},null,13,"検査結果(防火シャッター）","-","1（11）","-","検査結果",null,null,null,null,"13検査結果(防火シャッター）-1（11）-検査結果",null,"13検査結果(防火シャッター）-1（11）-検査結果"]
[null,null,null,null,{"$f":"'3_入力シート【検査結果表】防火シャッター'!$BM$27","v":0},null,13,"検査結果(防火シャッター）","-","1（11）","-","検査者番号",null,null,null,null,"13検査結果(防火シャッター）-1（11）-検査者番号",null,"13検査結果(防火シャッター）-1（11）-検査者番号"]
[null,null,null,null,{"$f":"'3_入力シート【検査結果表】防火シャッター'!$BO$27","v":0},null,13,"検査結果(防火シャッター）","-","1（11）","-","指摘の具体的内容等",null,null,null,null,"13検査結果(防火シャッター）-1（11）-指摘の具体的内容等",null,"13検査結果(防火シャッター）-1（11）-指摘の具体的内容等"]
[null,null,null,null,{"$f":"'3_入力シート【検査結果表】防火シャッター'!$BY$27","v":0},null,13,"検査結果(防火シャッター）","-","1（11）","-","改善策の具体的内容等",null,null,null,null,"13検査結果(防火シャッター）-1（11）-改善策の具体的内容等",null,"13検査結果(防火シャッター）-1（11）-改善策の具体的内容等"]
[null,null,null,null,{"$f":"'3_入力シート【検査結果表】防火シャッター'!$CN$27","v":0},null,13,"検査結果(防火シャッター）","-","1（11）","-","改善（予定）年月","-","年（令和）",null,null,"13検査結果(防火シャッター）-1（11）-改善（予定）年月-年（令和）",null,"13検査結果(防火シャッター）-1（11）-改善（予定）年月-年（令和）"]
[null,null,null,null,{"$f":"'3_入力シート【検査結果表】防火シャッター'!$CQ$27","v":0},null,13,"検査結果(防火シャッター）","-","1（11）","-","改善（予定）年月","-","月",null,null,"13検査結果(防火シャッター）-1（11）-改善（予定）年月-月",null,"13検査結果(防火シャッター）-1（11）-改善（予定）年月-月"]
[null,null,null,null,{"$f":"'3_入力シート【検査結果表】防火シャッター'!$CT$27","v":0},null,13,"検査結果(防火シャッター）","-","1（11）","-","改善（予定）年月","-","状況",null,null,"13検査結果(防火シャッター）-1（11）-改善（予定）年月-状況",null,"13検査結果(防火シャッター）-1（11）-改善（予定）年月-状況"]
[null,null,null,null,{"$f":"'3_入力シート【検査結果表】防火シャッター'!$BA$28","v":0},null,13,"検査結果(防火シャッター）","-","1（12）","-","検査結果",null,null,null,null,"13検査結果(防火シャッター）-1（12）-検査結果",null,"13検査結果(防火シャッター）-1（12）-検査結果"]
[null,null,null,null,{"$f":"'3_入力シート【検査結果表】防火シャッター'!$BM$28","v":0},null,13,"検査結果(防火シャッター）","-","1（12）","-","検査者番号",null,null,null,null,"13検査結果(防火シャッター）-1（12）-検査者番号",null,"13検査結果(防火シャッター）-1（12）-検査者番号"]
[null,null,null,null,{"$f":"'3_入力シート【検査結果表】防火シャッター'!$BO$28","v":0},null,13,"検査結果(防火シャッター）","-","1（12）","-","指摘の具体的内容等",null,null,null,null,"13検査結果(防火シャッター）-1（12）-指摘の具体的内容等",null,"13検査結果(防火シャッター）-1（12）-指摘の具体的内容等"]
[null,null,null,null,{"$f":"'3_入力シート【検査結果表】防火シャッター'!$BY$28","v":0},null,13,"検査結果(防火シャッター）","-","1（12）","-","改善策の具体的内容等",null,null,null,null,"13検査結果(防火シャッター）-1（12）-改善策の具体的内容等",null,"13検査結果(防火シャッター）-1（12）-改善策の具体的内容等"]
[null,null,null,null,{"$f":"'3_入力シート【検査結果表】防火シャッター'!$CN$28","v":0},null,13,"検査結果(防火シャッター）","-","1（12）","-","改善（予定）年月","-","年（令和）",null,null,"13検査結果(防火シャッター）-1（12）-改善（予定）年月-年（令和）",null,"13検査結果(防火シャッター）-1（12）-改善（予定）年月-年（令和）"]
[null,null,null,null,{"$f":"'3_入力シート【検査結果表】防火シャッター'!$CQ$28","v":0},null,13,"検査結果(防火シャッター）","-","1（12）","-","改善（予定）年月","-","月",null,null,"13検査結果(防火シャッター）-1（12）-改善（予定）年月-月",null,"13検査結果(防火シャッター）-1（12）-改善（予定）年月-月"]
[null,null,null,null,{"$f":"'3_入力シート【検査結果表】防火シャッター'!$CT$28","v":0},null,13,"検査結果(防火シャッター）","-","1（12）","-","改善（予定）年月","-","状況",null,null,"13検査結果(防火シャッター）-1（12）-改善（予定）年月-状況",null,"13検査結果(防火シャッター）-1（12）-改善（予定）年月-状況"]
[null,null,null,null,{"$f":"'3_入力シート【検査結果表】防火シャッター'!$BA$29","v":0},null,13,"検査結果(防火シャッター）","-","1（13）","-","検査結果",null,null,null,null,"13検査結果(防火シャッター）-1（13）-検査結果",null,"13検査結果(防火シャッター）-1（13）-検査結果"]
[null,null,null,null,{"$f":"'3_入力シート【検査結果表】防火シャッター'!$BM$29","v":0},null,13,"検査結果(防火シャッター）","-","1（13）","-","検査者番号",null,null,null,null,"13検査結果(防火シャッター）-1（13）-検査者番号",null,"13検査結果(防火シャッター）-1（13）-検査者番号"]
[null,null,null,null,{"$f":"'3_入力シート【検査結果表】防火シャッター'!$BO$29","v":0},null,13,"検査結果(防火シャッター）","-","1（13）","-","指摘の具体的内容等",null,null,null,null,"13検査結果(防火シャッター）-1（13）-指摘の具体的内容等",null,"13検査結果(防火シャッター）-1（13）-指摘の具体的内容等"]
[null,null,null,null,{"$f":"'3_入力シート【検査結果表】防火シャッター'!$BY$29","v":0},null,13,"検査結果(防火シャッター）","-","1（13）","-","改善策の具体的内容等",null,null,null,null,"13検査結果(防火シャッター）-1（13）-改善策の具体的内容等",null,"13検査結果(防火シャッター）-1（13）-改善策の具体的内容等"]
[null,null,null,null,{"$f":"'3_入力シート【検査結果表】防火シャッター'!$CN$29","v":0},null,13,"検査結果(防火シャッター）","-","1（13）","-","改善（予定）年月","-","年（令和）",null,null,"13検査結果(防火シャッター）-1（13）-改善（予定）年月-年（令和）",null,"13検査結果(防火シャッター）-1（13）-改善（予定）年月-年（令和）"]
[null,null,null,null,{"$f":"'3_入力シート【検査結果表】防火シャッター'!$CQ$29","v":0},null,13,"検査結果(防火シャッター）","-","1（13）","-","改善（予定）年月","-","月",null,null,"13検査結果(防火シャッター）-1（13）-改善（予定）年月-月",null,"13検査結果(防火シャッター）-1（13）-改善（予定）年月-月"]
[null,null,null,null,{"$f":"'3_入力シート【検査結果表】防火シャッター'!$CT$29","v":0},null,13,"検査結果(防火シャッター）","-","1（13）","-","改善（予定）年月","-","状況",null,null,"13検査結果(防火シャッター）-1（13）-改善（予定）年月-状況",null,"13検査結果(防火シャッター）-1（13）-改善（予定）年月-状況"]
[null,null,null,null,{"$f":"'3_入力シート【検査結果表】防火シャッター'!$BA$30","v":0},null,13,"検査結果(防火シャッター）","-","1（14）","-","検査結果",null,null,null,null,"13検査結果(防火シャッター）-1（14）-検査結果",null,"13検査結果(防火シャッター）-1（14）-検査結果"]
[null,null,null,null,{"$f":"'3_入力シート【検査結果表】防火シャッター'!$BM$30","v":0},null,13,"検査結果(防火シャッター）","-","1（14）","-","検査者番号",null,null,null,null,"13検査結果(防火シャッター）-1（14）-検査者番号",null,"13検査結果(防火シャッター）-1（14）-検査者番号"]
[null,null,null,null,{"$f":"'3_入力シート【検査結果表】防火シャッター'!$BO$30","v":0},null,13,"検査結果(防火シャッター）","-","1（14）","-","指摘の具体的内容等",null,null,null,null,"13検査結果(防火シャッター）-1（14）-指摘の具体的内容等",null,"13検査結果(防火シャッター）-1（14）-指摘の具体的内容等"]
[null,null,null,null,{"$f":"'3_入力シート【検査結果表】防火シャッター'!$BY$30","v":0},null,13,"検査結果(防火シャッター）","-","1（14）","-","改善策の具体的内容等",null,null,null,null,"13検査結果(防火シャッター）-1（14）-改善策の具体的内容等",null,"13検査結果(防火シャッター）-1（14）-改善策の具体的内容等"]
[null,null,null,null,{"$f":"'3_入力シート【検査結果表】防火シャッター'!$CN$30","v":0},null,13,"検査結果(防火シャッター）","-","1（14）","-","改善（予定）年月","-","年（令和）",null,null,"13検査結果(防火シャッター）-1（14）-改善（予定）年月-年（令和）",null,"13検査結果(防火シャッター）-1（14）-改善（予定）年月-年（令和）"]
[null,null,null,null,{"$f":"'3_入力シート【検査結果表】防火シャッター'!$CQ$30","v":0},null,13,"検査結果(防火シャッター）","-","1（14）","-","改善（予定）年月","-","月",null,null,"13検査結果(防火シャッター）-1（14）-改善（予定）年月-月",null,"13検査結果(防火シャッター）-1（14）-改善（予定）年月-月"]
[null,null,null,null,{"$f":"'3_入力シート【検査結果表】防火シャッター'!$CT$30","v":0},null,13,"検査結果(防火シャッター）","-","1（14）","-","改善（予定）年月","-","状況",null,null,{"$f":"CONCATENATE(G660,H660,I660,J660,K660,L660,M660,N660,O660,P660)","v":"13検査結果(防火シャッター）-1（14）-改善（予定）年月-状況"},null,"13検査結果(防火シャッター）-1（14）-改善（予定）年月-状況"]
[null,null,null,null,{"$f":"'3_入力シート【検査結果表】防火シャッター'!$BA$31","v":0},null,13,"検査結果(防火シャッター）","-","1（15）","-","検査結果",null,null,null,null,"13検査結果(防火シャッター）-1（15）-検査結果",null,"13検査結果(防火シャッター）-1（15）-検査結果"]
[null,null,null,null,{"$f":"'3_入力シート【検査結果表】防火シャッター'!$BM$31","v":0},null,13,"検査結果(防火シャッター）","-","1（15）","-","検査者番号",null,null,null,null,"13検査結果(防火シャッター）-1（15）-検査者番号",null,"13検査結果(防火シャッター）-1（15）-検査者番号"]
[null,null,null,null,{"$f":"'3_入力シート【検査結果表】防火シャッター'!$BO$31","v":0},null,13,"検査結果(防火シャッター）","-","1（15）","-","指摘の具体的内容等",null,null,null,null,"13検査結果(防火シャッター）-1（15）-指摘の具体的内容等",null,"13検査結果(防火シャッター）-1（15）-指摘の具体的内容等"]
[null,null,null,null,{"$f":"'3_入力シート【検査結果表】防火シャッター'!$BY$31","v":0},null,13,"検査結果(防火シャッター）","-","1（15）","-","改善策の具体的内容等",null,null,null,null,"13検査結果(防火シャッター）-1（15）-改善策の具体的内容等",null,"13検査結果(防火シャッター）-1（15）-改善策の具体的内容等"]
[null,null,null,null,{"$f":"'3_入力シート【検査結果表】防火シャッター'!$CN$31","v":0},null,13,"検査結果(防火シャッター）","-","1（15）","-","改善（予定）年月","-","年（令和）",null,null,"13検査結果(防火シャッター）-1（15）-改善（予定）年月-年（令和）",null,"13検査結果(防火シャッター）-1（15）-改善（予定）年月-年（令和）"]
[null,null,null,null,{"$f":"'3_入力シート【検査結果表】防火シャッター'!$CQ$31","v":0},null,13,"検査結果(防火シャッター）","-","1（15）","-","改善（予定）年月","-","月",null,null,"13検査結果(防火シャッター）-1（15）-改善（予定）年月-月",null,"13検査結果(防火シャッター）-1（15）-改善（予定）年月-月"]
[null,null,null,null,{"$f":"'3_入力シート【検査結果表】防火シャッター'!$CT$31","v":0},null,13,"検査結果(防火シャッター）","-","1（15）","-","改善（予定）年月","-","状況",null,null,"13検査結果(防火シャッター）-1（15）-改善（予定）年月-状況",null,"13検査結果(防火シャッター）-1（15）-改善（予定）年月-状況"]
[null,null,null,null,{"$f":"'3_入力シート【検査結果表】防火シャッター'!$BA$32","v":0},null,13,"検査結果(防火シャッター）","-","1（16）","-","検査結果",null,null,null,null,"13検査結果(防火シャッター）-1（16）-検査結果",null,"13検査結果(防火シャッター）-1（16）-検査結果"]
[null,null,null,null,{"$f":"'3_入力シート【検査結果表】防火シャッター'!$BM$32","v":0},null,13,"検査結果(防火シャッター）","-","1（16）","-","検査者番号",null,null,null,null,"13検査結果(防火シャッター）-1（16）-検査者番号",null,"13検査結果(防火シャッター）-1（16）-検査者番号"]
[null,null,null,null,{"$f":"'3_入力シート【検査結果表】防火シャッター'!$BO$32","v":0},null,13,"検査結果(防火シャッター）","-","1（16）","-","指摘の具体的内容等",null,null,null,null,"13検査結果(防火シャッター）-1（16）-指摘の具体的内容等",null,"13検査結果(防火シャッター）-1（16）-指摘の具体的内容等"]
[null,null,null,null,{"$f":"'3_入力シート【検査結果表】防火シャッター'!$BY$32","v":0},null,13,"検査結果(防火シャッター）","-","1（16）","-","改善策の具体的内容等",null,null,null,null,"13検査結果(防火シャッター）-1（16）-改善策の具体的内容等",null,"13検査結果(防火シャッター）-1（16）-改善策の具体的内容等"]
[null,null,null,null,{"$f":"'3_入力シート【検査結果表】防火シャッター'!$CN$32","v":0},null,13,"検査結果(防火シャッター）","-","1（16）","-","改善（予定）年月","-","年（令和）",null,null,"13検査結果(防火シャッター）-1（16）-改善（予定）年月-年（令和）",null,"13検査結果(防火シャッター）-1（16）-改善（予定）年月-年（令和）"]
[null,null,null,null,{"$f":"'3_入力シート【検査結果表】防火シャッター'!$CQ$32","v":0},null,13,"検査結果(防火シャッター）","-","1（16）","-","改善（予定）年月","-","月",null,null,"13検査結果(防火シャッター）-1（16）-改善（予定）年月-月",null,"13検査結果(防火シャッター）-1（16）-改善（予定）年月-月"]
[null,null,null,null,{"$f":"'3_入力シート【検査結果表】防火シャッター'!$CT$32","v":0},null,13,"検査結果(防火シャッター）","-","1（16）","-","改善（予定）年月","-","状況",null,null,"13検査結果(防火シャッター）-1（16）-改善（予定）年月-状況",null,"13検査結果(防火シャッター）-1（16）-改善（予定）年月-状況"]
[null,null,null,null,{"$f":"'3_入力シート【検査結果表】防火シャッター'!$BA$33","v":0},null,13,"検査結果(防火シャッター）","-","1（17）","-","検査結果",null,null,null,null,"13検査結果(防火シャッター）-1（17）-検査結果",null,"13検査結果(防火シャッター）-1（17）-検査結果"]
[null,null,null,null,{"$f":"'3_入力シート【検査結果表】防火シャッター'!$BM$33","v":0},null,13,"検査結果(防火シャッター）","-","1（17）","-","検査者番号",null,null,null,null,"13検査結果(防火シャッター）-1（17）-検査者番号",null,"13検査結果(防火シャッター）-1（17）-検査者番号"]
[null,null,null,null,{"$f":"'3_入力シート【検査結果表】防火シャッター'!$BO$33","v":0},null,13,"検査結果(防火シャッター）","-","1（17）","-","指摘の具体的内容等",null,null,null,null,"13検査結果(防火シャッター）-1（17）-指摘の具体的内容等",null,"13検査結果(防火シャッター）-1（17）-指摘の具体的内容等"]
[null,null,null,null,{"$f":"'3_入力シート【検査結果表】防火シャッター'!$BY$33","v":0},null,13,"検査結果(防火シャッター）","-","1（17）","-","改善策の具体的内容等",null,null,null,null,"13検査結果(防火シャッター）-1（17）-改善策の具体的内容等",null,"13検査結果(防火シャッター）-1（17）-改善策の具体的内容等"]
[null,null,null,null,{"$f":"'3_入力シート【検査結果表】防火シャッター'!$CN$33","v":0},null,13,"検査結果(防火シャッター）","-","1（17）","-","改善（予定）年月","-","年（令和）",null,null,"13検査結果(防火シャッター）-1（17）-改善（予定）年月-年（令和）",null,"13検査結果(防火シャッター）-1（17）-改善（予定）年月-年（令和）"]
[null,null,null,null,{"$f":"'3_入力シート【検査結果表】防火シャッター'!$CQ$33","v":0},null,13,"検査結果(防火シャッター）","-","1（17）","-","改善（予定）年月","-","月",null,null,"13検査結果(防火シャッター）-1（17）-改善（予定）年月-月",null,"13検査結果(防火シャッター）-1（17）-改善（予定）年月-月"]
[null,null,null,null,{"$f":"'3_入力シート【検査結果表】防火シャッター'!$CT$33","v":0},null,13,"検査結果(防火シャッター）","-","1（17）","-","改善（予定）年月","-","状況",null,null,"13検査結果(防火シャッター）-1（17）-改善（予定）年月-状況",null,"13検査結果(防火シャッター）-1（17）-改善（予定）年月-状況"]
[null,null,null,null,{"$f":"'3_入力シート【検査結果表】防火シャッター'!$BA$34","v":0},null,13,"検査結果(防火シャッター）","-","1（18）","-","検査結果",null,null,null,null,"13検査結果(防火シャッター）-1（18）-検査結果",null,"13検査結果(防火シャッター）-1（18）-検査結果"]
[null,null,null,null,{"$f":"'3_入力シート【検査結果表】防火シャッター'!$BM$34","v":0},null,13,"検査結果(防火シャッター）","-","1（18）","-","検査者番号",null,null,null,null,"13検査結果(防火シャッター）-1（18）-検査者番号",null,"13検査結果(防火シャッター）-1（18）-検査者番号"]
[null,null,null,null,{"$f":"'3_入力シート【検査結果表】防火シャッター'!$BO$34","v":0},null,13,"検査結果(防火シャッター）","-","1（18）","-","指摘の具体的内容等",null,null,null,null,"13検査結果(防火シャッター）-1（18）-指摘の具体的内容等",null,"13検査結果(防火シャッター）-1（18）-指摘の具体的内容等"]
[null,null,null,null,{"$f":"'3_入力シート【検査結果表】防火シャッター'!$BY$34","v":0},null,13,"検査結果(防火シャッター）","-","1（18）","-","改善策の具体的内容等",null,null,null,null,"13検査結果(防火シャッター）-1（18）-改善策の具体的内容等",null,"13検査結果(防火シャッター）-1（18）-改善策の具体的内容等"]
[null,null,null,null,{"$f":"'3_入力シート【検査結果表】防火シャッター'!$CN$34","v":0},null,13,"検査結果(防火シャッター）","-","1（18）","-","改善（予定）年月","-","年（令和）",null,null,"13検査結果(防火シャッター）-1（18）-改善（予定）年月-年（令和）",null,"13検査結果(防火シャッター）-1（18）-改善（予定）年月-年（令和）"]
[null,null,null,null,{"$f":"'3_入力シート【検査結果表】防火シャッター'!$CQ$34","v":0},null,13,"検査結果(防火シャッター）","-","1（18）","-","改善（予定）年月","-","月",null,null,"13検査結果(防火シャッター）-1（18）-改善（予定）年月-月",null,"13検査結果(防火シャッター）-1（18）-改善（予定）年月-月"]
[null,null,null,null,{"$f":"'3_入力シート【検査結果表】防火シャッター'!$CT$34","v":0},null,13,"検査結果(防火シャッター）","-","1（18）","-","改善（予定）年月","-","状況",null,null,"13検査結果(防火シャッター）-1（18）-改善（予定）年月-状況",null,"13検査結果(防火シャッター）-1（18）-改善（予定）年月-状況"]
[null,null,null,null,{"$f":"'3_入力シート【検査結果表】防火シャッター'!$BA$35","v":0},null,13,"検査結果(防火シャッター）","-","1（19）","-","検査結果",null,null,null,null,"13検査結果(防火シャッター）-1（19）-検査結果",null,"13検査結果(防火シャッター）-1（19）-検査結果"]
[null,null,null,null,{"$f":"'3_入力シート【検査結果表】防火シャッター'!$BM$35","v":0},null,13,"検査結果(防火シャッター）","-","1（19）","-","検査者番号",null,null,null,null,"13検査結果(防火シャッター）-1（19）-検査者番号",null,"13検査結果(防火シャッター）-1（19）-検査者番号"]
[null,null,null,null,{"$f":"'3_入力シート【検査結果表】防火シャッター'!$BO$35","v":0},null,13,"検査結果(防火シャッター）","-","1（19）","-","指摘の具体的内容等",null,null,null,null,"13検査結果(防火シャッター）-1（19）-指摘の具体的内容等",null,"13検査結果(防火シャッター）-1（19）-指摘の具体的内容等"]
[null,null,null,null,{"$f":"'3_入力シート【検査結果表】防火シャッター'!$BY$35","v":0},null,13,"検査結果(防火シャッター）","-","1（19）","-","改善策の具体的内容等",null,null,null,null,"13検査結果(防火シャッター）-1（19）-改善策の具体的内容等",null,"13検査結果(防火シャッター）-1（19）-改善策の具体的内容等"]
[null,null,null,null,{"$f":"'3_入力シート【検査結果表】防火シャッター'!$CN$35","v":0},null,13,"検査結果(防火シャッター）","-","1（19）","-","改善（予定）年月","-","年（令和）",null,null,"13検査結果(防火シャッター）-1（19）-改善（予定）年月-年（令和）",null,"13検査結果(防火シャッター）-1（19）-改善（予定）年月-年（令和）"]
[null,null,null,null,{"$f":"'3_入力シート【検査結果表】防火シャッター'!$CQ$35","v":0},null,13,"検査結果(防火シャッター）","-","1（19）","-","改善（予定）年月","-","月",null,null,"13検査結果(防火シャッター）-1（19）-改善（予定）年月-月",null,"13検査結果(防火シャッター）-1（19）-改善（予定）年月-月"]
[null,null,null,null,{"$f":"'3_入力シート【検査結果表】防火シャッター'!$CT$35","v":0},null,13,"検査結果(防火シャッター）","-","1（19）","-","改善（予定）年月","-","状況",null,null,"13検査結果(防火シャッター）-1（19）-改善（予定）年月-状況",null,"13検査結果(防火シャッター）-1（19）-改善（予定）年月-状況"]
[null,null,null,null,{"$f":"'3_入力シート【検査結果表】防火シャッター'!$BA$36","v":0},null,13,"検査結果(防火シャッター）","-","1（20）","-","検査結果",null,null,null,null,"13検査結果(防火シャッター）-1（20）-検査結果",null,"13検査結果(防火シャッター）-1（20）-検査結果"]
[null,null,null,null,{"$f":"'3_入力シート【検査結果表】防火シャッター'!$BM$36","v":0},null,13,"検査結果(防火シャッター）","-","1（20）","-","検査者番号",null,null,null,null,"13検査結果(防火シャッター）-1（20）-検査者番号",null,"13検査結果(防火シャッター）-1（20）-検査者番号"]
[null,null,null,null,{"$f":"'3_入力シート【検査結果表】防火シャッター'!$BO$36","v":0},null,13,"検査結果(防火シャッター）","-","1（20）","-","指摘の具体的内容等",null,null,null,null,"13検査結果(防火シャッター）-1（20）-指摘の具体的内容等",null,"13検査結果(防火シャッター）-1（20）-指摘の具体的内容等"]
[null,null,null,null,{"$f":"'3_入力シート【検査結果表】防火シャッター'!$BY$36","v":0},null,13,"検査結果(防火シャッター）","-","1（20）","-","改善策の具体的内容等",null,null,null,null,"13検査結果(防火シャッター）-1（20）-改善策の具体的内容等",null,"13検査結果(防火シャッター）-1（20）-改善策の具体的内容等"]
[null,null,null,null,{"$f":"'3_入力シート【検査結果表】防火シャッター'!$CN$36","v":0},null,13,"検査結果(防火シャッター）","-","1（20）","-","改善（予定）年月","-","年（令和）",null,null,"13検査結果(防火シャッター）-1（20）-改善（予定）年月-年（令和）",null,"13検査結果(防火シャッター）-1（20）-改善（予定）年月-年（令和）"]
[null,null,null,null,{"$f":"'3_入力シート【検査結果表】防火シャッター'!$CQ$36","v":0},null,13,"検査結果(防火シャッター）","-","1（20）","-","改善（予定）年月","-","月",null,null,"13検査結果(防火シャッター）-1（20）-改善（予定）年月-月",null,"13検査結果(防火シャッター）-1（20）-改善（予定）年月-月"]
[null,null,null,null,{"$f":"'3_入力シート【検査結果表】防火シャッター'!$CT$36","v":0},null,13,"検査結果(防火シャッター）","-","1（20）","-","改善（予定）年月","-","状況",null,null,"13検査結果(防火シャッター）-1（20）-改善（予定）年月-状況",null,"13検査結果(防火シャッター）-1（20）-改善（予定）年月-状況"]
[null,null,null,null,{"$f":"'3_入力シート【検査結果表】防火シャッター'!$BA$37","v":0},null,13,"検査結果(防火シャッター）","-","1（21）","-","検査結果",null,null,null,null,"13検査結果(防火シャッター）-1（21）-検査結果",null,"13検査結果(防火シャッター）-1（21）-検査結果"]
[null,null,null,null,{"$f":"'3_入力シート【検査結果表】防火シャッター'!$BM$37","v":0},null,13,"検査結果(防火シャッター）","-","1（21）","-","検査者番号",null,null,null,null,"13検査結果(防火シャッター）-1（21）-検査者番号",null,"13検査結果(防火シャッター）-1（21）-検査者番号"]
[null,null,null,null,{"$f":"'3_入力シート【検査結果表】防火シャッター'!$BO$37","v":0},null,13,"検査結果(防火シャッター）","-","1（21）","-","指摘の具体的内容等",null,null,null,null,"13検査結果(防火シャッター）-1（21）-指摘の具体的内容等",null,"13検査結果(防火シャッター）-1（21）-指摘の具体的内容等"]
[null,null,null,null,{"$f":"'3_入力シート【検査結果表】防火シャッター'!$BY$37","v":0},null,13,"検査結果(防火シャッター）","-","1（21）","-","改善策の具体的内容等",null,null,null,null,"13検査結果(防火シャッター）-1（21）-改善策の具体的内容等",null,"13検査結果(防火シャッター）-1（21）-改善策の具体的内容等"]
[null,null,null,null,{"$f":"'3_入力シート【検査結果表】防火シャッター'!$CN$37","v":0},null,13,"検査結果(防火シャッター）","-","1（21）","-","改善（予定）年月","-","年（令和）",null,null,"13検査結果(防火シャッター）-1（21）-改善（予定）年月-年（令和）",null,"13検査結果(防火シャッター）-1（21）-改善（予定）年月-年（令和）"]
[null,null,null,null,{"$f":"'3_入力シート【検査結果表】防火シャッター'!$CQ$37","v":0},null,13,"検査結果(防火シャッター）","-","1（21）","-","改善（予定）年月","-","月",null,null,"13検査結果(防火シャッター）-1（21）-改善（予定）年月-月",null,"13検査結果(防火シャッター）-1（21）-改善（予定）年月-月"]
[null,null,null,null,{"$f":"'3_入力シート【検査結果表】防火シャッター'!$CT$37","v":0},null,13,"検査結果(防火シャッター）","-","1（21）","-","改善（予定）年月","-","状況",null,null,"13検査結果(防火シャッター）-1（21）-改善（予定）年月-状況",null,"13検査結果(防火シャッター）-1（21）-改善（予定）年月-状況"]
[null,null,null,null,{"$f":"'3_入力シート【検査結果表】防火シャッター'!$BA$38","v":0},null,13,"検査結果(防火シャッター）","-","1（22）","-","検査結果",null,null,null,null,"13検査結果(防火シャッター）-1（22）-検査結果",null,"13検査結果(防火シャッター）-1（22）-検査結果"]
[null,null,null,null,{"$f":"'3_入力シート【検査結果表】防火シャッター'!$BM$38","v":0},null,13,"検査結果(防火シャッター）","-","1（22）","-","検査者番号",null,null,null,null,"13検査結果(防火シャッター）-1（22）-検査者番号",null,"13検査結果(防火シャッター）-1（22）-検査者番号"]
[null,null,null,null,{"$f":"'3_入力シート【検査結果表】防火シャッター'!$BO$38","v":0},null,13,"検査結果(防火シャッター）","-","1（22）","-","指摘の具体的内容等",null,null,null,null,"13検査結果(防火シャッター）-1（22）-指摘の具体的内容等",null,"13検査結果(防火シャッター）-1（22）-指摘の具体的内容等"]
[null,null,null,null,{"$f":"'3_入力シート【検査結果表】防火シャッター'!$BY$38","v":0},null,13,"検査結果(防火シャッター）","-","1（22）","-","改善策の具体的内容等",null,null,null,null,"13検査結果(防火シャッター）-1（22）-改善策の具体的内容等",null,"13検査結果(防火シャッター）-1（22）-改善策の具体的内容等"]
[null,null,null,null,{"$f":"'3_入力シート【検査結果表】防火シャッター'!$CN$38","v":0},null,13,"検査結果(防火シャッター）","-","1（22）","-","改善（予定）年月","-","年（令和）",null,null,"13検査結果(防火シャッター）-1（22）-改善（予定）年月-年（令和）",null,"13検査結果(防火シャッター）-1（22）-改善（予定）年月-年（令和）"]
[null,null,null,null,{"$f":"'3_入力シート【検査結果表】防火シャッター'!$CQ$38","v":0},null,13,"検査結果(防火シャッター）","-","1（22）","-","改善（予定）年月","-","月",null,null,"13検査結果(防火シャッター）-1（22）-改善（予定）年月-月",null,"13検査結果(防火シャッター）-1（22）-改善（予定）年月-月"]
[null,null,null,null,{"$f":"'3_入力シート【検査結果表】防火シャッター'!$CT$38","v":0},null,13,"検査結果(防火シャッター）","-","1（22）","-","改善（予定）年月","-","状況",null,null,"13検査結果(防火シャッター）-1（22）-改善（予定）年月-状況",null,"13検査結果(防火シャッター）-1（22）-改善（予定）年月-状況"]
[null,null,null,null,{"$f":"'3_入力シート【検査結果表】防火シャッター'!$BA$39","v":0},null,13,"検査結果(防火シャッター）","-","1（23）","-","検査結果",null,null,null,null,"13検査結果(防火シャッター）-1（23）-検査結果",null,"13検査結果(防火シャッター）-1（23）-検査結果"]
[null,null,null,null,{"$f":"'3_入力シート【検査結果表】防火シャッター'!$BM$39","v":0},null,13,"検査結果(防火シャッター）","-","1（23）","-","検査者番号",null,null,null,null,"13検査結果(防火シャッター）-1（23）-検査者番号",null,"13検査結果(防火シャッター）-1（23）-検査者番号"]
[null,null,null,null,{"$f":"'3_入力シート【検査結果表】防火シャッター'!$BO$39","v":0},null,13,"検査結果(防火シャッター）","-","1（23）","-","指摘の具体的内容等",null,null,null,null,"13検査結果(防火シャッター）-1（23）-指摘の具体的内容等",null,"13検査結果(防火シャッター）-1（23）-指摘の具体的内容等"]
[null,null,null,null,{"$f":"'3_入力シート【検査結果表】防火シャッター'!$BY$39","v":0},null,13,"検査結果(防火シャッター）","-","1（23）","-","改善策の具体的内容等",null,null,null,null,"13検査結果(防火シャッター）-1（23）-改善策の具体的内容等",null,"13検査結果(防火シャッター）-1（23）-改善策の具体的内容等"]
[null,null,null,null,{"$f":"'3_入力シート【検査結果表】防火シャッター'!$CN$39","v":0},null,13,"検査結果(防火シャッター）","-","1（23）","-","改善（予定）年月","-","年（令和）",null,null,"13検査結果(防火シャッター）-1（23）-改善（予定）年月-年（令和）",null,"13検査結果(防火シャッター）-1（23）-改善（予定）年月-年（令和）"]
[null,null,null,null,{"$f":"'3_入力シート【検査結果表】防火シャッター'!$CQ$39","v":0},null,13,"検査結果(防火シャッター）","-","1（23）","-","改善（予定）年月","-","月",null,null,"13検査結果(防火シャッター）-1（23）-改善（予定）年月-月",null,"13検査結果(防火シャッター）-1（23）-改善（予定）年月-月"]
[null,null,null,null,{"$f":"'3_入力シート【検査結果表】防火シャッター'!$CT$39","v":0},null,13,"検査結果(防火シャッター）","-","1（23）","-","改善（予定）年月","-","状況",null,null,"13検査結果(防火シャッター）-1（23）-改善（予定）年月-状況",null,"13検査結果(防火シャッター）-1（23）-改善（予定）年月-状況"]
[null,null,null,null,{"$f":"'3_入力シート【検査結果表】防火シャッター'!$BA$40","v":0},null,13,"検査結果(防火シャッター）","-","1（24）","-","検査結果",null,null,null,null,{"$f":"CONCATENATE(G724,H724,I724,J724,K724,L724,M724,N724,O724,P724)","v":"13検査結果(防火シャッター）-1（24）-検査結果"},null,"13検査結果(防火シャッター）-1（24）-検査結果"]
[null,null,null,null,{"$f":"'3_入力シート【検査結果表】防火シャッター'!$BM$40","v":0},null,13,"検査結果(防火シャッター）","-","1（24）","-","検査者番号",null,null,null,null,"13検査結果(防火シャッター）-1（24）-検査者番号",null,"13検査結果(防火シャッター）-1（24）-検査者番号"]
[null,null,null,null,{"$f":"'3_入力シート【検査結果表】防火シャッター'!$BO$40","v":0},null,13,"検査結果(防火シャッター）","-","1（24）","-","指摘の具体的内容等",null,null,null,null,"13検査結果(防火シャッター）-1（24）-指摘の具体的内容等",null,"13検査結果(防火シャッター）-1（24）-指摘の具体的内容等"]
[null,null,null,null,{"$f":"'3_入力シート【検査結果表】防火シャッター'!$BY$40","v":0},null,13,"検査結果(防火シャッター）","-","1（24）","-","改善策の具体的内容等",null,null,null,null,"13検査結果(防火シャッター）-1（24）-改善策の具体的内容等",null,"13検査結果(防火シャッター）-1（24）-改善策の具体的内容等"]
[null,null,null,null,{"$f":"'3_入力シート【検査結果表】防火シャッター'!$CN$40","v":0},null,13,"検査結果(防火シャッター）","-","1（24）","-","改善（予定）年月","-","年（令和）",null,null,"13検査結果(防火シャッター）-1（24）-改善（予定）年月-年（令和）",null,"13検査結果(防火シャッター）-1（24）-改善（予定）年月-年（令和）"]
[null,null,null,null,{"$f":"'3_入力シート【検査結果表】防火シャッター'!$CQ$40","v":0},null,13,"検査結果(防火シャッター）","-","1（24）","-","改善（予定）年月","-","月",null,null,"13検査結果(防火シャッター）-1（24）-改善（予定）年月-月",null,"13検査結果(防火シャッター）-1（24）-改善（予定）年月-月"]
[null,null,null,null,{"$f":"'3_入力シート【検査結果表】防火シャッター'!$CT$40","v":0},null,13,"検査結果(防火シャッター）","-","1（24）","-","改善（予定）年月","-","状況",null,null,"13検査結果(防火シャッター）-1（24）-改善（予定）年月-状況",null,"13検査結果(防火シャッター）-1（24）-改善（予定）年月-状況"]
[null,null,null,null,{"$f":"'3_入力シート【検査結果表】防火シャッター'!$BA$41","v":0},null,13,"検査結果(防火シャッター）","-","1（25）","-","検査結果",null,null,null,null,"13検査結果(防火シャッター）-1（25）-検査結果",null,"13検査結果(防火シャッター）-1（25）-検査結果"]
[null,null,null,null,{"$f":"'3_入力シート【検査結果表】防火シャッター'!$BM$41","v":0},null,13,"検査結果(防火シャッター）","-","1（25）","-","検査者番号",null,null,null,null,"13検査結果(防火シャッター）-1（25）-検査者番号",null,"13検査結果(防火シャッター）-1（25）-検査者番号"]
[null,null,null,null,{"$f":"'3_入力シート【検査結果表】防火シャッター'!$BO$41","v":0},null,13,"検査結果(防火シャッター）","-","1（25）","-","指摘の具体的内容等",null,null,null,null,"13検査結果(防火シャッター）-1（25）-指摘の具体的内容等",null,"13検査結果(防火シャッター）-1（25）-指摘の具体的内容等"]
[null,null,null,null,{"$f":"'3_入力シート【検査結果表】防火シャッター'!$BY$41","v":0},null,13,"検査結果(防火シャッター）","-","1（25）","-","改善策の具体的内容等",null,null,null,null,"13検査結果(防火シャッター）-1（25）-改善策の具体的内容等",null,"13検査結果(防火シャッター）-1（25）-改善策の具体的内容等"]
[null,null,null,null,{"$f":"'3_入力シート【検査結果表】防火シャッター'!$CN$41","v":0},null,13,"検査結果(防火シャッター）","-","1（25）","-","改善（予定）年月","-","年（令和）",null,null,"13検査結果(防火シャッター）-1（25）-改善（予定）年月-年（令和）",null,"13検査結果(防火シャッター）-1（25）-改善（予定）年月-年（令和）"]
[null,null,null,null,{"$f":"'3_入力シート【検査結果表】防火シャッター'!$CQ$41","v":0},null,13,"検査結果(防火シャッター）","-","1（25）","-","改善（予定）年月","-","月",null,null,"13検査結果(防火シャッター）-1（25）-改善（予定）年月-月",null,"13検査結果(防火シャッター）-1（25）-改善（予定）年月-月"]
[null,null,null,null,{"$f":"'3_入力シート【検査結果表】防火シャッター'!$CT$41","v":0},null,13,"検査結果(防火シャッター）","-","1（25）","-","改善（予定）年月","-","状況",null,null,"13検査結果(防火シャッター）-1（25）-改善（予定）年月-状況",null,"13検査結果(防火シャッター）-1（25）-改善（予定）年月-状況"]
[null,null,null,null,{"$f":"'3_入力シート【検査結果表】防火シャッター'!$BA$42","v":0},null,13,"検査結果(防火シャッター）","-","1（26）","-","検査結果",null,null,null,null,"13検査結果(防火シャッター）-1（26）-検査結果",null,"13検査結果(防火シャッター）-1（26）-検査結果"]
[null,null,null,null,{"$f":"'3_入力シート【検査結果表】防火シャッター'!$BM$42","v":0},null,13,"検査結果(防火シャッター）","-","1（26）","-","検査者番号",null,null,null,null,"13検査結果(防火シャッター）-1（26）-検査者番号",null,"13検査結果(防火シャッター）-1（26）-検査者番号"]
[null,null,null,null,{"$f":"'3_入力シート【検査結果表】防火シャッター'!$BO$42","v":0},null,13,"検査結果(防火シャッター）","-","1（26）","-","指摘の具体的内容等",null,null,null,null,"13検査結果(防火シャッター）-1（26）-指摘の具体的内容等",null,"13検査結果(防火シャッター）-1（26）-指摘の具体的内容等"]
[null,null,null,null,{"$f":"'3_入力シート【検査結果表】防火シャッター'!$BY$42","v":0},null,13,"検査結果(防火シャッター）","-","1（26）","-","改善策の具体的内容等",null,null,null,null,"13検査結果(防火シャッター）-1（26）-改善策の具体的内容等",null,"13検査結果(防火シャッター）-1（26）-改善策の具体的内容等"]
[null,null,null,null,{"$f":"'3_入力シート【検査結果表】防火シャッター'!$CN$42","v":0},null,13,"検査結果(防火シャッター）","-","1（26）","-","改善（予定）年月","-","年（令和）",null,null,"13検査結果(防火シャッター）-1（26）-改善（予定）年月-年（令和）",null,"13検査結果(防火シャッター）-1（26）-改善（予定）年月-年（令和）"]
[null,null,null,null,{"$f":"'3_入力シート【検査結果表】防火シャッター'!$CQ$42","v":0},null,13,"検査結果(防火シャッター）","-","1（26）","-","改善（予定）年月","-","月",null,null,"13検査結果(防火シャッター）-1（26）-改善（予定）年月-月",null,"13検査結果(防火シャッター）-1（26）-改善（予定）年月-月"]
[null,null,null,null,{"$f":"'3_入力シート【検査結果表】防火シャッター'!$CT$42","v":0},null,13,"検査結果(防火シャッター）","-","1（26）","-","改善（予定）年月","-","状況",null,null,"13検査結果(防火シャッター）-1（26）-改善（予定）年月-状況",null,"13検査結果(防火シャッター）-1（26）-改善（予定）年月-状況"]
[null,null,null,null,{"$f":"'3_入力シート【検査結果表】防火シャッター'!$BA$43","v":0},null,13,"検査結果(防火シャッター）","-","1（27）","-","検査結果",null,null,null,null,"13検査結果(防火シャッター）-1（27）-検査結果",null,"13検査結果(防火シャッター）-1（27）-検査結果"]
[null,null,null,null,{"$f":"'3_入力シート【検査結果表】防火シャッター'!$BM$43","v":0},null,13,"検査結果(防火シャッター）","-","1（27）","-","検査者番号",null,null,null,null,"13検査結果(防火シャッター）-1（27）-検査者番号",null,"13検査結果(防火シャッター）-1（27）-検査者番号"]
[null,null,null,null,{"$f":"'3_入力シート【検査結果表】防火シャッター'!$BO$43","v":0},null,13,"検査結果(防火シャッター）","-","1（27）","-","指摘の具体的内容等",null,null,null,null,"13検査結果(防火シャッター）-1（27）-指摘の具体的内容等",null,"13検査結果(防火シャッター）-1（27）-指摘の具体的内容等"]
[null,null,null,null,{"$f":"'3_入力シート【検査結果表】防火シャッター'!$BY$43","v":0},null,13,"検査結果(防火シャッター）","-","1（27）","-","改善策の具体的内容等",null,null,null,null,"13検査結果(防火シャッター）-1（27）-改善策の具体的内容等",null,"13検査結果(防火シャッター）-1（27）-改善策の具体的内容等"]
[null,null,null,null,{"$f":"'3_入力シート【検査結果表】防火シャッター'!$CN$43","v":0},null,13,"検査結果(防火シャッター）","-","1（27）","-","改善（予定）年月","-","年（令和）",null,null,"13検査結果(防火シャッター）-1（27）-改善（予定）年月-年（令和）",null,"13検査結果(防火シャッター）-1（27）-改善（予定）年月-年（令和）"]
[null,null,null,null,{"$f":"'3_入力シート【検査結果表】防火シャッター'!$CQ$43","v":0},null,13,"検査結果(防火シャッター）","-","1（27）","-","改善（予定）年月","-","月",null,null,"13検査結果(防火シャッター）-1（27）-改善（予定）年月-月",null,"13検査結果(防火シャッター）-1（27）-改善（予定）年月-月"]
[null,null,null,null,{"$f":"'3_入力シート【検査結果表】防火シャッター'!$CT$43","v":0},null,13,"検査結果(防火シャッター）","-","1（27）","-","改善（予定）年月","-","状況",null,null,"13検査結果(防火シャッター）-1（27）-改善（予定）年月-状況",null,"13検査結果(防火シャッター）-1（27）-改善（予定）年月-状況"]
[null,null,null,null,{"$f":"'3_入力シート【検査結果表】防火シャッター'!$M$51","v":0},null,13,"検査結果(防火シャッター）","-","上記以外の検査項目等","-","1行目","-","番号",null,null,"13検査結果(防火シャッター）-上記以外の検査項目等-1行目-番号",null,"13検査結果(防火シャッター）-上記以外の検査項目等-1行目-番号"]
[null,null,null,null,{"$f":"'3_入力シート【検査結果表】防火シャッター'!$P$51","v":0},null,13,"検査結果(防火シャッター）","-","上記以外の検査項目等","-","1行目","-","検査項目",null,null,"13検査結果(防火シャッター）-上記以外の検査項目等-1行目-検査項目",null,"13検査結果(防火シャッター）-上記以外の検査項目等-1行目-検査項目"]
[null,null,null,null,{"$f":"'3_入力シート【検査結果表】防火シャッター'!$AG$51","v":0},null,13,"検査結果(防火シャッター）","-","上記以外の検査項目等","-","1行目","-","検査事項",null,null,"13検査結果(防火シャッター）-上記以外の検査項目等-1行目-検査事項",null,"13検査結果(防火シャッター）-上記以外の検査項目等-1行目-検査事項"]
[null,null,null,null,{"$f":"'3_入力シート【検査結果表】防火シャッター'!$BA$51","v":0},null,13,"検査結果(防火シャッター）","-","上記以外の検査項目等","-","1行目","-","検査結果",null,null,"13検査結果(防火シャッター）-上記以外の検査項目等-1行目-検査結果",null,"13検査結果(防火シャッター）-上記以外の検査項目等-1行目-検査結果"]
[null,null,null,null,{"$f":"'3_入力シート【検査結果表】防火シャッター'!$BM$51","v":0},null,13,"検査結果(防火シャッター）","-","上記以外の検査項目等","-","1行目","-","検査者番号",null,null,"13検査結果(防火シャッター）-上記以外の検査項目等-1行目-検査者番号",null,"13検査結果(防火シャッター）-上記以外の検査項目等-1行目-検査者番号"]
[null,null,null,null,{"$f":"'3_入力シート【検査結果表】防火シャッター'!$BO$51","v":0},null,13,"検査結果(防火シャッター）","-","上記以外の検査項目等","-","1行目","-","指摘の具体的内容等",null,null,"13検査結果(防火シャッター）-上記以外の検査項目等-1行目-指摘の具体的内容等",null,"13検査結果(防火シャッター）-上記以外の検査項目等-1行目-指摘の具体的内容等"]
[null,null,null,null,{"$f":"'3_入力シート【検査結果表】防火シャッター'!$BY$51","v":0},null,13,"検査結果(防火シャッター）","-","上記以外の検査項目等","-","1行目","-","改善策の具体的内容等",null,null,"13検査結果(防火シャッター）-上記以外の検査項目等-1行目-改善策の具体的内容等",null,"13検査結果(防火シャッター）-上記以外の検査項目等-1行目-改善策の具体的内容等"]
[null,null,null,null,{"$f":"'3_入力シート【検査結果表】防火シャッター'!$CN$51","v":0},null,13,"検査結果(防火シャッター）","-","上記以外の検査項目等","-","1行目","-","改善（予定）年月","-","年（令和）","13検査結果(防火シャッター）-上記以外の検査項目等-1行目-改善（予定）年月-年（令和）",null,"13検査結果(防火シャッター）-上記以外の検査項目等-1行目-改善（予定）年月-年（令和）"]
[null,null,null,null,{"$f":"'3_入力シート【検査結果表】防火シャッター'!$CQ$51","v":0},null,13,"検査結果(防火シャッター）","-","上記以外の検査項目等","-","1行目","-","改善（予定）年月","-","月","13検査結果(防火シャッター）-上記以外の検査項目等-1行目-改善（予定）年月-月",null,"13検査結果(防火シャッター）-上記以外の検査項目等-1行目-改善（予定）年月-月"]
[null,null,null,null,{"$f":"'3_入力シート【検査結果表】防火シャッター'!$CT$51","v":0},null,13,"検査結果(防火シャッター）","-","上記以外の検査項目等","-","1行目","-","改善（予定）年月","-","状況","13検査結果(防火シャッター）-上記以外の検査項目等-1行目-改善（予定）年月-状況",null,"13検査結果(防火シャッター）-上記以外の検査項目等-1行目-改善（予定）年月-状況"]
[null,null,null,null,{"$f":"'3_入力シート【検査結果表】防火シャッター'!$M$52","v":0},null,13,"検査結果(防火シャッター）","-","上記以外の検査項目等","-","2行目","-","番号",null,null,"13検査結果(防火シャッター）-上記以外の検査項目等-2行目-番号",null,"13検査結果(防火シャッター）-上記以外の検査項目等-2行目-番号"]
[null,null,null,null,{"$f":"'3_入力シート【検査結果表】防火シャッター'!$P$52","v":0},null,13,"検査結果(防火シャッター）","-","上記以外の検査項目等","-","2行目","-","検査項目",null,null,"13検査結果(防火シャッター）-上記以外の検査項目等-2行目-検査項目",null,"13検査結果(防火シャッター）-上記以外の検査項目等-2行目-検査項目"]
[null,null,null,null,{"$f":"'3_入力シート【検査結果表】防火シャッター'!$AG$52","v":0},null,13,"検査結果(防火シャッター）","-","上記以外の検査項目等","-","2行目","-","検査事項",null,null,"13検査結果(防火シャッター）-上記以外の検査項目等-2行目-検査事項",null,"13検査結果(防火シャッター）-上記以外の検査項目等-2行目-検査事項"]
[null,null,null,null,{"$f":"'3_入力シート【検査結果表】防火シャッター'!$BA$52","v":0},null,13,"検査結果(防火シャッター）","-","上記以外の検査項目等","-","2行目","-","検査結果",null,null,"13検査結果(防火シャッター）-上記以外の検査項目等-2行目-検査結果",null,"13検査結果(防火シャッター）-上記以外の検査項目等-2行目-検査結果"]
[null,null,null,null,{"$f":"'3_入力シート【検査結果表】防火シャッター'!$BM$52","v":0},null,13,"検査結果(防火シャッター）","-","上記以外の検査項目等","-","2行目","-","検査者番号",null,null,"13検査結果(防火シャッター）-上記以外の検査項目等-2行目-検査者番号",null,"13検査結果(防火シャッター）-上記以外の検査項目等-2行目-検査者番号"]
[null,null,null,null,{"$f":"'3_入力シート【検査結果表】防火シャッター'!$BO$52","v":0},null,13,"検査結果(防火シャッター）","-","上記以外の検査項目等","-","2行目","-","指摘の具体的内容等",null,null,"13検査結果(防火シャッター）-上記以外の検査項目等-2行目-指摘の具体的内容等",null,"13検査結果(防火シャッター）-上記以外の検査項目等-2行目-指摘の具体的内容等"]
[null,null,null,null,{"$f":"'3_入力シート【検査結果表】防火シャッター'!$BY$52","v":0},null,13,"検査結果(防火シャッター）","-","上記以外の検査項目等","-","2行目","-","改善策の具体的内容等",null,null,"13検査結果(防火シャッター）-上記以外の検査項目等-2行目-改善策の具体的内容等",null,"13検査結果(防火シャッター）-上記以外の検査項目等-2行目-改善策の具体的内容等"]
[null,null,null,null,{"$f":"'3_入力シート【検査結果表】防火シャッター'!$CN$52","v":0},null,13,"検査結果(防火シャッター）","-","上記以外の検査項目等","-","2行目","-","改善（予定）年月","-","年（令和）","13検査結果(防火シャッター）-上記以外の検査項目等-2行目-改善（予定）年月-年（令和）",null,"13検査結果(防火シャッター）-上記以外の検査項目等-2行目-改善（予定）年月-年（令和）"]
[null,null,null,null,{"$f":"'3_入力シート【検査結果表】防火シャッター'!$CQ$52","v":0},null,13,"検査結果(防火シャッター）","-","上記以外の検査項目等","-","2行目","-","改善（予定）年月","-","月","13検査結果(防火シャッター）-上記以外の検査項目等-2行目-改善（予定）年月-月",null,"13検査結果(防火シャッター）-上記以外の検査項目等-2行目-改善（予定）年月-月"]
[null,null,null,null,{"$f":"'3_入力シート【検査結果表】防火シャッター'!$CT$52","v":0},null,13,"検査結果(防火シャッター）","-","上記以外の検査項目等","-","2行目","-","改善（予定）年月","-","状況","13検査結果(防火シャッター）-上記以外の検査項目等-2行目-改善（予定）年月-状況",null,"13検査結果(防火シャッター）-上記以外の検査項目等-2行目-改善（予定）年月-状況"]
[null,null,null,null,{"$f":"'3_入力シート【検査結果表】防火シャッター'!$M$53","v":0},null,13,"検査結果(防火シャッター）","-","上記以外の検査項目等","-","3行目","-","番号",null,null,"13検査結果(防火シャッター）-上記以外の検査項目等-3行目-番号",null,"13検査結果(防火シャッター）-上記以外の検査項目等-3行目-番号"]
[null,null,null,null,{"$f":"'3_入力シート【検査結果表】防火シャッター'!$P$53","v":0},null,13,"検査結果(防火シャッター）","-","上記以外の検査項目等","-","3行目","-","検査項目",null,null,"13検査結果(防火シャッター）-上記以外の検査項目等-3行目-検査項目",null,"13検査結果(防火シャッター）-上記以外の検査項目等-3行目-検査項目"]
[null,null,null,null,{"$f":"'3_入力シート【検査結果表】防火シャッター'!$AG$53","v":0},null,13,"検査結果(防火シャッター）","-","上記以外の検査項目等","-","3行目","-","検査事項",null,null,"13検査結果(防火シャッター）-上記以外の検査項目等-3行目-検査事項",null,"13検査結果(防火シャッター）-上記以外の検査項目等-3行目-検査事項"]
[null,null,null,null,{"$f":"'3_入力シート【検査結果表】防火シャッター'!$BA$53","v":0},null,13,"検査結果(防火シャッター）","-","上記以外の検査項目等","-","3行目","-","検査結果",null,null,"13検査結果(防火シャッター）-上記以外の検査項目等-3行目-検査結果",null,"13検査結果(防火シャッター）-上記以外の検査項目等-3行目-検査結果"]
[null,null,null,null,{"$f":"'3_入力シート【検査結果表】防火シャッター'!$BM$53","v":0},null,13,"検査結果(防火シャッター）","-","上記以外の検査項目等","-","3行目","-","検査者番号",null,null,"13検査結果(防火シャッター）-上記以外の検査項目等-3行目-検査者番号",null,"13検査結果(防火シャッター）-上記以外の検査項目等-3行目-検査者番号"]
[null,null,null,null,{"$f":"'3_入力シート【検査結果表】防火シャッター'!$BO$53","v":0},null,13,"検査結果(防火シャッター）","-","上記以外の検査項目等","-","3行目","-","指摘の具体的内容等",null,null,"13検査結果(防火シャッター）-上記以外の検査項目等-3行目-指摘の具体的内容等",null,"13検査結果(防火シャッター）-上記以外の検査項目等-3行目-指摘の具体的内容等"]
[null,null,null,null,{"$f":"'3_入力シート【検査結果表】防火シャッター'!$BY$53","v":0},null,13,"検査結果(防火シャッター）","-","上記以外の検査項目等","-","3行目","-","改善策の具体的内容等",null,null,"13検査結果(防火シャッター）-上記以外の検査項目等-3行目-改善策の具体的内容等",null,"13検査結果(防火シャッター）-上記以外の検査項目等-3行目-改善策の具体的内容等"]
[null,null,null,null,{"$f":"'3_入力シート【検査結果表】防火シャッター'!$CN$53","v":0},null,13,"検査結果(防火シャッター）","-","上記以外の検査項目等","-","3行目","-","改善（予定）年月","-","年（令和）","13検査結果(防火シャッター）-上記以外の検査項目等-3行目-改善（予定）年月-年（令和）",null,"13検査結果(防火シャッター）-上記以外の検査項目等-3行目-改善（予定）年月-年（令和）"]
[null,null,null,null,{"$f":"'3_入力シート【検査結果表】防火シャッター'!$CQ$53","v":0},null,13,"検査結果(防火シャッター）","-","上記以外の検査項目等","-","3行目","-","改善（予定）年月","-","月","13検査結果(防火シャッター）-上記以外の検査項目等-3行目-改善（予定）年月-月",null,"13検査結果(防火シャッター）-上記以外の検査項目等-3行目-改善（予定）年月-月"]
[null,null,null,null,{"$f":"'3_入力シート【検査結果表】防火シャッター'!$CT$53","v":0},null,13,"検査結果(防火シャッター）","-","上記以外の検査項目等","-","3行目","-","改善（予定）年月","-","状況","13検査結果(防火シャッター）-上記以外の検査項目等-3行目-改善（予定）年月-状況",null,"13検査結果(防火シャッター）-上記以外の検査項目等-3行目-改善（予定）年月-状況"]
[null,null,null,null,{"$f":"'3_入力シート【検査結果表】防火シャッター'!$M$61","v":0},null,13,"検査結果(防火シャッター）","-","上記に記載のない事項","-","1行目","-","番号",null,null,"13検査結果(防火シャッター）-上記に記載のない事項-1行目-番号",null,"13検査結果(防火シャッター）-上記に記載のない事項-1行目-番号"]
[null,null,null,null,{"$f":"'3_入力シート【検査結果表】防火シャッター'!$P$61","v":0},null,13,"検査結果(防火シャッター）","-","上記に記載のない事項","-","1行目","-","検査項目",null,null,"13検査結果(防火シャッター）-上記に記載のない事項-1行目-検査項目",null,"13検査結果(防火シャッター）-上記に記載のない事項-1行目-検査項目"]
[null,null,null,null,{"$f":"'3_入力シート【検査結果表】防火シャッター'!$AG$61","v":0},null,13,"検査結果(防火シャッター）","-","上記に記載のない事項","-","1行目","-","検査事項",null,null,"13検査結果(防火シャッター）-上記に記載のない事項-1行目-検査事項",null,"13検査結果(防火シャッター）-上記に記載のない事項-1行目-検査事項"]
[null,null,null,null,{"$f":"'3_入力シート【検査結果表】防火シャッター'!$BA$61","v":0},null,13,"検査結果(防火シャッター）","-","上記に記載のない事項","-","1行目","-","検査結果",null,null,"13検査結果(防火シャッター）-上記に記載のない事項-1行目-検査結果",null,"13検査結果(防火シャッター）-上記に記載のない事項-1行目-検査結果"]
[null,null,null,null,{"$f":"'3_入力シート【検査結果表】防火シャッター'!$BM$61","v":0},null,13,"検査結果(防火シャッター）","-","上記に記載のない事項","-","1行目","-","検査者番号",null,null,"13検査結果(防火シャッター）-上記に記載のない事項-1行目-検査者番号",null,"13検査結果(防火シャッター）-上記に記載のない事項-1行目-検査者番号"]
[null,null,null,null,{"$f":"'3_入力シート【検査結果表】防火シャッター'!$BO$61","v":0},null,13,"検査結果(防火シャッター）","-","上記に記載のない事項","-","1行目","-","指摘の具体的内容等",null,null,"13検査結果(防火シャッター）-上記に記載のない事項-1行目-指摘の具体的内容等",null,"13検査結果(防火シャッター）-上記に記載のない事項-1行目-指摘の具体的内容等"]
[null,null,null,null,{"$f":"'3_入力シート【検査結果表】防火シャッター'!$BY$61","v":0},null,13,"検査結果(防火シャッター）","-","上記に記載のない事項","-","1行目","-","改善策の具体的内容等",null,null,{"$f":"CONCATENATE(G788,H788,I788,J788,K788,L788,M788,N788,O788,P788)","v":"13検査結果(防火シャッター）-上記に記載のない事項-1行目-改善策の具体的内容等"},null,"13検査結果(防火シャッター）-上記に記載のない事項-1行目-改善策の具体的内容等"]
[null,null,null,null,{"$f":"'3_入力シート【検査結果表】防火シャッター'!$CN$61","v":0},null,13,"検査結果(防火シャッター）","-","上記に記載のない事項","-","1行目","-","改善（予定）年月","-","年（令和）","13検査結果(防火シャッター）-上記に記載のない事項-1行目-改善（予定）年月-年（令和）",null,"13検査結果(防火シャッター）-上記に記載のない事項-1行目-改善（予定）年月-年（令和）"]
[null,null,null,null,{"$f":"'3_入力シート【検査結果表】防火シャッター'!$CQ$61","v":0},null,13,"検査結果(防火シャッター）","-","上記に記載のない事項","-","1行目","-","改善（予定）年月","-","月","13検査結果(防火シャッター）-上記に記載のない事項-1行目-改善（予定）年月-月",null,"13検査結果(防火シャッター）-上記に記載のない事項-1行目-改善（予定）年月-月"]
[null,null,null,null,{"$f":"'3_入力シート【検査結果表】防火シャッター'!$CT$61","v":0},null,13,"検査結果(防火シャッター）","-","上記に記載のない事項","-","1行目","-","改善（予定）年月","-","状況","13検査結果(防火シャッター）-上記に記載のない事項-1行目-改善（予定）年月-状況",null,"13検査結果(防火シャッター）-上記に記載のない事項-1行目-改善（予定）年月-状況"]
[null,null,null,null,{"$f":"'3_入力シート【検査結果表】防火シャッター'!$M$62","v":0},null,13,"検査結果(防火シャッター）","-","上記に記載のない事項","-","2行目","-","番号",null,null,"13検査結果(防火シャッター）-上記に記載のない事項-2行目-番号",null,"13検査結果(防火シャッター）-上記に記載のない事項-2行目-番号"]
[null,null,null,null,{"$f":"'3_入力シート【検査結果表】防火シャッター'!$P$62","v":0},null,13,"検査結果(防火シャッター）","-","上記に記載のない事項","-","2行目","-","検査項目",null,null,"13検査結果(防火シャッター）-上記に記載のない事項-2行目-検査項目",null,"13検査結果(防火シャッター）-上記に記載のない事項-2行目-検査項目"]
[null,null,null,null,{"$f":"'3_入力シート【検査結果表】防火シャッター'!$AG$62","v":0},null,13,"検査結果(防火シャッター）","-","上記に記載のない事項","-","2行目","-","検査事項",null,null,"13検査結果(防火シャッター）-上記に記載のない事項-2行目-検査事項",null,"13検査結果(防火シャッター）-上記に記載のない事項-2行目-検査事項"]
[null,null,null,null,{"$f":"'3_入力シート【検査結果表】防火シャッター'!$BA$62","v":0},null,13,"検査結果(防火シャッター）","-","上記に記載のない事項","-","2行目","-","検査結果",null,null,"13検査結果(防火シャッター）-上記に記載のない事項-2行目-検査結果",null,"13検査結果(防火シャッター）-上記に記載のない事項-2行目-検査結果"]
[null,null,null,null,{"$f":"'3_入力シート【検査結果表】防火シャッター'!$BM$62","v":0},null,13,"検査結果(防火シャッター）","-","上記に記載のない事項","-","2行目","-","検査者番号",null,null,"13検査結果(防火シャッター）-上記に記載のない事項-2行目-検査者番号",null,"13検査結果(防火シャッター）-上記に記載のない事項-2行目-検査者番号"]
[null,null,null,null,{"$f":"'3_入力シート【検査結果表】防火シャッター'!$BO$62","v":0},null,13,"検査結果(防火シャッター）","-","上記に記載のない事項","-","2行目","-","指摘の具体的内容等",null,null,"13検査結果(防火シャッター）-上記に記載のない事項-2行目-指摘の具体的内容等",null,"13検査結果(防火シャッター）-上記に記載のない事項-2行目-指摘の具体的内容等"]
[null,null,null,null,{"$f":"'3_入力シート【検査結果表】防火シャッター'!$BY$62","v":0},null,13,"検査結果(防火シャッター）","-","上記に記載のない事項","-","2行目","-","改善策の具体的内容等",null,null,"13検査結果(防火シャッター）-上記に記載のない事項-2行目-改善策の具体的内容等",null,"13検査結果(防火シャッター）-上記に記載のない事項-2行目-改善策の具体的内容等"]
[null,null,null,null,{"$f":"'3_入力シート【検査結果表】防火シャッター'!$CN$62","v":0},null,13,"検査結果(防火シャッター）","-","上記に記載のない事項","-","2行目","-","改善（予定）年月","-","年（令和）","13検査結果(防火シャッター）-上記に記載のない事項-2行目-改善（予定）年月-年（令和）",null,"13検査結果(防火シャッター）-上記に記載のない事項-2行目-改善（予定）年月-年（令和）"]
[null,null,null,null,{"$f":"'3_入力シート【検査結果表】防火シャッター'!$CQ$62","v":0},null,13,"検査結果(防火シャッター）","-","上記に記載のない事項","-","2行目","-","改善（予定）年月","-","月","13検査結果(防火シャッター）-上記に記載のない事項-2行目-改善（予定）年月-月",null,"13検査結果(防火シャッター）-上記に記載のない事項-2行目-改善（予定）年月-月"]
[null,null,null,null,{"$f":"'3_入力シート【検査結果表】防火シャッター'!$CT$62","v":0},null,13,"検査結果(防火シャッター）","-","上記に記載のない事項","-","2行目","-","改善（予定）年月","-","状況","13検査結果(防火シャッター）-上記に記載のない事項-2行目-改善（予定）年月-状況",null,"13検査結果(防火シャッター）-上記に記載のない事項-2行目-改善（予定）年月-状況"]
[null,null,null,null,{"$f":"'3_入力シート【検査結果表】防火シャッター'!$M$63","v":0},null,13,"検査結果(防火シャッター）","-","上記に記載のない事項","-","3行目","-","番号",null,null,"13検査結果(防火シャッター）-上記に記載のない事項-3行目-番号",null,"13検査結果(防火シャッター）-上記に記載のない事項-3行目-番号"]
[null,null,null,null,{"$f":"'3_入力シート【検査結果表】防火シャッター'!$P$63","v":0},null,13,"検査結果(防火シャッター）","-","上記に記載のない事項","-","3行目","-","検査項目",null,null,"13検査結果(防火シャッター）-上記に記載のない事項-3行目-検査項目",null,"13検査結果(防火シャッター）-上記に記載のない事項-3行目-検査項目"]
[null,null,null,null,{"$f":"'3_入力シート【検査結果表】防火シャッター'!$AG$63","v":0},null,13,"検査結果(防火シャッター）","-","上記に記載のない事項","-","3行目","-","検査事項",null,null,"13検査結果(防火シャッター）-上記に記載のない事項-3行目-検査事項",null,"13検査結果(防火シャッター）-上記に記載のない事項-3行目-検査事項"]
[null,null,null,null,{"$f":"'3_入力シート【検査結果表】防火シャッター'!$BA$63","v":0},null,13,"検査結果(防火シャッター）","-","上記に記載のない事項","-","3行目","-","検査結果",null,null,"13検査結果(防火シャッター）-上記に記載のない事項-3行目-検査結果",null,"13検査結果(防火シャッター）-上記に記載のない事項-3行目-検査結果"]
[null,null,null,null,{"$f":"'3_入力シート【検査結果表】防火シャッター'!$BM$63","v":0},null,13,"検査結果(防火シャッター）","-","上記に記載のない事項","-","3行目","-","検査者番号",null,null,"13検査結果(防火シャッター）-上記に記載のない事項-3行目-検査者番号",null,"13検査結果(防火シャッター）-上記に記載のない事項-3行目-検査者番号"]
[null,null,null,null,{"$f":"'3_入力シート【検査結果表】防火シャッター'!$BO$63","v":0},null,13,"検査結果(防火シャッター）","-","上記に記載のない事項","-","3行目","-","指摘の具体的内容等",null,null,"13検査結果(防火シャッター）-上記に記載のない事項-3行目-指摘の具体的内容等",null,"13検査結果(防火シャッター）-上記に記載のない事項-3行目-指摘の具体的内容等"]
[null,null,null,null,{"$f":"'3_入力シート【検査結果表】防火シャッター'!$BY$63","v":0},null,13,"検査結果(防火シャッター）","-","上記に記載のない事項","-","3行目","-","改善策の具体的内容等",null,null,"13検査結果(防火シャッター）-上記に記載のない事項-3行目-改善策の具体的内容等",null,"13検査結果(防火シャッター）-上記に記載のない事項-3行目-改善策の具体的内容等"]
[null,null,null,null,{"$f":"'3_入力シート【検査結果表】防火シャッター'!$CN$63","v":0},null,13,"検査結果(防火シャッター）","-","上記に記載のない事項","-","3行目","-","改善（予定）年月","-","年（令和）","13検査結果(防火シャッター）-上記に記載のない事項-3行目-改善（予定）年月-年（令和）",null,"13検査結果(防火シャッター）-上記に記載のない事項-3行目-改善（予定）年月-年（令和）"]
[null,null,null,null,{"$f":"'3_入力シート【検査結果表】防火シャッター'!$CQ$63","v":0},null,13,"検査結果(防火シャッター）","-","上記に記載のない事項","-","3行目","-","改善（予定）年月","-","月","13検査結果(防火シャッター）-上記に記載のない事項-3行目-改善（予定）年月-月",null,"13検査結果(防火シャッター）-上記に記載のない事項-3行目-改善（予定）年月-月"]
[null,null,null,null,{"$f":"'3_入力シート【検査結果表】防火シャッター'!$CT$63","v":0},null,13,"検査結果(防火シャッター）","-","上記に記載のない事項","-","3行目","-","改善（予定）年月","-","状況","13検査結果(防火シャッター）-上記に記載のない事項-3行目-改善（予定）年月-状況",null,"13検査結果(防火シャッター）-上記に記載のない事項-3行目-改善（予定）年月-状況"]
[null,null,null,null,{"$f":"'3_入力シート【検査結果表】防火シャッター'!$M$64","v":0},null,13,"検査結果(防火シャッター）","-","上記に記載のない事項","-","4行目","-","番号",null,null,"13検査結果(防火シャッター）-上記に記載のない事項-4行目-番号",null,"13検査結果(防火シャッター）-上記に記載のない事項-4行目-番号"]
[null,null,null,null,{"$f":"'3_入力シート【検査結果表】防火シャッター'!$P$64","v":0},null,13,"検査結果(防火シャッター）","-","上記に記載のない事項","-","4行目","-","検査項目",null,null,"13検査結果(防火シャッター）-上記に記載のない事項-4行目-検査項目",null,"13検査結果(防火シャッター）-上記に記載のない事項-4行目-検査項目"]
[null,null,null,null,{"$f":"'3_入力シート【検査結果表】防火シャッター'!$AG$64","v":0},null,13,"検査結果(防火シャッター）","-","上記に記載のない事項","-","4行目","-","検査事項",null,null,"13検査結果(防火シャッター）-上記に記載のない事項-4行目-検査事項",null,"13検査結果(防火シャッター）-上記に記載のない事項-4行目-検査事項"]
[null,null,null,null,{"$f":"'3_入力シート【検査結果表】防火シャッター'!$BA$64","v":0},null,13,"検査結果(防火シャッター）","-","上記に記載のない事項","-","4行目","-","検査結果",null,null,"13検査結果(防火シャッター）-上記に記載のない事項-4行目-検査結果",null,"13検査結果(防火シャッター）-上記に記載のない事項-4行目-検査結果"]
[null,null,null,null,{"$f":"'3_入力シート【検査結果表】防火シャッター'!$BM$64","v":0},null,13,"検査結果(防火シャッター）","-","上記に記載のない事項","-","4行目","-","検査者番号",null,null,"13検査結果(防火シャッター）-上記に記載のない事項-4行目-検査者番号",null,"13検査結果(防火シャッター）-上記に記載のない事項-4行目-検査者番号"]
[null,null,null,null,{"$f":"'3_入力シート【検査結果表】防火シャッター'!$BO$64","v":0},null,13,"検査結果(防火シャッター）","-","上記に記載のない事項","-","4行目","-","指摘の具体的内容等",null,null,"13検査結果(防火シャッター）-上記に記載のない事項-4行目-指摘の具体的内容等",null,"13検査結果(防火シャッター）-上記に記載のない事項-4行目-指摘の具体的内容等"]
[null,null,null,null,{"$f":"'3_入力シート【検査結果表】防火シャッター'!$BY$64","v":0},null,13,"検査結果(防火シャッター）","-","上記に記載のない事項","-","4行目","-","改善策の具体的内容等",null,null,"13検査結果(防火シャッター）-上記に記載のない事項-4行目-改善策の具体的内容等",null,"13検査結果(防火シャッター）-上記に記載のない事項-4行目-改善策の具体的内容等"]
[null,null,null,null,{"$f":"'3_入力シート【検査結果表】防火シャッター'!$CN$64","v":0},null,13,"検査結果(防火シャッター）","-","上記に記載のない事項","-","4行目","-","改善（予定）年月","-","年（令和）","13検査結果(防火シャッター）-上記に記載のない事項-4行目-改善（予定）年月-年（令和）",null,"13検査結果(防火シャッター）-上記に記載のない事項-4行目-改善（予定）年月-年（令和）"]
[null,null,null,null,{"$f":"'3_入力シート【検査結果表】防火シャッター'!$CQ$64","v":0},null,13,"検査結果(防火シャッター）","-","上記に記載のない事項","-","4行目","-","改善（予定）年月","-","月","13検査結果(防火シャッター）-上記に記載のない事項-4行目-改善（予定）年月-月",null,"13検査結果(防火シャッター）-上記に記載のない事項-4行目-改善（予定）年月-月"]
[null,null,null,null,{"$f":"'3_入力シート【検査結果表】防火シャッター'!$CT$64","v":0},null,13,"検査結果(防火シャッター）","-","上記に記載のない事項","-","4行目","-","改善（予定）年月","-","状況","13検査結果(防火シャッター）-上記に記載のない事項-4行目-改善（予定）年月-状況",null,"13検査結果(防火シャッター）-上記に記載のない事項-4行目-改善（予定）年月-状況"]
[null,null,null,null,{"$f":"'3_入力シート【検査結果表】防火シャッター'!$M$65","v":0},null,13,"検査結果(防火シャッター）","-","上記に記載のない事項","-","5行目","-","番号",null,null,"13検査結果(防火シャッター）-上記に記載のない事項-5行目-番号",null,"13検査結果(防火シャッター）-上記に記載のない事項-5行目-番号"]
[null,null,null,null,{"$f":"'3_入力シート【検査結果表】防火シャッター'!$P$65","v":0},null,13,"検査結果(防火シャッター）","-","上記に記載のない事項","-","5行目","-","検査項目",null,null,"13検査結果(防火シャッター）-上記に記載のない事項-5行目-検査項目",null,"13検査結果(防火シャッター）-上記に記載のない事項-5行目-検査項目"]
[null,null,null,null,{"$f":"'3_入力シート【検査結果表】防火シャッター'!$AG$65","v":0},null,13,"検査結果(防火シャッター）","-","上記に記載のない事項","-","5行目","-","検査事項",null,null,"13検査結果(防火シャッター）-上記に記載のない事項-5行目-検査事項",null,"13検査結果(防火シャッター）-上記に記載のない事項-5行目-検査事項"]
[null,null,null,null,{"$f":"'3_入力シート【検査結果表】防火シャッター'!$BA$65","v":0},null,13,"検査結果(防火シャッター）","-","上記に記載のない事項","-","5行目","-","検査結果",null,null,"13検査結果(防火シャッター）-上記に記載のない事項-5行目-検査結果",null,"13検査結果(防火シャッター）-上記に記載のない事項-5行目-検査結果"]
[null,null,null,null,{"$f":"'3_入力シート【検査結果表】防火シャッター'!$BM$65","v":0},null,13,"検査結果(防火シャッター）","-","上記に記載のない事項","-","5行目","-","検査者番号",null,null,"13検査結果(防火シャッター）-上記に記載のない事項-5行目-検査者番号",null,"13検査結果(防火シャッター）-上記に記載のない事項-5行目-検査者番号"]
[null,null,null,null,{"$f":"'3_入力シート【検査結果表】防火シャッター'!$BO$65","v":0},null,13,"検査結果(防火シャッター）","-","上記に記載のない事項","-","5行目","-","指摘の具体的内容等",null,null,"13検査結果(防火シャッター）-上記に記載のない事項-5行目-指摘の具体的内容等",null,"13検査結果(防火シャッター）-上記に記載のない事項-5行目-指摘の具体的内容等"]
[null,null,null,null,{"$f":"'3_入力シート【検査結果表】防火シャッター'!$BY$65","v":0},null,13,"検査結果(防火シャッター）","-","上記に記載のない事項","-","5行目","-","改善策の具体的内容等",null,null,"13検査結果(防火シャッター）-上記に記載のない事項-5行目-改善策の具体的内容等",null,"13検査結果(防火シャッター）-上記に記載のない事項-5行目-改善策の具体的内容等"]
[null,null,null,null,{"$f":"'3_入力シート【検査結果表】防火シャッター'!$CN$65","v":0},null,13,"検査結果(防火シャッター）","-","上記に記載のない事項","-","5行目","-","改善（予定）年月","-","年（令和）","13検査結果(防火シャッター）-上記に記載のない事項-5行目-改善（予定）年月-年（令和）",null,"13検査結果(防火シャッター）-上記に記載のない事項-5行目-改善（予定）年月-年（令和）"]
[null,null,null,null,{"$f":"'3_入力シート【検査結果表】防火シャッター'!$CQ$65","v":0},null,13,"検査結果(防火シャッター）","-","上記に記載のない事項","-","5行目","-","改善（予定）年月","-","月","13検査結果(防火シャッター）-上記に記載のない事項-5行目-改善（予定）年月-月",null,"13検査結果(防火シャッター）-上記に記載のない事項-5行目-改善（予定）年月-月"]
[null,null,null,null,{"$f":"'3_入力シート【検査結果表】防火シャッター'!$CT$65","v":0},null,13,"検査結果(防火シャッター）","-","上記に記載のない事項","-","5行目","-","改善（予定）年月","-","状況","13検査結果(防火シャッター）-上記に記載のない事項-5行目-改善（予定）年月-状況",null,"13検査結果(防火シャッター）-上記に記載のない事項-5行目-改善（予定）年月-状況"]
[null,null,null,null,{"$f":"'3_入力シート【検査結果表】防火シャッター'!$M$66","v":0},null,13,"検査結果(防火シャッター）","-","上記に記載のない事項","-","6行目","-","番号",null,null,"13検査結果(防火シャッター）-上記に記載のない事項-6行目-番号",null,"13検査結果(防火シャッター）-上記に記載のない事項-6行目-番号"]
[null,null,null,null,{"$f":"'3_入力シート【検査結果表】防火シャッター'!$P$66","v":0},null,13,"検査結果(防火シャッター）","-","上記に記載のない事項","-","6行目","-","検査項目",null,null,"13検査結果(防火シャッター）-上記に記載のない事項-6行目-検査項目",null,"13検査結果(防火シャッター）-上記に記載のない事項-6行目-検査項目"]
[null,null,null,null,{"$f":"'3_入力シート【検査結果表】防火シャッター'!$AG$66","v":0},null,13,"検査結果(防火シャッター）","-","上記に記載のない事項","-","6行目","-","検査事項",null,null,"13検査結果(防火シャッター）-上記に記載のない事項-6行目-検査事項",null,"13検査結果(防火シャッター）-上記に記載のない事項-6行目-検査事項"]
[null,null,null,null,{"$f":"'3_入力シート【検査結果表】防火シャッター'!$BA$66","v":0},null,13,"検査結果(防火シャッター）","-","上記に記載のない事項","-","6行目","-","検査結果",null,null,"13検査結果(防火シャッター）-上記に記載のない事項-6行目-検査結果",null,"13検査結果(防火シャッター）-上記に記載のない事項-6行目-検査結果"]
[null,null,null,null,{"$f":"'3_入力シート【検査結果表】防火シャッター'!$BM$66","v":0},null,13,"検査結果(防火シャッター）","-","上記に記載のない事項","-","6行目","-","検査者番号",null,null,"13検査結果(防火シャッター）-上記に記載のない事項-6行目-検査者番号",null,"13検査結果(防火シャッター）-上記に記載のない事項-6行目-検査者番号"]
[null,null,null,null,{"$f":"'3_入力シート【検査結果表】防火シャッター'!$BO$66","v":0},null,13,"検査結果(防火シャッター）","-","上記に記載のない事項","-","6行目","-","指摘の具体的内容等",null,null,"13検査結果(防火シャッター）-上記に記載のない事項-6行目-指摘の具体的内容等",null,"13検査結果(防火シャッター）-上記に記載のない事項-6行目-指摘の具体的内容等"]
[null,null,null,null,{"$f":"'3_入力シート【検査結果表】防火シャッター'!$BY$66","v":0},null,13,"検査結果(防火シャッター）","-","上記に記載のない事項","-","6行目","-","改善策の具体的内容等",null,null,"13検査結果(防火シャッター）-上記に記載のない事項-6行目-改善策の具体的内容等",null,"13検査結果(防火シャッター）-上記に記載のない事項-6行目-改善策の具体的内容等"]
[null,null,null,null,{"$f":"'3_入力シート【検査結果表】防火シャッター'!$CN$66","v":0},null,13,"検査結果(防火シャッター）","-","上記に記載のない事項","-","6行目","-","改善（予定）年月","-","年（令和）","13検査結果(防火シャッター）-上記に記載のない事項-6行目-改善（予定）年月-年（令和）",null,"13検査結果(防火シャッター）-上記に記載のない事項-6行目-改善（予定）年月-年（令和）"]
[null,null,null,null,{"$f":"'3_入力シート【検査結果表】防火シャッター'!$CQ$66","v":0},null,13,"検査結果(防火シャッター）","-","上記に記載のない事項","-","6行目","-","改善（予定）年月","-","月","13検査結果(防火シャッター）-上記に記載のない事項-6行目-改善（予定）年月-月",null,"13検査結果(防火シャッター）-上記に記載のない事項-6行目-改善（予定）年月-月"]
[null,null,null,null,{"$f":"'3_入力シート【検査結果表】防火シャッター'!$CT$66","v":0},null,13,"検査結果(防火シャッター）","-","上記に記載のない事項","-","6行目","-","改善（予定）年月","-","状況","13検査結果(防火シャッター）-上記に記載のない事項-6行目-改善（予定）年月-状況",null,"13検査結果(防火シャッター）-上記に記載のない事項-6行目-改善（予定）年月-状況"]
[null,null,null,null,{"$f":"'3_入力シート【検査結果表】防火シャッター'!$M$67","v":0},null,13,"検査結果(防火シャッター）","-","上記に記載のない事項","-","7行目","-","番号",null,null,"13検査結果(防火シャッター）-上記に記載のない事項-7行目-番号",null,"13検査結果(防火シャッター）-上記に記載のない事項-7行目-番号"]
[null,null,null,null,{"$f":"'3_入力シート【検査結果表】防火シャッター'!$P$67","v":0},null,13,"検査結果(防火シャッター）","-","上記に記載のない事項","-","7行目","-","検査項目",null,null,"13検査結果(防火シャッター）-上記に記載のない事項-7行目-検査項目",null,"13検査結果(防火シャッター）-上記に記載のない事項-7行目-検査項目"]
[null,null,null,null,{"$f":"'3_入力シート【検査結果表】防火シャッター'!$AG$67","v":0},null,13,"検査結果(防火シャッター）","-","上記に記載のない事項","-","7行目","-","検査事項",null,null,"13検査結果(防火シャッター）-上記に記載のない事項-7行目-検査事項",null,"13検査結果(防火シャッター）-上記に記載のない事項-7行目-検査事項"]
[null,null,null,null,{"$f":"'3_入力シート【検査結果表】防火シャッター'!$BA$67","v":0},null,13,"検査結果(防火シャッター）","-","上記に記載のない事項","-","7行目","-","検査結果",null,null,"13検査結果(防火シャッター）-上記に記載のない事項-7行目-検査結果",null,"13検査結果(防火シャッター）-上記に記載のない事項-7行目-検査結果"]
[null,null,null,null,{"$f":"'3_入力シート【検査結果表】防火シャッター'!$BM$67","v":0},null,13,"検査結果(防火シャッター）","-","上記に記載のない事項","-","7行目","-","検査者番号",null,null,"13検査結果(防火シャッター）-上記に記載のない事項-7行目-検査者番号",null,"13検査結果(防火シャッター）-上記に記載のない事項-7行目-検査者番号"]
[null,null,null,null,{"$f":"'3_入力シート【検査結果表】防火シャッター'!$BO$67","v":0},null,13,"検査結果(防火シャッター）","-","上記に記載のない事項","-","7行目","-","指摘の具体的内容等",null,null,"13検査結果(防火シャッター）-上記に記載のない事項-7行目-指摘の具体的内容等",null,"13検査結果(防火シャッター）-上記に記載のない事項-7行目-指摘の具体的内容等"]
[null,null,null,null,{"$f":"'3_入力シート【検査結果表】防火シャッター'!$BY$67","v":0},null,13,"検査結果(防火シャッター）","-","上記に記載のない事項","-","7行目","-","改善策の具体的内容等",null,null,"13検査結果(防火シャッター）-上記に記載のない事項-7行目-改善策の具体的内容等",null,"13検査結果(防火シャッター）-上記に記載のない事項-7行目-改善策の具体的内容等"]
[null,null,null,null,{"$f":"'3_入力シート【検査結果表】防火シャッター'!$CN$67","v":0},null,13,"検査結果(防火シャッター）","-","上記に記載のない事項","-","7行目","-","改善（予定）年月","-","年（令和）","13検査結果(防火シャッター）-上記に記載のない事項-7行目-改善（予定）年月-年（令和）",null,"13検査結果(防火シャッター）-上記に記載のない事項-7行目-改善（予定）年月-年（令和）"]
[null,null,null,null,{"$f":"'3_入力シート【検査結果表】防火シャッター'!$CQ$67","v":0},null,13,"検査結果(防火シャッター）","-","上記に記載のない事項","-","7行目","-","改善（予定）年月","-","月","13検査結果(防火シャッター）-上記に記載のない事項-7行目-改善（予定）年月-月",null,"13検査結果(防火シャッター）-上記に記載のない事項-7行目-改善（予定）年月-月"]
[null,null,null,null,{"$f":"'3_入力シート【検査結果表】防火シャッター'!$CT$67","v":0},null,13,"検査結果(防火シャッター）","-","上記に記載のない事項","-","7行目","-","改善（予定）年月","-","状況","13検査結果(防火シャッター）-上記に記載のない事項-7行目-改善（予定）年月-状況",null,"13検査結果(防火シャッター）-上記に記載のない事項-7行目-改善（予定）年月-状況"]
[null,null,null,null,{"$f":"'3_入力シート【検査結果表】防火シャッター'!$M$68","v":0},null,13,"検査結果(防火シャッター）","-","上記に記載のない事項","-","8行目","-","番号",null,null,{"$f":"CONCATENATE(G852,H852,I852,J852,K852,L852,M852,N852,O852,P852)","v":"13検査結果(防火シャッター）-上記に記載のない事項-8行目-番号"},null,"13検査結果(防火シャッター）-上記に記載のない事項-8行目-番号"]
[null,null,null,null,{"$f":"'3_入力シート【検査結果表】防火シャッター'!$P$68","v":0},null,13,"検査結果(防火シャッター）","-","上記に記載のない事項","-","8行目","-","検査項目",null,null,"13検査結果(防火シャッター）-上記に記載のない事項-8行目-検査項目",null,"13検査結果(防火シャッター）-上記に記載のない事項-8行目-検査項目"]
[null,null,null,null,{"$f":"'3_入力シート【検査結果表】防火シャッター'!$AG$68","v":0},null,13,"検査結果(防火シャッター）","-","上記に記載のない事項","-","8行目","-","検査事項",null,null,"13検査結果(防火シャッター）-上記に記載のない事項-8行目-検査事項",null,"13検査結果(防火シャッター）-上記に記載のない事項-8行目-検査事項"]
[null,null,null,null,{"$f":"'3_入力シート【検査結果表】防火シャッター'!$BA$68","v":0},null,13,"検査結果(防火シャッター）","-","上記に記載のない事項","-","8行目","-","検査結果",null,null,"13検査結果(防火シャッター）-上記に記載のない事項-8行目-検査結果",null,"13検査結果(防火シャッター）-上記に記載のない事項-8行目-検査結果"]
[null,null,null,null,{"$f":"'3_入力シート【検査結果表】防火シャッター'!$BM$68","v":0},null,13,"検査結果(防火シャッター）","-","上記に記載のない事項","-","8行目","-","検査者番号",null,null,"13検査結果(防火シャッター）-上記に記載のない事項-8行目-検査者番号",null,"13検査結果(防火シャッター）-上記に記載のない事項-8行目-検査者番号"]
[null,null,null,null,{"$f":"'3_入力シート【検査結果表】防火シャッター'!$BO$68","v":0},null,13,"検査結果(防火シャッター）","-","上記に記載のない事項","-","8行目","-","指摘の具体的内容等",null,null,"13検査結果(防火シャッター）-上記に記載のない事項-8行目-指摘の具体的内容等",null,"13検査結果(防火シャッター）-上記に記載のない事項-8行目-指摘の具体的内容等"]
[null,null,null,null,{"$f":"'3_入力シート【検査結果表】防火シャッター'!$BY$68","v":0},null,13,"検査結果(防火シャッター）","-","上記に記載のない事項","-","8行目","-","改善策の具体的内容等",null,null,"13検査結果(防火シャッター）-上記に記載のない事項-8行目-改善策の具体的内容等",null,"13検査結果(防火シャッター）-上記に記載のない事項-8行目-改善策の具体的内容等"]
[null,null,null,null,{"$f":"'3_入力シート【検査結果表】防火シャッター'!$CN$68","v":0},null,13,"検査結果(防火シャッター）","-","上記に記載のない事項","-","8行目","-","改善（予定）年月","-","年（令和）","13検査結果(防火シャッター）-上記に記載のない事項-8行目-改善（予定）年月-年（令和）",null,"13検査結果(防火シャッター）-上記に記載のない事項-8行目-改善（予定）年月-年（令和）"]
[null,null,null,null,{"$f":"'3_入力シート【検査結果表】防火シャッター'!$CQ$68","v":0},null,13,"検査結果(防火シャッター）","-","上記に記載のない事項","-","8行目","-","改善（予定）年月","-","月","13検査結果(防火シャッター）-上記に記載のない事項-8行目-改善（予定）年月-月",null,"13検査結果(防火シャッター）-上記に記載のない事項-8行目-改善（予定）年月-月"]
[null,null,null,null,{"$f":"'3_入力シート【検査結果表】防火シャッター'!$CT$68","v":0},null,13,"検査結果(防火シャッター）","-","上記に記載のない事項","-","8行目","-","改善（予定）年月","-","状況","13検査結果(防火シャッター）-上記に記載のない事項-8行目-改善（予定）年月-状況",null,"13検査結果(防火シャッター）-上記に記載のない事項-8行目-改善（予定）年月-状況"]
[null,null,null,null,{"$f":"'3_入力シート【検査結果表】防火シャッター'!$M$69","v":0},null,13,"検査結果(防火シャッター）","-","上記に記載のない事項","-","9行目","-","番号",null,null,"13検査結果(防火シャッター）-上記に記載のない事項-9行目-番号",null,"13検査結果(防火シャッター）-上記に記載のない事項-9行目-番号"]
[null,null,null,null,{"$f":"'3_入力シート【検査結果表】防火シャッター'!$P$69","v":0},null,13,"検査結果(防火シャッター）","-","上記に記載のない事項","-","9行目","-","検査項目",null,null,"13検査結果(防火シャッター）-上記に記載のない事項-9行目-検査項目",null,"13検査結果(防火シャッター）-上記に記載のない事項-9行目-検査項目"]
[null,null,null,null,{"$f":"'3_入力シート【検査結果表】防火シャッター'!$AG$69","v":0},null,13,"検査結果(防火シャッター）","-","上記に記載のない事項","-","9行目","-","検査事項",null,null,"13検査結果(防火シャッター）-上記に記載のない事項-9行目-検査事項",null,"13検査結果(防火シャッター）-上記に記載のない事項-9行目-検査事項"]
[null,null,null,null,{"$f":"'3_入力シート【検査結果表】防火シャッター'!$BA$69","v":0},null,13,"検査結果(防火シャッター）","-","上記に記載のない事項","-","9行目","-","検査結果",null,null,"13検査結果(防火シャッター）-上記に記載のない事項-9行目-検査結果",null,"13検査結果(防火シャッター）-上記に記載のない事項-9行目-検査結果"]
[null,null,null,null,{"$f":"'3_入力シート【検査結果表】防火シャッター'!$BM$69","v":0},null,13,"検査結果(防火シャッター）","-","上記に記載のない事項","-","9行目","-","検査者番号",null,null,"13検査結果(防火シャッター）-上記に記載のない事項-9行目-検査者番号",null,"13検査結果(防火シャッター）-上記に記載のない事項-9行目-検査者番号"]
[null,null,null,null,{"$f":"'3_入力シート【検査結果表】防火シャッター'!$BO$69","v":0},null,13,"検査結果(防火シャッター）","-","上記に記載のない事項","-","9行目","-","指摘の具体的内容等",null,null,"13検査結果(防火シャッター）-上記に記載のない事項-9行目-指摘の具体的内容等",null,"13検査結果(防火シャッター）-上記に記載のない事項-9行目-指摘の具体的内容等"]
[null,null,null,null,{"$f":"'3_入力シート【検査結果表】防火シャッター'!$BY$69","v":0},null,13,"検査結果(防火シャッター）","-","上記に記載のない事項","-","9行目","-","改善策の具体的内容等",null,null,"13検査結果(防火シャッター）-上記に記載のない事項-9行目-改善策の具体的内容等",null,"13検査結果(防火シャッター）-上記に記載のない事項-9行目-改善策の具体的内容等"]
[null,null,null,null,{"$f":"'3_入力シート【検査結果表】防火シャッター'!$CN$69","v":0},null,13,"検査結果(防火シャッター）","-","上記に記載のない事項","-","9行目","-","改善（予定）年月","-","年（令和）","13検査結果(防火シャッター）-上記に記載のない事項-9行目-改善（予定）年月-年（令和）",null,"13検査結果(防火シャッター）-上記に記載のない事項-9行目-改善（予定）年月-年（令和）"]
[null,null,null,null,{"$f":"'3_入力シート【検査結果表】防火シャッター'!$CQ$69","v":0},null,13,"検査結果(防火シャッター）","-","上記に記載のない事項","-","9行目","-","改善（予定）年月","-","月","13検査結果(防火シャッター）-上記に記載のない事項-9行目-改善（予定）年月-月",null,"13検査結果(防火シャッター）-上記に記載のない事項-9行目-改善（予定）年月-月"]
[null,null,null,null,{"$f":"'3_入力シート【検査結果表】防火シャッター'!$CT$69","v":0},null,13,"検査結果(防火シャッター）","-","上記に記載のない事項","-","9行目","-","改善（予定）年月","-","状況","13検査結果(防火シャッター）-上記に記載のない事項-9行目-改善（予定）年月-状況",null,"13検査結果(防火シャッター）-上記に記載のない事項-9行目-改善（予定）年月-状況"]
[null,null,null,null,{"$f":"'3_入力シート【検査結果表】防火シャッター'!$M$70","v":0},null,13,"検査結果(防火シャッター）","-","上記に記載のない事項","-","10行目","-","番号",null,null,"13検査結果(防火シャッター）-上記に記載のない事項-10行目-番号",null,"13検査結果(防火シャッター）-上記に記載のない事項-10行目-番号"]
[null,null,null,null,{"$f":"'3_入力シート【検査結果表】防火シャッター'!$P$70","v":0},null,13,"検査結果(防火シャッター）","-","上記に記載のない事項","-","10行目","-","検査項目",null,null,"13検査結果(防火シャッター）-上記に記載のない事項-10行目-検査項目",null,"13検査結果(防火シャッター）-上記に記載のない事項-10行目-検査項目"]
[null,null,null,null,{"$f":"'3_入力シート【検査結果表】防火シャッター'!$AG$70","v":0},null,13,"検査結果(防火シャッター）","-","上記に記載のない事項","-","10行目","-","検査事項",null,null,"13検査結果(防火シャッター）-上記に記載のない事項-10行目-検査事項",null,"13検査結果(防火シャッター）-上記に記載のない事項-10行目-検査事項"]
[null,null,null,null,{"$f":"'3_入力シート【検査結果表】防火シャッター'!$BA$70","v":0},null,13,"検査結果(防火シャッター）","-","上記に記載のない事項","-","10行目","-","検査結果",null,null,"13検査結果(防火シャッター）-上記に記載のない事項-10行目-検査結果",null,"13検査結果(防火シャッター）-上記に記載のない事項-10行目-検査結果"]
[null,null,null,null,{"$f":"'3_入力シート【検査結果表】防火シャッター'!$BM$70","v":0},null,13,"検査結果(防火シャッター）","-","上記に記載のない事項","-","10行目","-","検査者番号",null,null,"13検査結果(防火シャッター）-上記に記載のない事項-10行目-検査者番号",null,"13検査結果(防火シャッター）-上記に記載のない事項-10行目-検査者番号"]
[null,null,null,null,{"$f":"'3_入力シート【検査結果表】防火シャッター'!$BO$70","v":0},null,13,"検査結果(防火シャッター）","-","上記に記載のない事項","-","10行目","-","指摘の具体的内容等",null,null,"13検査結果(防火シャッター）-上記に記載のない事項-10行目-指摘の具体的内容等",null,"13検査結果(防火シャッター）-上記に記載のない事項-10行目-指摘の具体的内容等"]
[null,null,null,null,{"$f":"'3_入力シート【検査結果表】防火シャッター'!$BY$70","v":0},null,13,"検査結果(防火シャッター）","-","上記に記載のない事項","-","10行目","-","改善策の具体的内容等",null,null,"13検査結果(防火シャッター）-上記に記載のない事項-10行目-改善策の具体的内容等",null,"13検査結果(防火シャッター）-上記に記載のない事項-10行目-改善策の具体的内容等"]
[null,null,null,null,{"$f":"'3_入力シート【検査結果表】防火シャッター'!$CN$70","v":0},null,13,"検査結果(防火シャッター）","-","上記に記載のない事項","-","10行目","-","改善（予定）年月","-","年（令和）","13検査結果(防火シャッター）-上記に記載のない事項-10行目-改善（予定）年月-年（令和）",null,"13検査結果(防火シャッター）-上記に記載のない事項-10行目-改善（予定）年月-年（令和）"]
[null,null,null,null,{"$f":"'3_入力シート【検査結果表】防火シャッター'!$CQ$70","v":0},null,13,"検査結果(防火シャッター）","-","上記に記載のない事項","-","10行目","-","改善（予定）年月","-","月","13検査結果(防火シャッター）-上記に記載のない事項-10行目-改善（予定）年月-月",null,"13検査結果(防火シャッター）-上記に記載のない事項-10行目-改善（予定）年月-月"]
[null,null,null,null,{"$f":"'3_入力シート【検査結果表】防火シャッター'!$CT$70","v":0},null,13,"検査結果(防火シャッター）","-","上記に記載のない事項","-","10行目","-","改善（予定）年月","-","状況","13検査結果(防火シャッター）-上記に記載のない事項-10行目-改善（予定）年月-状況",null,"13検査結果(防火シャッター）-上記に記載のない事項-10行目-改善（予定）年月-状況"]
[null,null,null,null,{"$f":"'3_入力シート【検査結果表】防火シャッター'!$M$71","v":0},null,13,"検査結果(防火シャッター）","-","上記に記載のない事項","-","11行目","-","番号",null,null,"13検査結果(防火シャッター）-上記に記載のない事項-11行目-番号",null,"13検査結果(防火シャッター）-上記に記載のない事項-11行目-番号"]
[null,null,null,null,{"$f":"'3_入力シート【検査結果表】防火シャッター'!$P$71","v":0},null,13,"検査結果(防火シャッター）","-","上記に記載のない事項","-","11行目","-","検査項目",null,null,"13検査結果(防火シャッター）-上記に記載のない事項-11行目-検査項目",null,"13検査結果(防火シャッター）-上記に記載のない事項-11行目-検査項目"]
[null,null,null,null,{"$f":"'3_入力シート【検査結果表】防火シャッター'!$AG$71","v":0},null,13,"検査結果(防火シャッター）","-","上記に記載のない事項","-","11行目","-","検査事項",null,null,"13検査結果(防火シャッター）-上記に記載のない事項-11行目-検査事項",null,"13検査結果(防火シャッター）-上記に記載のない事項-11行目-検査事項"]
[null,null,null,null,{"$f":"'3_入力シート【検査結果表】防火シャッター'!$BA$71","v":0},null,13,"検査結果(防火シャッター）","-","上記に記載のない事項","-","11行目","-","検査結果",null,null,"13検査結果(防火シャッター）-上記に記載のない事項-11行目-検査結果",null,"13検査結果(防火シャッター）-上記に記載のない事項-11行目-検査結果"]
[null,null,null,null,{"$f":"'3_入力シート【検査結果表】防火シャッター'!$BM$71","v":0},null,13,"検査結果(防火シャッター）","-","上記に記載のない事項","-","11行目","-","検査者番号",null,null,"13検査結果(防火シャッター）-上記に記載のない事項-11行目-検査者番号",null,"13検査結果(防火シャッター）-上記に記載のない事項-11行目-検査者番号"]
[null,null,null,null,{"$f":"'3_入力シート【検査結果表】防火シャッター'!$BO$71","v":0},null,13,"検査結果(防火シャッター）","-","上記に記載のない事項","-","11行目","-","指摘の具体的内容等",null,null,"13検査結果(防火シャッター）-上記に記載のない事項-11行目-指摘の具体的内容等",null,"13検査結果(防火シャッター）-上記に記載のない事項-11行目-指摘の具体的内容等"]
[null,null,null,null,{"$f":"'3_入力シート【検査結果表】防火シャッター'!$BY$71","v":0},null,13,"検査結果(防火シャッター）","-","上記に記載のない事項","-","11行目","-","改善策の具体的内容等",null,null,"13検査結果(防火シャッター）-上記に記載のない事項-11行目-改善策の具体的内容等",null,"13検査結果(防火シャッター）-上記に記載のない事項-11行目-改善策の具体的内容等"]
[null,null,null,null,{"$f":"'3_入力シート【検査結果表】防火シャッター'!$CN$71","v":0},null,13,"検査結果(防火シャッター）","-","上記に記載のない事項","-","11行目","-","改善（予定）年月","-","年（令和）","13検査結果(防火シャッター）-上記に記載のない事項-11行目-改善（予定）年月-年（令和）",null,"13検査結果(防火シャッター）-上記に記載のない事項-11行目-改善（予定）年月-年（令和）"]
[null,null,null,null,{"$f":"'3_入力シート【検査結果表】防火シャッター'!$CQ$71","v":0},null,13,"検査結果(防火シャッター）","-","上記に記載のない事項","-","11行目","-","改善（予定）年月","-","月","13検査結果(防火シャッター）-上記に記載のない事項-11行目-改善（予定）年月-月",null,"13検査結果(防火シャッター）-上記に記載のない事項-11行目-改善（予定）年月-月"]
[null,null,null,null,{"$f":"'3_入力シート【検査結果表】防火シャッター'!$CT$71","v":0},null,13,"検査結果(防火シャッター）","-","上記に記載のない事項","-","11行目","-","改善（予定）年月","-","状況","13検査結果(防火シャッター）-上記に記載のない事項-11行目-改善（予定）年月-状況",null,"13検査結果(防火シャッター）-上記に記載のない事項-11行目-改善（予定）年月-状況"]
[null,null,null,null,{"$f":"'3_入力シート【検査結果表】防火シャッター'!$M$72","v":0},null,13,"検査結果(防火シャッター）","-","上記に記載のない事項","-","12行目","-","番号",null,null,"13検査結果(防火シャッター）-上記に記載のない事項-12行目-番号",null,"13検査結果(防火シャッター）-上記に記載のない事項-12行目-番号"]
[null,null,null,null,{"$f":"'3_入力シート【検査結果表】防火シャッター'!$P$72","v":0},null,13,"検査結果(防火シャッター）","-","上記に記載のない事項","-","12行目","-","検査項目",null,null,"13検査結果(防火シャッター）-上記に記載のない事項-12行目-検査項目",null,"13検査結果(防火シャッター）-上記に記載のない事項-12行目-検査項目"]
[null,null,null,null,{"$f":"'3_入力シート【検査結果表】防火シャッター'!$AG$72","v":0},null,13,"検査結果(防火シャッター）","-","上記に記載のない事項","-","12行目","-","検査事項",null,null,"13検査結果(防火シャッター）-上記に記載のない事項-12行目-検査事項",null,"13検査結果(防火シャッター）-上記に記載のない事項-12行目-検査事項"]
[null,null,null,null,{"$f":"'3_入力シート【検査結果表】防火シャッター'!$BA$72","v":0},null,13,"検査結果(防火シャッター）","-","上記に記載のない事項","-","12行目","-","検査結果",null,null,"13検査結果(防火シャッター）-上記に記載のない事項-12行目-検査結果",null,"13検査結果(防火シャッター）-上記に記載のない事項-12行目-検査結果"]
[null,null,null,null,{"$f":"'3_入力シート【検査結果表】防火シャッター'!$BM$72","v":0},null,13,"検査結果(防火シャッター）","-","上記に記載のない事項","-","12行目","-","検査者番号",null,null,"13検査結果(防火シャッター）-上記に記載のない事項-12行目-検査者番号",null,"13検査結果(防火シャッター）-上記に記載のない事項-12行目-検査者番号"]
[null,null,null,null,{"$f":"'3_入力シート【検査結果表】防火シャッター'!$BO$72","v":0},null,13,"検査結果(防火シャッター）","-","上記に記載のない事項","-","12行目","-","指摘の具体的内容等",null,null,"13検査結果(防火シャッター）-上記に記載のない事項-12行目-指摘の具体的内容等",null,"13検査結果(防火シャッター）-上記に記載のない事項-12行目-指摘の具体的内容等"]
[null,null,null,null,{"$f":"'3_入力シート【検査結果表】防火シャッター'!$BY$72","v":0},null,13,"検査結果(防火シャッター）","-","上記に記載のない事項","-","12行目","-","改善策の具体的内容等",null,null,"13検査結果(防火シャッター）-上記に記載のない事項-12行目-改善策の具体的内容等",null,"13検査結果(防火シャッター）-上記に記載のない事項-12行目-改善策の具体的内容等"]
[null,null,null,null,{"$f":"'3_入力シート【検査結果表】防火シャッター'!$CN$72","v":0},null,13,"検査結果(防火シャッター）","-","上記に記載のない事項","-","12行目","-","改善（予定）年月","-","年（令和）","13検査結果(防火シャッター）-上記に記載のない事項-12行目-改善（予定）年月-年（令和）",null,"13検査結果(防火シャッター）-上記に記載のない事項-12行目-改善（予定）年月-年（令和）"]
[null,null,null,null,{"$f":"'3_入力シート【検査結果表】防火シャッター'!$CQ$72","v":0},null,13,"検査結果(防火シャッター）","-","上記に記載のない事項","-","12行目","-","改善（予定）年月","-","月","13検査結果(防火シャッター）-上記に記載のない事項-12行目-改善（予定）年月-月",null,"13検査結果(防火シャッター）-上記に記載のない事項-12行目-改善（予定）年月-月"]
[null,null,null,null,{"$f":"'3_入力シート【検査結果表】防火シャッター'!$CT$72","v":0},null,13,"検査結果(防火シャッター）","-","上記に記載のない事項","-","12行目","-","改善（予定）年月","-","状況","13検査結果(防火シャッター）-上記に記載のない事項-12行目-改善（予定）年月-状況",null,"13検査結果(防火シャッター）-上記に記載のない事項-12行目-改善（予定）年月-状況"]
[null,null,null,null,{"$f":"'3_入力シート【検査結果表】防火シャッター'!$M$73","v":0},null,13,"検査結果(防火シャッター）","-","上記に記載のない事項","-","13行目","-","番号",null,null,"13検査結果(防火シャッター）-上記に記載のない事項-13行目-番号",null,"13検査結果(防火シャッター）-上記に記載のない事項-13行目-番号"]
[null,null,null,null,{"$f":"'3_入力シート【検査結果表】防火シャッター'!$P$73","v":0},null,13,"検査結果(防火シャッター）","-","上記に記載のない事項","-","13行目","-","検査項目",null,null,"13検査結果(防火シャッター）-上記に記載のない事項-13行目-検査項目",null,"13検査結果(防火シャッター）-上記に記載のない事項-13行目-検査項目"]
[null,null,null,null,{"$f":"'3_入力シート【検査結果表】防火シャッター'!$AG$73","v":0},null,13,"検査結果(防火シャッター）","-","上記に記載のない事項","-","13行目","-","検査事項",null,null,"13検査結果(防火シャッター）-上記に記載のない事項-13行目-検査事項",null,"13検査結果(防火シャッター）-上記に記載のない事項-13行目-検査事項"]
[null,null,null,null,{"$f":"'3_入力シート【検査結果表】防火シャッター'!$BA$73","v":0},null,13,"検査結果(防火シャッター）","-","上記に記載のない事項","-","13行目","-","検査結果",null,null,"13検査結果(防火シャッター）-上記に記載のない事項-13行目-検査結果",null,"13検査結果(防火シャッター）-上記に記載のない事項-13行目-検査結果"]
[null,null,null,null,{"$f":"'3_入力シート【検査結果表】防火シャッター'!$BM$73","v":0},null,13,"検査結果(防火シャッター）","-","上記に記載のない事項","-","13行目","-","検査者番号",null,null,"13検査結果(防火シャッター）-上記に記載のない事項-13行目-検査者番号",null,"13検査結果(防火シャッター）-上記に記載のない事項-13行目-検査者番号"]
[null,null,null,null,{"$f":"'3_入力シート【検査結果表】防火シャッター'!$BO$73","v":0},null,13,"検査結果(防火シャッター）","-","上記に記載のない事項","-","13行目","-","指摘の具体的内容等",null,null,"13検査結果(防火シャッター）-上記に記載のない事項-13行目-指摘の具体的内容等",null,"13検査結果(防火シャッター）-上記に記載のない事項-13行目-指摘の具体的内容等"]
[null,null,null,null,{"$f":"'3_入力シート【検査結果表】防火シャッター'!$BY$73","v":0},null,13,"検査結果(防火シャッター）","-","上記に記載のない事項","-","13行目","-","改善策の具体的内容等",null,null,"13検査結果(防火シャッター）-上記に記載のない事項-13行目-改善策の具体的内容等",null,"13検査結果(防火シャッター）-上記に記載のない事項-13行目-改善策の具体的内容等"]
[null,null,null,null,{"$f":"'3_入力シート【検査結果表】防火シャッター'!$CN$73","v":0},null,13,"検査結果(防火シャッター）","-","上記に記載のない事項","-","13行目","-","改善（予定）年月","-","年（令和）","13検査結果(防火シャッター）-上記に記載のない事項-13行目-改善（予定）年月-年（令和）",null,"13検査結果(防火シャッター）-上記に記載のない事項-13行目-改善（予定）年月-年（令和）"]
[null,null,null,null,{"$f":"'3_入力シート【検査結果表】防火シャッター'!$CQ$73","v":0},null,13,"検査結果(防火シャッター）","-","上記に記載のない事項","-","13行目","-","改善（予定）年月","-","月","13検査結果(防火シャッター）-上記に記載のない事項-13行目-改善（予定）年月-月",null,"13検査結果(防火シャッター）-上記に記載のない事項-13行目-改善（予定）年月-月"]
[null,null,null,null,{"$f":"'3_入力シート【検査結果表】防火シャッター'!$CT$73","v":0},null,13,"検査結果(防火シャッター）","-","上記に記載のない事項","-","13行目","-","改善（予定）年月","-","状況","13検査結果(防火シャッター）-上記に記載のない事項-13行目-改善（予定）年月-状況",null,"13検査結果(防火シャッター）-上記に記載のない事項-13行目-改善（予定）年月-状況"]
[null,null,null,null,{"$f":"'3_入力シート【検査結果表】防火シャッター'!$M$74","v":0},null,13,"検査結果(防火シャッター）","-","上記に記載のない事項","-","14行目","-","番号",null,null,"13検査結果(防火シャッター）-上記に記載のない事項-14行目-番号",null,"13検査結果(防火シャッター）-上記に記載のない事項-14行目-番号"]
[null,null,null,null,{"$f":"'3_入力シート【検査結果表】防火シャッター'!$P$74","v":0},null,13,"検査結果(防火シャッター）","-","上記に記載のない事項","-","14行目","-","検査項目",null,null,"13検査結果(防火シャッター）-上記に記載のない事項-14行目-検査項目",null,"13検査結果(防火シャッター）-上記に記載のない事項-14行目-検査項目"]
[null,null,null,null,{"$f":"'3_入力シート【検査結果表】防火シャッター'!$AG$74","v":0},null,13,"検査結果(防火シャッター）","-","上記に記載のない事項","-","14行目","-","検査事項",null,null,"13検査結果(防火シャッター）-上記に記載のない事項-14行目-検査事項",null,"13検査結果(防火シャッター）-上記に記載のない事項-14行目-検査事項"]
[null,null,null,null,{"$f":"'3_入力シート【検査結果表】防火シャッター'!$BA$74","v":0},null,13,"検査結果(防火シャッター）","-","上記に記載のない事項","-","14行目","-","検査結果",null,null,"13検査結果(防火シャッター）-上記に記載のない事項-14行目-検査結果",null,"13検査結果(防火シャッター）-上記に記載のない事項-14行目-検査結果"]
[null,null,null,null,{"$f":"'3_入力シート【検査結果表】防火シャッター'!$BM$74","v":0},null,13,"検査結果(防火シャッター）","-","上記に記載のない事項","-","14行目","-","検査者番号",null,null,{"$f":"CONCATENATE(G916,H916,I916,J916,K916,L916,M916,N916,O916,P916)","v":"13検査結果(防火シャッター）-上記に記載のない事項-14行目-検査者番号"},null,"13検査結果(防火シャッター）-上記に記載のない事項-14行目-検査者番号"]
[null,null,null,null,{"$f":"'3_入力シート【検査結果表】防火シャッター'!$BO$74","v":0},null,13,"検査結果(防火シャッター）","-","上記に記載のない事項","-","14行目","-","指摘の具体的内容等",null,null,"13検査結果(防火シャッター）-上記に記載のない事項-14行目-指摘の具体的内容等",null,"13検査結果(防火シャッター）-上記に記載のない事項-14行目-指摘の具体的内容等"]
[null,null,null,null,{"$f":"'3_入力シート【検査結果表】防火シャッター'!$BY$74","v":0},null,13,"検査結果(防火シャッター）","-","上記に記載のない事項","-","14行目","-","改善策の具体的内容等",null,null,"13検査結果(防火シャッター）-上記に記載のない事項-14行目-改善策の具体的内容等",null,"13検査結果(防火シャッター）-上記に記載のない事項-14行目-改善策の具体的内容等"]
[null,null,null,null,{"$f":"'3_入力シート【検査結果表】防火シャッター'!$CN$74","v":0},null,13,"検査結果(防火シャッター）","-","上記に記載のない事項","-","14行目","-","改善（予定）年月","-","年（令和）","13検査結果(防火シャッター）-上記に記載のない事項-14行目-改善（予定）年月-年（令和）",null,"13検査結果(防火シャッター）-上記に記載のない事項-14行目-改善（予定）年月-年（令和）"]
[null,null,null,null,{"$f":"'3_入力シート【検査結果表】防火シャッター'!$CQ$74","v":0},null,13,"検査結果(防火シャッター）","-","上記に記載のない事項","-","14行目","-","改善（予定）年月","-","月","13検査結果(防火シャッター）-上記に記載のない事項-14行目-改善（予定）年月-月",null,"13検査結果(防火シャッター）-上記に記載のない事項-14行目-改善（予定）年月-月"]
[null,null,null,null,{"$f":"'3_入力シート【検査結果表】防火シャッター'!$CT$74","v":0},null,13,"検査結果(防火シャッター）","-","上記に記載のない事項","-","14行目","-","改善（予定）年月","-","状況","13検査結果(防火シャッター）-上記に記載のない事項-14行目-改善（予定）年月-状況",null,"13検査結果(防火シャッター）-上記に記載のない事項-14行目-改善（予定）年月-状況"]
[null,null,null,null,{"$f":"'3_入力シート【検査結果表】防火シャッター'!$M$75","v":0},null,13,"検査結果(防火シャッター）","-","上記に記載のない事項","-","15行目","-","番号",null,null,"13検査結果(防火シャッター）-上記に記載のない事項-15行目-番号",null,"13検査結果(防火シャッター）-上記に記載のない事項-15行目-番号"]
[null,null,null,null,{"$f":"'3_入力シート【検査結果表】防火シャッター'!$P$75","v":0},null,13,"検査結果(防火シャッター）","-","上記に記載のない事項","-","15行目","-","検査項目",null,null,"13検査結果(防火シャッター）-上記に記載のない事項-15行目-検査項目",null,"13検査結果(防火シャッター）-上記に記載のない事項-15行目-検査項目"]
[null,null,null,null,{"$f":"'3_入力シート【検査結果表】防火シャッター'!$AG$75","v":0},null,13,"検査結果(防火シャッター）","-","上記に記載のない事項","-","15行目","-","検査事項",null,null,"13検査結果(防火シャッター）-上記に記載のない事項-15行目-検査事項",null,"13検査結果(防火シャッター）-上記に記載のない事項-15行目-検査事項"]
[null,null,null,null,{"$f":"'3_入力シート【検査結果表】防火シャッター'!$BA$75","v":0},null,13,"検査結果(防火シャッター）","-","上記に記載のない事項","-","15行目","-","検査結果",null,null,"13検査結果(防火シャッター）-上記に記載のない事項-15行目-検査結果",null,"13検査結果(防火シャッター）-上記に記載のない事項-15行目-検査結果"]
[null,null,null,null,{"$f":"'3_入力シート【検査結果表】防火シャッター'!$BM$75","v":0},null,13,"検査結果(防火シャッター）","-","上記に記載のない事項","-","15行目","-","検査者番号",null,null,"13検査結果(防火シャッター）-上記に記載のない事項-15行目-検査者番号",null,"13検査結果(防火シャッター）-上記に記載のない事項-15行目-検査者番号"]
[null,null,null,null,{"$f":"'3_入力シート【検査結果表】防火シャッター'!$BO$75","v":0},null,13,"検査結果(防火シャッター）","-","上記に記載のない事項","-","15行目","-","指摘の具体的内容等",null,null,"13検査結果(防火シャッター）-上記に記載のない事項-15行目-指摘の具体的内容等",null,"13検査結果(防火シャッター）-上記に記載のない事項-15行目-指摘の具体的内容等"]
[null,null,null,null,{"$f":"'3_入力シート【検査結果表】防火シャッター'!$BY$75","v":0},null,13,"検査結果(防火シャッター）","-","上記に記載のない事項","-","15行目","-","改善策の具体的内容等",null,null,"13検査結果(防火シャッター）-上記に記載のない事項-15行目-改善策の具体的内容等",null,"13検査結果(防火シャッター）-上記に記載のない事項-15行目-改善策の具体的内容等"]
[null,null,null,null,{"$f":"'3_入力シート【検査結果表】防火シャッター'!$CN$75","v":0},null,13,"検査結果(防火シャッター）","-","上記に記載のない事項","-","15行目","-","改善（予定）年月","-","年（令和）","13検査結果(防火シャッター）-上記に記載のない事項-15行目-改善（予定）年月-年（令和）",null,"13検査結果(防火シャッター）-上記に記載のない事項-15行目-改善（予定）年月-年（令和）"]
[null,null,null,null,{"$f":"'3_入力シート【検査結果表】防火シャッター'!$CQ$75","v":0},null,13,"検査結果(防火シャッター）","-","上記に記載のない事項","-","15行目","-","改善（予定）年月","-","月","13検査結果(防火シャッター）-上記に記載のない事項-15行目-改善（予定）年月-月",null,"13検査結果(防火シャッター）-上記に記載のない事項-15行目-改善（予定）年月-月"]
[null,null,null,null,{"$f":"'3_入力シート【検査結果表】防火シャッター'!$CT$75","v":0},null,13,"検査結果(防火シャッター）","-","上記に記載のない事項","-","15行目","-","改善（予定）年月","-","状況","13検査結果(防火シャッター）-上記に記載のない事項-15行目-改善（予定）年月-状況",null,"13検査結果(防火シャッター）-上記に記載のない事項-15行目-改善（予定）年月-状況"]
[null,null,null,null,{"$f":"'4_入力シート【検査結果表】 耐火クロススクリーン'!$BA$17","v":0},null,14,"検査結果(耐火クロススクリーン）","-","1（1）","-","検査結果",null,null,null,null,"14検査結果(耐火クロススクリーン）-1（1）-検査結果",null,"14検査結果(耐火クロススクリーン）-1（1）-検査結果"]
[null,null,null,null,{"$f":"'4_入力シート【検査結果表】 耐火クロススクリーン'!$BM$17","v":0},null,14,"検査結果(耐火クロススクリーン）","-","1（1）","-","検査者番号",null,null,null,null,"14検査結果(耐火クロススクリーン）-1（1）-検査者番号",null,"14検査結果(耐火クロススクリーン）-1（1）-検査者番号"]
[null,null,null,null,{"$f":"'4_入力シート【検査結果表】 耐火クロススクリーン'!$BO$17","v":0},null,14,"検査結果(耐火クロススクリーン）","-","1（1）","-","指摘の具体的内容等",null,null,null,null,"14検査結果(耐火クロススクリーン）-1（1）-指摘の具体的内容等",null,"14検査結果(耐火クロススクリーン）-1（1）-指摘の具体的内容等"]
[null,null,null,null,{"$f":"'4_入力シート【検査結果表】 耐火クロススクリーン'!$BY$17","v":0},null,14,"検査結果(耐火クロススクリーン）","-","1（1）","-","改善策の具体的内容等",null,null,null,null,"14検査結果(耐火クロススクリーン）-1（1）-改善策の具体的内容等",null,"14検査結果(耐火クロススクリーン）-1（1）-改善策の具体的内容等"]
[null,null,null,null,{"$f":"'4_入力シート【検査結果表】 耐火クロススクリーン'!$CN$17","v":0},null,14,"検査結果(耐火クロススクリーン）","-","1（1）","-","改善（予定）年月","-","年（令和）",null,null,"14検査結果(耐火クロススクリーン）-1（1）-改善（予定）年月-年（令和）",null,"14検査結果(耐火クロススクリーン）-1（1）-改善（予定）年月-年（令和）"]
[null,null,null,null,{"$f":"'4_入力シート【検査結果表】 耐火クロススクリーン'!$CQ$17","v":0},null,14,"検査結果(耐火クロススクリーン）","-","1（1）","-","改善（予定）年月","-","月",null,null,"14検査結果(耐火クロススクリーン）-1（1）-改善（予定）年月-月",null,"14検査結果(耐火クロススクリーン）-1（1）-改善（予定）年月-月"]
[null,null,null,null,{"$f":"'4_入力シート【検査結果表】 耐火クロススクリーン'!$CT$17","v":0},null,14,"検査結果(耐火クロススクリーン）","-","1（1）","-","改善（予定）年月","-","状況",null,null,"14検査結果(耐火クロススクリーン）-1（1）-改善（予定）年月-状況",null,"14検査結果(耐火クロススクリーン）-1（1）-改善（予定）年月-状況"]
[null,null,null,null,{"$f":"'4_入力シート【検査結果表】 耐火クロススクリーン'!$BA$18","v":0},null,14,"検査結果(耐火クロススクリーン）","-","1（2）","-","検査結果",null,null,null,null,"14検査結果(耐火クロススクリーン）-1（2）-検査結果",null,"14検査結果(耐火クロススクリーン）-1（2）-検査結果"]
[null,null,null,null,{"$f":"'4_入力シート【検査結果表】 耐火クロススクリーン'!$BM$18","v":0},null,14,"検査結果(耐火クロススクリーン）","-","1（2）","-","検査者番号",null,null,null,null,"14検査結果(耐火クロススクリーン）-1（2）-検査者番号",null,"14検査結果(耐火クロススクリーン）-1（2）-検査者番号"]
[null,null,null,null,{"$f":"'4_入力シート【検査結果表】 耐火クロススクリーン'!$BO$18","v":0},null,14,"検査結果(耐火クロススクリーン）","-","1（2）","-","指摘の具体的内容等",null,null,null,null,"14検査結果(耐火クロススクリーン）-1（2）-指摘の具体的内容等",null,"14検査結果(耐火クロススクリーン）-1（2）-指摘の具体的内容等"]
[null,null,null,null,{"$f":"'4_入力シート【検査結果表】 耐火クロススクリーン'!$BY$18","v":0},null,14,"検査結果(耐火クロススクリーン）","-","1（2）","-","改善策の具体的内容等",null,null,null,null,"14検査結果(耐火クロススクリーン）-1（2）-改善策の具体的内容等",null,"14検査結果(耐火クロススクリーン）-1（2）-改善策の具体的内容等"]
[null,null,null,null,{"$f":"'4_入力シート【検査結果表】 耐火クロススクリーン'!$CN$18","v":0},null,14,"検査結果(耐火クロススクリーン）","-","1（2）","-","改善（予定）年月","-","年（令和）",null,null,"14検査結果(耐火クロススクリーン）-1（2）-改善（予定）年月-年（令和）",null,"14検査結果(耐火クロススクリーン）-1（2）-改善（予定）年月-年（令和）"]
[null,null,null,null,{"$f":"'4_入力シート【検査結果表】 耐火クロススクリーン'!$CQ$18","v":0},null,14,"検査結果(耐火クロススクリーン）","-","1（2）","-","改善（予定）年月","-","月",null,null,"14検査結果(耐火クロススクリーン）-1（2）-改善（予定）年月-月",null,"14検査結果(耐火クロススクリーン）-1（2）-改善（予定）年月-月"]
[null,null,null,null,{"$f":"'4_入力シート【検査結果表】 耐火クロススクリーン'!$CT$18","v":0},null,14,"検査結果(耐火クロススクリーン）","-","1（2）","-","改善（予定）年月","-","状況",null,null,"14検査結果(耐火クロススクリーン）-1（2）-改善（予定）年月-状況",null,"14検査結果(耐火クロススクリーン）-1（2）-改善（予定）年月-状況"]
[null,null,null,null,{"$f":"'4_入力シート【検査結果表】 耐火クロススクリーン'!$BA$19","v":0},null,14,"検査結果(耐火クロススクリーン）","-","1（3）","-","検査結果",null,null,null,null,"14検査結果(耐火クロススクリーン）-1（3）-検査結果",null,"14検査結果(耐火クロススクリーン）-1（3）-検査結果"]
[null,null,null,null,{"$f":"'4_入力シート【検査結果表】 耐火クロススクリーン'!$BM$19","v":0},null,14,"検査結果(耐火クロススクリーン）","-","1（3）","-","検査者番号",null,null,null,null,"14検査結果(耐火クロススクリーン）-1（3）-検査者番号",null,"14検査結果(耐火クロススクリーン）-1（3）-検査者番号"]
[null,null,null,null,{"$f":"'4_入力シート【検査結果表】 耐火クロススクリーン'!$BO$19","v":0},null,14,"検査結果(耐火クロススクリーン）","-","1（3）","-","指摘の具体的内容等",null,null,null,null,"14検査結果(耐火クロススクリーン）-1（3）-指摘の具体的内容等",null,"14検査結果(耐火クロススクリーン）-1（3）-指摘の具体的内容等"]
[null,null,null,null,{"$f":"'4_入力シート【検査結果表】 耐火クロススクリーン'!$BY$19","v":0},null,14,"検査結果(耐火クロススクリーン）","-","1（3）","-","改善策の具体的内容等",null,null,null,null,"14検査結果(耐火クロススクリーン）-1（3）-改善策の具体的内容等",null,"14検査結果(耐火クロススクリーン）-1（3）-改善策の具体的内容等"]
[null,null,null,null,{"$f":"'4_入力シート【検査結果表】 耐火クロススクリーン'!$CN$19","v":0},null,14,"検査結果(耐火クロススクリーン）","-","1（3）","-","改善（予定）年月","-","年（令和）",null,null,"14検査結果(耐火クロススクリーン）-1（3）-改善（予定）年月-年（令和）",null,"14検査結果(耐火クロススクリーン）-1（3）-改善（予定）年月-年（令和）"]
[null,null,null,null,{"$f":"'4_入力シート【検査結果表】 耐火クロススクリーン'!$CQ$19","v":0},null,14,"検査結果(耐火クロススクリーン）","-","1（3）","-","改善（予定）年月","-","月",null,null,"14検査結果(耐火クロススクリーン）-1（3）-改善（予定）年月-月",null,"14検査結果(耐火クロススクリーン）-1（3）-改善（予定）年月-月"]
[null,null,null,null,{"$f":"'4_入力シート【検査結果表】 耐火クロススクリーン'!$CT$19","v":0},null,14,"検査結果(耐火クロススクリーン）","-","1（3）","-","改善（予定）年月","-","状況",null,null,"14検査結果(耐火クロススクリーン）-1（3）-改善（予定）年月-状況",null,"14検査結果(耐火クロススクリーン）-1（3）-改善（予定）年月-状況"]
[null,null,null,null,{"$f":"'4_入力シート【検査結果表】 耐火クロススクリーン'!$BA$20","v":0},null,14,"検査結果(耐火クロススクリーン）","-","1（4）","-","検査結果",null,null,null,null,"14検査結果(耐火クロススクリーン）-1（4）-検査結果",null,"14検査結果(耐火クロススクリーン）-1（4）-検査結果"]
[null,null,null,null,{"$f":"'4_入力シート【検査結果表】 耐火クロススクリーン'!$BM$20","v":0},null,14,"検査結果(耐火クロススクリーン）","-","1（4）","-","検査者番号",null,null,null,null,"14検査結果(耐火クロススクリーン）-1（4）-検査者番号",null,"14検査結果(耐火クロススクリーン）-1（4）-検査者番号"]
[null,null,null,null,{"$f":"'4_入力シート【検査結果表】 耐火クロススクリーン'!$BO$20","v":0},null,14,"検査結果(耐火クロススクリーン）","-","1（4）","-","指摘の具体的内容等",null,null,null,null,"14検査結果(耐火クロススクリーン）-1（4）-指摘の具体的内容等",null,"14検査結果(耐火クロススクリーン）-1（4）-指摘の具体的内容等"]
[null,null,null,null,{"$f":"'4_入力シート【検査結果表】 耐火クロススクリーン'!$BY$20","v":0},null,14,"検査結果(耐火クロススクリーン）","-","1（4）","-","改善策の具体的内容等",null,null,null,null,"14検査結果(耐火クロススクリーン）-1（4）-改善策の具体的内容等",null,"14検査結果(耐火クロススクリーン）-1（4）-改善策の具体的内容等"]
[null,null,null,null,{"$f":"'4_入力シート【検査結果表】 耐火クロススクリーン'!$CN$20","v":0},null,14,"検査結果(耐火クロススクリーン）","-","1（4）","-","改善（予定）年月","-","年（令和）",null,null,"14検査結果(耐火クロススクリーン）-1（4）-改善（予定）年月-年（令和）",null,"14検査結果(耐火クロススクリーン）-1（4）-改善（予定）年月-年（令和）"]
[null,null,null,null,{"$f":"'4_入力シート【検査結果表】 耐火クロススクリーン'!$CQ$20","v":0},null,14,"検査結果(耐火クロススクリーン）","-","1（4）","-","改善（予定）年月","-","月",null,null,"14検査結果(耐火クロススクリーン）-1（4）-改善（予定）年月-月",null,"14検査結果(耐火クロススクリーン）-1（4）-改善（予定）年月-月"]
[null,null,null,null,{"$f":"'4_入力シート【検査結果表】 耐火クロススクリーン'!$CT$20","v":0},null,14,"検査結果(耐火クロススクリーン）","-","1（4）","-","改善（予定）年月","-","状況",null,null,"14検査結果(耐火クロススクリーン）-1（4）-改善（予定）年月-状況",null,"14検査結果(耐火クロススクリーン）-1（4）-改善（予定）年月-状況"]
[null,null,null,null,{"$f":"'4_入力シート【検査結果表】 耐火クロススクリーン'!$BA$21","v":0},null,14,"検査結果(耐火クロススクリーン）","-","1（5）","-","検査結果",null,null,null,null,"14検査結果(耐火クロススクリーン）-1（5）-検査結果",null,"14検査結果(耐火クロススクリーン）-1（5）-検査結果"]
[null,null,null,null,{"$f":"'4_入力シート【検査結果表】 耐火クロススクリーン'!$BM$21","v":0},null,14,"検査結果(耐火クロススクリーン）","-","1（5）","-","検査者番号",null,null,null,null,"14検査結果(耐火クロススクリーン）-1（5）-検査者番号",null,"14検査結果(耐火クロススクリーン）-1（5）-検査者番号"]
[null,null,null,null,{"$f":"'4_入力シート【検査結果表】 耐火クロススクリーン'!$BO$21","v":0},null,14,"検査結果(耐火クロススクリーン）","-","1（5）","-","指摘の具体的内容等",null,null,null,null,"14検査結果(耐火クロススクリーン）-1（5）-指摘の具体的内容等",null,"14検査結果(耐火クロススクリーン）-1（5）-指摘の具体的内容等"]
[null,null,null,null,{"$f":"'4_入力シート【検査結果表】 耐火クロススクリーン'!$BY$21","v":0},null,14,"検査結果(耐火クロススクリーン）","-","1（5）","-","改善策の具体的内容等",null,null,null,null,"14検査結果(耐火クロススクリーン）-1（5）-改善策の具体的内容等",null,"14検査結果(耐火クロススクリーン）-1（5）-改善策の具体的内容等"]
[null,null,null,null,{"$f":"'4_入力シート【検査結果表】 耐火クロススクリーン'!$CN$21","v":0},null,14,"検査結果(耐火クロススクリーン）","-","1（5）","-","改善（予定）年月","-","年（令和）",null,null,"14検査結果(耐火クロススクリーン）-1（5）-改善（予定）年月-年（令和）",null,"14検査結果(耐火クロススクリーン）-1（5）-改善（予定）年月-年（令和）"]
[null,null,null,null,{"$f":"'4_入力シート【検査結果表】 耐火クロススクリーン'!$CQ$21","v":0},null,14,"検査結果(耐火クロススクリーン）","-","1（5）","-","改善（予定）年月","-","月",null,null,"14検査結果(耐火クロススクリーン）-1（5）-改善（予定）年月-月",null,"14検査結果(耐火クロススクリーン）-1（5）-改善（予定）年月-月"]
[null,null,null,null,{"$f":"'4_入力シート【検査結果表】 耐火クロススクリーン'!$CT$21","v":0},null,14,"検査結果(耐火クロススクリーン）","-","1（5）","-","改善（予定）年月","-","状況",null,null,"14検査結果(耐火クロススクリーン）-1（5）-改善（予定）年月-状況",null,"14検査結果(耐火クロススクリーン）-1（5）-改善（予定）年月-状況"]
[null,null,null,null,{"$f":"'4_入力シート【検査結果表】 耐火クロススクリーン'!$BA$22","v":0},null,14,"検査結果(耐火クロススクリーン）","-","1（6）","-","検査結果",null,null,null,null,"14検査結果(耐火クロススクリーン）-1（6）-検査結果",null,"14検査結果(耐火クロススクリーン）-1（6）-検査結果"]
[null,null,null,null,{"$f":"'4_入力シート【検査結果表】 耐火クロススクリーン'!$BM$22","v":0},null,14,"検査結果(耐火クロススクリーン）","-","1（6）","-","検査者番号",null,null,null,null,"14検査結果(耐火クロススクリーン）-1（6）-検査者番号",null,"14検査結果(耐火クロススクリーン）-1（6）-検査者番号"]
[null,null,null,null,{"$f":"'4_入力シート【検査結果表】 耐火クロススクリーン'!$BO$22","v":0},null,14,"検査結果(耐火クロススクリーン）","-","1（6）","-","指摘の具体的内容等",null,null,null,null,"14検査結果(耐火クロススクリーン）-1（6）-指摘の具体的内容等",null,"14検査結果(耐火クロススクリーン）-1（6）-指摘の具体的内容等"]
[null,null,null,null,{"$f":"'4_入力シート【検査結果表】 耐火クロススクリーン'!$BY$22","v":0},null,14,"検査結果(耐火クロススクリーン）","-","1（6）","-","改善策の具体的内容等",null,null,null,null,"14検査結果(耐火クロススクリーン）-1（6）-改善策の具体的内容等",null,"14検査結果(耐火クロススクリーン）-1（6）-改善策の具体的内容等"]
[null,null,null,null,{"$f":"'4_入力シート【検査結果表】 耐火クロススクリーン'!$CN$22","v":0},null,14,"検査結果(耐火クロススクリーン）","-","1（6）","-","改善（予定）年月","-","年（令和）",null,null,"14検査結果(耐火クロススクリーン）-1（6）-改善（予定）年月-年（令和）",null,"14検査結果(耐火クロススクリーン）-1（6）-改善（予定）年月-年（令和）"]
[null,null,null,null,{"$f":"'4_入力シート【検査結果表】 耐火クロススクリーン'!$CQ$22","v":0},null,14,"検査結果(耐火クロススクリーン）","-","1（6）","-","改善（予定）年月","-","月",null,null,"14検査結果(耐火クロススクリーン）-1（6）-改善（予定）年月-月",null,"14検査結果(耐火クロススクリーン）-1（6）-改善（予定）年月-月"]
[null,null,null,null,{"$f":"'4_入力シート【検査結果表】 耐火クロススクリーン'!$CT$22","v":0},null,14,"検査結果(耐火クロススクリーン）","-","1（6）","-","改善（予定）年月","-","状況",null,null,"14検査結果(耐火クロススクリーン）-1（6）-改善（予定）年月-状況",null,"14検査結果(耐火クロススクリーン）-1（6）-改善（予定）年月-状況"]
[null,null,null,null,{"$f":"'4_入力シート【検査結果表】 耐火クロススクリーン'!$BA$23","v":0},null,14,"検査結果(耐火クロススクリーン）","-","1（7）","-","検査結果",null,null,null,null,"14検査結果(耐火クロススクリーン）-1（7）-検査結果",null,"14検査結果(耐火クロススクリーン）-1（7）-検査結果"]
[null,null,null,null,{"$f":"'4_入力シート【検査結果表】 耐火クロススクリーン'!$BM$23","v":0},null,14,"検査結果(耐火クロススクリーン）","-","1（7）","-","検査者番号",null,null,null,null,"14検査結果(耐火クロススクリーン）-1（7）-検査者番号",null,"14検査結果(耐火クロススクリーン）-1（7）-検査者番号"]
[null,null,null,null,{"$f":"'4_入力シート【検査結果表】 耐火クロススクリーン'!$BO$23","v":0},null,14,"検査結果(耐火クロススクリーン）","-","1（7）","-","指摘の具体的内容等",null,null,null,null,"14検査結果(耐火クロススクリーン）-1（7）-指摘の具体的内容等",null,"14検査結果(耐火クロススクリーン）-1（7）-指摘の具体的内容等"]
[null,null,null,null,{"$f":"'4_入力シート【検査結果表】 耐火クロススクリーン'!$BY$23","v":0},null,14,"検査結果(耐火クロススクリーン）","-","1（7）","-","改善策の具体的内容等",null,null,null,null,"14検査結果(耐火クロススクリーン）-1（7）-改善策の具体的内容等",null,"14検査結果(耐火クロススクリーン）-1（7）-改善策の具体的内容等"]
[null,null,null,null,{"$f":"'4_入力シート【検査結果表】 耐火クロススクリーン'!$CN$23","v":0},null,14,"検査結果(耐火クロススクリーン）","-","1（7）","-","改善（予定）年月","-","年（令和）",null,null,"14検査結果(耐火クロススクリーン）-1（7）-改善（予定）年月-年（令和）",null,"14検査結果(耐火クロススクリーン）-1（7）-改善（予定）年月-年（令和）"]
[null,null,null,null,{"$f":"'4_入力シート【検査結果表】 耐火クロススクリーン'!$CQ$23","v":0},null,14,"検査結果(耐火クロススクリーン）","-","1（7）","-","改善（予定）年月","-","月",null,null,"14検査結果(耐火クロススクリーン）-1（7）-改善（予定）年月-月",null,"14検査結果(耐火クロススクリーン）-1（7）-改善（予定）年月-月"]
[null,null,null,null,{"$f":"'4_入力シート【検査結果表】 耐火クロススクリーン'!$CT$23","v":0},null,14,"検査結果(耐火クロススクリーン）","-","1（7）","-","改善（予定）年月","-","状況",null,null,{"$f":"CONCATENATE(G980,H980,I980,J980,K980,L980,M980,N980,O980,P980)","v":"14検査結果(耐火クロススクリーン）-1（7）-改善（予定）年月-状況"},null,"14検査結果(耐火クロススクリーン）-1（7）-改善（予定）年月-状況"]
[null,null,null,null,{"$f":"'4_入力シート【検査結果表】 耐火クロススクリーン'!$BA$24","v":0},null,14,"検査結果(耐火クロススクリーン）","-","1（8）","-","検査結果",null,null,null,null,"14検査結果(耐火クロススクリーン）-1（8）-検査結果",null,"14検査結果(耐火クロススクリーン）-1（8）-検査結果"]
[null,null,null,null,{"$f":"'4_入力シート【検査結果表】 耐火クロススクリーン'!$BM$24","v":0},null,14,"検査結果(耐火クロススクリーン）","-","1（8）","-","検査者番号",null,null,null,null,"14検査結果(耐火クロススクリーン）-1（8）-検査者番号",null,"14検査結果(耐火クロススクリーン）-1（8）-検査者番号"]
[null,null,null,null,{"$f":"'4_入力シート【検査結果表】 耐火クロススクリーン'!$BO$24","v":0},null,14,"検査結果(耐火クロススクリーン）","-","1（8）","-","指摘の具体的内容等",null,null,null,null,"14検査結果(耐火クロススクリーン）-1（8）-指摘の具体的内容等",null,"14検査結果(耐火クロススクリーン）-1（8）-指摘の具体的内容等"]
[null,null,null,null,{"$f":"'4_入力シート【検査結果表】 耐火クロススクリーン'!$BY$24","v":0},null,14,"検査結果(耐火クロススクリーン）","-","1（8）","-","改善策の具体的内容等",null,null,null,null,"14検査結果(耐火クロススクリーン）-1（8）-改善策の具体的内容等",null,"14検査結果(耐火クロススクリーン）-1（8）-改善策の具体的内容等"]
[null,null,null,null,{"$f":"'4_入力シート【検査結果表】 耐火クロススクリーン'!$CN$24","v":0},null,14,"検査結果(耐火クロススクリーン）","-","1（8）","-","改善（予定）年月","-","年（令和）",null,null,"14検査結果(耐火クロススクリーン）-1（8）-改善（予定）年月-年（令和）",null,"14検査結果(耐火クロススクリーン）-1（8）-改善（予定）年月-年（令和）"]
[null,null,null,null,{"$f":"'4_入力シート【検査結果表】 耐火クロススクリーン'!$CQ$24","v":0},null,14,"検査結果(耐火クロススクリーン）","-","1（8）","-","改善（予定）年月","-","月",null,null,"14検査結果(耐火クロススクリーン）-1（8）-改善（予定）年月-月",null,"14検査結果(耐火クロススクリーン）-1（8）-改善（予定）年月-月"]
[null,null,null,null,{"$f":"'4_入力シート【検査結果表】 耐火クロススクリーン'!$CT$24","v":0},null,14,"検査結果(耐火クロススクリーン）","-","1（8）","-","改善（予定）年月","-","状況",null,null,"14検査結果(耐火クロススクリーン）-1（8）-改善（予定）年月-状況",null,"14検査結果(耐火クロススクリーン）-1（8）-改善（予定）年月-状況"]
[null,null,null,null,{"$f":"'4_入力シート【検査結果表】 耐火クロススクリーン'!$BA$25","v":0},null,14,"検査結果(耐火クロススクリーン）","-","1（9）","-","検査結果",null,null,null,null,"14検査結果(耐火クロススクリーン）-1（9）-検査結果",null,"14検査結果(耐火クロススクリーン）-1（9）-検査結果"]
[null,null,null,null,{"$f":"'4_入力シート【検査結果表】 耐火クロススクリーン'!$BM$25","v":0},null,14,"検査結果(耐火クロススクリーン）","-","1（9）","-","検査者番号",null,null,null,null,"14検査結果(耐火クロススクリーン）-1（9）-検査者番号",null,"14検査結果(耐火クロススクリーン）-1（9）-検査者番号"]
[null,null,null,null,{"$f":"'4_入力シート【検査結果表】 耐火クロススクリーン'!$BO$25","v":0},null,14,"検査結果(耐火クロススクリーン）","-","1（9）","-","指摘の具体的内容等",null,null,null,null,"14検査結果(耐火クロススクリーン）-1（9）-指摘の具体的内容等",null,"14検査結果(耐火クロススクリーン）-1（9）-指摘の具体的内容等"]
[null,null,null,null,{"$f":"'4_入力シート【検査結果表】 耐火クロススクリーン'!$BY$25","v":0},null,14,"検査結果(耐火クロススクリーン）","-","1（9）","-","改善策の具体的内容等",null,null,null,null,"14検査結果(耐火クロススクリーン）-1（9）-改善策の具体的内容等",null,"14検査結果(耐火クロススクリーン）-1（9）-改善策の具体的内容等"]
[null,null,null,null,{"$f":"'4_入力シート【検査結果表】 耐火クロススクリーン'!$CN$25","v":0},null,14,"検査結果(耐火クロススクリーン）","-","1（9）","-","改善（予定）年月","-","年（令和）",null,null,"14検査結果(耐火クロススクリーン）-1（9）-改善（予定）年月-年（令和）",null,"14検査結果(耐火クロススクリーン）-1（9）-改善（予定）年月-年（令和）"]
[null,null,null,null,{"$f":"'4_入力シート【検査結果表】 耐火クロススクリーン'!$CQ$25","v":0},null,14,"検査結果(耐火クロススクリーン）","-","1（9）","-","改善（予定）年月","-","月",null,null,"14検査結果(耐火クロススクリーン）-1（9）-改善（予定）年月-月",null,"14検査結果(耐火クロススクリーン）-1（9）-改善（予定）年月-月"]
[null,null,null,null,{"$f":"'4_入力シート【検査結果表】 耐火クロススクリーン'!$CT$25","v":0},null,14,"検査結果(耐火クロススクリーン）","-","1（9）","-","改善（予定）年月","-","状況",null,null,"14検査結果(耐火クロススクリーン）-1（9）-改善（予定）年月-状況",null,"14検査結果(耐火クロススクリーン）-1（9）-改善（予定）年月-状況"]
[null,null,null,null,{"$f":"'4_入力シート【検査結果表】 耐火クロススクリーン'!$BA$26","v":0},null,14,"検査結果(耐火クロススクリーン）","-","1（10）","-","検査結果",null,null,null,null,"14検査結果(耐火クロススクリーン）-1（10）-検査結果",null,"14検査結果(耐火クロススクリーン）-1（10）-検査結果"]
[null,null,null,null,{"$f":"'4_入力シート【検査結果表】 耐火クロススクリーン'!$BM$26","v":0},null,14,"検査結果(耐火クロススクリーン）","-","1（10）","-","検査者番号",null,null,null,null,"14検査結果(耐火クロススクリーン）-1（10）-検査者番号",null,"14検査結果(耐火クロススクリーン）-1（10）-検査者番号"]
[null,null,null,null,{"$f":"'4_入力シート【検査結果表】 耐火クロススクリーン'!$BO$26","v":0},null,14,"検査結果(耐火クロススクリーン）","-","1（10）","-","指摘の具体的内容等",null,null,null,null,"14検査結果(耐火クロススクリーン）-1（10）-指摘の具体的内容等",null,"14検査結果(耐火クロススクリーン）-1（10）-指摘の具体的内容等"]
[null,null,null,null,{"$f":"'4_入力シート【検査結果表】 耐火クロススクリーン'!$BY$26","v":0},null,14,"検査結果(耐火クロススクリーン）","-","1（10）","-","改善策の具体的内容等",null,null,null,null,"14検査結果(耐火クロススクリーン）-1（10）-改善策の具体的内容等",null,"14検査結果(耐火クロススクリーン）-1（10）-改善策の具体的内容等"]
[null,null,null,null,{"$f":"'4_入力シート【検査結果表】 耐火クロススクリーン'!$CN$26","v":0},null,14,"検査結果(耐火クロススクリーン）","-","1（10）","-","改善（予定）年月","-","年（令和）",null,null,"14検査結果(耐火クロススクリーン）-1（10）-改善（予定）年月-年（令和）",null,"14検査結果(耐火クロススクリーン）-1（10）-改善（予定）年月-年（令和）"]
[null,null,null,null,{"$f":"'4_入力シート【検査結果表】 耐火クロススクリーン'!$CQ$26","v":0},null,14,"検査結果(耐火クロススクリーン）","-","1（10）","-","改善（予定）年月","-","月",null,null,"14検査結果(耐火クロススクリーン）-1（10）-改善（予定）年月-月",null,"14検査結果(耐火クロススクリーン）-1（10）-改善（予定）年月-月"]
[null,null,null,null,{"$f":"'4_入力シート【検査結果表】 耐火クロススクリーン'!$CT$26","v":0},null,14,"検査結果(耐火クロススクリーン）","-","1（10）","-","改善（予定）年月","-","状況",null,null,"14検査結果(耐火クロススクリーン）-1（10）-改善（予定）年月-状況",null,"14検査結果(耐火クロススクリーン）-1（10）-改善（予定）年月-状況"]
[null,null,null,null,{"$f":"'4_入力シート【検査結果表】 耐火クロススクリーン'!$BA$27","v":0},null,14,"検査結果(耐火クロススクリーン）","-","1（11）","-","検査結果",null,null,null,null,"14検査結果(耐火クロススクリーン）-1（11）-検査結果",null,"14検査結果(耐火クロススクリーン）-1（11）-検査結果"]
[null,null,null,null,{"$f":"'4_入力シート【検査結果表】 耐火クロススクリーン'!$BM$27","v":0},null,14,"検査結果(耐火クロススクリーン）","-","1（11）","-","検査者番号",null,null,null,null,"14検査結果(耐火クロススクリーン）-1（11）-検査者番号",null,"14検査結果(耐火クロススクリーン）-1（11）-検査者番号"]
[null,null,null,null,{"$f":"'4_入力シート【検査結果表】 耐火クロススクリーン'!$BO$27","v":0},null,14,"検査結果(耐火クロススクリーン）","-","1（11）","-","指摘の具体的内容等",null,null,null,null,"14検査結果(耐火クロススクリーン）-1（11）-指摘の具体的内容等",null,"14検査結果(耐火クロススクリーン）-1（11）-指摘の具体的内容等"]
[null,null,null,null,{"$f":"'4_入力シート【検査結果表】 耐火クロススクリーン'!$BY$27","v":0},null,14,"検査結果(耐火クロススクリーン）","-","1（11）","-","改善策の具体的内容等",null,null,null,null,"14検査結果(耐火クロススクリーン）-1（11）-改善策の具体的内容等",null,"14検査結果(耐火クロススクリーン）-1（11）-改善策の具体的内容等"]
[null,null,null,null,{"$f":"'4_入力シート【検査結果表】 耐火クロススクリーン'!$CN$27","v":0},null,14,"検査結果(耐火クロススクリーン）","-","1（11）","-","改善（予定）年月","-","年（令和）",null,null,"14検査結果(耐火クロススクリーン）-1（11）-改善（予定）年月-年（令和）",null,"14検査結果(耐火クロススクリーン）-1（11）-改善（予定）年月-年（令和）"]
[null,null,null,null,{"$f":"'4_入力シート【検査結果表】 耐火クロススクリーン'!$CQ$27","v":0},null,14,"検査結果(耐火クロススクリーン）","-","1（11）","-","改善（予定）年月","-","月",null,null,"14検査結果(耐火クロススクリーン）-1（11）-改善（予定）年月-月",null,"14検査結果(耐火クロススクリーン）-1（11）-改善（予定）年月-月"]
[null,null,null,null,{"$f":"'4_入力シート【検査結果表】 耐火クロススクリーン'!$CT$27","v":0},null,14,"検査結果(耐火クロススクリーン）","-","1（11）","-","改善（予定）年月","-","状況",null,null,"14検査結果(耐火クロススクリーン）-1（11）-改善（予定）年月-状況",null,"14検査結果(耐火クロススクリーン）-1（11）-改善（予定）年月-状況"]
[null,null,null,null,{"$f":"'4_入力シート【検査結果表】 耐火クロススクリーン'!$BA$28","v":0},null,14,"検査結果(耐火クロススクリーン）","-","1（12）","-","検査結果",null,null,null,null,"14検査結果(耐火クロススクリーン）-1（12）-検査結果",null,"14検査結果(耐火クロススクリーン）-1（12）-検査結果"]
[null,null,null,null,{"$f":"'4_入力シート【検査結果表】 耐火クロススクリーン'!$BM$28","v":0},null,14,"検査結果(耐火クロススクリーン）","-","1（12）","-","検査者番号",null,null,null,null,"14検査結果(耐火クロススクリーン）-1（12）-検査者番号",null,"14検査結果(耐火クロススクリーン）-1（12）-検査者番号"]
[null,null,null,null,{"$f":"'4_入力シート【検査結果表】 耐火クロススクリーン'!$BO$28","v":0},null,14,"検査結果(耐火クロススクリーン）","-","1（12）","-","指摘の具体的内容等",null,null,null,null,"14検査結果(耐火クロススクリーン）-1（12）-指摘の具体的内容等",null,"14検査結果(耐火クロススクリーン）-1（12）-指摘の具体的内容等"]
[null,null,null,null,{"$f":"'4_入力シート【検査結果表】 耐火クロススクリーン'!$BY$28","v":0},null,14,"検査結果(耐火クロススクリーン）","-","1（12）","-","改善策の具体的内容等",null,null,null,null,"14検査結果(耐火クロススクリーン）-1（12）-改善策の具体的内容等",null,"14検査結果(耐火クロススクリーン）-1（12）-改善策の具体的内容等"]
[null,null,null,null,{"$f":"'4_入力シート【検査結果表】 耐火クロススクリーン'!$CN$28","v":0},null,14,"検査結果(耐火クロススクリーン）","-","1（12）","-","改善（予定）年月","-","年（令和）",null,null,"14検査結果(耐火クロススクリーン）-1（12）-改善（予定）年月-年（令和）",null,"14検査結果(耐火クロススクリーン）-1（12）-改善（予定）年月-年（令和）"]
[null,null,null,null,{"$f":"'4_入力シート【検査結果表】 耐火クロススクリーン'!$CQ$28","v":0},null,14,"検査結果(耐火クロススクリーン）","-","1（12）","-","改善（予定）年月","-","月",null,null,"14検査結果(耐火クロススクリーン）-1（12）-改善（予定）年月-月",null,"14検査結果(耐火クロススクリーン）-1（12）-改善（予定）年月-月"]
[null,null,null,null,{"$f":"'4_入力シート【検査結果表】 耐火クロススクリーン'!$CT$28","v":0},null,14,"検査結果(耐火クロススクリーン）","-","1（12）","-","改善（予定）年月","-","状況",null,null,"14検査結果(耐火クロススクリーン）-1（12）-改善（予定）年月-状況",null,"14検査結果(耐火クロススクリーン）-1（12）-改善（予定）年月-状況"]
[null,null,null,null,{"$f":"'4_入力シート【検査結果表】 耐火クロススクリーン'!$BA$29","v":0},null,14,"検査結果(耐火クロススクリーン）","-","1（13）","-","検査結果",null,null,null,null,"14検査結果(耐火クロススクリーン）-1（13）-検査結果",null,"14検査結果(耐火クロススクリーン）-1（13）-検査結果"]
[null,null,null,null,{"$f":"'4_入力シート【検査結果表】 耐火クロススクリーン'!$BM$29","v":0},null,14,"検査結果(耐火クロススクリーン）","-","1（13）","-","検査者番号",null,null,null,null,"14検査結果(耐火クロススクリーン）-1（13）-検査者番号",null,"14検査結果(耐火クロススクリーン）-1（13）-検査者番号"]
[null,null,null,null,{"$f":"'4_入力シート【検査結果表】 耐火クロススクリーン'!$BO$29","v":0},null,14,"検査結果(耐火クロススクリーン）","-","1（13）","-","指摘の具体的内容等",null,null,null,null,"14検査結果(耐火クロススクリーン）-1（13）-指摘の具体的内容等",null,"14検査結果(耐火クロススクリーン）-1（13）-指摘の具体的内容等"]
[null,null,null,null,{"$f":"'4_入力シート【検査結果表】 耐火クロススクリーン'!$BY$29","v":0},null,14,"検査結果(耐火クロススクリーン）","-","1（13）","-","改善策の具体的内容等",null,null,null,null,"14検査結果(耐火クロススクリーン）-1（13）-改善策の具体的内容等",null,"14検査結果(耐火クロススクリーン）-1（13）-改善策の具体的内容等"]
[null,null,null,null,{"$f":"'4_入力シート【検査結果表】 耐火クロススクリーン'!$CN$29","v":0},null,14,"検査結果(耐火クロススクリーン）","-","1（13）","-","改善（予定）年月","-","年（令和）",null,null,"14検査結果(耐火クロススクリーン）-1（13）-改善（予定）年月-年（令和）",null,"14検査結果(耐火クロススクリーン）-1（13）-改善（予定）年月-年（令和）"]
[null,null,null,null,{"$f":"'4_入力シート【検査結果表】 耐火クロススクリーン'!$CQ$29","v":0},null,14,"検査結果(耐火クロススクリーン）","-","1（13）","-","改善（予定）年月","-","月",null,null,"14検査結果(耐火クロススクリーン）-1（13）-改善（予定）年月-月",null,"14検査結果(耐火クロススクリーン）-1（13）-改善（予定）年月-月"]
[null,null,null,null,{"$f":"'4_入力シート【検査結果表】 耐火クロススクリーン'!$CT$29","v":0},null,14,"検査結果(耐火クロススクリーン）","-","1（13）","-","改善（予定）年月","-","状況",null,null,"14検査結果(耐火クロススクリーン）-1（13）-改善（予定）年月-状況",null,"14検査結果(耐火クロススクリーン）-1（13）-改善（予定）年月-状況"]
[null,null,null,null,{"$f":"'4_入力シート【検査結果表】 耐火クロススクリーン'!$BA$30","v":0},null,14,"検査結果(耐火クロススクリーン）","-","1（14）","-","検査結果",null,null,null,null,"14検査結果(耐火クロススクリーン）-1（14）-検査結果",null,"14検査結果(耐火クロススクリーン）-1（14）-検査結果"]
[null,null,null,null,{"$f":"'4_入力シート【検査結果表】 耐火クロススクリーン'!$BM$30","v":0},null,14,"検査結果(耐火クロススクリーン）","-","1（14）","-","検査者番号",null,null,null,null,"14検査結果(耐火クロススクリーン）-1（14）-検査者番号",null,"14検査結果(耐火クロススクリーン）-1（14）-検査者番号"]
[null,null,null,null,{"$f":"'4_入力シート【検査結果表】 耐火クロススクリーン'!$BO$30","v":0},null,14,"検査結果(耐火クロススクリーン）","-","1（14）","-","指摘の具体的内容等",null,null,null,null,"14検査結果(耐火クロススクリーン）-1（14）-指摘の具体的内容等",null,"14検査結果(耐火クロススクリーン）-1（14）-指摘の具体的内容等"]
[null,null,null,null,{"$f":"'4_入力シート【検査結果表】 耐火クロススクリーン'!$BY$30","v":0},null,14,"検査結果(耐火クロススクリーン）","-","1（14）","-","改善策の具体的内容等",null,null,null,null,"14検査結果(耐火クロススクリーン）-1（14）-改善策の具体的内容等",null,"14検査結果(耐火クロススクリーン）-1（14）-改善策の具体的内容等"]
[null,null,null,null,{"$f":"'4_入力シート【検査結果表】 耐火クロススクリーン'!$CN$30","v":0},null,14,"検査結果(耐火クロススクリーン）","-","1（14）","-","改善（予定）年月","-","年（令和）",null,null,"14検査結果(耐火クロススクリーン）-1（14）-改善（予定）年月-年（令和）",null,"14検査結果(耐火クロススクリーン）-1（14）-改善（予定）年月-年（令和）"]
[null,null,null,null,{"$f":"'4_入力シート【検査結果表】 耐火クロススクリーン'!$CQ$30","v":0},null,14,"検査結果(耐火クロススクリーン）","-","1（14）","-","改善（予定）年月","-","月",null,null,"14検査結果(耐火クロススクリーン）-1（14）-改善（予定）年月-月",null,"14検査結果(耐火クロススクリーン）-1（14）-改善（予定）年月-月"]
[null,null,null,null,{"$f":"'4_入力シート【検査結果表】 耐火クロススクリーン'!$CT$30","v":0},null,14,"検査結果(耐火クロススクリーン）","-","1（14）","-","改善（予定）年月","-","状況",null,null,"14検査結果(耐火クロススクリーン）-1（14）-改善（予定）年月-状況",null,"14検査結果(耐火クロススクリーン）-1（14）-改善（予定）年月-状況"]
[null,null,null,null,{"$f":"'4_入力シート【検査結果表】 耐火クロススクリーン'!$BA$31","v":0},null,14,"検査結果(耐火クロススクリーン）","-","1（15）","-","検査結果",null,null,null,null,"14検査結果(耐火クロススクリーン）-1（15）-検査結果",null,"14検査結果(耐火クロススクリーン）-1（15）-検査結果"]
[null,null,null,null,{"$f":"'4_入力シート【検査結果表】 耐火クロススクリーン'!$BM$31","v":0},null,14,"検査結果(耐火クロススクリーン）","-","1（15）","-","検査者番号",null,null,null,null,"14検査結果(耐火クロススクリーン）-1（15）-検査者番号",null,"14検査結果(耐火クロススクリーン）-1（15）-検査者番号"]
[null,null,null,null,{"$f":"'4_入力シート【検査結果表】 耐火クロススクリーン'!$BO$31","v":0},null,14,"検査結果(耐火クロススクリーン）","-","1（15）","-","指摘の具体的内容等",null,null,null,null,"14検査結果(耐火クロススクリーン）-1（15）-指摘の具体的内容等",null,"14検査結果(耐火クロススクリーン）-1（15）-指摘の具体的内容等"]
[null,null,null,null,{"$f":"'4_入力シート【検査結果表】 耐火クロススクリーン'!$BY$31","v":0},null,14,"検査結果(耐火クロススクリーン）","-","1（15）","-","改善策の具体的内容等",null,null,null,null,"14検査結果(耐火クロススクリーン）-1（15）-改善策の具体的内容等",null,"14検査結果(耐火クロススクリーン）-1（15）-改善策の具体的内容等"]
[null,null,null,null,{"$f":"'4_入力シート【検査結果表】 耐火クロススクリーン'!$CN$31","v":0},null,14,"検査結果(耐火クロススクリーン）","-","1（15）","-","改善（予定）年月","-","年（令和）",null,null,"14検査結果(耐火クロススクリーン）-1（15）-改善（予定）年月-年（令和）",null,"14検査結果(耐火クロススクリーン）-1（15）-改善（予定）年月-年（令和）"]
[null,null,null,null,{"$f":"'4_入力シート【検査結果表】 耐火クロススクリーン'!$CQ$31","v":0},null,14,"検査結果(耐火クロススクリーン）","-","1（15）","-","改善（予定）年月","-","月",null,null,"14検査結果(耐火クロススクリーン）-1（15）-改善（予定）年月-月",null,"14検査結果(耐火クロススクリーン）-1（15）-改善（予定）年月-月"]
[null,null,null,null,{"$f":"'4_入力シート【検査結果表】 耐火クロススクリーン'!$CT$31","v":0},null,14,"検査結果(耐火クロススクリーン）","-","1（15）","-","改善（予定）年月","-","状況",null,null,"14検査結果(耐火クロススクリーン）-1（15）-改善（予定）年月-状況",null,"14検査結果(耐火クロススクリーン）-1（15）-改善（予定）年月-状況"]
[null,null,null,null,{"$f":"'4_入力シート【検査結果表】 耐火クロススクリーン'!$BA$32","v":0},null,14,"検査結果(耐火クロススクリーン）","-","1（16）","-","検査結果",null,null,null,null,"14検査結果(耐火クロススクリーン）-1（16）-検査結果",null,"14検査結果(耐火クロススクリーン）-1（16）-検査結果"]
[null,null,null,null,{"$f":"'4_入力シート【検査結果表】 耐火クロススクリーン'!$BM$32","v":0},null,14,"検査結果(耐火クロススクリーン）","-","1（16）","-","検査者番号",null,null,null,null,"14検査結果(耐火クロススクリーン）-1（16）-検査者番号",null,"14検査結果(耐火クロススクリーン）-1（16）-検査者番号"]
[null,null,null,null,{"$f":"'4_入力シート【検査結果表】 耐火クロススクリーン'!$BO$32","v":0},null,14,"検査結果(耐火クロススクリーン）","-","1（16）","-","指摘の具体的内容等",null,null,null,null,"14検査結果(耐火クロススクリーン）-1（16）-指摘の具体的内容等",null,"14検査結果(耐火クロススクリーン）-1（16）-指摘の具体的内容等"]
[null,null,null,null,{"$f":"'4_入力シート【検査結果表】 耐火クロススクリーン'!$BY$32","v":0},null,14,"検査結果(耐火クロススクリーン）","-","1（16）","-","改善策の具体的内容等",null,null,null,null,"14検査結果(耐火クロススクリーン）-1（16）-改善策の具体的内容等",null,"14検査結果(耐火クロススクリーン）-1（16）-改善策の具体的内容等"]
[null,null,null,null,{"$f":"'4_入力シート【検査結果表】 耐火クロススクリーン'!$CN$32","v":0},null,14,"検査結果(耐火クロススクリーン）","-","1（16）","-","改善（予定）年月","-","年（令和）",null,null,"14検査結果(耐火クロススクリーン）-1（16）-改善（予定）年月-年（令和）",null,"14検査結果(耐火クロススクリーン）-1（16）-改善（予定）年月-年（令和）"]
[null,null,null,null,{"$f":"'4_入力シート【検査結果表】 耐火クロススクリーン'!$CQ$32","v":0},null,14,"検査結果(耐火クロススクリーン）","-","1（16）","-","改善（予定）年月","-","月",null,null,"14検査結果(耐火クロススクリーン）-1（16）-改善（予定）年月-月",null,"14検査結果(耐火クロススクリーン）-1（16）-改善（予定）年月-月"]
[null,null,null,null,{"$f":"'4_入力シート【検査結果表】 耐火クロススクリーン'!$CT$32","v":0},null,14,"検査結果(耐火クロススクリーン）","-","1（16）","-","改善（予定）年月","-","状況",null,null,"14検査結果(耐火クロススクリーン）-1（16）-改善（予定）年月-状況",null,"14検査結果(耐火クロススクリーン）-1（16）-改善（予定）年月-状況"]
[null,null,null,null,{"$f":"'4_入力シート【検査結果表】 耐火クロススクリーン'!$BA$33","v":0},null,14,"検査結果(耐火クロススクリーン）","-","1（17）","-","検査結果",null,null,null,null,{"$f":"CONCATENATE(G1044,H1044,I1044,J1044,K1044,L1044,M1044,N1044,O1044,P1044)","v":"14検査結果(耐火クロススクリーン）-1（17）-検査結果"},null,"14検査結果(耐火クロススクリーン）-1（17）-検査結果"]
[null,null,null,null,{"$f":"'4_入力シート【検査結果表】 耐火クロススクリーン'!$BM$33","v":0},null,14,"検査結果(耐火クロススクリーン）","-","1（17）","-","検査者番号",null,null,null,null,"14検査結果(耐火クロススクリーン）-1（17）-検査者番号",null,"14検査結果(耐火クロススクリーン）-1（17）-検査者番号"]
[null,null,null,null,{"$f":"'4_入力シート【検査結果表】 耐火クロススクリーン'!$BO$33","v":0},null,14,"検査結果(耐火クロススクリーン）","-","1（17）","-","指摘の具体的内容等",null,null,null,null,"14検査結果(耐火クロススクリーン）-1（17）-指摘の具体的内容等",null,"14検査結果(耐火クロススクリーン）-1（17）-指摘の具体的内容等"]
[null,null,null,null,{"$f":"'4_入力シート【検査結果表】 耐火クロススクリーン'!$BY$33","v":0},null,14,"検査結果(耐火クロススクリーン）","-","1（17）","-","改善策の具体的内容等",null,null,null,null,"14検査結果(耐火クロススクリーン）-1（17）-改善策の具体的内容等",null,"14検査結果(耐火クロススクリーン）-1（17）-改善策の具体的内容等"]
[null,null,null,null,{"$f":"'4_入力シート【検査結果表】 耐火クロススクリーン'!$CN$33","v":0},null,14,"検査結果(耐火クロススクリーン）","-","1（17）","-","改善（予定）年月","-","年（令和）",null,null,"14検査結果(耐火クロススクリーン）-1（17）-改善（予定）年月-年（令和）",null,"14検査結果(耐火クロススクリーン）-1（17）-改善（予定）年月-年（令和）"]
[null,null,null,null,{"$f":"'4_入力シート【検査結果表】 耐火クロススクリーン'!$CQ$33","v":0},null,14,"検査結果(耐火クロススクリーン）","-","1（17）","-","改善（予定）年月","-","月",null,null,"14検査結果(耐火クロススクリーン）-1（17）-改善（予定）年月-月",null,"14検査結果(耐火クロススクリーン）-1（17）-改善（予定）年月-月"]
[null,null,null,null,{"$f":"'4_入力シート【検査結果表】 耐火クロススクリーン'!$CT$33","v":0},null,14,"検査結果(耐火クロススクリーン）","-","1（17）","-","改善（予定）年月","-","状況",null,null,"14検査結果(耐火クロススクリーン）-1（17）-改善（予定）年月-状況",null,"14検査結果(耐火クロススクリーン）-1（17）-改善（予定）年月-状況"]
[null,null,null,null,{"$f":"'4_入力シート【検査結果表】 耐火クロススクリーン'!$BA$34","v":0},null,14,"検査結果(耐火クロススクリーン）","-","1（18）","-","検査結果",null,null,null,null,"14検査結果(耐火クロススクリーン）-1（18）-検査結果",null,"14検査結果(耐火クロススクリーン）-1（18）-検査結果"]
[null,null,null,null,{"$f":"'4_入力シート【検査結果表】 耐火クロススクリーン'!$BM$34","v":0},null,14,"検査結果(耐火クロススクリーン）","-","1（18）","-","検査者番号",null,null,null,null,"14検査結果(耐火クロススクリーン）-1（18）-検査者番号",null,"14検査結果(耐火クロススクリーン）-1（18）-検査者番号"]
[null,null,null,null,{"$f":"'4_入力シート【検査結果表】 耐火クロススクリーン'!$BO$34","v":0},null,14,"検査結果(耐火クロススクリーン）","-","1（18）","-","指摘の具体的内容等",null,null,null,null,"14検査結果(耐火クロススクリーン）-1（18）-指摘の具体的内容等",null,"14検査結果(耐火クロススクリーン）-1（18）-指摘の具体的内容等"]
[null,null,null,null,{"$f":"'4_入力シート【検査結果表】 耐火クロススクリーン'!$BY$34","v":0},null,14,"検査結果(耐火クロススクリーン）","-","1（18）","-","改善策の具体的内容等",null,null,null,null,"14検査結果(耐火クロススクリーン）-1（18）-改善策の具体的内容等",null,"14検査結果(耐火クロススクリーン）-1（18）-改善策の具体的内容等"]
[null,null,null,null,{"$f":"'4_入力シート【検査結果表】 耐火クロススクリーン'!$CN$34","v":0},null,14,"検査結果(耐火クロススクリーン）","-","1（18）","-","改善（予定）年月","-","年（令和）",null,null,"14検査結果(耐火クロススクリーン）-1（18）-改善（予定）年月-年（令和）",null,"14検査結果(耐火クロススクリーン）-1（18）-改善（予定）年月-年（令和）"]
[null,null,null,null,{"$f":"'4_入力シート【検査結果表】 耐火クロススクリーン'!$CQ$34","v":0},null,14,"検査結果(耐火クロススクリーン）","-","1（18）","-","改善（予定）年月","-","月",null,null,"14検査結果(耐火クロススクリーン）-1（18）-改善（予定）年月-月",null,"14検査結果(耐火クロススクリーン）-1（18）-改善（予定）年月-月"]
[null,null,null,null,{"$f":"'4_入力シート【検査結果表】 耐火クロススクリーン'!$CT$34","v":0},null,14,"検査結果(耐火クロススクリーン）","-","1（18）","-","改善（予定）年月","-","状況",null,null,"14検査結果(耐火クロススクリーン）-1（18）-改善（予定）年月-状況",null,"14検査結果(耐火クロススクリーン）-1（18）-改善（予定）年月-状況"]
[null,null,null,null,{"$f":"'4_入力シート【検査結果表】 耐火クロススクリーン'!$BA$35","v":0},null,14,"検査結果(耐火クロススクリーン）","-","1（19）","-","検査結果",null,null,null,null,"14検査結果(耐火クロススクリーン）-1（19）-検査結果",null,"14検査結果(耐火クロススクリーン）-1（19）-検査結果"]
[null,null,null,null,{"$f":"'4_入力シート【検査結果表】 耐火クロススクリーン'!$BM$35","v":0},null,14,"検査結果(耐火クロススクリーン）","-","1（19）","-","検査者番号",null,null,null,null,"14検査結果(耐火クロススクリーン）-1（19）-検査者番号",null,"14検査結果(耐火クロススクリーン）-1（19）-検査者番号"]
[null,null,null,null,{"$f":"'4_入力シート【検査結果表】 耐火クロススクリーン'!$BO$35","v":0},null,14,"検査結果(耐火クロススクリーン）","-","1（19）","-","指摘の具体的内容等",null,null,null,null,"14検査結果(耐火クロススクリーン）-1（19）-指摘の具体的内容等",null,"14検査結果(耐火クロススクリーン）-1（19）-指摘の具体的内容等"]
[null,null,null,null,{"$f":"'4_入力シート【検査結果表】 耐火クロススクリーン'!$BY$35","v":0},null,14,"検査結果(耐火クロススクリーン）","-","1（19）","-","改善策の具体的内容等",null,null,null,null,"14検査結果(耐火クロススクリーン）-1（19）-改善策の具体的内容等",null,"14検査結果(耐火クロススクリーン）-1（19）-改善策の具体的内容等"]
[null,null,null,null,{"$f":"'4_入力シート【検査結果表】 耐火クロススクリーン'!$CN$35","v":0},null,14,"検査結果(耐火クロススクリーン）","-","1（19）","-","改善（予定）年月","-","年（令和）",null,null,"14検査結果(耐火クロススクリーン）-1（19）-改善（予定）年月-年（令和）",null,"14検査結果(耐火クロススクリーン）-1（19）-改善（予定）年月-年（令和）"]
[null,null,null,null,{"$f":"'4_入力シート【検査結果表】 耐火クロススクリーン'!$CQ$35","v":0},null,14,"検査結果(耐火クロススクリーン）","-","1（19）","-","改善（予定）年月","-","月",null,null,"14検査結果(耐火クロススクリーン）-1（19）-改善（予定）年月-月",null,"14検査結果(耐火クロススクリーン）-1（19）-改善（予定）年月-月"]
[null,null,null,null,{"$f":"'4_入力シート【検査結果表】 耐火クロススクリーン'!$CT$35","v":0},null,14,"検査結果(耐火クロススクリーン）","-","1（19）","-","改善（予定）年月","-","状況",null,null,"14検査結果(耐火クロススクリーン）-1（19）-改善（予定）年月-状況",null,"14検査結果(耐火クロススクリーン）-1（19）-改善（予定）年月-状況"]
[null,null,null,null,{"$f":"'4_入力シート【検査結果表】 耐火クロススクリーン'!$BA$36","v":0},null,14,"検査結果(耐火クロススクリーン）","-","1（20）","-","検査結果",null,null,null,null,"14検査結果(耐火クロススクリーン）-1（20）-検査結果",null,"14検査結果(耐火クロススクリーン）-1（20）-検査結果"]
[null,null,null,null,{"$f":"'4_入力シート【検査結果表】 耐火クロススクリーン'!$BM$36","v":0},null,14,"検査結果(耐火クロススクリーン）","-","1（20）","-","検査者番号",null,null,null,null,"14検査結果(耐火クロススクリーン）-1（20）-検査者番号",null,"14検査結果(耐火クロススクリーン）-1（20）-検査者番号"]
[null,null,null,null,{"$f":"'4_入力シート【検査結果表】 耐火クロススクリーン'!$BO$36","v":0},null,14,"検査結果(耐火クロススクリーン）","-","1（20）","-","指摘の具体的内容等",null,null,null,null,"14検査結果(耐火クロススクリーン）-1（20）-指摘の具体的内容等",null,"14検査結果(耐火クロススクリーン）-1（20）-指摘の具体的内容等"]
[null,null,null,null,{"$f":"'4_入力シート【検査結果表】 耐火クロススクリーン'!$BY$36","v":0},null,14,"検査結果(耐火クロススクリーン）","-","1（20）","-","改善策の具体的内容等",null,null,null,null,"14検査結果(耐火クロススクリーン）-1（20）-改善策の具体的内容等",null,"14検査結果(耐火クロススクリーン）-1（20）-改善策の具体的内容等"]
[null,null,null,null,{"$f":"'4_入力シート【検査結果表】 耐火クロススクリーン'!$CN$36","v":0},null,14,"検査結果(耐火クロススクリーン）","-","1（20）","-","改善（予定）年月","-","年（令和）",null,null,"14検査結果(耐火クロススクリーン）-1（20）-改善（予定）年月-年（令和）",null,"14検査結果(耐火クロススクリーン）-1（20）-改善（予定）年月-年（令和）"]
[null,null,null,null,{"$f":"'4_入力シート【検査結果表】 耐火クロススクリーン'!$CQ$36","v":0},null,14,"検査結果(耐火クロススクリーン）","-","1（20）","-","改善（予定）年月","-","月",null,null,"14検査結果(耐火クロススクリーン）-1（20）-改善（予定）年月-月",null,"14検査結果(耐火クロススクリーン）-1（20）-改善（予定）年月-月"]
[null,null,null,null,{"$f":"'4_入力シート【検査結果表】 耐火クロススクリーン'!$CT$36","v":0},null,14,"検査結果(耐火クロススクリーン）","-","1（20）","-","改善（予定）年月","-","状況",null,null,"14検査結果(耐火クロススクリーン）-1（20）-改善（予定）年月-状況",null,"14検査結果(耐火クロススクリーン）-1（20）-改善（予定）年月-状況"]
[null,null,null,null,{"$f":"'4_入力シート【検査結果表】 耐火クロススクリーン'!$BA$37","v":0},null,14,"検査結果(耐火クロススクリーン）","-","1（21）","-","検査結果",null,null,null,null,"14検査結果(耐火クロススクリーン）-1（21）-検査結果",null,"14検査結果(耐火クロススクリーン）-1（21）-検査結果"]
[null,null,null,null,{"$f":"'4_入力シート【検査結果表】 耐火クロススクリーン'!$BM$37","v":0},null,14,"検査結果(耐火クロススクリーン）","-","1（21）","-","検査者番号",null,null,null,null,"14検査結果(耐火クロススクリーン）-1（21）-検査者番号",null,"14検査結果(耐火クロススクリーン）-1（21）-検査者番号"]
[null,null,null,null,{"$f":"'4_入力シート【検査結果表】 耐火クロススクリーン'!$BO$37","v":0},null,14,"検査結果(耐火クロススクリーン）","-","1（21）","-","指摘の具体的内容等",null,null,null,null,"14検査結果(耐火クロススクリーン）-1（21）-指摘の具体的内容等",null,"14検査結果(耐火クロススクリーン）-1（21）-指摘の具体的内容等"]
[null,null,null,null,{"$f":"'4_入力シート【検査結果表】 耐火クロススクリーン'!$BY$37","v":0},null,14,"検査結果(耐火クロススクリーン）","-","1（21）","-","改善策の具体的内容等",null,null,null,null,"14検査結果(耐火クロススクリーン）-1（21）-改善策の具体的内容等",null,"14検査結果(耐火クロススクリーン）-1（21）-改善策の具体的内容等"]
[null,null,null,null,{"$f":"'4_入力シート【検査結果表】 耐火クロススクリーン'!$CN$37","v":0},null,14,"検査結果(耐火クロススクリーン）","-","1（21）","-","改善（予定）年月","-","年（令和）",null,null,"14検査結果(耐火クロススクリーン）-1（21）-改善（予定）年月-年（令和）",null,"14検査結果(耐火クロススクリーン）-1（21）-改善（予定）年月-年（令和）"]
[null,null,null,null,{"$f":"'4_入力シート【検査結果表】 耐火クロススクリーン'!$CQ$37","v":0},null,14,"検査結果(耐火クロススクリーン）","-","1（21）","-","改善（予定）年月","-","月",null,null,"14検査結果(耐火クロススクリーン）-1（21）-改善（予定）年月-月",null,"14検査結果(耐火クロススクリーン）-1（21）-改善（予定）年月-月"]
[null,null,null,null,{"$f":"'4_入力シート【検査結果表】 耐火クロススクリーン'!$CT$37","v":0},null,14,"検査結果(耐火クロススクリーン）","-","1（21）","-","改善（予定）年月","-","状況",null,null,"14検査結果(耐火クロススクリーン）-1（21）-改善（予定）年月-状況",null,"14検査結果(耐火クロススクリーン）-1（21）-改善（予定）年月-状況"]
[null,null,null,null,{"$f":"'4_入力シート【検査結果表】 耐火クロススクリーン'!$BA$38","v":0},null,14,"検査結果(耐火クロススクリーン）","-","1（22）","-","検査結果",null,null,null,null,"14検査結果(耐火クロススクリーン）-1（22）-検査結果",null,"14検査結果(耐火クロススクリーン）-1（22）-検査結果"]
[null,null,null,null,{"$f":"'4_入力シート【検査結果表】 耐火クロススクリーン'!$BM$38","v":0},null,14,"検査結果(耐火クロススクリーン）","-","1（22）","-","検査者番号",null,null,null,null,"14検査結果(耐火クロススクリーン）-1（22）-検査者番号",null,"14検査結果(耐火クロススクリーン）-1（22）-検査者番号"]
[null,null,null,null,{"$f":"'4_入力シート【検査結果表】 耐火クロススクリーン'!$BO$38","v":0},null,14,"検査結果(耐火クロススクリーン）","-","1（22）","-","指摘の具体的内容等",null,null,null,null,"14検査結果(耐火クロススクリーン）-1（22）-指摘の具体的内容等",null,"14検査結果(耐火クロススクリーン）-1（22）-指摘の具体的内容等"]
[null,null,null,null,{"$f":"'4_入力シート【検査結果表】 耐火クロススクリーン'!$BY$38","v":0},null,14,"検査結果(耐火クロススクリーン）","-","1（22）","-","改善策の具体的内容等",null,null,null,null,"14検査結果(耐火クロススクリーン）-1（22）-改善策の具体的内容等",null,"14検査結果(耐火クロススクリーン）-1（22）-改善策の具体的内容等"]
[null,null,null,null,{"$f":"'4_入力シート【検査結果表】 耐火クロススクリーン'!$CN$38","v":0},null,14,"検査結果(耐火クロススクリーン）","-","1（22）","-","改善（予定）年月","-","年（令和）",null,null,"14検査結果(耐火クロススクリーン）-1（22）-改善（予定）年月-年（令和）",null,"14検査結果(耐火クロススクリーン）-1（22）-改善（予定）年月-年（令和）"]
[null,null,null,null,{"$f":"'4_入力シート【検査結果表】 耐火クロススクリーン'!$CQ$38","v":0},null,14,"検査結果(耐火クロススクリーン）","-","1（22）","-","改善（予定）年月","-","月",null,null,"14検査結果(耐火クロススクリーン）-1（22）-改善（予定）年月-月",null,"14検査結果(耐火クロススクリーン）-1（22）-改善（予定）年月-月"]
[null,null,null,null,{"$f":"'4_入力シート【検査結果表】 耐火クロススクリーン'!$CT$38","v":0},null,14,"検査結果(耐火クロススクリーン）","-","1（22）","-","改善（予定）年月","-","状況",null,null,"14検査結果(耐火クロススクリーン）-1（22）-改善（予定）年月-状況",null,"14検査結果(耐火クロススクリーン）-1（22）-改善（予定）年月-状況"]
[null,null,null,null,{"$f":"'4_入力シート【検査結果表】 耐火クロススクリーン'!$BA$39","v":0},null,14,"検査結果(耐火クロススクリーン）","-","1（23）","-","検査結果",null,null,null,null,"14検査結果(耐火クロススクリーン）-1（23）-検査結果",null,"14検査結果(耐火クロススクリーン）-1（23）-検査結果"]
[null,null,null,null,{"$f":"'4_入力シート【検査結果表】 耐火クロススクリーン'!$BM$39","v":0},null,14,"検査結果(耐火クロススクリーン）","-","1（23）","-","検査者番号",null,null,null,null,"14検査結果(耐火クロススクリーン）-1（23）-検査者番号",null,"14検査結果(耐火クロススクリーン）-1（23）-検査者番号"]
[null,null,null,null,{"$f":"'4_入力シート【検査結果表】 耐火クロススクリーン'!$BO$39","v":0},null,14,"検査結果(耐火クロススクリーン）","-","1（23）","-","指摘の具体的内容等",null,null,null,null,"14検査結果(耐火クロススクリーン）-1（23）-指摘の具体的内容等",null,"14検査結果(耐火クロススクリーン）-1（23）-指摘の具体的内容等"]
[null,null,null,null,{"$f":"'4_入力シート【検査結果表】 耐火クロススクリーン'!$BY$39","v":0},null,14,"検査結果(耐火クロススクリーン）","-","1（23）","-","改善策の具体的内容等",null,null,null,null,"14検査結果(耐火クロススクリーン）-1（23）-改善策の具体的内容等",null,"14検査結果(耐火クロススクリーン）-1（23）-改善策の具体的内容等"]
[null,null,null,null,{"$f":"'4_入力シート【検査結果表】 耐火クロススクリーン'!$CN$39","v":0},null,14,"検査結果(耐火クロススクリーン）","-","1（23）","-","改善（予定）年月","-","年（令和）",null,null,"14検査結果(耐火クロススクリーン）-1（23）-改善（予定）年月-年（令和）",null,"14検査結果(耐火クロススクリーン）-1（23）-改善（予定）年月-年（令和）"]
[null,null,null,null,{"$f":"'4_入力シート【検査結果表】 耐火クロススクリーン'!$CQ$39","v":0},null,14,"検査結果(耐火クロススクリーン）","-","1（23）","-","改善（予定）年月","-","月",null,null,"14検査結果(耐火クロススクリーン）-1（23）-改善（予定）年月-月",null,"14検査結果(耐火クロススクリーン）-1（23）-改善（予定）年月-月"]
[null,null,null,null,{"$f":"'4_入力シート【検査結果表】 耐火クロススクリーン'!$CT$39","v":0},null,14,"検査結果(耐火クロススクリーン）","-","1（23）","-","改善（予定）年月","-","状況",null,null,"14検査結果(耐火クロススクリーン）-1（23）-改善（予定）年月-状況",null,"14検査結果(耐火クロススクリーン）-1（23）-改善（予定）年月-状況"]
[null,null,null,null,{"$f":"'4_入力シート【検査結果表】 耐火クロススクリーン'!$M$47","v":0},null,14,"検査結果(耐火クロススクリーン）","-","上記以外の検査項目等","-","1行目","-","番号",null,null,"14検査結果(耐火クロススクリーン）-上記以外の検査項目等-1行目-番号",null,"14検査結果(耐火クロススクリーン）-上記以外の検査項目等-1行目-番号"]
[null,null,null,null,{"$f":"'4_入力シート【検査結果表】 耐火クロススクリーン'!$P$47","v":0},null,14,"検査結果(耐火クロススクリーン）","-","上記以外の検査項目等","-","1行目","-","検査項目",null,null,"14検査結果(耐火クロススクリーン）-上記以外の検査項目等-1行目-検査項目",null,"14検査結果(耐火クロススクリーン）-上記以外の検査項目等-1行目-検査項目"]
[null,null,null,null,{"$f":"'4_入力シート【検査結果表】 耐火クロススクリーン'!$AG$47","v":0},null,14,"検査結果(耐火クロススクリーン）","-","上記以外の検査項目等","-","1行目","-","検査事項",null,null,"14検査結果(耐火クロススクリーン）-上記以外の検査項目等-1行目-検査事項",null,"14検査結果(耐火クロススクリーン）-上記以外の検査項目等-1行目-検査事項"]
[null,null,null,null,{"$f":"'4_入力シート【検査結果表】 耐火クロススクリーン'!$BA$47","v":0},null,14,"検査結果(耐火クロススクリーン）","-","上記以外の検査項目等","-","1行目","-","検査結果",null,null,"14検査結果(耐火クロススクリーン）-上記以外の検査項目等-1行目-検査結果",null,"14検査結果(耐火クロススクリーン）-上記以外の検査項目等-1行目-検査結果"]
[null,null,null,null,{"$f":"'4_入力シート【検査結果表】 耐火クロススクリーン'!$BM$47","v":0},null,14,"検査結果(耐火クロススクリーン）","-","上記以外の検査項目等","-","1行目","-","検査者番号",null,null,"14検査結果(耐火クロススクリーン）-上記以外の検査項目等-1行目-検査者番号",null,"14検査結果(耐火クロススクリーン）-上記以外の検査項目等-1行目-検査者番号"]
[null,null,null,null,{"$f":"'4_入力シート【検査結果表】 耐火クロススクリーン'!$BO$47","v":0},null,14,"検査結果(耐火クロススクリーン）","-","上記以外の検査項目等","-","1行目","-","指摘の具体的内容等",null,null,"14検査結果(耐火クロススクリーン）-上記以外の検査項目等-1行目-指摘の具体的内容等",null,"14検査結果(耐火クロススクリーン）-上記以外の検査項目等-1行目-指摘の具体的内容等"]
[null,null,null,null,{"$f":"'4_入力シート【検査結果表】 耐火クロススクリーン'!$BY$47","v":0},null,14,"検査結果(耐火クロススクリーン）","-","上記以外の検査項目等","-","1行目","-","改善策の具体的内容等",null,null,"14検査結果(耐火クロススクリーン）-上記以外の検査項目等-1行目-改善策の具体的内容等",null,"14検査結果(耐火クロススクリーン）-上記以外の検査項目等-1行目-改善策の具体的内容等"]
[null,null,null,null,{"$f":"'4_入力シート【検査結果表】 耐火クロススクリーン'!$CN$47","v":0},null,14,"検査結果(耐火クロススクリーン）","-","上記以外の検査項目等","-","1行目","-","改善（予定）年月","-","年（令和）","14検査結果(耐火クロススクリーン）-上記以外の検査項目等-1行目-改善（予定）年月-年（令和）",null,"14検査結果(耐火クロススクリーン）-上記以外の検査項目等-1行目-改善（予定）年月-年（令和）"]
[null,null,null,null,{"$f":"'4_入力シート【検査結果表】 耐火クロススクリーン'!$CQ$47","v":0},null,14,"検査結果(耐火クロススクリーン）","-","上記以外の検査項目等","-","1行目","-","改善（予定）年月","-","月","14検査結果(耐火クロススクリーン）-上記以外の検査項目等-1行目-改善（予定）年月-月",null,"14検査結果(耐火クロススクリーン）-上記以外の検査項目等-1行目-改善（予定）年月-月"]
[null,null,null,null,{"$f":"'4_入力シート【検査結果表】 耐火クロススクリーン'!$CT$47","v":0},null,14,"検査結果(耐火クロススクリーン）","-","上記以外の検査項目等","-","1行目","-","改善（予定）年月","-","状況","14検査結果(耐火クロススクリーン）-上記以外の検査項目等-1行目-改善（予定）年月-状況",null,"14検査結果(耐火クロススクリーン）-上記以外の検査項目等-1行目-改善（予定）年月-状況"]
[null,null,null,null,{"$f":"'4_入力シート【検査結果表】 耐火クロススクリーン'!$M$48","v":0},null,14,"検査結果(耐火クロススクリーン）","-","上記以外の検査項目等","-","2行目","-","番号",null,null,"14検査結果(耐火クロススクリーン）-上記以外の検査項目等-2行目-番号",null,"14検査結果(耐火クロススクリーン）-上記以外の検査項目等-2行目-番号"]
[null,null,null,null,{"$f":"'4_入力シート【検査結果表】 耐火クロススクリーン'!$P$48","v":0},null,14,"検査結果(耐火クロススクリーン）","-","上記以外の検査項目等","-","2行目","-","検査項目",null,null,"14検査結果(耐火クロススクリーン）-上記以外の検査項目等-2行目-検査項目",null,"14検査結果(耐火クロススクリーン）-上記以外の検査項目等-2行目-検査項目"]
[null,null,null,null,{"$f":"'4_入力シート【検査結果表】 耐火クロススクリーン'!$AG$48","v":0},null,14,"検査結果(耐火クロススクリーン）","-","上記以外の検査項目等","-","2行目","-","検査事項",null,null,"14検査結果(耐火クロススクリーン）-上記以外の検査項目等-2行目-検査事項",null,"14検査結果(耐火クロススクリーン）-上記以外の検査項目等-2行目-検査事項"]
[null,null,null,null,{"$f":"'4_入力シート【検査結果表】 耐火クロススクリーン'!$BA$48","v":0},null,14,"検査結果(耐火クロススクリーン）","-","上記以外の検査項目等","-","2行目","-","検査結果",null,null,"14検査結果(耐火クロススクリーン）-上記以外の検査項目等-2行目-検査結果",null,"14検査結果(耐火クロススクリーン）-上記以外の検査項目等-2行目-検査結果"]
[null,null,null,null,{"$f":"'4_入力シート【検査結果表】 耐火クロススクリーン'!$BM$48","v":0},null,14,"検査結果(耐火クロススクリーン）","-","上記以外の検査項目等","-","2行目","-","検査者番号",null,null,"14検査結果(耐火クロススクリーン）-上記以外の検査項目等-2行目-検査者番号",null,"14検査結果(耐火クロススクリーン）-上記以外の検査項目等-2行目-検査者番号"]
[null,null,null,null,{"$f":"'4_入力シート【検査結果表】 耐火クロススクリーン'!$BO$48","v":0},null,14,"検査結果(耐火クロススクリーン）","-","上記以外の検査項目等","-","2行目","-","指摘の具体的内容等",null,null,{"$f":"CONCATENATE(G1108,H1108,I1108,J1108,K1108,L1108,M1108,N1108,O1108,P1108)","v":"14検査結果(耐火クロススクリーン）-上記以外の検査項目等-2行目-指摘の具体的内容等"},null,"14検査結果(耐火クロススクリーン）-上記以外の検査項目等-2行目-指摘の具体的内容等"]
[null,null,null,null,{"$f":"'4_入力シート【検査結果表】 耐火クロススクリーン'!$BY$48","v":0},null,14,"検査結果(耐火クロススクリーン）","-","上記以外の検査項目等","-","2行目","-","改善策の具体的内容等",null,null,"14検査結果(耐火クロススクリーン）-上記以外の検査項目等-2行目-改善策の具体的内容等",null,"14検査結果(耐火クロススクリーン）-上記以外の検査項目等-2行目-改善策の具体的内容等"]
[null,null,null,null,{"$f":"'4_入力シート【検査結果表】 耐火クロススクリーン'!$CN$48","v":0},null,14,"検査結果(耐火クロススクリーン）","-","上記以外の検査項目等","-","2行目","-","改善（予定）年月","-","年（令和）","14検査結果(耐火クロススクリーン）-上記以外の検査項目等-2行目-改善（予定）年月-年（令和）",null,"14検査結果(耐火クロススクリーン）-上記以外の検査項目等-2行目-改善（予定）年月-年（令和）"]
[null,null,null,null,{"$f":"'4_入力シート【検査結果表】 耐火クロススクリーン'!$CQ$48","v":0},null,14,"検査結果(耐火クロススクリーン）","-","上記以外の検査項目等","-","2行目","-","改善（予定）年月","-","月","14検査結果(耐火クロススクリーン）-上記以外の検査項目等-2行目-改善（予定）年月-月",null,"14検査結果(耐火クロススクリーン）-上記以外の検査項目等-2行目-改善（予定）年月-月"]
[null,null,null,null,{"$f":"'4_入力シート【検査結果表】 耐火クロススクリーン'!$CT$48","v":0},null,14,"検査結果(耐火クロススクリーン）","-","上記以外の検査項目等","-","2行目","-","改善（予定）年月","-","状況","14検査結果(耐火クロススクリーン）-上記以外の検査項目等-2行目-改善（予定）年月-状況",null,"14検査結果(耐火クロススクリーン）-上記以外の検査項目等-2行目-改善（予定）年月-状況"]
[null,null,null,null,{"$f":"'4_入力シート【検査結果表】 耐火クロススクリーン'!$M$49","v":0},null,14,"検査結果(耐火クロススクリーン）","-","上記以外の検査項目等","-","3行目","-","番号",null,null,"14検査結果(耐火クロススクリーン）-上記以外の検査項目等-3行目-番号",null,"14検査結果(耐火クロススクリーン）-上記以外の検査項目等-3行目-番号"]
[null,null,null,null,{"$f":"'4_入力シート【検査結果表】 耐火クロススクリーン'!$P$49","v":0},null,14,"検査結果(耐火クロススクリーン）","-","上記以外の検査項目等","-","3行目","-","検査項目",null,null,"14検査結果(耐火クロススクリーン）-上記以外の検査項目等-3行目-検査項目",null,"14検査結果(耐火クロススクリーン）-上記以外の検査項目等-3行目-検査項目"]
[null,null,null,null,{"$f":"'4_入力シート【検査結果表】 耐火クロススクリーン'!$AG$49","v":0},null,14,"検査結果(耐火クロススクリーン）","-","上記以外の検査項目等","-","3行目","-","検査事項",null,null,"14検査結果(耐火クロススクリーン）-上記以外の検査項目等-3行目-検査事項",null,"14検査結果(耐火クロススクリーン）-上記以外の検査項目等-3行目-検査事項"]
[null,null,null,null,{"$f":"'4_入力シート【検査結果表】 耐火クロススクリーン'!$BA$49","v":0},null,14,"検査結果(耐火クロススクリーン）","-","上記以外の検査項目等","-","3行目","-","検査結果",null,null,"14検査結果(耐火クロススクリーン）-上記以外の検査項目等-3行目-検査結果",null,"14検査結果(耐火クロススクリーン）-上記以外の検査項目等-3行目-検査結果"]
[null,null,null,null,{"$f":"'4_入力シート【検査結果表】 耐火クロススクリーン'!$BM$49","v":0},null,14,"検査結果(耐火クロススクリーン）","-","上記以外の検査項目等","-","3行目","-","検査者番号",null,null,"14検査結果(耐火クロススクリーン）-上記以外の検査項目等-3行目-検査者番号",null,"14検査結果(耐火クロススクリーン）-上記以外の検査項目等-3行目-検査者番号"]
[null,null,null,null,{"$f":"'4_入力シート【検査結果表】 耐火クロススクリーン'!$BO$49","v":0},null,14,"検査結果(耐火クロススクリーン）","-","上記以外の検査項目等","-","3行目","-","指摘の具体的内容等",null,null,"14検査結果(耐火クロススクリーン）-上記以外の検査項目等-3行目-指摘の具体的内容等",null,"14検査結果(耐火クロススクリーン）-上記以外の検査項目等-3行目-指摘の具体的内容等"]
[null,null,null,null,{"$f":"'4_入力シート【検査結果表】 耐火クロススクリーン'!$BY$49","v":0},null,14,"検査結果(耐火クロススクリーン）","-","上記以外の検査項目等","-","3行目","-","改善策の具体的内容等",null,null,"14検査結果(耐火クロススクリーン）-上記以外の検査項目等-3行目-改善策の具体的内容等",null,"14検査結果(耐火クロススクリーン）-上記以外の検査項目等-3行目-改善策の具体的内容等"]
[null,null,null,null,{"$f":"'4_入力シート【検査結果表】 耐火クロススクリーン'!$CN$49","v":0},null,14,"検査結果(耐火クロススクリーン）","-","上記以外の検査項目等","-","3行目","-","改善（予定）年月","-","年（令和）","14検査結果(耐火クロススクリーン）-上記以外の検査項目等-3行目-改善（予定）年月-年（令和）",null,"14検査結果(耐火クロススクリーン）-上記以外の検査項目等-3行目-改善（予定）年月-年（令和）"]
[null,null,null,null,{"$f":"'4_入力シート【検査結果表】 耐火クロススクリーン'!$CQ$49","v":0},null,14,"検査結果(耐火クロススクリーン）","-","上記以外の検査項目等","-","3行目","-","改善（予定）年月","-","月","14検査結果(耐火クロススクリーン）-上記以外の検査項目等-3行目-改善（予定）年月-月",null,"14検査結果(耐火クロススクリーン）-上記以外の検査項目等-3行目-改善（予定）年月-月"]
[null,null,null,null,{"$f":"'4_入力シート【検査結果表】 耐火クロススクリーン'!$CT$49","v":0},null,14,"検査結果(耐火クロススクリーン）","-","上記以外の検査項目等","-","3行目","-","改善（予定）年月","-","状況","14検査結果(耐火クロススクリーン）-上記以外の検査項目等-3行目-改善（予定）年月-状況",null,"14検査結果(耐火クロススクリーン）-上記以外の検査項目等-3行目-改善（予定）年月-状況"]
[null,null,null,null,{"$f":"'4_入力シート【検査結果表】 耐火クロススクリーン'!$M$57","v":0},null,14,"検査結果(耐火クロススクリーン）","-","上記に記載のない事項","-","1行目","-","番号",null,null,"14検査結果(耐火クロススクリーン）-上記に記載のない事項-1行目-番号",null,"14検査結果(耐火クロススクリーン）-上記に記載のない事項-1行目-番号"]
[null,null,null,null,{"$f":"'4_入力シート【検査結果表】 耐火クロススクリーン'!$P$57","v":0},null,14,"検査結果(耐火クロススクリーン）","-","上記に記載のない事項","-","1行目","-","検査項目",null,null,"14検査結果(耐火クロススクリーン）-上記に記載のない事項-1行目-検査項目",null,"14検査結果(耐火クロススクリーン）-上記に記載のない事項-1行目-検査項目"]
[null,null,null,null,{"$f":"'4_入力シート【検査結果表】 耐火クロススクリーン'!$AG$57","v":0},null,14,"検査結果(耐火クロススクリーン）","-","上記に記載のない事項","-","1行目","-","検査事項",null,null,"14検査結果(耐火クロススクリーン）-上記に記載のない事項-1行目-検査事項",null,"14検査結果(耐火クロススクリーン）-上記に記載のない事項-1行目-検査事項"]
[null,null,null,null,{"$f":"'4_入力シート【検査結果表】 耐火クロススクリーン'!$BA$57","v":0},null,14,"検査結果(耐火クロススクリーン）","-","上記に記載のない事項","-","1行目","-","検査結果",null,null,"14検査結果(耐火クロススクリーン）-上記に記載のない事項-1行目-検査結果",null,"14検査結果(耐火クロススクリーン）-上記に記載のない事項-1行目-検査結果"]
[null,null,null,null,{"$f":"'4_入力シート【検査結果表】 耐火クロススクリーン'!$BM$57","v":0},null,14,"検査結果(耐火クロススクリーン）","-","上記に記載のない事項","-","1行目","-","検査者番号",null,null,"14検査結果(耐火クロススクリーン）-上記に記載のない事項-1行目-検査者番号",null,"14検査結果(耐火クロススクリーン）-上記に記載のない事項-1行目-検査者番号"]
[null,null,null,null,{"$f":"'4_入力シート【検査結果表】 耐火クロススクリーン'!$BO$57","v":0},null,14,"検査結果(耐火クロススクリーン）","-","上記に記載のない事項","-","1行目","-","指摘の具体的内容等",null,null,"14検査結果(耐火クロススクリーン）-上記に記載のない事項-1行目-指摘の具体的内容等",null,"14検査結果(耐火クロススクリーン）-上記に記載のない事項-1行目-指摘の具体的内容等"]
[null,null,null,null,{"$f":"'4_入力シート【検査結果表】 耐火クロススクリーン'!$BY$57","v":0},null,14,"検査結果(耐火クロススクリーン）","-","上記に記載のない事項","-","1行目","-","改善策の具体的内容等",null,null,"14検査結果(耐火クロススクリーン）-上記に記載のない事項-1行目-改善策の具体的内容等",null,"14検査結果(耐火クロススクリーン）-上記に記載のない事項-1行目-改善策の具体的内容等"]
[null,null,null,null,{"$f":"'4_入力シート【検査結果表】 耐火クロススクリーン'!$CN$57","v":0},null,14,"検査結果(耐火クロススクリーン）","-","上記に記載のない事項","-","1行目","-","改善（予定）年月","-","年（令和）","14検査結果(耐火クロススクリーン）-上記に記載のない事項-1行目-改善（予定）年月-年（令和）",null,"14検査結果(耐火クロススクリーン）-上記に記載のない事項-1行目-改善（予定）年月-年（令和）"]
[null,null,null,null,{"$f":"'4_入力シート【検査結果表】 耐火クロススクリーン'!$CQ$57","v":0},null,14,"検査結果(耐火クロススクリーン）","-","上記に記載のない事項","-","1行目","-","改善（予定）年月","-","月","14検査結果(耐火クロススクリーン）-上記に記載のない事項-1行目-改善（予定）年月-月",null,"14検査結果(耐火クロススクリーン）-上記に記載のない事項-1行目-改善（予定）年月-月"]
[null,null,null,null,{"$f":"'4_入力シート【検査結果表】 耐火クロススクリーン'!$CT$57","v":0},null,14,"検査結果(耐火クロススクリーン）","-","上記に記載のない事項","-","1行目","-","改善（予定）年月","-","状況","14検査結果(耐火クロススクリーン）-上記に記載のない事項-1行目-改善（予定）年月-状況",null,"14検査結果(耐火クロススクリーン）-上記に記載のない事項-1行目-改善（予定）年月-状況"]
[null,null,null,null,{"$f":"'4_入力シート【検査結果表】 耐火クロススクリーン'!$M$58","v":0},null,14,"検査結果(耐火クロススクリーン）","-","上記に記載のない事項","-","2行目","-","番号",null,null,"14検査結果(耐火クロススクリーン）-上記に記載のない事項-2行目-番号",null,"14検査結果(耐火クロススクリーン）-上記に記載のない事項-2行目-番号"]
[null,null,null,null,{"$f":"'4_入力シート【検査結果表】 耐火クロススクリーン'!$P$58","v":0},null,14,"検査結果(耐火クロススクリーン）","-","上記に記載のない事項","-","2行目","-","検査項目",null,null,"14検査結果(耐火クロススクリーン）-上記に記載のない事項-2行目-検査項目",null,"14検査結果(耐火クロススクリーン）-上記に記載のない事項-2行目-検査項目"]
[null,null,null,null,{"$f":"'4_入力シート【検査結果表】 耐火クロススクリーン'!$AG$58","v":0},null,14,"検査結果(耐火クロススクリーン）","-","上記に記載のない事項","-","2行目","-","検査事項",null,null,"14検査結果(耐火クロススクリーン）-上記に記載のない事項-2行目-検査事項",null,"14検査結果(耐火クロススクリーン）-上記に記載のない事項-2行目-検査事項"]
[null,null,null,null,{"$f":"'4_入力シート【検査結果表】 耐火クロススクリーン'!$BA$58","v":0},null,14,"検査結果(耐火クロススクリーン）","-","上記に記載のない事項","-","2行目","-","検査結果",null,null,"14検査結果(耐火クロススクリーン）-上記に記載のない事項-2行目-検査結果",null,"14検査結果(耐火クロススクリーン）-上記に記載のない事項-2行目-検査結果"]
[null,null,null,null,{"$f":"'4_入力シート【検査結果表】 耐火クロススクリーン'!$BM$58","v":0},null,14,"検査結果(耐火クロススクリーン）","-","上記に記載のない事項","-","2行目","-","検査者番号",null,null,"14検査結果(耐火クロススクリーン）-上記に記載のない事項-2行目-検査者番号",null,"14検査結果(耐火クロススクリーン）-上記に記載のない事項-2行目-検査者番号"]
[null,null,null,null,{"$f":"'4_入力シート【検査結果表】 耐火クロススクリーン'!$BO$58","v":0},null,14,"検査結果(耐火クロススクリーン）","-","上記に記載のない事項","-","2行目","-","指摘の具体的内容等",null,null,"14検査結果(耐火クロススクリーン）-上記に記載のない事項-2行目-指摘の具体的内容等",null,"14検査結果(耐火クロススクリーン）-上記に記載のない事項-2行目-指摘の具体的内容等"]
[null,null,null,null,{"$f":"'4_入力シート【検査結果表】 耐火クロススクリーン'!$BY$58","v":0},null,14,"検査結果(耐火クロススクリーン）","-","上記に記載のない事項","-","2行目","-","改善策の具体的内容等",null,null,"14検査結果(耐火クロススクリーン）-上記に記載のない事項-2行目-改善策の具体的内容等",null,"14検査結果(耐火クロススクリーン）-上記に記載のない事項-2行目-改善策の具体的内容等"]
[null,null,null,null,{"$f":"'4_入力シート【検査結果表】 耐火クロススクリーン'!$CN$58","v":0},null,14,"検査結果(耐火クロススクリーン）","-","上記に記載のない事項","-","2行目","-","改善（予定）年月","-","年（令和）","14検査結果(耐火クロススクリーン）-上記に記載のない事項-2行目-改善（予定）年月-年（令和）",null,"14検査結果(耐火クロススクリーン）-上記に記載のない事項-2行目-改善（予定）年月-年（令和）"]
[null,null,null,null,{"$f":"'4_入力シート【検査結果表】 耐火クロススクリーン'!$CQ$58","v":0},null,14,"検査結果(耐火クロススクリーン）","-","上記に記載のない事項","-","2行目","-","改善（予定）年月","-","月","14検査結果(耐火クロススクリーン）-上記に記載のない事項-2行目-改善（予定）年月-月",null,"14検査結果(耐火クロススクリーン）-上記に記載のない事項-2行目-改善（予定）年月-月"]
[null,null,null,null,{"$f":"'4_入力シート【検査結果表】 耐火クロススクリーン'!$CT$58","v":0},null,14,"検査結果(耐火クロススクリーン）","-","上記に記載のない事項","-","2行目","-","改善（予定）年月","-","状況","14検査結果(耐火クロススクリーン）-上記に記載のない事項-2行目-改善（予定）年月-状況",null,"14検査結果(耐火クロススクリーン）-上記に記載のない事項-2行目-改善（予定）年月-状況"]
[null,null,null,null,{"$f":"'4_入力シート【検査結果表】 耐火クロススクリーン'!$M$59","v":0},null,14,"検査結果(耐火クロススクリーン）","-","上記に記載のない事項","-","3行目","-","番号",null,null,"14検査結果(耐火クロススクリーン）-上記に記載のない事項-3行目-番号",null,"14検査結果(耐火クロススクリーン）-上記に記載のない事項-3行目-番号"]
[null,null,null,null,{"$f":"'4_入力シート【検査結果表】 耐火クロススクリーン'!$P$59","v":0},null,14,"検査結果(耐火クロススクリーン）","-","上記に記載のない事項","-","3行目","-","検査項目",null,null,"14検査結果(耐火クロススクリーン）-上記に記載のない事項-3行目-検査項目",null,"14検査結果(耐火クロススクリーン）-上記に記載のない事項-3行目-検査項目"]
[null,null,null,null,{"$f":"'4_入力シート【検査結果表】 耐火クロススクリーン'!$AG$59","v":0},null,14,"検査結果(耐火クロススクリーン）","-","上記に記載のない事項","-","3行目","-","検査事項",null,null,"14検査結果(耐火クロススクリーン）-上記に記載のない事項-3行目-検査事項",null,"14検査結果(耐火クロススクリーン）-上記に記載のない事項-3行目-検査事項"]
[null,null,null,null,{"$f":"'4_入力シート【検査結果表】 耐火クロススクリーン'!$BA$59","v":0},null,14,"検査結果(耐火クロススクリーン）","-","上記に記載のない事項","-","3行目","-","検査結果",null,null,"14検査結果(耐火クロススクリーン）-上記に記載のない事項-3行目-検査結果",null,"14検査結果(耐火クロススクリーン）-上記に記載のない事項-3行目-検査結果"]
[null,null,null,null,{"$f":"'4_入力シート【検査結果表】 耐火クロススクリーン'!$BM$59","v":0},null,14,"検査結果(耐火クロススクリーン）","-","上記に記載のない事項","-","3行目","-","検査者番号",null,null,"14検査結果(耐火クロススクリーン）-上記に記載のない事項-3行目-検査者番号",null,"14検査結果(耐火クロススクリーン）-上記に記載のない事項-3行目-検査者番号"]
[null,null,null,null,{"$f":"'4_入力シート【検査結果表】 耐火クロススクリーン'!$BO$59","v":0},null,14,"検査結果(耐火クロススクリーン）","-","上記に記載のない事項","-","3行目","-","指摘の具体的内容等",null,null,"14検査結果(耐火クロススクリーン）-上記に記載のない事項-3行目-指摘の具体的内容等",null,"14検査結果(耐火クロススクリーン）-上記に記載のない事項-3行目-指摘の具体的内容等"]
[null,null,null,null,{"$f":"'4_入力シート【検査結果表】 耐火クロススクリーン'!$BY$59","v":0},null,14,"検査結果(耐火クロススクリーン）","-","上記に記載のない事項","-","3行目","-","改善策の具体的内容等",null,null,"14検査結果(耐火クロススクリーン）-上記に記載のない事項-3行目-改善策の具体的内容等",null,"14検査結果(耐火クロススクリーン）-上記に記載のない事項-3行目-改善策の具体的内容等"]
[null,null,null,null,{"$f":"'4_入力シート【検査結果表】 耐火クロススクリーン'!$CN$59","v":0},null,14,"検査結果(耐火クロススクリーン）","-","上記に記載のない事項","-","3行目","-","改善（予定）年月","-","年（令和）","14検査結果(耐火クロススクリーン）-上記に記載のない事項-3行目-改善（予定）年月-年（令和）",null,"14検査結果(耐火クロススクリーン）-上記に記載のない事項-3行目-改善（予定）年月-年（令和）"]
[null,null,null,null,{"$f":"'4_入力シート【検査結果表】 耐火クロススクリーン'!$CQ$59","v":0},null,14,"検査結果(耐火クロススクリーン）","-","上記に記載のない事項","-","3行目","-","改善（予定）年月","-","月","14検査結果(耐火クロススクリーン）-上記に記載のない事項-3行目-改善（予定）年月-月",null,"14検査結果(耐火クロススクリーン）-上記に記載のない事項-3行目-改善（予定）年月-月"]
[null,null,null,null,{"$f":"'4_入力シート【検査結果表】 耐火クロススクリーン'!$CT$59","v":0},null,14,"検査結果(耐火クロススクリーン）","-","上記に記載のない事項","-","3行目","-","改善（予定）年月","-","状況","14検査結果(耐火クロススクリーン）-上記に記載のない事項-3行目-改善（予定）年月-状況",null,"14検査結果(耐火クロススクリーン）-上記に記載のない事項-3行目-改善（予定）年月-状況"]
[null,null,null,null,{"$f":"'4_入力シート【検査結果表】 耐火クロススクリーン'!$M$60","v":0},null,14,"検査結果(耐火クロススクリーン）","-","上記に記載のない事項","-","4行目","-","番号",null,null,"14検査結果(耐火クロススクリーン）-上記に記載のない事項-4行目-番号",null,"14検査結果(耐火クロススクリーン）-上記に記載のない事項-4行目-番号"]
[null,null,null,null,{"$f":"'4_入力シート【検査結果表】 耐火クロススクリーン'!$P$60","v":0},null,14,"検査結果(耐火クロススクリーン）","-","上記に記載のない事項","-","4行目","-","検査項目",null,null,"14検査結果(耐火クロススクリーン）-上記に記載のない事項-4行目-検査項目",null,"14検査結果(耐火クロススクリーン）-上記に記載のない事項-4行目-検査項目"]
[null,null,null,null,{"$f":"'4_入力シート【検査結果表】 耐火クロススクリーン'!$AG$60","v":0},null,14,"検査結果(耐火クロススクリーン）","-","上記に記載のない事項","-","4行目","-","検査事項",null,null,"14検査結果(耐火クロススクリーン）-上記に記載のない事項-4行目-検査事項",null,"14検査結果(耐火クロススクリーン）-上記に記載のない事項-4行目-検査事項"]
[null,null,null,null,{"$f":"'4_入力シート【検査結果表】 耐火クロススクリーン'!$BA$60","v":0},null,14,"検査結果(耐火クロススクリーン）","-","上記に記載のない事項","-","4行目","-","検査結果",null,null,"14検査結果(耐火クロススクリーン）-上記に記載のない事項-4行目-検査結果",null,"14検査結果(耐火クロススクリーン）-上記に記載のない事項-4行目-検査結果"]
[null,null,null,null,{"$f":"'4_入力シート【検査結果表】 耐火クロススクリーン'!$BM$60","v":0},null,14,"検査結果(耐火クロススクリーン）","-","上記に記載のない事項","-","4行目","-","検査者番号",null,null,"14検査結果(耐火クロススクリーン）-上記に記載のない事項-4行目-検査者番号",null,"14検査結果(耐火クロススクリーン）-上記に記載のない事項-4行目-検査者番号"]
[null,null,null,null,{"$f":"'4_入力シート【検査結果表】 耐火クロススクリーン'!$BO$60","v":0},null,14,"検査結果(耐火クロススクリーン）","-","上記に記載のない事項","-","4行目","-","指摘の具体的内容等",null,null,"14検査結果(耐火クロススクリーン）-上記に記載のない事項-4行目-指摘の具体的内容等",null,"14検査結果(耐火クロススクリーン）-上記に記載のない事項-4行目-指摘の具体的内容等"]
[null,null,null,null,{"$f":"'4_入力シート【検査結果表】 耐火クロススクリーン'!$BY$60","v":0},null,14,"検査結果(耐火クロススクリーン）","-","上記に記載のない事項","-","4行目","-","改善策の具体的内容等",null,null,"14検査結果(耐火クロススクリーン）-上記に記載のない事項-4行目-改善策の具体的内容等",null,"14検査結果(耐火クロススクリーン）-上記に記載のない事項-4行目-改善策の具体的内容等"]
[null,null,null,null,{"$f":"'4_入力シート【検査結果表】 耐火クロススクリーン'!$CN$60","v":0},null,14,"検査結果(耐火クロススクリーン）","-","上記に記載のない事項","-","4行目","-","改善（予定）年月","-","年（令和）","14検査結果(耐火クロススクリーン）-上記に記載のない事項-4行目-改善（予定）年月-年（令和）",null,"14検査結果(耐火クロススクリーン）-上記に記載のない事項-4行目-改善（予定）年月-年（令和）"]
[null,null,null,null,{"$f":"'4_入力シート【検査結果表】 耐火クロススクリーン'!$CQ$60","v":0},null,14,"検査結果(耐火クロススクリーン）","-","上記に記載のない事項","-","4行目","-","改善（予定）年月","-","月","14検査結果(耐火クロススクリーン）-上記に記載のない事項-4行目-改善（予定）年月-月",null,"14検査結果(耐火クロススクリーン）-上記に記載のない事項-4行目-改善（予定）年月-月"]
[null,null,null,null,{"$f":"'4_入力シート【検査結果表】 耐火クロススクリーン'!$CT$60","v":0},null,14,"検査結果(耐火クロススクリーン）","-","上記に記載のない事項","-","4行目","-","改善（予定）年月","-","状況","14検査結果(耐火クロススクリーン）-上記に記載のない事項-4行目-改善（予定）年月-状況",null,"14検査結果(耐火クロススクリーン）-上記に記載のない事項-4行目-改善（予定）年月-状況"]
[null,null,null,null,{"$f":"'4_入力シート【検査結果表】 耐火クロススクリーン'!$M$61","v":0},null,14,"検査結果(耐火クロススクリーン）","-","上記に記載のない事項","-","5行目","-","番号",null,null,"14検査結果(耐火クロススクリーン）-上記に記載のない事項-5行目-番号",null,"14検査結果(耐火クロススクリーン）-上記に記載のない事項-5行目-番号"]
[null,null,null,null,{"$f":"'4_入力シート【検査結果表】 耐火クロススクリーン'!$P$61","v":0},null,14,"検査結果(耐火クロススクリーン）","-","上記に記載のない事項","-","5行目","-","検査項目",null,null,"14検査結果(耐火クロススクリーン）-上記に記載のない事項-5行目-検査項目",null,"14検査結果(耐火クロススクリーン）-上記に記載のない事項-5行目-検査項目"]
[null,null,null,null,{"$f":"'4_入力シート【検査結果表】 耐火クロススクリーン'!$AG$61","v":0},null,14,"検査結果(耐火クロススクリーン）","-","上記に記載のない事項","-","5行目","-","検査事項",null,null,"14検査結果(耐火クロススクリーン）-上記に記載のない事項-5行目-検査事項",null,"14検査結果(耐火クロススクリーン）-上記に記載のない事項-5行目-検査事項"]
[null,null,null,null,{"$f":"'4_入力シート【検査結果表】 耐火クロススクリーン'!$BA$61","v":0},null,14,"検査結果(耐火クロススクリーン）","-","上記に記載のない事項","-","5行目","-","検査結果",null,null,"14検査結果(耐火クロススクリーン）-上記に記載のない事項-5行目-検査結果",null,"14検査結果(耐火クロススクリーン）-上記に記載のない事項-5行目-検査結果"]
[null,null,null,null,{"$f":"'4_入力シート【検査結果表】 耐火クロススクリーン'!$BM$61","v":0},null,14,"検査結果(耐火クロススクリーン）","-","上記に記載のない事項","-","5行目","-","検査者番号",null,null,"14検査結果(耐火クロススクリーン）-上記に記載のない事項-5行目-検査者番号",null,"14検査結果(耐火クロススクリーン）-上記に記載のない事項-5行目-検査者番号"]
[null,null,null,null,{"$f":"'4_入力シート【検査結果表】 耐火クロススクリーン'!$BO$61","v":0},null,14,"検査結果(耐火クロススクリーン）","-","上記に記載のない事項","-","5行目","-","指摘の具体的内容等",null,null,"14検査結果(耐火クロススクリーン）-上記に記載のない事項-5行目-指摘の具体的内容等",null,"14検査結果(耐火クロススクリーン）-上記に記載のない事項-5行目-指摘の具体的内容等"]
[null,null,null,null,{"$f":"'4_入力シート【検査結果表】 耐火クロススクリーン'!$BY$61","v":0},null,14,"検査結果(耐火クロススクリーン）","-","上記に記載のない事項","-","5行目","-","改善策の具体的内容等",null,null,"14検査結果(耐火クロススクリーン）-上記に記載のない事項-5行目-改善策の具体的内容等",null,"14検査結果(耐火クロススクリーン）-上記に記載のない事項-5行目-改善策の具体的内容等"]
[null,null,null,null,{"$f":"'4_入力シート【検査結果表】 耐火クロススクリーン'!$CN$61","v":0},null,14,"検査結果(耐火クロススクリーン）","-","上記に記載のない事項","-","5行目","-","改善（予定）年月","-","年（令和）","14検査結果(耐火クロススクリーン）-上記に記載のない事項-5行目-改善（予定）年月-年（令和）",null,"14検査結果(耐火クロススクリーン）-上記に記載のない事項-5行目-改善（予定）年月-年（令和）"]
[null,null,null,null,{"$f":"'4_入力シート【検査結果表】 耐火クロススクリーン'!$CQ$61","v":0},null,14,"検査結果(耐火クロススクリーン）","-","上記に記載のない事項","-","5行目","-","改善（予定）年月","-","月","14検査結果(耐火クロススクリーン）-上記に記載のない事項-5行目-改善（予定）年月-月",null,"14検査結果(耐火クロススクリーン）-上記に記載のない事項-5行目-改善（予定）年月-月"]
[null,null,null,null,{"$f":"'4_入力シート【検査結果表】 耐火クロススクリーン'!$CT$61","v":0},null,14,"検査結果(耐火クロススクリーン）","-","上記に記載のない事項","-","5行目","-","改善（予定）年月","-","状況",{"$f":"CONCATENATE(G1172,H1172,I1172,J1172,K1172,L1172,M1172,N1172,O1172,P1172)","v":"14検査結果(耐火クロススクリーン）-上記に記載のない事項-5行目-改善（予定）年月-状況"},null,"14検査結果(耐火クロススクリーン）-上記に記載のない事項-5行目-改善（予定）年月-状況"]
[null,null,null,null,{"$f":"'4_入力シート【検査結果表】 耐火クロススクリーン'!$M$62","v":0},null,14,"検査結果(耐火クロススクリーン）","-","上記に記載のない事項","-","6行目","-","番号",null,null,"14検査結果(耐火クロススクリーン）-上記に記載のない事項-6行目-番号",null,"14検査結果(耐火クロススクリーン）-上記に記載のない事項-6行目-番号"]
[null,null,null,null,{"$f":"'4_入力シート【検査結果表】 耐火クロススクリーン'!$P$62","v":0},null,14,"検査結果(耐火クロススクリーン）","-","上記に記載のない事項","-","6行目","-","検査項目",null,null,"14検査結果(耐火クロススクリーン）-上記に記載のない事項-6行目-検査項目",null,"14検査結果(耐火クロススクリーン）-上記に記載のない事項-6行目-検査項目"]
[null,null,null,null,{"$f":"'4_入力シート【検査結果表】 耐火クロススクリーン'!$AG$62","v":0},null,14,"検査結果(耐火クロススクリーン）","-","上記に記載のない事項","-","6行目","-","検査事項",null,null,"14検査結果(耐火クロススクリーン）-上記に記載のない事項-6行目-検査事項",null,"14検査結果(耐火クロススクリーン）-上記に記載のない事項-6行目-検査事項"]
[null,null,null,null,{"$f":"'4_入力シート【検査結果表】 耐火クロススクリーン'!$BA$62","v":0},null,14,"検査結果(耐火クロススクリーン）","-","上記に記載のない事項","-","6行目","-","検査結果",null,null,"14検査結果(耐火クロススクリーン）-上記に記載のない事項-6行目-検査結果",null,"14検査結果(耐火クロススクリーン）-上記に記載のない事項-6行目-検査結果"]
[null,null,null,null,{"$f":"'4_入力シート【検査結果表】 耐火クロススクリーン'!$BM$62","v":0},null,14,"検査結果(耐火クロススクリーン）","-","上記に記載のない事項","-","6行目","-","検査者番号",null,null,"14検査結果(耐火クロススクリーン）-上記に記載のない事項-6行目-検査者番号",null,"14検査結果(耐火クロススクリーン）-上記に記載のない事項-6行目-検査者番号"]
[null,null,null,null,{"$f":"'4_入力シート【検査結果表】 耐火クロススクリーン'!$BO$62","v":0},null,14,"検査結果(耐火クロススクリーン）","-","上記に記載のない事項","-","6行目","-","指摘の具体的内容等",null,null,"14検査結果(耐火クロススクリーン）-上記に記載のない事項-6行目-指摘の具体的内容等",null,"14検査結果(耐火クロススクリーン）-上記に記載のない事項-6行目-指摘の具体的内容等"]
[null,null,null,null,{"$f":"'4_入力シート【検査結果表】 耐火クロススクリーン'!$BY$62","v":0},null,14,"検査結果(耐火クロススクリーン）","-","上記に記載のない事項","-","6行目","-","改善策の具体的内容等",null,null,"14検査結果(耐火クロススクリーン）-上記に記載のない事項-6行目-改善策の具体的内容等",null,"14検査結果(耐火クロススクリーン）-上記に記載のない事項-6行目-改善策の具体的内容等"]
[null,null,null,null,{"$f":"'4_入力シート【検査結果表】 耐火クロススクリーン'!$CN$62","v":0},null,14,"検査結果(耐火クロススクリーン）","-","上記に記載のない事項","-","6行目","-","改善（予定）年月","-","年（令和）","14検査結果(耐火クロススクリーン）-上記に記載のない事項-6行目-改善（予定）年月-年（令和）",null,"14検査結果(耐火クロススクリーン）-上記に記載のない事項-6行目-改善（予定）年月-年（令和）"]
[null,null,null,null,{"$f":"'4_入力シート【検査結果表】 耐火クロススクリーン'!$CQ$62","v":0},null,14,"検査結果(耐火クロススクリーン）","-","上記に記載のない事項","-","6行目","-","改善（予定）年月","-","月","14検査結果(耐火クロススクリーン）-上記に記載のない事項-6行目-改善（予定）年月-月",null,"14検査結果(耐火クロススクリーン）-上記に記載のない事項-6行目-改善（予定）年月-月"]
[null,null,null,null,{"$f":"'4_入力シート【検査結果表】 耐火クロススクリーン'!$CT$62","v":0},null,14,"検査結果(耐火クロススクリーン）","-","上記に記載のない事項","-","6行目","-","改善（予定）年月","-","状況","14検査結果(耐火クロススクリーン）-上記に記載のない事項-6行目-改善（予定）年月-状況",null,"14検査結果(耐火クロススクリーン）-上記に記載のない事項-6行目-改善（予定）年月-状況"]
[null,null,null,null,{"$f":"'4_入力シート【検査結果表】 耐火クロススクリーン'!$M$63","v":0},null,14,"検査結果(耐火クロススクリーン）","-","上記に記載のない事項","-","7行目","-","番号",null,null,"14検査結果(耐火クロススクリーン）-上記に記載のない事項-7行目-番号",null,"14検査結果(耐火クロススクリーン）-上記に記載のない事項-7行目-番号"]
[null,null,null,null,{"$f":"'4_入力シート【検査結果表】 耐火クロススクリーン'!$P$63","v":0},null,14,"検査結果(耐火クロススクリーン）","-","上記に記載のない事項","-","7行目","-","検査項目",null,null,"14検査結果(耐火クロススクリーン）-上記に記載のない事項-7行目-検査項目",null,"14検査結果(耐火クロススクリーン）-上記に記載のない事項-7行目-検査項目"]
[null,null,null,null,{"$f":"'4_入力シート【検査結果表】 耐火クロススクリーン'!$AG$63","v":0},null,14,"検査結果(耐火クロススクリーン）","-","上記に記載のない事項","-","7行目","-","検査事項",null,null,"14検査結果(耐火クロススクリーン）-上記に記載のない事項-7行目-検査事項",null,"14検査結果(耐火クロススクリーン）-上記に記載のない事項-7行目-検査事項"]
[null,null,null,null,{"$f":"'4_入力シート【検査結果表】 耐火クロススクリーン'!$BA$63","v":0},null,14,"検査結果(耐火クロススクリーン）","-","上記に記載のない事項","-","7行目","-","検査結果",null,null,"14検査結果(耐火クロススクリーン）-上記に記載のない事項-7行目-検査結果",null,"14検査結果(耐火クロススクリーン）-上記に記載のない事項-7行目-検査結果"]
[null,null,null,null,{"$f":"'4_入力シート【検査結果表】 耐火クロススクリーン'!$BM$63","v":0},null,14,"検査結果(耐火クロススクリーン）","-","上記に記載のない事項","-","7行目","-","検査者番号",null,null,"14検査結果(耐火クロススクリーン）-上記に記載のない事項-7行目-検査者番号",null,"14検査結果(耐火クロススクリーン）-上記に記載のない事項-7行目-検査者番号"]
[null,null,null,null,{"$f":"'4_入力シート【検査結果表】 耐火クロススクリーン'!$BO$63","v":0},null,14,"検査結果(耐火クロススクリーン）","-","上記に記載のない事項","-","7行目","-","指摘の具体的内容等",null,null,"14検査結果(耐火クロススクリーン）-上記に記載のない事項-7行目-指摘の具体的内容等",null,"14検査結果(耐火クロススクリーン）-上記に記載のない事項-7行目-指摘の具体的内容等"]
[null,null,null,null,{"$f":"'4_入力シート【検査結果表】 耐火クロススクリーン'!$BY$63","v":0},null,14,"検査結果(耐火クロススクリーン）","-","上記に記載のない事項","-","7行目","-","改善策の具体的内容等",null,null,"14検査結果(耐火クロススクリーン）-上記に記載のない事項-7行目-改善策の具体的内容等",null,"14検査結果(耐火クロススクリーン）-上記に記載のない事項-7行目-改善策の具体的内容等"]
[null,null,null,null,{"$f":"'4_入力シート【検査結果表】 耐火クロススクリーン'!$CN$63","v":0},null,14,"検査結果(耐火クロススクリーン）","-","上記に記載のない事項","-","7行目","-","改善（予定）年月","-","年（令和）","14検査結果(耐火クロススクリーン）-上記に記載のない事項-7行目-改善（予定）年月-年（令和）",null,"14検査結果(耐火クロススクリーン）-上記に記載のない事項-7行目-改善（予定）年月-年（令和）"]
[null,null,null,null,{"$f":"'4_入力シート【検査結果表】 耐火クロススクリーン'!$CQ$63","v":0},null,14,"検査結果(耐火クロススクリーン）","-","上記に記載のない事項","-","7行目","-","改善（予定）年月","-","月","14検査結果(耐火クロススクリーン）-上記に記載のない事項-7行目-改善（予定）年月-月",null,"14検査結果(耐火クロススクリーン）-上記に記載のない事項-7行目-改善（予定）年月-月"]
[null,null,null,null,{"$f":"'4_入力シート【検査結果表】 耐火クロススクリーン'!$CT$63","v":0},null,14,"検査結果(耐火クロススクリーン）","-","上記に記載のない事項","-","7行目","-","改善（予定）年月","-","状況","14検査結果(耐火クロススクリーン）-上記に記載のない事項-7行目-改善（予定）年月-状況",null,"14検査結果(耐火クロススクリーン）-上記に記載のない事項-7行目-改善（予定）年月-状況"]
[null,null,null,null,{"$f":"'4_入力シート【検査結果表】 耐火クロススクリーン'!$M$64","v":0},null,14,"検査結果(耐火クロススクリーン）","-","上記に記載のない事項","-","8行目","-","番号",null,null,"14検査結果(耐火クロススクリーン）-上記に記載のない事項-8行目-番号",null,"14検査結果(耐火クロススクリーン）-上記に記載のない事項-8行目-番号"]
[null,null,null,null,{"$f":"'4_入力シート【検査結果表】 耐火クロススクリーン'!$P$64","v":0},null,14,"検査結果(耐火クロススクリーン）","-","上記に記載のない事項","-","8行目","-","検査項目",null,null,"14検査結果(耐火クロススクリーン）-上記に記載のない事項-8行目-検査項目",null,"14検査結果(耐火クロススクリーン）-上記に記載のない事項-8行目-検査項目"]
[null,null,null,null,{"$f":"'4_入力シート【検査結果表】 耐火クロススクリーン'!$AG$64","v":0},null,14,"検査結果(耐火クロススクリーン）","-","上記に記載のない事項","-","8行目","-","検査事項",null,null,"14検査結果(耐火クロススクリーン）-上記に記載のない事項-8行目-検査事項",null,"14検査結果(耐火クロススクリーン）-上記に記載のない事項-8行目-検査事項"]
[null,null,null,null,{"$f":"'4_入力シート【検査結果表】 耐火クロススクリーン'!$BA$64","v":0},null,14,"検査結果(耐火クロススクリーン）","-","上記に記載のない事項","-","8行目","-","検査結果",null,null,"14検査結果(耐火クロススクリーン）-上記に記載のない事項-8行目-検査結果",null,"14検査結果(耐火クロススクリーン）-上記に記載のない事項-8行目-検査結果"]
[null,null,null,null,{"$f":"'4_入力シート【検査結果表】 耐火クロススクリーン'!$BM$64","v":0},null,14,"検査結果(耐火クロススクリーン）","-","上記に記載のない事項","-","8行目","-","検査者番号",null,null,"14検査結果(耐火クロススクリーン）-上記に記載のない事項-8行目-検査者番号",null,"14検査結果(耐火クロススクリーン）-上記に記載のない事項-8行目-検査者番号"]
[null,null,null,null,{"$f":"'4_入力シート【検査結果表】 耐火クロススクリーン'!$BO$64","v":0},null,14,"検査結果(耐火クロススクリーン）","-","上記に記載のない事項","-","8行目","-","指摘の具体的内容等",null,null,"14検査結果(耐火クロススクリーン）-上記に記載のない事項-8行目-指摘の具体的内容等",null,"14検査結果(耐火クロススクリーン）-上記に記載のない事項-8行目-指摘の具体的内容等"]
[null,null,null,null,{"$f":"'4_入力シート【検査結果表】 耐火クロススクリーン'!$BY$64","v":0},null,14,"検査結果(耐火クロススクリーン）","-","上記に記載のない事項","-","8行目","-","改善策の具体的内容等",null,null,"14検査結果(耐火クロススクリーン）-上記に記載のない事項-8行目-改善策の具体的内容等",null,"14検査結果(耐火クロススクリーン）-上記に記載のない事項-8行目-改善策の具体的内容等"]
[null,null,null,null,{"$f":"'4_入力シート【検査結果表】 耐火クロススクリーン'!$CN$64","v":0},null,14,"検査結果(耐火クロススクリーン）","-","上記に記載のない事項","-","8行目","-","改善（予定）年月","-","年（令和）","14検査結果(耐火クロススクリーン）-上記に記載のない事項-8行目-改善（予定）年月-年（令和）",null,"14検査結果(耐火クロススクリーン）-上記に記載のない事項-8行目-改善（予定）年月-年（令和）"]
[null,null,null,null,{"$f":"'4_入力シート【検査結果表】 耐火クロススクリーン'!$CQ$64","v":0},null,14,"検査結果(耐火クロススクリーン）","-","上記に記載のない事項","-","8行目","-","改善（予定）年月","-","月","14検査結果(耐火クロススクリーン）-上記に記載のない事項-8行目-改善（予定）年月-月",null,"14検査結果(耐火クロススクリーン）-上記に記載のない事項-8行目-改善（予定）年月-月"]
[null,null,null,null,{"$f":"'4_入力シート【検査結果表】 耐火クロススクリーン'!$CT$64","v":0},null,14,"検査結果(耐火クロススクリーン）","-","上記に記載のない事項","-","8行目","-","改善（予定）年月","-","状況","14検査結果(耐火クロススクリーン）-上記に記載のない事項-8行目-改善（予定）年月-状況",null,"14検査結果(耐火クロススクリーン）-上記に記載のない事項-8行目-改善（予定）年月-状況"]
[null,null,null,null,{"$f":"'4_入力シート【検査結果表】 耐火クロススクリーン'!$M$65","v":0},null,14,"検査結果(耐火クロススクリーン）","-","上記に記載のない事項","-","9行目","-","番号",null,null,"14検査結果(耐火クロススクリーン）-上記に記載のない事項-9行目-番号",null,"14検査結果(耐火クロススクリーン）-上記に記載のない事項-9行目-番号"]
[null,null,null,null,{"$f":"'4_入力シート【検査結果表】 耐火クロススクリーン'!$P$65","v":0},null,14,"検査結果(耐火クロススクリーン）","-","上記に記載のない事項","-","9行目","-","検査項目",null,null,"14検査結果(耐火クロススクリーン）-上記に記載のない事項-9行目-検査項目",null,"14検査結果(耐火クロススクリーン）-上記に記載のない事項-9行目-検査項目"]
[null,null,null,null,{"$f":"'4_入力シート【検査結果表】 耐火クロススクリーン'!$AG$65","v":0},null,14,"検査結果(耐火クロススクリーン）","-","上記に記載のない事項","-","9行目","-","検査事項",null,null,"14検査結果(耐火クロススクリーン）-上記に記載のない事項-9行目-検査事項",null,"14検査結果(耐火クロススクリーン）-上記に記載のない事項-9行目-検査事項"]
[null,null,null,null,{"$f":"'4_入力シート【検査結果表】 耐火クロススクリーン'!$BA$65","v":0},null,14,"検査結果(耐火クロススクリーン）","-","上記に記載のない事項","-","9行目","-","検査結果",null,null,"14検査結果(耐火クロススクリーン）-上記に記載のない事項-9行目-検査結果",null,"14検査結果(耐火クロススクリーン）-上記に記載のない事項-9行目-検査結果"]
[null,null,null,null,{"$f":"'4_入力シート【検査結果表】 耐火クロススクリーン'!$BM$65","v":0},null,14,"検査結果(耐火クロススクリーン）","-","上記に記載のない事項","-","9行目","-","検査者番号",null,null,"14検査結果(耐火クロススクリーン）-上記に記載のない事項-9行目-検査者番号",null,"14検査結果(耐火クロススクリーン）-上記に記載のない事項-9行目-検査者番号"]
[null,null,null,null,{"$f":"'4_入力シート【検査結果表】 耐火クロススクリーン'!$BO$65","v":0},null,14,"検査結果(耐火クロススクリーン）","-","上記に記載のない事項","-","9行目","-","指摘の具体的内容等",null,null,"14検査結果(耐火クロススクリーン）-上記に記載のない事項-9行目-指摘の具体的内容等",null,"14検査結果(耐火クロススクリーン）-上記に記載のない事項-9行目-指摘の具体的内容等"]
[null,null,null,null,{"$f":"'4_入力シート【検査結果表】 耐火クロススクリーン'!$BY$65","v":0},null,14,"検査結果(耐火クロススクリーン）","-","上記に記載のない事項","-","9行目","-","改善策の具体的内容等",null,null,"14検査結果(耐火クロススクリーン）-上記に記載のない事項-9行目-改善策の具体的内容等",null,"14検査結果(耐火クロススクリーン）-上記に記載のない事項-9行目-改善策の具体的内容等"]
[null,null,null,null,{"$f":"'4_入力シート【検査結果表】 耐火クロススクリーン'!$CN$65","v":0},null,14,"検査結果(耐火クロススクリーン）","-","上記に記載のない事項","-","9行目","-","改善（予定）年月","-","年（令和）","14検査結果(耐火クロススクリーン）-上記に記載のない事項-9行目-改善（予定）年月-年（令和）",null,"14検査結果(耐火クロススクリーン）-上記に記載のない事項-9行目-改善（予定）年月-年（令和）"]
[null,null,null,null,{"$f":"'4_入力シート【検査結果表】 耐火クロススクリーン'!$CQ$65","v":0},null,14,"検査結果(耐火クロススクリーン）","-","上記に記載のない事項","-","9行目","-","改善（予定）年月","-","月","14検査結果(耐火クロススクリーン）-上記に記載のない事項-9行目-改善（予定）年月-月",null,"14検査結果(耐火クロススクリーン）-上記に記載のない事項-9行目-改善（予定）年月-月"]
[null,null,null,null,{"$f":"'4_入力シート【検査結果表】 耐火クロススクリーン'!$CT$65","v":0},null,14,"検査結果(耐火クロススクリーン）","-","上記に記載のない事項","-","9行目","-","改善（予定）年月","-","状況","14検査結果(耐火クロススクリーン）-上記に記載のない事項-9行目-改善（予定）年月-状況",null,"14検査結果(耐火クロススクリーン）-上記に記載のない事項-9行目-改善（予定）年月-状況"]
[null,null,null,null,{"$f":"'4_入力シート【検査結果表】 耐火クロススクリーン'!$M$66","v":0},null,14,"検査結果(耐火クロススクリーン）","-","上記に記載のない事項","-","10行目","-","番号",null,null,"14検査結果(耐火クロススクリーン）-上記に記載のない事項-10行目-番号",null,"14検査結果(耐火クロススクリーン）-上記に記載のない事項-10行目-番号"]
[null,null,null,null,{"$f":"'4_入力シート【検査結果表】 耐火クロススクリーン'!$P$66","v":0},null,14,"検査結果(耐火クロススクリーン）","-","上記に記載のない事項","-","10行目","-","検査項目",null,null,"14検査結果(耐火クロススクリーン）-上記に記載のない事項-10行目-検査項目",null,"14検査結果(耐火クロススクリーン）-上記に記載のない事項-10行目-検査項目"]
[null,null,null,null,{"$f":"'4_入力シート【検査結果表】 耐火クロススクリーン'!$AG$66","v":0},null,14,"検査結果(耐火クロススクリーン）","-","上記に記載のない事項","-","10行目","-","検査事項",null,null,"14検査結果(耐火クロススクリーン）-上記に記載のない事項-10行目-検査事項",null,"14検査結果(耐火クロススクリーン）-上記に記載のない事項-10行目-検査事項"]
[null,null,null,null,{"$f":"'4_入力シート【検査結果表】 耐火クロススクリーン'!$BA$66","v":0},null,14,"検査結果(耐火クロススクリーン）","-","上記に記載のない事項","-","10行目","-","検査結果",null,null,"14検査結果(耐火クロススクリーン）-上記に記載のない事項-10行目-検査結果",null,"14検査結果(耐火クロススクリーン）-上記に記載のない事項-10行目-検査結果"]
[null,null,null,null,{"$f":"'4_入力シート【検査結果表】 耐火クロススクリーン'!$BM$66","v":0},null,14,"検査結果(耐火クロススクリーン）","-","上記に記載のない事項","-","10行目","-","検査者番号",null,null,"14検査結果(耐火クロススクリーン）-上記に記載のない事項-10行目-検査者番号",null,"14検査結果(耐火クロススクリーン）-上記に記載のない事項-10行目-検査者番号"]
[null,null,null,null,{"$f":"'4_入力シート【検査結果表】 耐火クロススクリーン'!$BO$66","v":0},null,14,"検査結果(耐火クロススクリーン）","-","上記に記載のない事項","-","10行目","-","指摘の具体的内容等",null,null,"14検査結果(耐火クロススクリーン）-上記に記載のない事項-10行目-指摘の具体的内容等",null,"14検査結果(耐火クロススクリーン）-上記に記載のない事項-10行目-指摘の具体的内容等"]
[null,null,null,null,{"$f":"'4_入力シート【検査結果表】 耐火クロススクリーン'!$BY$66","v":0},null,14,"検査結果(耐火クロススクリーン）","-","上記に記載のない事項","-","10行目","-","改善策の具体的内容等",null,null,"14検査結果(耐火クロススクリーン）-上記に記載のない事項-10行目-改善策の具体的内容等",null,"14検査結果(耐火クロススクリーン）-上記に記載のない事項-10行目-改善策の具体的内容等"]
[null,null,null,null,{"$f":"'4_入力シート【検査結果表】 耐火クロススクリーン'!$CN$66","v":0},null,14,"検査結果(耐火クロススクリーン）","-","上記に記載のない事項","-","10行目","-","改善（予定）年月","-","年（令和）","14検査結果(耐火クロススクリーン）-上記に記載のない事項-10行目-改善（予定）年月-年（令和）",null,"14検査結果(耐火クロススクリーン）-上記に記載のない事項-10行目-改善（予定）年月-年（令和）"]
[null,null,null,null,{"$f":"'4_入力シート【検査結果表】 耐火クロススクリーン'!$CQ$66","v":0},null,14,"検査結果(耐火クロススクリーン）","-","上記に記載のない事項","-","10行目","-","改善（予定）年月","-","月","14検査結果(耐火クロススクリーン）-上記に記載のない事項-10行目-改善（予定）年月-月",null,"14検査結果(耐火クロススクリーン）-上記に記載のない事項-10行目-改善（予定）年月-月"]
[null,null,null,null,{"$f":"'4_入力シート【検査結果表】 耐火クロススクリーン'!$CT$66","v":0},null,14,"検査結果(耐火クロススクリーン）","-","上記に記載のない事項","-","10行目","-","改善（予定）年月","-","状況","14検査結果(耐火クロススクリーン）-上記に記載のない事項-10行目-改善（予定）年月-状況",null,"14検査結果(耐火クロススクリーン）-上記に記載のない事項-10行目-改善（予定）年月-状況"]
[null,null,null,null,{"$f":"'4_入力シート【検査結果表】 耐火クロススクリーン'!$M$67","v":0},null,14,"検査結果(耐火クロススクリーン）","-","上記に記載のない事項","-","11行目","-","番号",null,null,"14検査結果(耐火クロススクリーン）-上記に記載のない事項-11行目-番号",null,"14検査結果(耐火クロススクリーン）-上記に記載のない事項-11行目-番号"]
[null,null,null,null,{"$f":"'4_入力シート【検査結果表】 耐火クロススクリーン'!$P$67","v":0},null,14,"検査結果(耐火クロススクリーン）","-","上記に記載のない事項","-","11行目","-","検査項目",null,null,"14検査結果(耐火クロススクリーン）-上記に記載のない事項-11行目-検査項目",null,"14検査結果(耐火クロススクリーン）-上記に記載のない事項-11行目-検査項目"]
[null,null,null,null,{"$f":"'4_入力シート【検査結果表】 耐火クロススクリーン'!$AG$67","v":0},null,14,"検査結果(耐火クロススクリーン）","-","上記に記載のない事項","-","11行目","-","検査事項",null,null,"14検査結果(耐火クロススクリーン）-上記に記載のない事項-11行目-検査事項",null,"14検査結果(耐火クロススクリーン）-上記に記載のない事項-11行目-検査事項"]
[null,null,null,null,{"$f":"'4_入力シート【検査結果表】 耐火クロススクリーン'!$BA$67","v":0},null,14,"検査結果(耐火クロススクリーン）","-","上記に記載のない事項","-","11行目","-","検査結果",null,null,"14検査結果(耐火クロススクリーン）-上記に記載のない事項-11行目-検査結果",null,"14検査結果(耐火クロススクリーン）-上記に記載のない事項-11行目-検査結果"]
[null,null,null,null,{"$f":"'4_入力シート【検査結果表】 耐火クロススクリーン'!$BM$67","v":0},null,14,"検査結果(耐火クロススクリーン）","-","上記に記載のない事項","-","11行目","-","検査者番号",null,null,"14検査結果(耐火クロススクリーン）-上記に記載のない事項-11行目-検査者番号",null,"14検査結果(耐火クロススクリーン）-上記に記載のない事項-11行目-検査者番号"]
[null,null,null,null,{"$f":"'4_入力シート【検査結果表】 耐火クロススクリーン'!$BO$67","v":0},null,14,"検査結果(耐火クロススクリーン）","-","上記に記載のない事項","-","11行目","-","指摘の具体的内容等",null,null,"14検査結果(耐火クロススクリーン）-上記に記載のない事項-11行目-指摘の具体的内容等",null,"14検査結果(耐火クロススクリーン）-上記に記載のない事項-11行目-指摘の具体的内容等"]
[null,null,null,null,{"$f":"'4_入力シート【検査結果表】 耐火クロススクリーン'!$BY$67","v":0},null,14,"検査結果(耐火クロススクリーン）","-","上記に記載のない事項","-","11行目","-","改善策の具体的内容等",null,null,"14検査結果(耐火クロススクリーン）-上記に記載のない事項-11行目-改善策の具体的内容等",null,"14検査結果(耐火クロススクリーン）-上記に記載のない事項-11行目-改善策の具体的内容等"]
[null,null,null,null,{"$f":"'4_入力シート【検査結果表】 耐火クロススクリーン'!$CN$67","v":0},null,14,"検査結果(耐火クロススクリーン）","-","上記に記載のない事項","-","11行目","-","改善（予定）年月","-","年（令和）","14検査結果(耐火クロススクリーン）-上記に記載のない事項-11行目-改善（予定）年月-年（令和）",null,"14検査結果(耐火クロススクリーン）-上記に記載のない事項-11行目-改善（予定）年月-年（令和）"]
[null,null,null,null,{"$f":"'4_入力シート【検査結果表】 耐火クロススクリーン'!$CQ$67","v":0},null,14,"検査結果(耐火クロススクリーン）","-","上記に記載のない事項","-","11行目","-","改善（予定）年月","-","月","14検査結果(耐火クロススクリーン）-上記に記載のない事項-11行目-改善（予定）年月-月",null,"14検査結果(耐火クロススクリーン）-上記に記載のない事項-11行目-改善（予定）年月-月"]
[null,null,null,null,{"$f":"'4_入力シート【検査結果表】 耐火クロススクリーン'!$CT$67","v":0},null,14,"検査結果(耐火クロススクリーン）","-","上記に記載のない事項","-","11行目","-","改善（予定）年月","-","状況","14検査結果(耐火クロススクリーン）-上記に記載のない事項-11行目-改善（予定）年月-状況",null,"14検査結果(耐火クロススクリーン）-上記に記載のない事項-11行目-改善（予定）年月-状況"]
[null,null,null,null,{"$f":"'4_入力シート【検査結果表】 耐火クロススクリーン'!$M$68","v":0},null,14,"検査結果(耐火クロススクリーン）","-","上記に記載のない事項","-","12行目","-","番号",null,null,"14検査結果(耐火クロススクリーン）-上記に記載のない事項-12行目-番号",null,"14検査結果(耐火クロススクリーン）-上記に記載のない事項-12行目-番号"]
[null,null,null,null,{"$f":"'4_入力シート【検査結果表】 耐火クロススクリーン'!$P$68","v":0},null,14,"検査結果(耐火クロススクリーン）","-","上記に記載のない事項","-","12行目","-","検査項目",null,null,"14検査結果(耐火クロススクリーン）-上記に記載のない事項-12行目-検査項目",null,"14検査結果(耐火クロススクリーン）-上記に記載のない事項-12行目-検査項目"]
[null,null,null,null,{"$f":"'4_入力シート【検査結果表】 耐火クロススクリーン'!$AG$68","v":0},null,14,"検査結果(耐火クロススクリーン）","-","上記に記載のない事項","-","12行目","-","検査事項",null,null,"14検査結果(耐火クロススクリーン）-上記に記載のない事項-12行目-検査事項",null,"14検査結果(耐火クロススクリーン）-上記に記載のない事項-12行目-検査事項"]
[null,null,null,null,{"$f":"'4_入力シート【検査結果表】 耐火クロススクリーン'!$BA$68","v":0},null,14,"検査結果(耐火クロススクリーン）","-","上記に記載のない事項","-","12行目","-","検査結果",null,null,{"$f":"CONCATENATE(G1236,H1236,I1236,J1236,K1236,L1236,M1236,N1236,O1236,P1236)","v":"14検査結果(耐火クロススクリーン）-上記に記載のない事項-12行目-検査結果"},null,"14検査結果(耐火クロススクリーン）-上記に記載のない事項-12行目-検査結果"]
[null,null,null,null,{"$f":"'4_入力シート【検査結果表】 耐火クロススクリーン'!$BM$68","v":0},null,14,"検査結果(耐火クロススクリーン）","-","上記に記載のない事項","-","12行目","-","検査者番号",null,null,"14検査結果(耐火クロススクリーン）-上記に記載のない事項-12行目-検査者番号",null,"14検査結果(耐火クロススクリーン）-上記に記載のない事項-12行目-検査者番号"]
[null,null,null,null,{"$f":"'4_入力シート【検査結果表】 耐火クロススクリーン'!$BO$68","v":0},null,14,"検査結果(耐火クロススクリーン）","-","上記に記載のない事項","-","12行目","-","指摘の具体的内容等",null,null,"14検査結果(耐火クロススクリーン）-上記に記載のない事項-12行目-指摘の具体的内容等",null,"14検査結果(耐火クロススクリーン）-上記に記載のない事項-12行目-指摘の具体的内容等"]
[null,null,null,null,{"$f":"'4_入力シート【検査結果表】 耐火クロススクリーン'!$BY$68","v":0},null,14,"検査結果(耐火クロススクリーン）","-","上記に記載のない事項","-","12行目","-","改善策の具体的内容等",null,null,"14検査結果(耐火クロススクリーン）-上記に記載のない事項-12行目-改善策の具体的内容等",null,"14検査結果(耐火クロススクリーン）-上記に記載のない事項-12行目-改善策の具体的内容等"]
[null,null,null,null,{"$f":"'4_入力シート【検査結果表】 耐火クロススクリーン'!$CN$68","v":0},null,14,"検査結果(耐火クロススクリーン）","-","上記に記載のない事項","-","12行目","-","改善（予定）年月","-","年（令和）","14検査結果(耐火クロススクリーン）-上記に記載のない事項-12行目-改善（予定）年月-年（令和）",null,"14検査結果(耐火クロススクリーン）-上記に記載のない事項-12行目-改善（予定）年月-年（令和）"]
[null,null,null,null,{"$f":"'4_入力シート【検査結果表】 耐火クロススクリーン'!$CQ$68","v":0},null,14,"検査結果(耐火クロススクリーン）","-","上記に記載のない事項","-","12行目","-","改善（予定）年月","-","月","14検査結果(耐火クロススクリーン）-上記に記載のない事項-12行目-改善（予定）年月-月",null,"14検査結果(耐火クロススクリーン）-上記に記載のない事項-12行目-改善（予定）年月-月"]
[null,null,null,null,{"$f":"'4_入力シート【検査結果表】 耐火クロススクリーン'!$CT$68","v":0},null,14,"検査結果(耐火クロススクリーン）","-","上記に記載のない事項","-","12行目","-","改善（予定）年月","-","状況","14検査結果(耐火クロススクリーン）-上記に記載のない事項-12行目-改善（予定）年月-状況",null,"14検査結果(耐火クロススクリーン）-上記に記載のない事項-12行目-改善（予定）年月-状況"]
[null,null,null,null,{"$f":"'4_入力シート【検査結果表】 耐火クロススクリーン'!$M$69","v":0},null,14,"検査結果(耐火クロススクリーン）","-","上記に記載のない事項","-","13行目","-","番号",null,null,"14検査結果(耐火クロススクリーン）-上記に記載のない事項-13行目-番号",null,"14検査結果(耐火クロススクリーン）-上記に記載のない事項-13行目-番号"]
[null,null,null,null,{"$f":"'4_入力シート【検査結果表】 耐火クロススクリーン'!$P$69","v":0},null,14,"検査結果(耐火クロススクリーン）","-","上記に記載のない事項","-","13行目","-","検査項目",null,null,"14検査結果(耐火クロススクリーン）-上記に記載のない事項-13行目-検査項目",null,"14検査結果(耐火クロススクリーン）-上記に記載のない事項-13行目-検査項目"]
[null,null,null,null,{"$f":"'4_入力シート【検査結果表】 耐火クロススクリーン'!$AG$69","v":0},null,14,"検査結果(耐火クロススクリーン）","-","上記に記載のない事項","-","13行目","-","検査事項",null,null,"14検査結果(耐火クロススクリーン）-上記に記載のない事項-13行目-検査事項",null,"14検査結果(耐火クロススクリーン）-上記に記載のない事項-13行目-検査事項"]
[null,null,null,null,{"$f":"'4_入力シート【検査結果表】 耐火クロススクリーン'!$BA$69","v":0},null,14,"検査結果(耐火クロススクリーン）","-","上記に記載のない事項","-","13行目","-","検査結果",null,null,"14検査結果(耐火クロススクリーン）-上記に記載のない事項-13行目-検査結果",null,"14検査結果(耐火クロススクリーン）-上記に記載のない事項-13行目-検査結果"]
[null,null,null,null,{"$f":"'4_入力シート【検査結果表】 耐火クロススクリーン'!$BM$69","v":0},null,14,"検査結果(耐火クロススクリーン）","-","上記に記載のない事項","-","13行目","-","検査者番号",null,null,"14検査結果(耐火クロススクリーン）-上記に記載のない事項-13行目-検査者番号",null,"14検査結果(耐火クロススクリーン）-上記に記載のない事項-13行目-検査者番号"]
[null,null,null,null,{"$f":"'4_入力シート【検査結果表】 耐火クロススクリーン'!$BO$69","v":0},null,14,"検査結果(耐火クロススクリーン）","-","上記に記載のない事項","-","13行目","-","指摘の具体的内容等",null,null,"14検査結果(耐火クロススクリーン）-上記に記載のない事項-13行目-指摘の具体的内容等",null,"14検査結果(耐火クロススクリーン）-上記に記載のない事項-13行目-指摘の具体的内容等"]
[null,null,null,null,{"$f":"'4_入力シート【検査結果表】 耐火クロススクリーン'!$BY$69","v":0},null,14,"検査結果(耐火クロススクリーン）","-","上記に記載のない事項","-","13行目","-","改善策の具体的内容等",null,null,"14検査結果(耐火クロススクリーン）-上記に記載のない事項-13行目-改善策の具体的内容等",null,"14検査結果(耐火クロススクリーン）-上記に記載のない事項-13行目-改善策の具体的内容等"]
[null,null,null,null,{"$f":"'4_入力シート【検査結果表】 耐火クロススクリーン'!$CN$69","v":0},null,14,"検査結果(耐火クロススクリーン）","-","上記に記載のない事項","-","13行目","-","改善（予定）年月","-","年（令和）","14検査結果(耐火クロススクリーン）-上記に記載のない事項-13行目-改善（予定）年月-年（令和）",null,"14検査結果(耐火クロススクリーン）-上記に記載のない事項-13行目-改善（予定）年月-年（令和）"]
[null,null,null,null,{"$f":"'4_入力シート【検査結果表】 耐火クロススクリーン'!$CQ$69","v":0},null,14,"検査結果(耐火クロススクリーン）","-","上記に記載のない事項","-","13行目","-","改善（予定）年月","-","月","14検査結果(耐火クロススクリーン）-上記に記載のない事項-13行目-改善（予定）年月-月",null,"14検査結果(耐火クロススクリーン）-上記に記載のない事項-13行目-改善（予定）年月-月"]
[null,null,null,null,{"$f":"'4_入力シート【検査結果表】 耐火クロススクリーン'!$CT$69","v":0},null,14,"検査結果(耐火クロススクリーン）","-","上記に記載のない事項","-","13行目","-","改善（予定）年月","-","状況","14検査結果(耐火クロススクリーン）-上記に記載のない事項-13行目-改善（予定）年月-状況",null,"14検査結果(耐火クロススクリーン）-上記に記載のない事項-13行目-改善（予定）年月-状況"]
[null,null,null,null,{"$f":"'4_入力シート【検査結果表】 耐火クロススクリーン'!$M$70","v":0},null,14,"検査結果(耐火クロススクリーン）","-","上記に記載のない事項","-","14行目","-","番号",null,null,"14検査結果(耐火クロススクリーン）-上記に記載のない事項-14行目-番号",null,"14検査結果(耐火クロススクリーン）-上記に記載のない事項-14行目-番号"]
[null,null,null,null,{"$f":"'4_入力シート【検査結果表】 耐火クロススクリーン'!$P$70","v":0},null,14,"検査結果(耐火クロススクリーン）","-","上記に記載のない事項","-","14行目","-","検査項目",null,null,"14検査結果(耐火クロススクリーン）-上記に記載のない事項-14行目-検査項目",null,"14検査結果(耐火クロススクリーン）-上記に記載のない事項-14行目-検査項目"]
[null,null,null,null,{"$f":"'4_入力シート【検査結果表】 耐火クロススクリーン'!$AG$70","v":0},null,14,"検査結果(耐火クロススクリーン）","-","上記に記載のない事項","-","14行目","-","検査事項",null,null,"14検査結果(耐火クロススクリーン）-上記に記載のない事項-14行目-検査事項",null,"14検査結果(耐火クロススクリーン）-上記に記載のない事項-14行目-検査事項"]
[null,null,null,null,{"$f":"'4_入力シート【検査結果表】 耐火クロススクリーン'!$BA$70","v":0},null,14,"検査結果(耐火クロススクリーン）","-","上記に記載のない事項","-","14行目","-","検査結果",null,null,"14検査結果(耐火クロススクリーン）-上記に記載のない事項-14行目-検査結果",null,"14検査結果(耐火クロススクリーン）-上記に記載のない事項-14行目-検査結果"]
[null,null,null,null,{"$f":"'4_入力シート【検査結果表】 耐火クロススクリーン'!$BM$70","v":0},null,14,"検査結果(耐火クロススクリーン）","-","上記に記載のない事項","-","14行目","-","検査者番号",null,null,"14検査結果(耐火クロススクリーン）-上記に記載のない事項-14行目-検査者番号",null,"14検査結果(耐火クロススクリーン）-上記に記載のない事項-14行目-検査者番号"]
[null,null,null,null,{"$f":"'4_入力シート【検査結果表】 耐火クロススクリーン'!$BO$70","v":0},null,14,"検査結果(耐火クロススクリーン）","-","上記に記載のない事項","-","14行目","-","指摘の具体的内容等",null,null,"14検査結果(耐火クロススクリーン）-上記に記載のない事項-14行目-指摘の具体的内容等",null,"14検査結果(耐火クロススクリーン）-上記に記載のない事項-14行目-指摘の具体的内容等"]
[null,null,null,null,{"$f":"'4_入力シート【検査結果表】 耐火クロススクリーン'!$BY$70","v":0},null,14,"検査結果(耐火クロススクリーン）","-","上記に記載のない事項","-","14行目","-","改善策の具体的内容等",null,null,"14検査結果(耐火クロススクリーン）-上記に記載のない事項-14行目-改善策の具体的内容等",null,"14検査結果(耐火クロススクリーン）-上記に記載のない事項-14行目-改善策の具体的内容等"]
[null,null,null,null,{"$f":"'4_入力シート【検査結果表】 耐火クロススクリーン'!$CN$70","v":0},null,14,"検査結果(耐火クロススクリーン）","-","上記に記載のない事項","-","14行目","-","改善（予定）年月","-","年（令和）","14検査結果(耐火クロススクリーン）-上記に記載のない事項-14行目-改善（予定）年月-年（令和）",null,"14検査結果(耐火クロススクリーン）-上記に記載のない事項-14行目-改善（予定）年月-年（令和）"]
[null,null,null,null,{"$f":"'4_入力シート【検査結果表】 耐火クロススクリーン'!$CQ$70","v":0},null,14,"検査結果(耐火クロススクリーン）","-","上記に記載のない事項","-","14行目","-","改善（予定）年月","-","月","14検査結果(耐火クロススクリーン）-上記に記載のない事項-14行目-改善（予定）年月-月",null,"14検査結果(耐火クロススクリーン）-上記に記載のない事項-14行目-改善（予定）年月-月"]
[null,null,null,null,{"$f":"'4_入力シート【検査結果表】 耐火クロススクリーン'!$CT$70","v":0},null,14,"検査結果(耐火クロススクリーン）","-","上記に記載のない事項","-","14行目","-","改善（予定）年月","-","状況","14検査結果(耐火クロススクリーン）-上記に記載のない事項-14行目-改善（予定）年月-状況",null,"14検査結果(耐火クロススクリーン）-上記に記載のない事項-14行目-改善（予定）年月-状況"]
[null,null,null,null,{"$f":"'4_入力シート【検査結果表】 耐火クロススクリーン'!$M$71","v":0},null,14,"検査結果(耐火クロススクリーン）","-","上記に記載のない事項","-","15行目","-","番号",null,null,"14検査結果(耐火クロススクリーン）-上記に記載のない事項-15行目-番号",null,"14検査結果(耐火クロススクリーン）-上記に記載のない事項-15行目-番号"]
[null,null,null,null,{"$f":"'4_入力シート【検査結果表】 耐火クロススクリーン'!$P$71","v":0},null,14,"検査結果(耐火クロススクリーン）","-","上記に記載のない事項","-","15行目","-","検査項目",null,null,"14検査結果(耐火クロススクリーン）-上記に記載のない事項-15行目-検査項目",null,"14検査結果(耐火クロススクリーン）-上記に記載のない事項-15行目-検査項目"]
[null,null,null,null,{"$f":"'4_入力シート【検査結果表】 耐火クロススクリーン'!$AG$71","v":0},null,14,"検査結果(耐火クロススクリーン）","-","上記に記載のない事項","-","15行目","-","検査事項",null,null,"14検査結果(耐火クロススクリーン）-上記に記載のない事項-15行目-検査事項",null,"14検査結果(耐火クロススクリーン）-上記に記載のない事項-15行目-検査事項"]
[null,null,null,null,{"$f":"'4_入力シート【検査結果表】 耐火クロススクリーン'!$BA$71","v":0},null,14,"検査結果(耐火クロススクリーン）","-","上記に記載のない事項","-","15行目","-","検査結果",null,null,"14検査結果(耐火クロススクリーン）-上記に記載のない事項-15行目-検査結果",null,"14検査結果(耐火クロススクリーン）-上記に記載のない事項-15行目-検査結果"]
[null,null,null,null,{"$f":"'4_入力シート【検査結果表】 耐火クロススクリーン'!$BM$71","v":0},null,14,"検査結果(耐火クロススクリーン）","-","上記に記載のない事項","-","15行目","-","検査者番号",null,null,"14検査結果(耐火クロススクリーン）-上記に記載のない事項-15行目-検査者番号",null,"14検査結果(耐火クロススクリーン）-上記に記載のない事項-15行目-検査者番号"]
[null,null,null,null,{"$f":"'4_入力シート【検査結果表】 耐火クロススクリーン'!$BO$71","v":0},null,14,"検査結果(耐火クロススクリーン）","-","上記に記載のない事項","-","15行目","-","指摘の具体的内容等",null,null,"14検査結果(耐火クロススクリーン）-上記に記載のない事項-15行目-指摘の具体的内容等",null,"14検査結果(耐火クロススクリーン）-上記に記載のない事項-15行目-指摘の具体的内容等"]
[null,null,null,null,{"$f":"'4_入力シート【検査結果表】 耐火クロススクリーン'!$BY$71","v":0},null,14,"検査結果(耐火クロススクリーン）","-","上記に記載のない事項","-","15行目","-","改善策の具体的内容等",null,null,"14検査結果(耐火クロススクリーン）-上記に記載のない事項-15行目-改善策の具体的内容等",null,"14検査結果(耐火クロススクリーン）-上記に記載のない事項-15行目-改善策の具体的内容等"]
[null,null,null,null,{"$f":"'4_入力シート【検査結果表】 耐火クロススクリーン'!$CN$71","v":0},null,14,"検査結果(耐火クロススクリーン）","-","上記に記載のない事項","-","15行目","-","改善（予定）年月","-","年（令和）","14検査結果(耐火クロススクリーン）-上記に記載のない事項-15行目-改善（予定）年月-年（令和）",null,"14検査結果(耐火クロススクリーン）-上記に記載のない事項-15行目-改善（予定）年月-年（令和）"]
[null,null,null,null,{"$f":"'4_入力シート【検査結果表】 耐火クロススクリーン'!$CQ$71","v":0},null,14,"検査結果(耐火クロススクリーン）","-","上記に記載のない事項","-","15行目","-","改善（予定）年月","-","月","14検査結果(耐火クロススクリーン）-上記に記載のない事項-15行目-改善（予定）年月-月",null,"14検査結果(耐火クロススクリーン）-上記に記載のない事項-15行目-改善（予定）年月-月"]
[null,null,null,null,{"$f":"'4_入力シート【検査結果表】 耐火クロススクリーン'!$CT$71","v":0},null,14,"検査結果(耐火クロススクリーン）","-","上記に記載のない事項","-","15行目","-","改善（予定）年月","-","状況","14検査結果(耐火クロススクリーン）-上記に記載のない事項-15行目-改善（予定）年月-状況",null,"14検査結果(耐火クロススクリーン）-上記に記載のない事項-15行目-改善（予定）年月-状況"]
[null,null,null,null,{"$f":"'5_入力シート【検査結果表】 ドレンチャー'!$BA$17","v":0},null,15,"検査結果(ドレンチャーその他の水幕を形成する防火設備）","-","1（1）","-","検査結果",null,null,null,null,"15検査結果(ドレンチャーその他の水幕を形成する防火設備）-1（1）-検査結果",null,"15検査結果(ドレンチャーその他の水幕を形成する防火設備）-1（1）-検査結果"]
[null,null,null,null,{"$f":"'5_入力シート【検査結果表】 ドレンチャー'!$BM$17","v":0},null,15,"検査結果(ドレンチャーその他の水幕を形成する防火設備）","-","1（1）","-","検査者番号",null,null,null,null,"15検査結果(ドレンチャーその他の水幕を形成する防火設備）-1（1）-検査者番号",null,"15検査結果(ドレンチャーその他の水幕を形成する防火設備）-1（1）-検査者番号"]
[null,null,null,null,{"$f":"'5_入力シート【検査結果表】 ドレンチャー'!$BO$17","v":0},null,15,"検査結果(ドレンチャーその他の水幕を形成する防火設備）","-","1（1）","-","指摘の具体的内容等",null,null,null,null,"15検査結果(ドレンチャーその他の水幕を形成する防火設備）-1（1）-指摘の具体的内容等",null,"15検査結果(ドレンチャーその他の水幕を形成する防火設備）-1（1）-指摘の具体的内容等"]
[null,null,null,null,{"$f":"'5_入力シート【検査結果表】 ドレンチャー'!$BY$17","v":0},null,15,"検査結果(ドレンチャーその他の水幕を形成する防火設備）","-","1（1）","-","改善策の具体的内容等",null,null,null,null,"15検査結果(ドレンチャーその他の水幕を形成する防火設備）-1（1）-改善策の具体的内容等",null,"15検査結果(ドレンチャーその他の水幕を形成する防火設備）-1（1）-改善策の具体的内容等"]
[null,null,null,null,{"$f":"'5_入力シート【検査結果表】 ドレンチャー'!$CN$17","v":0},null,15,"検査結果(ドレンチャーその他の水幕を形成する防火設備）","-","1（1）","-","改善（予定）年月","-","年（令和）",null,null,"15検査結果(ドレンチャーその他の水幕を形成する防火設備）-1（1）-改善（予定）年月-年（令和）",null,"15検査結果(ドレンチャーその他の水幕を形成する防火設備）-1（1）-改善（予定）年月-年（令和）"]
[null,null,null,null,{"$f":"'5_入力シート【検査結果表】 ドレンチャー'!$CQ$17","v":0},null,15,"検査結果(ドレンチャーその他の水幕を形成する防火設備）","-","1（1）","-","改善（予定）年月","-","月",null,null,"15検査結果(ドレンチャーその他の水幕を形成する防火設備）-1（1）-改善（予定）年月-月",null,"15検査結果(ドレンチャーその他の水幕を形成する防火設備）-1（1）-改善（予定）年月-月"]
[null,null,null,null,{"$f":"'5_入力シート【検査結果表】 ドレンチャー'!$CT$17","v":0},null,15,"検査結果(ドレンチャーその他の水幕を形成する防火設備）","-","1（1）","-","改善（予定）年月","-","状況",null,null,"15検査結果(ドレンチャーその他の水幕を形成する防火設備）-1（1）-改善（予定）年月-状況",null,"15検査結果(ドレンチャーその他の水幕を形成する防火設備）-1（1）-改善（予定）年月-状況"]
[null,null,null,null,{"$f":"'5_入力シート【検査結果表】 ドレンチャー'!$BA$18","v":0},null,15,"検査結果(ドレンチャーその他の水幕を形成する防火設備）","-","1（2）","-","検査結果",null,null,null,null,"15検査結果(ドレンチャーその他の水幕を形成する防火設備）-1（2）-検査結果",null,"15検査結果(ドレンチャーその他の水幕を形成する防火設備）-1（2）-検査結果"]
[null,null,null,null,{"$f":"'5_入力シート【検査結果表】 ドレンチャー'!$BM$18","v":0},null,15,"検査結果(ドレンチャーその他の水幕を形成する防火設備）","-","1（2）","-","検査者番号",null,null,null,null,"15検査結果(ドレンチャーその他の水幕を形成する防火設備）-1（2）-検査者番号",null,"15検査結果(ドレンチャーその他の水幕を形成する防火設備）-1（2）-検査者番号"]
[null,null,null,null,{"$f":"'5_入力シート【検査結果表】 ドレンチャー'!$BO$18","v":0},null,15,"検査結果(ドレンチャーその他の水幕を形成する防火設備）","-","1（2）","-","指摘の具体的内容等",null,null,null,null,"15検査結果(ドレンチャーその他の水幕を形成する防火設備）-1（2）-指摘の具体的内容等",null,"15検査結果(ドレンチャーその他の水幕を形成する防火設備）-1（2）-指摘の具体的内容等"]
[null,null,null,null,{"$f":"'5_入力シート【検査結果表】 ドレンチャー'!$BY$18","v":0},null,15,"検査結果(ドレンチャーその他の水幕を形成する防火設備）","-","1（2）","-","改善策の具体的内容等",null,null,null,null,"15検査結果(ドレンチャーその他の水幕を形成する防火設備）-1（2）-改善策の具体的内容等",null,"15検査結果(ドレンチャーその他の水幕を形成する防火設備）-1（2）-改善策の具体的内容等"]
[null,null,null,null,{"$f":"'5_入力シート【検査結果表】 ドレンチャー'!$CN$18","v":0},null,15,"検査結果(ドレンチャーその他の水幕を形成する防火設備）","-","1（2）","-","改善（予定）年月","-","年（令和）",null,null,"15検査結果(ドレンチャーその他の水幕を形成する防火設備）-1（2）-改善（予定）年月-年（令和）",null,"15検査結果(ドレンチャーその他の水幕を形成する防火設備）-1（2）-改善（予定）年月-年（令和）"]
[null,null,null,null,{"$f":"'5_入力シート【検査結果表】 ドレンチャー'!$CQ$18","v":0},null,15,"検査結果(ドレンチャーその他の水幕を形成する防火設備）","-","1（2）","-","改善（予定）年月","-","月",null,null,"15検査結果(ドレンチャーその他の水幕を形成する防火設備）-1（2）-改善（予定）年月-月",null,"15検査結果(ドレンチャーその他の水幕を形成する防火設備）-1（2）-改善（予定）年月-月"]
[null,null,null,null,{"$f":"'5_入力シート【検査結果表】 ドレンチャー'!$CT$18","v":0},null,15,"検査結果(ドレンチャーその他の水幕を形成する防火設備）","-","1（2）","-","改善（予定）年月","-","状況",null,null,"15検査結果(ドレンチャーその他の水幕を形成する防火設備）-1（2）-改善（予定）年月-状況",null,"15検査結果(ドレンチャーその他の水幕を形成する防火設備）-1（2）-改善（予定）年月-状況"]
[null,null,null,null,{"$f":"'5_入力シート【検査結果表】 ドレンチャー'!$BA$19","v":0},null,15,"検査結果(ドレンチャーその他の水幕を形成する防火設備）","-","1（3）","-","検査結果",null,null,null,null,"15検査結果(ドレンチャーその他の水幕を形成する防火設備）-1（3）-検査結果",null,"15検査結果(ドレンチャーその他の水幕を形成する防火設備）-1（3）-検査結果"]
[null,null,null,null,{"$f":"'5_入力シート【検査結果表】 ドレンチャー'!$BM$19","v":0},null,15,"検査結果(ドレンチャーその他の水幕を形成する防火設備）","-","1（3）","-","検査者番号",null,null,null,null,"15検査結果(ドレンチャーその他の水幕を形成する防火設備）-1（3）-検査者番号",null,"15検査結果(ドレンチャーその他の水幕を形成する防火設備）-1（3）-検査者番号"]
[null,null,null,null,{"$f":"'5_入力シート【検査結果表】 ドレンチャー'!$BO$19","v":0},null,15,"検査結果(ドレンチャーその他の水幕を形成する防火設備）","-","1（3）","-","指摘の具体的内容等",null,null,null,null,"15検査結果(ドレンチャーその他の水幕を形成する防火設備）-1（3）-指摘の具体的内容等",null,"15検査結果(ドレンチャーその他の水幕を形成する防火設備）-1（3）-指摘の具体的内容等"]
[null,null,null,null,{"$f":"'5_入力シート【検査結果表】 ドレンチャー'!$BY$19","v":0},null,15,"検査結果(ドレンチャーその他の水幕を形成する防火設備）","-","1（3）","-","改善策の具体的内容等",null,null,null,null,"15検査結果(ドレンチャーその他の水幕を形成する防火設備）-1（3）-改善策の具体的内容等",null,"15検査結果(ドレンチャーその他の水幕を形成する防火設備）-1（3）-改善策の具体的内容等"]
[null,null,null,null,{"$f":"'5_入力シート【検査結果表】 ドレンチャー'!$CN$19","v":0},null,15,"検査結果(ドレンチャーその他の水幕を形成する防火設備）","-","1（3）","-","改善（予定）年月","-","年（令和）",null,null,"15検査結果(ドレンチャーその他の水幕を形成する防火設備）-1（3）-改善（予定）年月-年（令和）",null,"15検査結果(ドレンチャーその他の水幕を形成する防火設備）-1（3）-改善（予定）年月-年（令和）"]
[null,null,null,null,{"$f":"'5_入力シート【検査結果表】 ドレンチャー'!$CQ$19","v":0},null,15,"検査結果(ドレンチャーその他の水幕を形成する防火設備）","-","1（3）","-","改善（予定）年月","-","月",null,null,"15検査結果(ドレンチャーその他の水幕を形成する防火設備）-1（3）-改善（予定）年月-月",null,"15検査結果(ドレンチャーその他の水幕を形成する防火設備）-1（3）-改善（予定）年月-月"]
[null,null,null,null,{"$f":"'5_入力シート【検査結果表】 ドレンチャー'!$CT$19","v":0},null,15,"検査結果(ドレンチャーその他の水幕を形成する防火設備）","-","1（3）","-","改善（予定）年月","-","状況",null,null,"15検査結果(ドレンチャーその他の水幕を形成する防火設備）-1（3）-改善（予定）年月-状況",null,"15検査結果(ドレンチャーその他の水幕を形成する防火設備）-1（3）-改善（予定）年月-状況"]
[null,null,null,null,{"$f":"'5_入力シート【検査結果表】 ドレンチャー'!$BA$20","v":0},null,15,"検査結果(ドレンチャーその他の水幕を形成する防火設備）","-","1（4）","-","検査結果",null,null,null,null,"15検査結果(ドレンチャーその他の水幕を形成する防火設備）-1（4）-検査結果",null,"15検査結果(ドレンチャーその他の水幕を形成する防火設備）-1（4）-検査結果"]
[null,null,null,null,{"$f":"'5_入力シート【検査結果表】 ドレンチャー'!$BM$20","v":0},null,15,"検査結果(ドレンチャーその他の水幕を形成する防火設備）","-","1（4）","-","検査者番号",null,null,null,null,"15検査結果(ドレンチャーその他の水幕を形成する防火設備）-1（4）-検査者番号",null,"15検査結果(ドレンチャーその他の水幕を形成する防火設備）-1（4）-検査者番号"]
[null,null,null,null,{"$f":"'5_入力シート【検査結果表】 ドレンチャー'!$BO$20","v":0},null,15,"検査結果(ドレンチャーその他の水幕を形成する防火設備）","-","1（4）","-","指摘の具体的内容等",null,null,null,null,"15検査結果(ドレンチャーその他の水幕を形成する防火設備）-1（4）-指摘の具体的内容等",null,"15検査結果(ドレンチャーその他の水幕を形成する防火設備）-1（4）-指摘の具体的内容等"]
[null,null,null,null,{"$f":"'5_入力シート【検査結果表】 ドレンチャー'!$BY$20","v":0},null,15,"検査結果(ドレンチャーその他の水幕を形成する防火設備）","-","1（4）","-","改善策の具体的内容等",null,null,null,null,"15検査結果(ドレンチャーその他の水幕を形成する防火設備）-1（4）-改善策の具体的内容等",null,"15検査結果(ドレンチャーその他の水幕を形成する防火設備）-1（4）-改善策の具体的内容等"]
[null,null,null,null,{"$f":"'5_入力シート【検査結果表】 ドレンチャー'!$CN$20","v":0},null,15,"検査結果(ドレンチャーその他の水幕を形成する防火設備）","-","1（4）","-","改善（予定）年月","-","年（令和）",null,null,"15検査結果(ドレンチャーその他の水幕を形成する防火設備）-1（4）-改善（予定）年月-年（令和）",null,"15検査結果(ドレンチャーその他の水幕を形成する防火設備）-1（4）-改善（予定）年月-年（令和）"]
[null,null,null,null,{"$f":"'5_入力シート【検査結果表】 ドレンチャー'!$CQ$20","v":0},null,15,"検査結果(ドレンチャーその他の水幕を形成する防火設備）","-","1（4）","-","改善（予定）年月","-","月",null,null,"15検査結果(ドレンチャーその他の水幕を形成する防火設備）-1（4）-改善（予定）年月-月",null,"15検査結果(ドレンチャーその他の水幕を形成する防火設備）-1（4）-改善（予定）年月-月"]
[null,null,null,null,{"$f":"'5_入力シート【検査結果表】 ドレンチャー'!$CT$20","v":0},null,15,"検査結果(ドレンチャーその他の水幕を形成する防火設備）","-","1（4）","-","改善（予定）年月","-","状況",null,null,{"$f":"CONCATENATE(G1300,H1300,I1300,J1300,K1300,L1300,M1300,N1300,O1300,P1300)","v":"15検査結果(ドレンチャーその他の水幕を形成する防火設備）-1（4）-改善（予定）年月-状況"},null,"15検査結果(ドレンチャーその他の水幕を形成する防火設備）-1（4）-改善（予定）年月-状況"]
[null,null,null,null,{"$f":"'5_入力シート【検査結果表】 ドレンチャー'!$BA$21","v":0},null,15,"検査結果(ドレンチャーその他の水幕を形成する防火設備）","-","1（5）","-","検査結果",null,null,null,null,"15検査結果(ドレンチャーその他の水幕を形成する防火設備）-1（5）-検査結果",null,"15検査結果(ドレンチャーその他の水幕を形成する防火設備）-1（5）-検査結果"]
[null,null,null,null,{"$f":"'5_入力シート【検査結果表】 ドレンチャー'!$BM$21","v":0},null,15,"検査結果(ドレンチャーその他の水幕を形成する防火設備）","-","1（5）","-","検査者番号",null,null,null,null,"15検査結果(ドレンチャーその他の水幕を形成する防火設備）-1（5）-検査者番号",null,"15検査結果(ドレンチャーその他の水幕を形成する防火設備）-1（5）-検査者番号"]
[null,null,null,null,{"$f":"'5_入力シート【検査結果表】 ドレンチャー'!$BO$21","v":0},null,15,"検査結果(ドレンチャーその他の水幕を形成する防火設備）","-","1（5）","-","指摘の具体的内容等",null,null,null,null,"15検査結果(ドレンチャーその他の水幕を形成する防火設備）-1（5）-指摘の具体的内容等",null,"15検査結果(ドレンチャーその他の水幕を形成する防火設備）-1（5）-指摘の具体的内容等"]
[null,null,null,null,{"$f":"'5_入力シート【検査結果表】 ドレンチャー'!$BY$21","v":0},null,15,"検査結果(ドレンチャーその他の水幕を形成する防火設備）","-","1（5）","-","改善策の具体的内容等",null,null,null,null,"15検査結果(ドレンチャーその他の水幕を形成する防火設備）-1（5）-改善策の具体的内容等",null,"15検査結果(ドレンチャーその他の水幕を形成する防火設備）-1（5）-改善策の具体的内容等"]
[null,null,null,null,{"$f":"'5_入力シート【検査結果表】 ドレンチャー'!$CN$21","v":0},null,15,"検査結果(ドレンチャーその他の水幕を形成する防火設備）","-","1（5）","-","改善（予定）年月","-","年（令和）",null,null,"15検査結果(ドレンチャーその他の水幕を形成する防火設備）-1（5）-改善（予定）年月-年（令和）",null,"15検査結果(ドレンチャーその他の水幕を形成する防火設備）-1（5）-改善（予定）年月-年（令和）"]
[null,null,null,null,{"$f":"'5_入力シート【検査結果表】 ドレンチャー'!$CQ$21","v":0},null,15,"検査結果(ドレンチャーその他の水幕を形成する防火設備）","-","1（5）","-","改善（予定）年月","-","月",null,null,"15検査結果(ドレンチャーその他の水幕を形成する防火設備）-1（5）-改善（予定）年月-月",null,"15検査結果(ドレンチャーその他の水幕を形成する防火設備）-1（5）-改善（予定）年月-月"]
[null,null,null,null,{"$f":"'5_入力シート【検査結果表】 ドレンチャー'!$CT$21","v":0},null,15,"検査結果(ドレンチャーその他の水幕を形成する防火設備）","-","1（5）","-","改善（予定）年月","-","状況",null,null,"15検査結果(ドレンチャーその他の水幕を形成する防火設備）-1（5）-改善（予定）年月-状況",null,"15検査結果(ドレンチャーその他の水幕を形成する防火設備）-1（5）-改善（予定）年月-状況"]
[null,null,null,null,{"$f":"'5_入力シート【検査結果表】 ドレンチャー'!$BA$22","v":0},null,15,"検査結果(ドレンチャーその他の水幕を形成する防火設備）","-","1（6）","-","検査結果",null,null,null,null,"15検査結果(ドレンチャーその他の水幕を形成する防火設備）-1（6）-検査結果",null,"15検査結果(ドレンチャーその他の水幕を形成する防火設備）-1（6）-検査結果"]
[null,null,null,null,{"$f":"'5_入力シート【検査結果表】 ドレンチャー'!$BM$22","v":0},null,15,"検査結果(ドレンチャーその他の水幕を形成する防火設備）","-","1（6）","-","検査者番号",null,null,null,null,"15検査結果(ドレンチャーその他の水幕を形成する防火設備）-1（6）-検査者番号",null,"15検査結果(ドレンチャーその他の水幕を形成する防火設備）-1（6）-検査者番号"]
[null,null,null,null,{"$f":"'5_入力シート【検査結果表】 ドレンチャー'!$BO$22","v":0},null,15,"検査結果(ドレンチャーその他の水幕を形成する防火設備）","-","1（6）","-","指摘の具体的内容等",null,null,null,null,"15検査結果(ドレンチャーその他の水幕を形成する防火設備）-1（6）-指摘の具体的内容等",null,"15検査結果(ドレンチャーその他の水幕を形成する防火設備）-1（6）-指摘の具体的内容等"]
[null,null,null,null,{"$f":"'5_入力シート【検査結果表】 ドレンチャー'!$BY$22","v":0},null,15,"検査結果(ドレンチャーその他の水幕を形成する防火設備）","-","1（6）","-","改善策の具体的内容等",null,null,null,null,"15検査結果(ドレンチャーその他の水幕を形成する防火設備）-1（6）-改善策の具体的内容等",null,"15検査結果(ドレンチャーその他の水幕を形成する防火設備）-1（6）-改善策の具体的内容等"]
[null,null,null,null,{"$f":"'5_入力シート【検査結果表】 ドレンチャー'!$CN$22","v":0},null,15,"検査結果(ドレンチャーその他の水幕を形成する防火設備）","-","1（6）","-","改善（予定）年月","-","年（令和）",null,null,"15検査結果(ドレンチャーその他の水幕を形成する防火設備）-1（6）-改善（予定）年月-年（令和）",null,"15検査結果(ドレンチャーその他の水幕を形成する防火設備）-1（6）-改善（予定）年月-年（令和）"]
[null,null,null,null,{"$f":"'5_入力シート【検査結果表】 ドレンチャー'!$CQ$22","v":0},null,15,"検査結果(ドレンチャーその他の水幕を形成する防火設備）","-","1（6）","-","改善（予定）年月","-","月",null,null,"15検査結果(ドレンチャーその他の水幕を形成する防火設備）-1（6）-改善（予定）年月-月",null,"15検査結果(ドレンチャーその他の水幕を形成する防火設備）-1（6）-改善（予定）年月-月"]
[null,null,null,null,{"$f":"'5_入力シート【検査結果表】 ドレンチャー'!$CT$22","v":0},null,15,"検査結果(ドレンチャーその他の水幕を形成する防火設備）","-","1（6）","-","改善（予定）年月","-","状況",null,null,"15検査結果(ドレンチャーその他の水幕を形成する防火設備）-1（6）-改善（予定）年月-状況",null,"15検査結果(ドレンチャーその他の水幕を形成する防火設備）-1（6）-改善（予定）年月-状況"]
[null,null,null,null,{"$f":"'5_入力シート【検査結果表】 ドレンチャー'!$BA$23","v":0},null,15,"検査結果(ドレンチャーその他の水幕を形成する防火設備）","-","1（7）","-","検査結果",null,null,null,null,"15検査結果(ドレンチャーその他の水幕を形成する防火設備）-1（7）-検査結果",null,"15検査結果(ドレンチャーその他の水幕を形成する防火設備）-1（7）-検査結果"]
[null,null,null,null,{"$f":"'5_入力シート【検査結果表】 ドレンチャー'!$BM$23","v":0},null,15,"検査結果(ドレンチャーその他の水幕を形成する防火設備）","-","1（7）","-","検査者番号",null,null,null,null,"15検査結果(ドレンチャーその他の水幕を形成する防火設備）-1（7）-検査者番号",null,"15検査結果(ドレンチャーその他の水幕を形成する防火設備）-1（7）-検査者番号"]
[null,null,null,null,{"$f":"'5_入力シート【検査結果表】 ドレンチャー'!$BO$23","v":0},null,15,"検査結果(ドレンチャーその他の水幕を形成する防火設備）","-","1（7）","-","指摘の具体的内容等",null,null,null,null,"15検査結果(ドレンチャーその他の水幕を形成する防火設備）-1（7）-指摘の具体的内容等",null,"15検査結果(ドレンチャーその他の水幕を形成する防火設備）-1（7）-指摘の具体的内容等"]
[null,null,null,null,{"$f":"'5_入力シート【検査結果表】 ドレンチャー'!$BY$23","v":0},null,15,"検査結果(ドレンチャーその他の水幕を形成する防火設備）","-","1（7）","-","改善策の具体的内容等",null,null,null,null,"15検査結果(ドレンチャーその他の水幕を形成する防火設備）-1（7）-改善策の具体的内容等",null,"15検査結果(ドレンチャーその他の水幕を形成する防火設備）-1（7）-改善策の具体的内容等"]
[null,null,null,null,{"$f":"'5_入力シート【検査結果表】 ドレンチャー'!$CN$23","v":0},null,15,"検査結果(ドレンチャーその他の水幕を形成する防火設備）","-","1（7）","-","改善（予定）年月","-","年（令和）",null,null,"15検査結果(ドレンチャーその他の水幕を形成する防火設備）-1（7）-改善（予定）年月-年（令和）",null,"15検査結果(ドレンチャーその他の水幕を形成する防火設備）-1（7）-改善（予定）年月-年（令和）"]
[null,null,null,null,{"$f":"'5_入力シート【検査結果表】 ドレンチャー'!$CQ$23","v":0},null,15,"検査結果(ドレンチャーその他の水幕を形成する防火設備）","-","1（7）","-","改善（予定）年月","-","月",null,null,"15検査結果(ドレンチャーその他の水幕を形成する防火設備）-1（7）-改善（予定）年月-月",null,"15検査結果(ドレンチャーその他の水幕を形成する防火設備）-1（7）-改善（予定）年月-月"]
[null,null,null,null,{"$f":"'5_入力シート【検査結果表】 ドレンチャー'!$CT$23","v":0},null,15,"検査結果(ドレンチャーその他の水幕を形成する防火設備）","-","1（7）","-","改善（予定）年月","-","状況",null,null,"15検査結果(ドレンチャーその他の水幕を形成する防火設備）-1（7）-改善（予定）年月-状況",null,"15検査結果(ドレンチャーその他の水幕を形成する防火設備）-1（7）-改善（予定）年月-状況"]
[null,null,null,null,{"$f":"'5_入力シート【検査結果表】 ドレンチャー'!$BA$24","v":0},null,15,"検査結果(ドレンチャーその他の水幕を形成する防火設備）","-","1（8）","-","検査結果",null,null,null,null,"15検査結果(ドレンチャーその他の水幕を形成する防火設備）-1（8）-検査結果",null,"15検査結果(ドレンチャーその他の水幕を形成する防火設備）-1（8）-検査結果"]
[null,null,null,null,{"$f":"'5_入力シート【検査結果表】 ドレンチャー'!$BM$24","v":0},null,15,"検査結果(ドレンチャーその他の水幕を形成する防火設備）","-","1（8）","-","検査者番号",null,null,null,null,"15検査結果(ドレンチャーその他の水幕を形成する防火設備）-1（8）-検査者番号",null,"15検査結果(ドレンチャーその他の水幕を形成する防火設備）-1（8）-検査者番号"]
[null,null,null,null,{"$f":"'5_入力シート【検査結果表】 ドレンチャー'!$BO$24","v":0},null,15,"検査結果(ドレンチャーその他の水幕を形成する防火設備）","-","1（8）","-","指摘の具体的内容等",null,null,null,null,"15検査結果(ドレンチャーその他の水幕を形成する防火設備）-1（8）-指摘の具体的内容等",null,"15検査結果(ドレンチャーその他の水幕を形成する防火設備）-1（8）-指摘の具体的内容等"]
[null,null,null,null,{"$f":"'5_入力シート【検査結果表】 ドレンチャー'!$BY$24","v":0},null,15,"検査結果(ドレンチャーその他の水幕を形成する防火設備）","-","1（8）","-","改善策の具体的内容等",null,null,null,null,"15検査結果(ドレンチャーその他の水幕を形成する防火設備）-1（8）-改善策の具体的内容等",null,"15検査結果(ドレンチャーその他の水幕を形成する防火設備）-1（8）-改善策の具体的内容等"]
[null,null,null,null,{"$f":"'5_入力シート【検査結果表】 ドレンチャー'!$CN$24","v":0},null,15,"検査結果(ドレンチャーその他の水幕を形成する防火設備）","-","1（8）","-","改善（予定）年月","-","年（令和）",null,null,"15検査結果(ドレンチャーその他の水幕を形成する防火設備）-1（8）-改善（予定）年月-年（令和）",null,"15検査結果(ドレンチャーその他の水幕を形成する防火設備）-1（8）-改善（予定）年月-年（令和）"]
[null,null,null,null,{"$f":"'5_入力シート【検査結果表】 ドレンチャー'!$CQ$24","v":0},null,15,"検査結果(ドレンチャーその他の水幕を形成する防火設備）","-","1（8）","-","改善（予定）年月","-","月",null,null,"15検査結果(ドレンチャーその他の水幕を形成する防火設備）-1（8）-改善（予定）年月-月",null,"15検査結果(ドレンチャーその他の水幕を形成する防火設備）-1（8）-改善（予定）年月-月"]
[null,null,null,null,{"$f":"'5_入力シート【検査結果表】 ドレンチャー'!$CT$24","v":0},null,15,"検査結果(ドレンチャーその他の水幕を形成する防火設備）","-","1（8）","-","改善（予定）年月","-","状況",null,null,"15検査結果(ドレンチャーその他の水幕を形成する防火設備）-1（8）-改善（予定）年月-状況",null,"15検査結果(ドレンチャーその他の水幕を形成する防火設備）-1（8）-改善（予定）年月-状況"]
[null,null,null,null,{"$f":"'5_入力シート【検査結果表】 ドレンチャー'!$BA$25","v":0},null,15,"検査結果(ドレンチャーその他の水幕を形成する防火設備）","-","1（9）","-","検査結果",null,null,null,null,"15検査結果(ドレンチャーその他の水幕を形成する防火設備）-1（9）-検査結果",null,"15検査結果(ドレンチャーその他の水幕を形成する防火設備）-1（9）-検査結果"]
[null,null,null,null,{"$f":"'5_入力シート【検査結果表】 ドレンチャー'!$BM$25","v":0},null,15,"検査結果(ドレンチャーその他の水幕を形成する防火設備）","-","1（9）","-","検査者番号",null,null,null,null,"15検査結果(ドレンチャーその他の水幕を形成する防火設備）-1（9）-検査者番号",null,"15検査結果(ドレンチャーその他の水幕を形成する防火設備）-1（9）-検査者番号"]
[null,null,null,null,{"$f":"'5_入力シート【検査結果表】 ドレンチャー'!$BO$25","v":0},null,15,"検査結果(ドレンチャーその他の水幕を形成する防火設備）","-","1（9）","-","指摘の具体的内容等",null,null,null,null,"15検査結果(ドレンチャーその他の水幕を形成する防火設備）-1（9）-指摘の具体的内容等",null,"15検査結果(ドレンチャーその他の水幕を形成する防火設備）-1（9）-指摘の具体的内容等"]
[null,null,null,null,{"$f":"'5_入力シート【検査結果表】 ドレンチャー'!$BY$25","v":0},null,15,"検査結果(ドレンチャーその他の水幕を形成する防火設備）","-","1（9）","-","改善策の具体的内容等",null,null,null,null,"15検査結果(ドレンチャーその他の水幕を形成する防火設備）-1（9）-改善策の具体的内容等",null,"15検査結果(ドレンチャーその他の水幕を形成する防火設備）-1（9）-改善策の具体的内容等"]
[null,null,null,null,{"$f":"'5_入力シート【検査結果表】 ドレンチャー'!$CN$25","v":0},null,15,"検査結果(ドレンチャーその他の水幕を形成する防火設備）","-","1（9）","-","改善（予定）年月","-","年（令和）",null,null,"15検査結果(ドレンチャーその他の水幕を形成する防火設備）-1（9）-改善（予定）年月-年（令和）",null,"15検査結果(ドレンチャーその他の水幕を形成する防火設備）-1（9）-改善（予定）年月-年（令和）"]
[null,null,null,null,{"$f":"'5_入力シート【検査結果表】 ドレンチャー'!$CQ$25","v":0},null,15,"検査結果(ドレンチャーその他の水幕を形成する防火設備）","-","1（9）","-","改善（予定）年月","-","月",null,null,"15検査結果(ドレンチャーその他の水幕を形成する防火設備）-1（9）-改善（予定）年月-月",null,"15検査結果(ドレンチャーその他の水幕を形成する防火設備）-1（9）-改善（予定）年月-月"]
[null,null,null,null,{"$f":"'5_入力シート【検査結果表】 ドレンチャー'!$CT$25","v":0},null,15,"検査結果(ドレンチャーその他の水幕を形成する防火設備）","-","1（9）","-","改善（予定）年月","-","状況",null,null,"15検査結果(ドレンチャーその他の水幕を形成する防火設備）-1（9）-改善（予定）年月-状況",null,"15検査結果(ドレンチャーその他の水幕を形成する防火設備）-1（9）-改善（予定）年月-状況"]
[null,null,null,null,{"$f":"'5_入力シート【検査結果表】 ドレンチャー'!$BA$26","v":0},null,15,"検査結果(ドレンチャーその他の水幕を形成する防火設備）","-","1（10）","-","検査結果",null,null,null,null,"15検査結果(ドレンチャーその他の水幕を形成する防火設備）-1（10）-検査結果",null,"15検査結果(ドレンチャーその他の水幕を形成する防火設備）-1（10）-検査結果"]
[null,null,null,null,{"$f":"'5_入力シート【検査結果表】 ドレンチャー'!$BM$26","v":0},null,15,"検査結果(ドレンチャーその他の水幕を形成する防火設備）","-","1（10）","-","検査者番号",null,null,null,null,"15検査結果(ドレンチャーその他の水幕を形成する防火設備）-1（10）-検査者番号",null,"15検査結果(ドレンチャーその他の水幕を形成する防火設備）-1（10）-検査者番号"]
[null,null,null,null,{"$f":"'5_入力シート【検査結果表】 ドレンチャー'!$BO$26","v":0},null,15,"検査結果(ドレンチャーその他の水幕を形成する防火設備）","-","1（10）","-","指摘の具体的内容等",null,null,null,null,"15検査結果(ドレンチャーその他の水幕を形成する防火設備）-1（10）-指摘の具体的内容等",null,"15検査結果(ドレンチャーその他の水幕を形成する防火設備）-1（10）-指摘の具体的内容等"]
[null,null,null,null,{"$f":"'5_入力シート【検査結果表】 ドレンチャー'!$BY$26","v":0},null,15,"検査結果(ドレンチャーその他の水幕を形成する防火設備）","-","1（10）","-","改善策の具体的内容等",null,null,null,null,"15検査結果(ドレンチャーその他の水幕を形成する防火設備）-1（10）-改善策の具体的内容等",null,"15検査結果(ドレンチャーその他の水幕を形成する防火設備）-1（10）-改善策の具体的内容等"]
[null,null,null,null,{"$f":"'5_入力シート【検査結果表】 ドレンチャー'!$CN$26","v":0},null,15,"検査結果(ドレンチャーその他の水幕を形成する防火設備）","-","1（10）","-","改善（予定）年月","-","年（令和）",null,null,"15検査結果(ドレンチャーその他の水幕を形成する防火設備）-1（10）-改善（予定）年月-年（令和）",null,"15検査結果(ドレンチャーその他の水幕を形成する防火設備）-1（10）-改善（予定）年月-年（令和）"]
[null,null,null,null,{"$f":"'5_入力シート【検査結果表】 ドレンチャー'!$CQ$26","v":0},null,15,"検査結果(ドレンチャーその他の水幕を形成する防火設備）","-","1（10）","-","改善（予定）年月","-","月",null,null,"15検査結果(ドレンチャーその他の水幕を形成する防火設備）-1（10）-改善（予定）年月-月",null,"15検査結果(ドレンチャーその他の水幕を形成する防火設備）-1（10）-改善（予定）年月-月"]
[null,null,null,null,{"$f":"'5_入力シート【検査結果表】 ドレンチャー'!$CT$26","v":0},null,15,"検査結果(ドレンチャーその他の水幕を形成する防火設備）","-","1（10）","-","改善（予定）年月","-","状況",null,null,"15検査結果(ドレンチャーその他の水幕を形成する防火設備）-1（10）-改善（予定）年月-状況",null,"15検査結果(ドレンチャーその他の水幕を形成する防火設備）-1（10）-改善（予定）年月-状況"]
[null,null,null,null,{"$f":"'5_入力シート【検査結果表】 ドレンチャー'!$BA$27","v":0},null,15,"検査結果(ドレンチャーその他の水幕を形成する防火設備）","-","1（11）","-","検査結果",null,null,null,null,"15検査結果(ドレンチャーその他の水幕を形成する防火設備）-1（11）-検査結果",null,"15検査結果(ドレンチャーその他の水幕を形成する防火設備）-1（11）-検査結果"]
[null,null,null,null,{"$f":"'5_入力シート【検査結果表】 ドレンチャー'!$BM$27","v":0},null,15,"検査結果(ドレンチャーその他の水幕を形成する防火設備）","-","1（11）","-","検査者番号",null,null,null,null,"15検査結果(ドレンチャーその他の水幕を形成する防火設備）-1（11）-検査者番号",null,"15検査結果(ドレンチャーその他の水幕を形成する防火設備）-1（11）-検査者番号"]
[null,null,null,null,{"$f":"'5_入力シート【検査結果表】 ドレンチャー'!$BO$27","v":0},null,15,"検査結果(ドレンチャーその他の水幕を形成する防火設備）","-","1（11）","-","指摘の具体的内容等",null,null,null,null,"15検査結果(ドレンチャーその他の水幕を形成する防火設備）-1（11）-指摘の具体的内容等",null,"15検査結果(ドレンチャーその他の水幕を形成する防火設備）-1（11）-指摘の具体的内容等"]
[null,null,null,null,{"$f":"'5_入力シート【検査結果表】 ドレンチャー'!$BY$27","v":0},null,15,"検査結果(ドレンチャーその他の水幕を形成する防火設備）","-","1（11）","-","改善策の具体的内容等",null,null,null,null,"15検査結果(ドレンチャーその他の水幕を形成する防火設備）-1（11）-改善策の具体的内容等",null,"15検査結果(ドレンチャーその他の水幕を形成する防火設備）-1（11）-改善策の具体的内容等"]
[null,null,null,null,{"$f":"'5_入力シート【検査結果表】 ドレンチャー'!$CN$27","v":0},null,15,"検査結果(ドレンチャーその他の水幕を形成する防火設備）","-","1（11）","-","改善（予定）年月","-","年（令和）",null,null,"15検査結果(ドレンチャーその他の水幕を形成する防火設備）-1（11）-改善（予定）年月-年（令和）",null,"15検査結果(ドレンチャーその他の水幕を形成する防火設備）-1（11）-改善（予定）年月-年（令和）"]
[null,null,null,null,{"$f":"'5_入力シート【検査結果表】 ドレンチャー'!$CQ$27","v":0},null,15,"検査結果(ドレンチャーその他の水幕を形成する防火設備）","-","1（11）","-","改善（予定）年月","-","月",null,null,"15検査結果(ドレンチャーその他の水幕を形成する防火設備）-1（11）-改善（予定）年月-月",null,"15検査結果(ドレンチャーその他の水幕を形成する防火設備）-1（11）-改善（予定）年月-月"]
[null,null,null,null,{"$f":"'5_入力シート【検査結果表】 ドレンチャー'!$CT$27","v":0},null,15,"検査結果(ドレンチャーその他の水幕を形成する防火設備）","-","1（11）","-","改善（予定）年月","-","状況",null,null,"15検査結果(ドレンチャーその他の水幕を形成する防火設備）-1（11）-改善（予定）年月-状況",null,"15検査結果(ドレンチャーその他の水幕を形成する防火設備）-1（11）-改善（予定）年月-状況"]
[null,null,null,null,{"$f":"'5_入力シート【検査結果表】 ドレンチャー'!$BA$28","v":0},null,15,"検査結果(ドレンチャーその他の水幕を形成する防火設備）","-","1（12）","-","検査結果",null,null,null,null,"15検査結果(ドレンチャーその他の水幕を形成する防火設備）-1（12）-検査結果",null,"15検査結果(ドレンチャーその他の水幕を形成する防火設備）-1（12）-検査結果"]
[null,null,null,null,{"$f":"'5_入力シート【検査結果表】 ドレンチャー'!$BM$28","v":0},null,15,"検査結果(ドレンチャーその他の水幕を形成する防火設備）","-","1（12）","-","検査者番号",null,null,null,null,"15検査結果(ドレンチャーその他の水幕を形成する防火設備）-1（12）-検査者番号",null,"15検査結果(ドレンチャーその他の水幕を形成する防火設備）-1（12）-検査者番号"]
[null,null,null,null,{"$f":"'5_入力シート【検査結果表】 ドレンチャー'!$BO$28","v":0},null,15,"検査結果(ドレンチャーその他の水幕を形成する防火設備）","-","1（12）","-","指摘の具体的内容等",null,null,null,null,"15検査結果(ドレンチャーその他の水幕を形成する防火設備）-1（12）-指摘の具体的内容等",null,"15検査結果(ドレンチャーその他の水幕を形成する防火設備）-1（12）-指摘の具体的内容等"]
[null,null,null,null,{"$f":"'5_入力シート【検査結果表】 ドレンチャー'!$BY$28","v":0},null,15,"検査結果(ドレンチャーその他の水幕を形成する防火設備）","-","1（12）","-","改善策の具体的内容等",null,null,null,null,"15検査結果(ドレンチャーその他の水幕を形成する防火設備）-1（12）-改善策の具体的内容等",null,"15検査結果(ドレンチャーその他の水幕を形成する防火設備）-1（12）-改善策の具体的内容等"]
[null,null,null,null,{"$f":"'5_入力シート【検査結果表】 ドレンチャー'!$CN$28","v":0},null,15,"検査結果(ドレンチャーその他の水幕を形成する防火設備）","-","1（12）","-","改善（予定）年月","-","年（令和）",null,null,"15検査結果(ドレンチャーその他の水幕を形成する防火設備）-1（12）-改善（予定）年月-年（令和）",null,"15検査結果(ドレンチャーその他の水幕を形成する防火設備）-1（12）-改善（予定）年月-年（令和）"]
[null,null,null,null,{"$f":"'5_入力シート【検査結果表】 ドレンチャー'!$CQ$28","v":0},null,15,"検査結果(ドレンチャーその他の水幕を形成する防火設備）","-","1（12）","-","改善（予定）年月","-","月",null,null,"15検査結果(ドレンチャーその他の水幕を形成する防火設備）-1（12）-改善（予定）年月-月",null,"15検査結果(ドレンチャーその他の水幕を形成する防火設備）-1（12）-改善（予定）年月-月"]
[null,null,null,null,{"$f":"'5_入力シート【検査結果表】 ドレンチャー'!$CT$28","v":0},null,15,"検査結果(ドレンチャーその他の水幕を形成する防火設備）","-","1（12）","-","改善（予定）年月","-","状況",null,null,"15検査結果(ドレンチャーその他の水幕を形成する防火設備）-1（12）-改善（予定）年月-状況",null,"15検査結果(ドレンチャーその他の水幕を形成する防火設備）-1（12）-改善（予定）年月-状況"]
[null,null,null,null,{"$f":"'5_入力シート【検査結果表】 ドレンチャー'!$BA$29","v":0},null,15,"検査結果(ドレンチャーその他の水幕を形成する防火設備）","-","1（13）","-","検査結果",null,null,null,null,"15検査結果(ドレンチャーその他の水幕を形成する防火設備）-1（13）-検査結果",null,"15検査結果(ドレンチャーその他の水幕を形成する防火設備）-1（13）-検査結果"]
[null,null,null,null,{"$f":"'5_入力シート【検査結果表】 ドレンチャー'!$BM$29","v":0},null,15,"検査結果(ドレンチャーその他の水幕を形成する防火設備）","-","1（13）","-","検査者番号",null,null,null,null,"15検査結果(ドレンチャーその他の水幕を形成する防火設備）-1（13）-検査者番号",null,"15検査結果(ドレンチャーその他の水幕を形成する防火設備）-1（13）-検査者番号"]
[null,null,null,null,{"$f":"'5_入力シート【検査結果表】 ドレンチャー'!$BO$29","v":0},null,15,"検査結果(ドレンチャーその他の水幕を形成する防火設備）","-","1（13）","-","指摘の具体的内容等",null,null,null,null,"15検査結果(ドレンチャーその他の水幕を形成する防火設備）-1（13）-指摘の具体的内容等",null,"15検査結果(ドレンチャーその他の水幕を形成する防火設備）-1（13）-指摘の具体的内容等"]
[null,null,null,null,{"$f":"'5_入力シート【検査結果表】 ドレンチャー'!$BY$29","v":0},null,15,"検査結果(ドレンチャーその他の水幕を形成する防火設備）","-","1（13）","-","改善策の具体的内容等",null,null,null,null,"15検査結果(ドレンチャーその他の水幕を形成する防火設備）-1（13）-改善策の具体的内容等",null,"15検査結果(ドレンチャーその他の水幕を形成する防火設備）-1（13）-改善策の具体的内容等"]
[null,null,null,null,{"$f":"'5_入力シート【検査結果表】 ドレンチャー'!$CN$29","v":0},null,15,"検査結果(ドレンチャーその他の水幕を形成する防火設備）","-","1（13）","-","改善（予定）年月","-","年（令和）",null,null,"15検査結果(ドレンチャーその他の水幕を形成する防火設備）-1（13）-改善（予定）年月-年（令和）",null,"15検査結果(ドレンチャーその他の水幕を形成する防火設備）-1（13）-改善（予定）年月-年（令和）"]
[null,null,null,null,{"$f":"'5_入力シート【検査結果表】 ドレンチャー'!$CQ$29","v":0},null,15,"検査結果(ドレンチャーその他の水幕を形成する防火設備）","-","1（13）","-","改善（予定）年月","-","月",null,null,"15検査結果(ドレンチャーその他の水幕を形成する防火設備）-1（13）-改善（予定）年月-月",null,"15検査結果(ドレンチャーその他の水幕を形成する防火設備）-1（13）-改善（予定）年月-月"]
[null,null,null,null,{"$f":"'5_入力シート【検査結果表】 ドレンチャー'!$CT$29","v":0},null,15,"検査結果(ドレンチャーその他の水幕を形成する防火設備）","-","1（13）","-","改善（予定）年月","-","状況",null,null,"15検査結果(ドレンチャーその他の水幕を形成する防火設備）-1（13）-改善（予定）年月-状況",null,"15検査結果(ドレンチャーその他の水幕を形成する防火設備）-1（13）-改善（予定）年月-状況"]
[null,null,null,null,{"$f":"'5_入力シート【検査結果表】 ドレンチャー'!$BA$30","v":0},null,15,"検査結果(ドレンチャーその他の水幕を形成する防火設備）","-","1（14）","-","検査結果",null,null,null,null,{"$f":"CONCATENATE(G1364,H1364,I1364,J1364,K1364,L1364,M1364,N1364,O1364,P1364)","v":"15検査結果(ドレンチャーその他の水幕を形成する防火設備）-1（14）-検査結果"},null,"15検査結果(ドレンチャーその他の水幕を形成する防火設備）-1（14）-検査結果"]
[null,null,null,null,{"$f":"'5_入力シート【検査結果表】 ドレンチャー'!$BM$30","v":0},null,15,"検査結果(ドレンチャーその他の水幕を形成する防火設備）","-","1（14）","-","検査者番号",null,null,null,null,"15検査結果(ドレンチャーその他の水幕を形成する防火設備）-1（14）-検査者番号",null,"15検査結果(ドレンチャーその他の水幕を形成する防火設備）-1（14）-検査者番号"]
[null,null,null,null,{"$f":"'5_入力シート【検査結果表】 ドレンチャー'!$BO$30","v":0},null,15,"検査結果(ドレンチャーその他の水幕を形成する防火設備）","-","1（14）","-","指摘の具体的内容等",null,null,null,null,"15検査結果(ドレンチャーその他の水幕を形成する防火設備）-1（14）-指摘の具体的内容等",null,"15検査結果(ドレンチャーその他の水幕を形成する防火設備）-1（14）-指摘の具体的内容等"]
[null,null,null,null,{"$f":"'5_入力シート【検査結果表】 ドレンチャー'!$BY$30","v":0},null,15,"検査結果(ドレンチャーその他の水幕を形成する防火設備）","-","1（14）","-","改善策の具体的内容等",null,null,null,null,"15検査結果(ドレンチャーその他の水幕を形成する防火設備）-1（14）-改善策の具体的内容等",null,"15検査結果(ドレンチャーその他の水幕を形成する防火設備）-1（14）-改善策の具体的内容等"]
[null,null,null,null,{"$f":"'5_入力シート【検査結果表】 ドレンチャー'!$CN$30","v":0},null,15,"検査結果(ドレンチャーその他の水幕を形成する防火設備）","-","1（14）","-","改善（予定）年月","-","年（令和）",null,null,"15検査結果(ドレンチャーその他の水幕を形成する防火設備）-1（14）-改善（予定）年月-年（令和）",null,"15検査結果(ドレンチャーその他の水幕を形成する防火設備）-1（14）-改善（予定）年月-年（令和）"]
[null,null,null,null,{"$f":"'5_入力シート【検査結果表】 ドレンチャー'!$CQ$30","v":0},null,15,"検査結果(ドレンチャーその他の水幕を形成する防火設備）","-","1（14）","-","改善（予定）年月","-","月",null,null,"15検査結果(ドレンチャーその他の水幕を形成する防火設備）-1（14）-改善（予定）年月-月",null,"15検査結果(ドレンチャーその他の水幕を形成する防火設備）-1（14）-改善（予定）年月-月"]
[null,null,null,null,{"$f":"'5_入力シート【検査結果表】 ドレンチャー'!$CT$30","v":0},null,15,"検査結果(ドレンチャーその他の水幕を形成する防火設備）","-","1（14）","-","改善（予定）年月","-","状況",null,null,"15検査結果(ドレンチャーその他の水幕を形成する防火設備）-1（14）-改善（予定）年月-状況",null,"15検査結果(ドレンチャーその他の水幕を形成する防火設備）-1（14）-改善（予定）年月-状況"]
[null,null,null,null,{"$f":"'5_入力シート【検査結果表】 ドレンチャー'!$BA$31","v":0},null,15,"検査結果(ドレンチャーその他の水幕を形成する防火設備）","-","1（15）","-","検査結果",null,null,null,null,"15検査結果(ドレンチャーその他の水幕を形成する防火設備）-1（15）-検査結果",null,"15検査結果(ドレンチャーその他の水幕を形成する防火設備）-1（15）-検査結果"]
[null,null,null,null,{"$f":"'5_入力シート【検査結果表】 ドレンチャー'!$BM$31","v":0},null,15,"検査結果(ドレンチャーその他の水幕を形成する防火設備）","-","1（15）","-","検査者番号",null,null,null,null,"15検査結果(ドレンチャーその他の水幕を形成する防火設備）-1（15）-検査者番号",null,"15検査結果(ドレンチャーその他の水幕を形成する防火設備）-1（15）-検査者番号"]
[null,null,null,null,{"$f":"'5_入力シート【検査結果表】 ドレンチャー'!$BO$31","v":0},null,15,"検査結果(ドレンチャーその他の水幕を形成する防火設備）","-","1（15）","-","指摘の具体的内容等",null,null,null,null,"15検査結果(ドレンチャーその他の水幕を形成する防火設備）-1（15）-指摘の具体的内容等",null,"15検査結果(ドレンチャーその他の水幕を形成する防火設備）-1（15）-指摘の具体的内容等"]
[null,null,null,null,{"$f":"'5_入力シート【検査結果表】 ドレンチャー'!$BY$31","v":0},null,15,"検査結果(ドレンチャーその他の水幕を形成する防火設備）","-","1（15）","-","改善策の具体的内容等",null,null,null,null,"15検査結果(ドレンチャーその他の水幕を形成する防火設備）-1（15）-改善策の具体的内容等",null,"15検査結果(ドレンチャーその他の水幕を形成する防火設備）-1（15）-改善策の具体的内容等"]
[null,null,null,null,{"$f":"'5_入力シート【検査結果表】 ドレンチャー'!$CN$31","v":0},null,15,"検査結果(ドレンチャーその他の水幕を形成する防火設備）","-","1（15）","-","改善（予定）年月","-","年（令和）",null,null,"15検査結果(ドレンチャーその他の水幕を形成する防火設備）-1（15）-改善（予定）年月-年（令和）",null,"15検査結果(ドレンチャーその他の水幕を形成する防火設備）-1（15）-改善（予定）年月-年（令和）"]
[null,null,null,null,{"$f":"'5_入力シート【検査結果表】 ドレンチャー'!$CQ$31","v":0},null,15,"検査結果(ドレンチャーその他の水幕を形成する防火設備）","-","1（15）","-","改善（予定）年月","-","月",null,null,"15検査結果(ドレンチャーその他の水幕を形成する防火設備）-1（15）-改善（予定）年月-月",null,"15検査結果(ドレンチャーその他の水幕を形成する防火設備）-1（15）-改善（予定）年月-月"]
[null,null,null,null,{"$f":"'5_入力シート【検査結果表】 ドレンチャー'!$CT$31","v":0},null,15,"検査結果(ドレンチャーその他の水幕を形成する防火設備）","-","1（15）","-","改善（予定）年月","-","状況",null,null,"15検査結果(ドレンチャーその他の水幕を形成する防火設備）-1（15）-改善（予定）年月-状況",null,"15検査結果(ドレンチャーその他の水幕を形成する防火設備）-1（15）-改善（予定）年月-状況"]
[null,null,null,null,{"$f":"'5_入力シート【検査結果表】 ドレンチャー'!$BA$32","v":0},null,15,"検査結果(ドレンチャーその他の水幕を形成する防火設備）","-","1（16）","-","検査結果",null,null,null,null,"15検査結果(ドレンチャーその他の水幕を形成する防火設備）-1（16）-検査結果",null,"15検査結果(ドレンチャーその他の水幕を形成する防火設備）-1（16）-検査結果"]
[null,null,null,null,{"$f":"'5_入力シート【検査結果表】 ドレンチャー'!$BM$32","v":0},null,15,"検査結果(ドレンチャーその他の水幕を形成する防火設備）","-","1（16）","-","検査者番号",null,null,null,null,"15検査結果(ドレンチャーその他の水幕を形成する防火設備）-1（16）-検査者番号",null,"15検査結果(ドレンチャーその他の水幕を形成する防火設備）-1（16）-検査者番号"]
[null,null,null,null,{"$f":"'5_入力シート【検査結果表】 ドレンチャー'!$BO$32","v":0},null,15,"検査結果(ドレンチャーその他の水幕を形成する防火設備）","-","1（16）","-","指摘の具体的内容等",null,null,null,null,"15検査結果(ドレンチャーその他の水幕を形成する防火設備）-1（16）-指摘の具体的内容等",null,"15検査結果(ドレンチャーその他の水幕を形成する防火設備）-1（16）-指摘の具体的内容等"]
[null,null,null,null,{"$f":"'5_入力シート【検査結果表】 ドレンチャー'!$BY$32","v":0},null,15,"検査結果(ドレンチャーその他の水幕を形成する防火設備）","-","1（16）","-","改善策の具体的内容等",null,null,null,null,"15検査結果(ドレンチャーその他の水幕を形成する防火設備）-1（16）-改善策の具体的内容等",null,"15検査結果(ドレンチャーその他の水幕を形成する防火設備）-1（16）-改善策の具体的内容等"]
[null,null,null,null,{"$f":"'5_入力シート【検査結果表】 ドレンチャー'!$CN$32","v":0},null,15,"検査結果(ドレンチャーその他の水幕を形成する防火設備）","-","1（16）","-","改善（予定）年月","-","年（令和）",null,null,"15検査結果(ドレンチャーその他の水幕を形成する防火設備）-1（16）-改善（予定）年月-年（令和）",null,"15検査結果(ドレンチャーその他の水幕を形成する防火設備）-1（16）-改善（予定）年月-年（令和）"]
[null,null,null,null,{"$f":"'5_入力シート【検査結果表】 ドレンチャー'!$CQ$32","v":0},null,15,"検査結果(ドレンチャーその他の水幕を形成する防火設備）","-","1（16）","-","改善（予定）年月","-","月",null,null,"15検査結果(ドレンチャーその他の水幕を形成する防火設備）-1（16）-改善（予定）年月-月",null,"15検査結果(ドレンチャーその他の水幕を形成する防火設備）-1（16）-改善（予定）年月-月"]
[null,null,null,null,{"$f":"'5_入力シート【検査結果表】 ドレンチャー'!$CT$32","v":0},null,15,"検査結果(ドレンチャーその他の水幕を形成する防火設備）","-","1（16）","-","改善（予定）年月","-","状況",null,null,"15検査結果(ドレンチャーその他の水幕を形成する防火設備）-1（16）-改善（予定）年月-状況",null,"15検査結果(ドレンチャーその他の水幕を形成する防火設備）-1（16）-改善（予定）年月-状況"]
[null,null,null,null,{"$f":"'5_入力シート【検査結果表】 ドレンチャー'!$BA$33","v":0},null,15,"検査結果(ドレンチャーその他の水幕を形成する防火設備）","-","1（17）","-","検査結果",null,null,null,null,"15検査結果(ドレンチャーその他の水幕を形成する防火設備）-1（17）-検査結果",null,"15検査結果(ドレンチャーその他の水幕を形成する防火設備）-1（17）-検査結果"]
[null,null,null,null,{"$f":"'5_入力シート【検査結果表】 ドレンチャー'!$BM$33","v":0},null,15,"検査結果(ドレンチャーその他の水幕を形成する防火設備）","-","1（17）","-","検査者番号",null,null,null,null,"15検査結果(ドレンチャーその他の水幕を形成する防火設備）-1（17）-検査者番号",null,"15検査結果(ドレンチャーその他の水幕を形成する防火設備）-1（17）-検査者番号"]
[null,null,null,null,{"$f":"'5_入力シート【検査結果表】 ドレンチャー'!$BO$33","v":0},null,15,"検査結果(ドレンチャーその他の水幕を形成する防火設備）","-","1（17）","-","指摘の具体的内容等",null,null,null,null,"15検査結果(ドレンチャーその他の水幕を形成する防火設備）-1（17）-指摘の具体的内容等",null,"15検査結果(ドレンチャーその他の水幕を形成する防火設備）-1（17）-指摘の具体的内容等"]
[null,null,null,null,{"$f":"'5_入力シート【検査結果表】 ドレンチャー'!$BY$33","v":0},null,15,"検査結果(ドレンチャーその他の水幕を形成する防火設備）","-","1（17）","-","改善策の具体的内容等",null,null,null,null,"15検査結果(ドレンチャーその他の水幕を形成する防火設備）-1（17）-改善策の具体的内容等",null,"15検査結果(ドレンチャーその他の水幕を形成する防火設備）-1（17）-改善策の具体的内容等"]
[null,null,null,null,{"$f":"'5_入力シート【検査結果表】 ドレンチャー'!$CN$33","v":0},null,15,"検査結果(ドレンチャーその他の水幕を形成する防火設備）","-","1（17）","-","改善（予定）年月","-","年（令和）",null,null,"15検査結果(ドレンチャーその他の水幕を形成する防火設備）-1（17）-改善（予定）年月-年（令和）",null,"15検査結果(ドレンチャーその他の水幕を形成する防火設備）-1（17）-改善（予定）年月-年（令和）"]
[null,null,null,null,{"$f":"'5_入力シート【検査結果表】 ドレンチャー'!$CQ$33","v":0},null,15,"検査結果(ドレンチャーその他の水幕を形成する防火設備）","-","1（17）","-","改善（予定）年月","-","月",null,null,"15検査結果(ドレンチャーその他の水幕を形成する防火設備）-1（17）-改善（予定）年月-月",null,"15検査結果(ドレンチャーその他の水幕を形成する防火設備）-1（17）-改善（予定）年月-月"]
[null,null,null,null,{"$f":"'5_入力シート【検査結果表】 ドレンチャー'!$CT$33","v":0},null,15,"検査結果(ドレンチャーその他の水幕を形成する防火設備）","-","1（17）","-","改善（予定）年月","-","状況",null,null,"15検査結果(ドレンチャーその他の水幕を形成する防火設備）-1（17）-改善（予定）年月-状況",null,"15検査結果(ドレンチャーその他の水幕を形成する防火設備）-1（17）-改善（予定）年月-状況"]
[null,null,null,null,{"$f":"'5_入力シート【検査結果表】 ドレンチャー'!$BA$34","v":0},null,15,"検査結果(ドレンチャーその他の水幕を形成する防火設備）","-","1（18）","-","検査結果",null,null,null,null,"15検査結果(ドレンチャーその他の水幕を形成する防火設備）-1（18）-検査結果",null,"15検査結果(ドレンチャーその他の水幕を形成する防火設備）-1（18）-検査結果"]
[null,null,null,null,{"$f":"'5_入力シート【検査結果表】 ドレンチャー'!$BM$34","v":0},null,15,"検査結果(ドレンチャーその他の水幕を形成する防火設備）","-","1（18）","-","検査者番号",null,null,null,null,"15検査結果(ドレンチャーその他の水幕を形成する防火設備）-1（18）-検査者番号",null,"15検査結果(ドレンチャーその他の水幕を形成する防火設備）-1（18）-検査者番号"]
[null,null,null,null,{"$f":"'5_入力シート【検査結果表】 ドレンチャー'!$BO$34","v":0},null,15,"検査結果(ドレンチャーその他の水幕を形成する防火設備）","-","1（18）","-","指摘の具体的内容等",null,null,null,null,"15検査結果(ドレンチャーその他の水幕を形成する防火設備）-1（18）-指摘の具体的内容等",null,"15検査結果(ドレンチャーその他の水幕を形成する防火設備）-1（18）-指摘の具体的内容等"]
[null,null,null,null,{"$f":"'5_入力シート【検査結果表】 ドレンチャー'!$BY$34","v":0},null,15,"検査結果(ドレンチャーその他の水幕を形成する防火設備）","-","1（18）","-","改善策の具体的内容等",null,null,null,null,"15検査結果(ドレンチャーその他の水幕を形成する防火設備）-1（18）-改善策の具体的内容等",null,"15検査結果(ドレンチャーその他の水幕を形成する防火設備）-1（18）-改善策の具体的内容等"]
[null,null,null,null,{"$f":"'5_入力シート【検査結果表】 ドレンチャー'!$CN$34","v":0},null,15,"検査結果(ドレンチャーその他の水幕を形成する防火設備）","-","1（18）","-","改善（予定）年月","-","年（令和）",null,null,"15検査結果(ドレンチャーその他の水幕を形成する防火設備）-1（18）-改善（予定）年月-年（令和）",null,"15検査結果(ドレンチャーその他の水幕を形成する防火設備）-1（18）-改善（予定）年月-年（令和）"]
[null,null,null,null,{"$f":"'5_入力シート【検査結果表】 ドレンチャー'!$CQ$34","v":0},null,15,"検査結果(ドレンチャーその他の水幕を形成する防火設備）","-","1（18）","-","改善（予定）年月","-","月",null,null,"15検査結果(ドレンチャーその他の水幕を形成する防火設備）-1（18）-改善（予定）年月-月",null,"15検査結果(ドレンチャーその他の水幕を形成する防火設備）-1（18）-改善（予定）年月-月"]
[null,null,null,null,{"$f":"'5_入力シート【検査結果表】 ドレンチャー'!$CT$34","v":0},null,15,"検査結果(ドレンチャーその他の水幕を形成する防火設備）","-","1（18）","-","改善（予定）年月","-","状況",null,null,"15検査結果(ドレンチャーその他の水幕を形成する防火設備）-1（18）-改善（予定）年月-状況",null,"15検査結果(ドレンチャーその他の水幕を形成する防火設備）-1（18）-改善（予定）年月-状況"]
[null,null,null,null,{"$f":"'5_入力シート【検査結果表】 ドレンチャー'!$BA$35","v":0},null,15,"検査結果(ドレンチャーその他の水幕を形成する防火設備）","-","1（19）","-","検査結果",null,null,null,null,"15検査結果(ドレンチャーその他の水幕を形成する防火設備）-1（19）-検査結果",null,"15検査結果(ドレンチャーその他の水幕を形成する防火設備）-1（19）-検査結果"]
[null,null,null,null,{"$f":"'5_入力シート【検査結果表】 ドレンチャー'!$BM$35","v":0},null,15,"検査結果(ドレンチャーその他の水幕を形成する防火設備）","-","1（19）","-","検査者番号",null,null,null,null,"15検査結果(ドレンチャーその他の水幕を形成する防火設備）-1（19）-検査者番号",null,"15検査結果(ドレンチャーその他の水幕を形成する防火設備）-1（19）-検査者番号"]
[null,null,null,null,{"$f":"'5_入力シート【検査結果表】 ドレンチャー'!$BO$35","v":0},null,15,"検査結果(ドレンチャーその他の水幕を形成する防火設備）","-","1（19）","-","指摘の具体的内容等",null,null,null,null,"15検査結果(ドレンチャーその他の水幕を形成する防火設備）-1（19）-指摘の具体的内容等",null,"15検査結果(ドレンチャーその他の水幕を形成する防火設備）-1（19）-指摘の具体的内容等"]
[null,null,null,null,{"$f":"'5_入力シート【検査結果表】 ドレンチャー'!$BY$35","v":0},null,15,"検査結果(ドレンチャーその他の水幕を形成する防火設備）","-","1（19）","-","改善策の具体的内容等",null,null,null,null,"15検査結果(ドレンチャーその他の水幕を形成する防火設備）-1（19）-改善策の具体的内容等",null,"15検査結果(ドレンチャーその他の水幕を形成する防火設備）-1（19）-改善策の具体的内容等"]
[null,null,null,null,{"$f":"'5_入力シート【検査結果表】 ドレンチャー'!$CN$35","v":0},null,15,"検査結果(ドレンチャーその他の水幕を形成する防火設備）","-","1（19）","-","改善（予定）年月","-","年（令和）",null,null,"15検査結果(ドレンチャーその他の水幕を形成する防火設備）-1（19）-改善（予定）年月-年（令和）",null,"15検査結果(ドレンチャーその他の水幕を形成する防火設備）-1（19）-改善（予定）年月-年（令和）"]
[null,null,null,null,{"$f":"'5_入力シート【検査結果表】 ドレンチャー'!$CQ$35","v":0},null,15,"検査結果(ドレンチャーその他の水幕を形成する防火設備）","-","1（19）","-","改善（予定）年月","-","月",null,null,"15検査結果(ドレンチャーその他の水幕を形成する防火設備）-1（19）-改善（予定）年月-月",null,"15検査結果(ドレンチャーその他の水幕を形成する防火設備）-1（19）-改善（予定）年月-月"]
[null,null,null,null,{"$f":"'5_入力シート【検査結果表】 ドレンチャー'!$CT$35","v":0},null,15,"検査結果(ドレンチャーその他の水幕を形成する防火設備）","-","1（19）","-","改善（予定）年月","-","状況",null,null,"15検査結果(ドレンチャーその他の水幕を形成する防火設備）-1（19）-改善（予定）年月-状況",null,"15検査結果(ドレンチャーその他の水幕を形成する防火設備）-1（19）-改善（予定）年月-状況"]
[null,null,null,null,{"$f":"'5_入力シート【検査結果表】 ドレンチャー'!$BA$36","v":0},null,15,"検査結果(ドレンチャーその他の水幕を形成する防火設備）","-","1（20）","-","検査結果",null,null,null,null,"15検査結果(ドレンチャーその他の水幕を形成する防火設備）-1（20）-検査結果",null,"15検査結果(ドレンチャーその他の水幕を形成する防火設備）-1（20）-検査結果"]
[null,null,null,null,{"$f":"'5_入力シート【検査結果表】 ドレンチャー'!$BM$36","v":0},null,15,"検査結果(ドレンチャーその他の水幕を形成する防火設備）","-","1（20）","-","検査者番号",null,null,null,null,"15検査結果(ドレンチャーその他の水幕を形成する防火設備）-1（20）-検査者番号",null,"15検査結果(ドレンチャーその他の水幕を形成する防火設備）-1（20）-検査者番号"]
[null,null,null,null,{"$f":"'5_入力シート【検査結果表】 ドレンチャー'!$BO$36","v":0},null,15,"検査結果(ドレンチャーその他の水幕を形成する防火設備）","-","1（20）","-","指摘の具体的内容等",null,null,null,null,"15検査結果(ドレンチャーその他の水幕を形成する防火設備）-1（20）-指摘の具体的内容等",null,"15検査結果(ドレンチャーその他の水幕を形成する防火設備）-1（20）-指摘の具体的内容等"]
[null,null,null,null,{"$f":"'5_入力シート【検査結果表】 ドレンチャー'!$BY$36","v":0},null,15,"検査結果(ドレンチャーその他の水幕を形成する防火設備）","-","1（20）","-","改善策の具体的内容等",null,null,null,null,"15検査結果(ドレンチャーその他の水幕を形成する防火設備）-1（20）-改善策の具体的内容等",null,"15検査結果(ドレンチャーその他の水幕を形成する防火設備）-1（20）-改善策の具体的内容等"]
[null,null,null,null,{"$f":"'5_入力シート【検査結果表】 ドレンチャー'!$CN$36","v":0},null,15,"検査結果(ドレンチャーその他の水幕を形成する防火設備）","-","1（20）","-","改善（予定）年月","-","年（令和）",null,null,"15検査結果(ドレンチャーその他の水幕を形成する防火設備）-1（20）-改善（予定）年月-年（令和）",null,"15検査結果(ドレンチャーその他の水幕を形成する防火設備）-1（20）-改善（予定）年月-年（令和）"]
[null,null,null,null,{"$f":"'5_入力シート【検査結果表】 ドレンチャー'!$CQ$36","v":0},null,15,"検査結果(ドレンチャーその他の水幕を形成する防火設備）","-","1（20）","-","改善（予定）年月","-","月",null,null,"15検査結果(ドレンチャーその他の水幕を形成する防火設備）-1（20）-改善（予定）年月-月",null,"15検査結果(ドレンチャーその他の水幕を形成する防火設備）-1（20）-改善（予定）年月-月"]
[null,null,null,null,{"$f":"'5_入力シート【検査結果表】 ドレンチャー'!$CT$36","v":0},null,15,"検査結果(ドレンチャーその他の水幕を形成する防火設備）","-","1（20）","-","改善（予定）年月","-","状況",null,null,"15検査結果(ドレンチャーその他の水幕を形成する防火設備）-1（20）-改善（予定）年月-状況",null,"15検査結果(ドレンチャーその他の水幕を形成する防火設備）-1（20）-改善（予定）年月-状況"]
[null,null,null,null,{"$f":"'5_入力シート【検査結果表】 ドレンチャー'!$BA$37","v":0},null,15,"検査結果(ドレンチャーその他の水幕を形成する防火設備）","-","1（21）","-","検査結果",null,null,null,null,"15検査結果(ドレンチャーその他の水幕を形成する防火設備）-1（21）-検査結果",null,"15検査結果(ドレンチャーその他の水幕を形成する防火設備）-1（21）-検査結果"]
[null,null,null,null,{"$f":"'5_入力シート【検査結果表】 ドレンチャー'!$BM$37","v":0},null,15,"検査結果(ドレンチャーその他の水幕を形成する防火設備）","-","1（21）","-","検査者番号",null,null,null,null,"15検査結果(ドレンチャーその他の水幕を形成する防火設備）-1（21）-検査者番号",null,"15検査結果(ドレンチャーその他の水幕を形成する防火設備）-1（21）-検査者番号"]
[null,null,null,null,{"$f":"'5_入力シート【検査結果表】 ドレンチャー'!$BO$37","v":0},null,15,"検査結果(ドレンチャーその他の水幕を形成する防火設備）","-","1（21）","-","指摘の具体的内容等",null,null,null,null,"15検査結果(ドレンチャーその他の水幕を形成する防火設備）-1（21）-指摘の具体的内容等",null,"15検査結果(ドレンチャーその他の水幕を形成する防火設備）-1（21）-指摘の具体的内容等"]
[null,null,null,null,{"$f":"'5_入力シート【検査結果表】 ドレンチャー'!$BY$37","v":0},null,15,"検査結果(ドレンチャーその他の水幕を形成する防火設備）","-","1（21）","-","改善策の具体的内容等",null,null,null,null,"15検査結果(ドレンチャーその他の水幕を形成する防火設備）-1（21）-改善策の具体的内容等",null,"15検査結果(ドレンチャーその他の水幕を形成する防火設備）-1（21）-改善策の具体的内容等"]
[null,null,null,null,{"$f":"'5_入力シート【検査結果表】 ドレンチャー'!$CN$37","v":0},null,15,"検査結果(ドレンチャーその他の水幕を形成する防火設備）","-","1（21）","-","改善（予定）年月","-","年（令和）",null,null,"15検査結果(ドレンチャーその他の水幕を形成する防火設備）-1（21）-改善（予定）年月-年（令和）",null,"15検査結果(ドレンチャーその他の水幕を形成する防火設備）-1（21）-改善（予定）年月-年（令和）"]
[null,null,null,null,{"$f":"'5_入力シート【検査結果表】 ドレンチャー'!$CQ$37","v":0},null,15,"検査結果(ドレンチャーその他の水幕を形成する防火設備）","-","1（21）","-","改善（予定）年月","-","月",null,null,"15検査結果(ドレンチャーその他の水幕を形成する防火設備）-1（21）-改善（予定）年月-月",null,"15検査結果(ドレンチャーその他の水幕を形成する防火設備）-1（21）-改善（予定）年月-月"]
[null,null,null,null,{"$f":"'5_入力シート【検査結果表】 ドレンチャー'!$CT$37","v":0},null,15,"検査結果(ドレンチャーその他の水幕を形成する防火設備）","-","1（21）","-","改善（予定）年月","-","状況",null,null,"15検査結果(ドレンチャーその他の水幕を形成する防火設備）-1（21）-改善（予定）年月-状況",null,"15検査結果(ドレンチャーその他の水幕を形成する防火設備）-1（21）-改善（予定）年月-状況"]
[null,null,null,null,{"$f":"'5_入力シート【検査結果表】 ドレンチャー'!$BA$38","v":0},null,15,"検査結果(ドレンチャーその他の水幕を形成する防火設備）","-","1（22）","-","検査結果",null,null,null,null,"15検査結果(ドレンチャーその他の水幕を形成する防火設備）-1（22）-検査結果",null,"15検査結果(ドレンチャーその他の水幕を形成する防火設備）-1（22）-検査結果"]
[null,null,null,null,{"$f":"'5_入力シート【検査結果表】 ドレンチャー'!$BM$38","v":0},null,15,"検査結果(ドレンチャーその他の水幕を形成する防火設備）","-","1（22）","-","検査者番号",null,null,null,null,"15検査結果(ドレンチャーその他の水幕を形成する防火設備）-1（22）-検査者番号",null,"15検査結果(ドレンチャーその他の水幕を形成する防火設備）-1（22）-検査者番号"]
[null,null,null,null,{"$f":"'5_入力シート【検査結果表】 ドレンチャー'!$BO$38","v":0},null,15,"検査結果(ドレンチャーその他の水幕を形成する防火設備）","-","1（22）","-","指摘の具体的内容等",null,null,null,null,"15検査結果(ドレンチャーその他の水幕を形成する防火設備）-1（22）-指摘の具体的内容等",null,"15検査結果(ドレンチャーその他の水幕を形成する防火設備）-1（22）-指摘の具体的内容等"]
[null,null,null,null,{"$f":"'5_入力シート【検査結果表】 ドレンチャー'!$BY$38","v":0},null,15,"検査結果(ドレンチャーその他の水幕を形成する防火設備）","-","1（22）","-","改善策の具体的内容等",null,null,null,null,"15検査結果(ドレンチャーその他の水幕を形成する防火設備）-1（22）-改善策の具体的内容等",null,"15検査結果(ドレンチャーその他の水幕を形成する防火設備）-1（22）-改善策の具体的内容等"]
[null,null,null,null,{"$f":"'5_入力シート【検査結果表】 ドレンチャー'!$CN$38","v":0},null,15,"検査結果(ドレンチャーその他の水幕を形成する防火設備）","-","1（22）","-","改善（予定）年月","-","年（令和）",null,null,"15検査結果(ドレンチャーその他の水幕を形成する防火設備）-1（22）-改善（予定）年月-年（令和）",null,"15検査結果(ドレンチャーその他の水幕を形成する防火設備）-1（22）-改善（予定）年月-年（令和）"]
[null,null,null,null,{"$f":"'5_入力シート【検査結果表】 ドレンチャー'!$CQ$38","v":0},null,15,"検査結果(ドレンチャーその他の水幕を形成する防火設備）","-","1（22）","-","改善（予定）年月","-","月",null,null,"15検査結果(ドレンチャーその他の水幕を形成する防火設備）-1（22）-改善（予定）年月-月",null,"15検査結果(ドレンチャーその他の水幕を形成する防火設備）-1（22）-改善（予定）年月-月"]
[null,null,null,null,{"$f":"'5_入力シート【検査結果表】 ドレンチャー'!$CT$38","v":0},null,15,"検査結果(ドレンチャーその他の水幕を形成する防火設備）","-","1（22）","-","改善（予定）年月","-","状況",null,null,"15検査結果(ドレンチャーその他の水幕を形成する防火設備）-1（22）-改善（予定）年月-状況",null,"15検査結果(ドレンチャーその他の水幕を形成する防火設備）-1（22）-改善（予定）年月-状況"]
[null,null,null,null,{"$f":"'5_入力シート【検査結果表】 ドレンチャー'!$BA$39","v":0},null,15,"検査結果(ドレンチャーその他の水幕を形成する防火設備）","-","1（23）","-","検査結果",null,null,null,null,"15検査結果(ドレンチャーその他の水幕を形成する防火設備）-1（23）-検査結果",null,"15検査結果(ドレンチャーその他の水幕を形成する防火設備）-1（23）-検査結果"]
[null,null,null,null,{"$f":"'5_入力シート【検査結果表】 ドレンチャー'!$BM$39","v":0},null,15,"検査結果(ドレンチャーその他の水幕を形成する防火設備）","-","1（23）","-","検査者番号",null,null,null,null,{"$f":"CONCATENATE(G1428,H1428,I1428,J1428,K1428,L1428,M1428,N1428,O1428,P1428)","v":"15検査結果(ドレンチャーその他の水幕を形成する防火設備）-1（23）-検査者番号"},null,"15検査結果(ドレンチャーその他の水幕を形成する防火設備）-1（23）-検査者番号"]
[null,null,null,null,{"$f":"'5_入力シート【検査結果表】 ドレンチャー'!$BO$39","v":0},null,15,"検査結果(ドレンチャーその他の水幕を形成する防火設備）","-","1（23）","-","指摘の具体的内容等",null,null,null,null,"15検査結果(ドレンチャーその他の水幕を形成する防火設備）-1（23）-指摘の具体的内容等",null,"15検査結果(ドレンチャーその他の水幕を形成する防火設備）-1（23）-指摘の具体的内容等"]
[null,null,null,null,{"$f":"'5_入力シート【検査結果表】 ドレンチャー'!$BY$39","v":0},null,15,"検査結果(ドレンチャーその他の水幕を形成する防火設備）","-","1（23）","-","改善策の具体的内容等",null,null,null,null,"15検査結果(ドレンチャーその他の水幕を形成する防火設備）-1（23）-改善策の具体的内容等",null,"15検査結果(ドレンチャーその他の水幕を形成する防火設備）-1（23）-改善策の具体的内容等"]
[null,null,null,null,{"$f":"'5_入力シート【検査結果表】 ドレンチャー'!$CN$39","v":0},null,15,"検査結果(ドレンチャーその他の水幕を形成する防火設備）","-","1（23）","-","改善（予定）年月","-","年（令和）",null,null,"15検査結果(ドレンチャーその他の水幕を形成する防火設備）-1（23）-改善（予定）年月-年（令和）",null,"15検査結果(ドレンチャーその他の水幕を形成する防火設備）-1（23）-改善（予定）年月-年（令和）"]
[null,null,null,null,{"$f":"'5_入力シート【検査結果表】 ドレンチャー'!$CQ$39","v":0},null,15,"検査結果(ドレンチャーその他の水幕を形成する防火設備）","-","1（23）","-","改善（予定）年月","-","月",null,null,"15検査結果(ドレンチャーその他の水幕を形成する防火設備）-1（23）-改善（予定）年月-月",null,"15検査結果(ドレンチャーその他の水幕を形成する防火設備）-1（23）-改善（予定）年月-月"]
[null,null,null,null,{"$f":"'5_入力シート【検査結果表】 ドレンチャー'!$CT$39","v":0},null,15,"検査結果(ドレンチャーその他の水幕を形成する防火設備）","-","1（23）","-","改善（予定）年月","-","状況",null,null,"15検査結果(ドレンチャーその他の水幕を形成する防火設備）-1（23）-改善（予定）年月-状況",null,"15検査結果(ドレンチャーその他の水幕を形成する防火設備）-1（23）-改善（予定）年月-状況"]
[null,null,null,null,{"$f":"'5_入力シート【検査結果表】 ドレンチャー'!$BA$40","v":0},null,15,"検査結果(ドレンチャーその他の水幕を形成する防火設備）","-","1（24）","-","検査結果",null,null,null,null,"15検査結果(ドレンチャーその他の水幕を形成する防火設備）-1（24）-検査結果",null,"15検査結果(ドレンチャーその他の水幕を形成する防火設備）-1（24）-検査結果"]
[null,null,null,null,{"$f":"'5_入力シート【検査結果表】 ドレンチャー'!$BM$40","v":0},null,15,"検査結果(ドレンチャーその他の水幕を形成する防火設備）","-","1（24）","-","検査者番号",null,null,null,null,"15検査結果(ドレンチャーその他の水幕を形成する防火設備）-1（24）-検査者番号",null,"15検査結果(ドレンチャーその他の水幕を形成する防火設備）-1（24）-検査者番号"]
[null,null,null,null,{"$f":"'5_入力シート【検査結果表】 ドレンチャー'!$BO$40","v":0},null,15,"検査結果(ドレンチャーその他の水幕を形成する防火設備）","-","1（24）","-","指摘の具体的内容等",null,null,null,null,"15検査結果(ドレンチャーその他の水幕を形成する防火設備）-1（24）-指摘の具体的内容等",null,"15検査結果(ドレンチャーその他の水幕を形成する防火設備）-1（24）-指摘の具体的内容等"]
[null,null,null,null,{"$f":"'5_入力シート【検査結果表】 ドレンチャー'!$BY$40","v":0},null,15,"検査結果(ドレンチャーその他の水幕を形成する防火設備）","-","1（24）","-","改善策の具体的内容等",null,null,null,null,"15検査結果(ドレンチャーその他の水幕を形成する防火設備）-1（24）-改善策の具体的内容等",null,"15検査結果(ドレンチャーその他の水幕を形成する防火設備）-1（24）-改善策の具体的内容等"]
[null,null,null,null,{"$f":"'5_入力シート【検査結果表】 ドレンチャー'!$CN$40","v":0},null,15,"検査結果(ドレンチャーその他の水幕を形成する防火設備）","-","1（24）","-","改善（予定）年月","-","年（令和）",null,null,"15検査結果(ドレンチャーその他の水幕を形成する防火設備）-1（24）-改善（予定）年月-年（令和）",null,"15検査結果(ドレンチャーその他の水幕を形成する防火設備）-1（24）-改善（予定）年月-年（令和）"]
[null,null,null,null,{"$f":"'5_入力シート【検査結果表】 ドレンチャー'!$CQ$40","v":0},null,15,"検査結果(ドレンチャーその他の水幕を形成する防火設備）","-","1（24）","-","改善（予定）年月","-","月",null,null,"15検査結果(ドレンチャーその他の水幕を形成する防火設備）-1（24）-改善（予定）年月-月",null,"15検査結果(ドレンチャーその他の水幕を形成する防火設備）-1（24）-改善（予定）年月-月"]
[null,null,null,null,{"$f":"'5_入力シート【検査結果表】 ドレンチャー'!$CT$40","v":0},null,15,"検査結果(ドレンチャーその他の水幕を形成する防火設備）","-","1（24）","-","改善（予定）年月","-","状況",null,null,"15検査結果(ドレンチャーその他の水幕を形成する防火設備）-1（24）-改善（予定）年月-状況",null,"15検査結果(ドレンチャーその他の水幕を形成する防火設備）-1（24）-改善（予定）年月-状況"]
[null,null,null,null,{"$f":"'5_入力シート【検査結果表】 ドレンチャー'!$BA$41","v":0},null,15,"検査結果(ドレンチャーその他の水幕を形成する防火設備）","-","1（25）","-","検査結果",null,null,null,null,"15検査結果(ドレンチャーその他の水幕を形成する防火設備）-1（25）-検査結果",null,"15検査結果(ドレンチャーその他の水幕を形成する防火設備）-1（25）-検査結果"]
[null,null,null,null,{"$f":"'5_入力シート【検査結果表】 ドレンチャー'!$BM$41","v":0},null,15,"検査結果(ドレンチャーその他の水幕を形成する防火設備）","-","1（25）","-","検査者番号",null,null,null,null,"15検査結果(ドレンチャーその他の水幕を形成する防火設備）-1（25）-検査者番号",null,"15検査結果(ドレンチャーその他の水幕を形成する防火設備）-1（25）-検査者番号"]
[null,null,null,null,{"$f":"'5_入力シート【検査結果表】 ドレンチャー'!$BO$41","v":0},null,15,"検査結果(ドレンチャーその他の水幕を形成する防火設備）","-","1（25）","-","指摘の具体的内容等",null,null,null,null,"15検査結果(ドレンチャーその他の水幕を形成する防火設備）-1（25）-指摘の具体的内容等",null,"15検査結果(ドレンチャーその他の水幕を形成する防火設備）-1（25）-指摘の具体的内容等"]
[null,null,null,null,{"$f":"'5_入力シート【検査結果表】 ドレンチャー'!$BY$41","v":0},null,15,"検査結果(ドレンチャーその他の水幕を形成する防火設備）","-","1（25）","-","改善策の具体的内容等",null,null,null,null,"15検査結果(ドレンチャーその他の水幕を形成する防火設備）-1（25）-改善策の具体的内容等",null,"15検査結果(ドレンチャーその他の水幕を形成する防火設備）-1（25）-改善策の具体的内容等"]
[null,null,null,null,{"$f":"'5_入力シート【検査結果表】 ドレンチャー'!$CN$41","v":0},null,15,"検査結果(ドレンチャーその他の水幕を形成する防火設備）","-","1（25）","-","改善（予定）年月","-","年（令和）",null,null,"15検査結果(ドレンチャーその他の水幕を形成する防火設備）-1（25）-改善（予定）年月-年（令和）",null,"15検査結果(ドレンチャーその他の水幕を形成する防火設備）-1（25）-改善（予定）年月-年（令和）"]
[null,null,null,null,{"$f":"'5_入力シート【検査結果表】 ドレンチャー'!$CQ$41","v":0},null,15,"検査結果(ドレンチャーその他の水幕を形成する防火設備）","-","1（25）","-","改善（予定）年月","-","月",null,null,"15検査結果(ドレンチャーその他の水幕を形成する防火設備）-1（25）-改善（予定）年月-月",null,"15検査結果(ドレンチャーその他の水幕を形成する防火設備）-1（25）-改善（予定）年月-月"]
[null,null,null,null,{"$f":"'5_入力シート【検査結果表】 ドレンチャー'!$CT$41","v":0},null,15,"検査結果(ドレンチャーその他の水幕を形成する防火設備）","-","1（25）","-","改善（予定）年月","-","状況",null,null,"15検査結果(ドレンチャーその他の水幕を形成する防火設備）-1（25）-改善（予定）年月-状況",null,"15検査結果(ドレンチャーその他の水幕を形成する防火設備）-1（25）-改善（予定）年月-状況"]
[null,null,null,null,{"$f":"'5_入力シート【検査結果表】 ドレンチャー'!$BA$42","v":0},null,15,"検査結果(ドレンチャーその他の水幕を形成する防火設備）","-","1（26）","-","検査結果",null,null,null,null,"15検査結果(ドレンチャーその他の水幕を形成する防火設備）-1（26）-検査結果",null,"15検査結果(ドレンチャーその他の水幕を形成する防火設備）-1（26）-検査結果"]
[null,null,null,null,{"$f":"'5_入力シート【検査結果表】 ドレンチャー'!$BM$42","v":0},null,15,"検査結果(ドレンチャーその他の水幕を形成する防火設備）","-","1（26）","-","検査者番号",null,null,null,null,"15検査結果(ドレンチャーその他の水幕を形成する防火設備）-1（26）-検査者番号",null,"15検査結果(ドレンチャーその他の水幕を形成する防火設備）-1（26）-検査者番号"]
[null,null,null,null,{"$f":"'5_入力シート【検査結果表】 ドレンチャー'!$BO$42","v":0},null,15,"検査結果(ドレンチャーその他の水幕を形成する防火設備）","-","1（26）","-","指摘の具体的内容等",null,null,null,null,"15検査結果(ドレンチャーその他の水幕を形成する防火設備）-1（26）-指摘の具体的内容等",null,"15検査結果(ドレンチャーその他の水幕を形成する防火設備）-1（26）-指摘の具体的内容等"]
[null,null,null,null,{"$f":"'5_入力シート【検査結果表】 ドレンチャー'!$BY$42","v":0},null,15,"検査結果(ドレンチャーその他の水幕を形成する防火設備）","-","1（26）","-","改善策の具体的内容等",null,null,null,null,"15検査結果(ドレンチャーその他の水幕を形成する防火設備）-1（26）-改善策の具体的内容等",null,"15検査結果(ドレンチャーその他の水幕を形成する防火設備）-1（26）-改善策の具体的内容等"]
[null,null,null,null,{"$f":"'5_入力シート【検査結果表】 ドレンチャー'!$CN$42","v":0},null,15,"検査結果(ドレンチャーその他の水幕を形成する防火設備）","-","1（26）","-","改善（予定）年月","-","年（令和）",null,null,"15検査結果(ドレンチャーその他の水幕を形成する防火設備）-1（26）-改善（予定）年月-年（令和）",null,"15検査結果(ドレンチャーその他の水幕を形成する防火設備）-1（26）-改善（予定）年月-年（令和）"]
[null,null,null,null,{"$f":"'5_入力シート【検査結果表】 ドレンチャー'!$CQ$42","v":0},null,15,"検査結果(ドレンチャーその他の水幕を形成する防火設備）","-","1（26）","-","改善（予定）年月","-","月",null,null,"15検査結果(ドレンチャーその他の水幕を形成する防火設備）-1（26）-改善（予定）年月-月",null,"15検査結果(ドレンチャーその他の水幕を形成する防火設備）-1（26）-改善（予定）年月-月"]
[null,null,null,null,{"$f":"'5_入力シート【検査結果表】 ドレンチャー'!$CT$42","v":0},null,15,"検査結果(ドレンチャーその他の水幕を形成する防火設備）","-","1（26）","-","改善（予定）年月","-","状況",null,null,"15検査結果(ドレンチャーその他の水幕を形成する防火設備）-1（26）-改善（予定）年月-状況",null,"15検査結果(ドレンチャーその他の水幕を形成する防火設備）-1（26）-改善（予定）年月-状況"]
[null,null,null,null,{"$f":"'5_入力シート【検査結果表】 ドレンチャー'!$M$50","v":0},null,15,"検査結果(ドレンチャーその他の水幕を形成する防火設備）","-","上記以外の検査項目等","-","1行目","-","番号",null,null,"15検査結果(ドレンチャーその他の水幕を形成する防火設備）-上記以外の検査項目等-1行目-番号",null,"15検査結果(ドレンチャーその他の水幕を形成する防火設備）-上記以外の検査項目等-1行目-番号"]
[null,null,null,null,{"$f":"'5_入力シート【検査結果表】 ドレンチャー'!$P$50","v":0},null,15,"検査結果(ドレンチャーその他の水幕を形成する防火設備）","-","上記以外の検査項目等","-","1行目","-","検査項目",null,null,"15検査結果(ドレンチャーその他の水幕を形成する防火設備）-上記以外の検査項目等-1行目-検査項目",null,"15検査結果(ドレンチャーその他の水幕を形成する防火設備）-上記以外の検査項目等-1行目-検査項目"]
[null,null,null,null,{"$f":"'5_入力シート【検査結果表】 ドレンチャー'!$AG$50","v":0},null,15,"検査結果(ドレンチャーその他の水幕を形成する防火設備）","-","上記以外の検査項目等","-","1行目","-","検査事項",null,null,"15検査結果(ドレンチャーその他の水幕を形成する防火設備）-上記以外の検査項目等-1行目-検査事項",null,"15検査結果(ドレンチャーその他の水幕を形成する防火設備）-上記以外の検査項目等-1行目-検査事項"]
[null,null,null,null,{"$f":"'5_入力シート【検査結果表】 ドレンチャー'!$BA$50","v":0},null,15,"検査結果(ドレンチャーその他の水幕を形成する防火設備）","-","上記以外の検査項目等","-","1行目","-","検査結果",null,null,"15検査結果(ドレンチャーその他の水幕を形成する防火設備）-上記以外の検査項目等-1行目-検査結果",null,"15検査結果(ドレンチャーその他の水幕を形成する防火設備）-上記以外の検査項目等-1行目-検査結果"]
[null,null,null,null,{"$f":"'5_入力シート【検査結果表】 ドレンチャー'!$BM$50","v":0},null,15,"検査結果(ドレンチャーその他の水幕を形成する防火設備）","-","上記以外の検査項目等","-","1行目","-","検査者番号",null,null,"15検査結果(ドレンチャーその他の水幕を形成する防火設備）-上記以外の検査項目等-1行目-検査者番号",null,"15検査結果(ドレンチャーその他の水幕を形成する防火設備）-上記以外の検査項目等-1行目-検査者番号"]
[null,null,null,null,{"$f":"'5_入力シート【検査結果表】 ドレンチャー'!$BO$50","v":0},null,15,"検査結果(ドレンチャーその他の水幕を形成する防火設備）","-","上記以外の検査項目等","-","1行目","-","指摘の具体的内容等",null,null,"15検査結果(ドレンチャーその他の水幕を形成する防火設備）-上記以外の検査項目等-1行目-指摘の具体的内容等",null,"15検査結果(ドレンチャーその他の水幕を形成する防火設備）-上記以外の検査項目等-1行目-指摘の具体的内容等"]
[null,null,null,null,{"$f":"'5_入力シート【検査結果表】 ドレンチャー'!$BY$50","v":0},null,15,"検査結果(ドレンチャーその他の水幕を形成する防火設備）","-","上記以外の検査項目等","-","1行目","-","改善策の具体的内容等",null,null,"15検査結果(ドレンチャーその他の水幕を形成する防火設備）-上記以外の検査項目等-1行目-改善策の具体的内容等",null,"15検査結果(ドレンチャーその他の水幕を形成する防火設備）-上記以外の検査項目等-1行目-改善策の具体的内容等"]
[null,null,null,null,{"$f":"'5_入力シート【検査結果表】 ドレンチャー'!$CN$50","v":0},null,15,"検査結果(ドレンチャーその他の水幕を形成する防火設備）","-","上記以外の検査項目等","-","1行目","-","改善（予定）年月","-","年（令和）","15検査結果(ドレンチャーその他の水幕を形成する防火設備）-上記以外の検査項目等-1行目-改善（予定）年月-年（令和）",null,"15検査結果(ドレンチャーその他の水幕を形成する防火設備）-上記以外の検査項目等-1行目-改善（予定）年月-年（令和）"]
[null,null,null,null,{"$f":"'5_入力シート【検査結果表】 ドレンチャー'!$CQ$50","v":0},null,15,"検査結果(ドレンチャーその他の水幕を形成する防火設備）","-","上記以外の検査項目等","-","1行目","-","改善（予定）年月","-","月","15検査結果(ドレンチャーその他の水幕を形成する防火設備）-上記以外の検査項目等-1行目-改善（予定）年月-月",null,"15検査結果(ドレンチャーその他の水幕を形成する防火設備）-上記以外の検査項目等-1行目-改善（予定）年月-月"]
[null,null,null,null,{"$f":"'5_入力シート【検査結果表】 ドレンチャー'!$CT$50","v":0},null,15,"検査結果(ドレンチャーその他の水幕を形成する防火設備）","-","上記以外の検査項目等","-","1行目","-","改善（予定）年月","-","状況","15検査結果(ドレンチャーその他の水幕を形成する防火設備）-上記以外の検査項目等-1行目-改善（予定）年月-状況",null,"15検査結果(ドレンチャーその他の水幕を形成する防火設備）-上記以外の検査項目等-1行目-改善（予定）年月-状況"]
[null,null,null,null,{"$f":"'5_入力シート【検査結果表】 ドレンチャー'!$M$51","v":0},null,15,"検査結果(ドレンチャーその他の水幕を形成する防火設備）","-","上記以外の検査項目等","-","2行目","-","番号",null,null,"15検査結果(ドレンチャーその他の水幕を形成する防火設備）-上記以外の検査項目等-2行目-番号",null,"15検査結果(ドレンチャーその他の水幕を形成する防火設備）-上記以外の検査項目等-2行目-番号"]
[null,null,null,null,{"$f":"'5_入力シート【検査結果表】 ドレンチャー'!$P$51","v":0},null,15,"検査結果(ドレンチャーその他の水幕を形成する防火設備）","-","上記以外の検査項目等","-","2行目","-","検査項目",null,null,"15検査結果(ドレンチャーその他の水幕を形成する防火設備）-上記以外の検査項目等-2行目-検査項目",null,"15検査結果(ドレンチャーその他の水幕を形成する防火設備）-上記以外の検査項目等-2行目-検査項目"]
[null,null,null,null,{"$f":"'5_入力シート【検査結果表】 ドレンチャー'!$AG$51","v":0},null,15,"検査結果(ドレンチャーその他の水幕を形成する防火設備）","-","上記以外の検査項目等","-","2行目","-","検査事項",null,null,"15検査結果(ドレンチャーその他の水幕を形成する防火設備）-上記以外の検査項目等-2行目-検査事項",null,"15検査結果(ドレンチャーその他の水幕を形成する防火設備）-上記以外の検査項目等-2行目-検査事項"]
[null,null,null,null,{"$f":"'5_入力シート【検査結果表】 ドレンチャー'!$BA$51","v":0},null,15,"検査結果(ドレンチャーその他の水幕を形成する防火設備）","-","上記以外の検査項目等","-","2行目","-","検査結果",null,null,"15検査結果(ドレンチャーその他の水幕を形成する防火設備）-上記以外の検査項目等-2行目-検査結果",null,"15検査結果(ドレンチャーその他の水幕を形成する防火設備）-上記以外の検査項目等-2行目-検査結果"]
[null,null,null,null,{"$f":"'5_入力シート【検査結果表】 ドレンチャー'!$BM$51","v":0},null,15,"検査結果(ドレンチャーその他の水幕を形成する防火設備）","-","上記以外の検査項目等","-","2行目","-","検査者番号",null,null,"15検査結果(ドレンチャーその他の水幕を形成する防火設備）-上記以外の検査項目等-2行目-検査者番号",null,"15検査結果(ドレンチャーその他の水幕を形成する防火設備）-上記以外の検査項目等-2行目-検査者番号"]
[null,null,null,null,{"$f":"'5_入力シート【検査結果表】 ドレンチャー'!$BO$51","v":0},null,15,"検査結果(ドレンチャーその他の水幕を形成する防火設備）","-","上記以外の検査項目等","-","2行目","-","指摘の具体的内容等",null,null,"15検査結果(ドレンチャーその他の水幕を形成する防火設備）-上記以外の検査項目等-2行目-指摘の具体的内容等",null,"15検査結果(ドレンチャーその他の水幕を形成する防火設備）-上記以外の検査項目等-2行目-指摘の具体的内容等"]
[null,null,null,null,{"$f":"'5_入力シート【検査結果表】 ドレンチャー'!$BY$51","v":0},null,15,"検査結果(ドレンチャーその他の水幕を形成する防火設備）","-","上記以外の検査項目等","-","2行目","-","改善策の具体的内容等",null,null,"15検査結果(ドレンチャーその他の水幕を形成する防火設備）-上記以外の検査項目等-2行目-改善策の具体的内容等",null,"15検査結果(ドレンチャーその他の水幕を形成する防火設備）-上記以外の検査項目等-2行目-改善策の具体的内容等"]
[null,null,null,null,{"$f":"'5_入力シート【検査結果表】 ドレンチャー'!$CN$51","v":0},null,15,"検査結果(ドレンチャーその他の水幕を形成する防火設備）","-","上記以外の検査項目等","-","2行目","-","改善（予定）年月","-","年（令和）","15検査結果(ドレンチャーその他の水幕を形成する防火設備）-上記以外の検査項目等-2行目-改善（予定）年月-年（令和）",null,"15検査結果(ドレンチャーその他の水幕を形成する防火設備）-上記以外の検査項目等-2行目-改善（予定）年月-年（令和）"]
[null,null,null,null,{"$f":"'5_入力シート【検査結果表】 ドレンチャー'!$CQ$51","v":0},null,15,"検査結果(ドレンチャーその他の水幕を形成する防火設備）","-","上記以外の検査項目等","-","2行目","-","改善（予定）年月","-","月","15検査結果(ドレンチャーその他の水幕を形成する防火設備）-上記以外の検査項目等-2行目-改善（予定）年月-月",null,"15検査結果(ドレンチャーその他の水幕を形成する防火設備）-上記以外の検査項目等-2行目-改善（予定）年月-月"]
[null,null,null,null,{"$f":"'5_入力シート【検査結果表】 ドレンチャー'!$CT$51","v":0},null,15,"検査結果(ドレンチャーその他の水幕を形成する防火設備）","-","上記以外の検査項目等","-","2行目","-","改善（予定）年月","-","状況","15検査結果(ドレンチャーその他の水幕を形成する防火設備）-上記以外の検査項目等-2行目-改善（予定）年月-状況",null,"15検査結果(ドレンチャーその他の水幕を形成する防火設備）-上記以外の検査項目等-2行目-改善（予定）年月-状況"]
[null,null,null,null,{"$f":"'5_入力シート【検査結果表】 ドレンチャー'!$M$52","v":0},null,15,"検査結果(ドレンチャーその他の水幕を形成する防火設備）","-","上記以外の検査項目等","-","3行目","-","番号",null,null,"15検査結果(ドレンチャーその他の水幕を形成する防火設備）-上記以外の検査項目等-3行目-番号",null,"15検査結果(ドレンチャーその他の水幕を形成する防火設備）-上記以外の検査項目等-3行目-番号"]
[null,null,null,null,{"$f":"'5_入力シート【検査結果表】 ドレンチャー'!$P$52","v":0},null,15,"検査結果(ドレンチャーその他の水幕を形成する防火設備）","-","上記以外の検査項目等","-","3行目","-","検査項目",null,null,"15検査結果(ドレンチャーその他の水幕を形成する防火設備）-上記以外の検査項目等-3行目-検査項目",null,"15検査結果(ドレンチャーその他の水幕を形成する防火設備）-上記以外の検査項目等-3行目-検査項目"]
[null,null,null,null,{"$f":"'5_入力シート【検査結果表】 ドレンチャー'!$AG$52","v":0},null,15,"検査結果(ドレンチャーその他の水幕を形成する防火設備）","-","上記以外の検査項目等","-","3行目","-","検査事項",null,null,"15検査結果(ドレンチャーその他の水幕を形成する防火設備）-上記以外の検査項目等-3行目-検査事項",null,"15検査結果(ドレンチャーその他の水幕を形成する防火設備）-上記以外の検査項目等-3行目-検査事項"]
[null,null,null,null,{"$f":"'5_入力シート【検査結果表】 ドレンチャー'!$BA$52","v":0},null,15,"検査結果(ドレンチャーその他の水幕を形成する防火設備）","-","上記以外の検査項目等","-","3行目","-","検査結果",null,null,"15検査結果(ドレンチャーその他の水幕を形成する防火設備）-上記以外の検査項目等-3行目-検査結果",null,"15検査結果(ドレンチャーその他の水幕を形成する防火設備）-上記以外の検査項目等-3行目-検査結果"]
[null,null,null,null,{"$f":"'5_入力シート【検査結果表】 ドレンチャー'!$BM$52","v":0},null,15,"検査結果(ドレンチャーその他の水幕を形成する防火設備）","-","上記以外の検査項目等","-","3行目","-","検査者番号",null,null,"15検査結果(ドレンチャーその他の水幕を形成する防火設備）-上記以外の検査項目等-3行目-検査者番号",null,"15検査結果(ドレンチャーその他の水幕を形成する防火設備）-上記以外の検査項目等-3行目-検査者番号"]
[null,null,null,null,{"$f":"'5_入力シート【検査結果表】 ドレンチャー'!$BO$52","v":0},null,15,"検査結果(ドレンチャーその他の水幕を形成する防火設備）","-","上記以外の検査項目等","-","3行目","-","指摘の具体的内容等",null,null,"15検査結果(ドレンチャーその他の水幕を形成する防火設備）-上記以外の検査項目等-3行目-指摘の具体的内容等",null,"15検査結果(ドレンチャーその他の水幕を形成する防火設備）-上記以外の検査項目等-3行目-指摘の具体的内容等"]
[null,null,null,null,{"$f":"'5_入力シート【検査結果表】 ドレンチャー'!$BY$52","v":0},null,15,"検査結果(ドレンチャーその他の水幕を形成する防火設備）","-","上記以外の検査項目等","-","3行目","-","改善策の具体的内容等",null,null,"15検査結果(ドレンチャーその他の水幕を形成する防火設備）-上記以外の検査項目等-3行目-改善策の具体的内容等",null,"15検査結果(ドレンチャーその他の水幕を形成する防火設備）-上記以外の検査項目等-3行目-改善策の具体的内容等"]
[null,null,null,null,{"$f":"'5_入力シート【検査結果表】 ドレンチャー'!$CN$52","v":0},null,15,"検査結果(ドレンチャーその他の水幕を形成する防火設備）","-","上記以外の検査項目等","-","3行目","-","改善（予定）年月","-","年（令和）","15検査結果(ドレンチャーその他の水幕を形成する防火設備）-上記以外の検査項目等-3行目-改善（予定）年月-年（令和）",null,"15検査結果(ドレンチャーその他の水幕を形成する防火設備）-上記以外の検査項目等-3行目-改善（予定）年月-年（令和）"]
[null,null,null,null,{"$f":"'5_入力シート【検査結果表】 ドレンチャー'!$CQ$52","v":0},null,15,"検査結果(ドレンチャーその他の水幕を形成する防火設備）","-","上記以外の検査項目等","-","3行目","-","改善（予定）年月","-","月","15検査結果(ドレンチャーその他の水幕を形成する防火設備）-上記以外の検査項目等-3行目-改善（予定）年月-月",null,"15検査結果(ドレンチャーその他の水幕を形成する防火設備）-上記以外の検査項目等-3行目-改善（予定）年月-月"]
[null,null,null,null,{"$f":"'5_入力シート【検査結果表】 ドレンチャー'!$CT$52","v":0},null,15,"検査結果(ドレンチャーその他の水幕を形成する防火設備）","-","上記以外の検査項目等","-","3行目","-","改善（予定）年月","-","状況","15検査結果(ドレンチャーその他の水幕を形成する防火設備）-上記以外の検査項目等-3行目-改善（予定）年月-状況",null,"15検査結果(ドレンチャーその他の水幕を形成する防火設備）-上記以外の検査項目等-3行目-改善（予定）年月-状況"]
[null,null,null,null,{"$f":"'5_入力シート【検査結果表】 ドレンチャー'!$M$60","v":0},null,15,"検査結果(ドレンチャーその他の水幕を形成する防火設備）","-","上記に記載のない事項","-","1行目","-","番号",null,null,"15検査結果(ドレンチャーその他の水幕を形成する防火設備）-上記に記載のない事項-1行目-番号",null,"15検査結果(ドレンチャーその他の水幕を形成する防火設備）-上記に記載のない事項-1行目-番号"]
[null,null,null,null,{"$f":"'5_入力シート【検査結果表】 ドレンチャー'!$P$60","v":0},null,15,"検査結果(ドレンチャーその他の水幕を形成する防火設備）","-","上記に記載のない事項","-","1行目","-","検査項目",null,null,"15検査結果(ドレンチャーその他の水幕を形成する防火設備）-上記に記載のない事項-1行目-検査項目",null,"15検査結果(ドレンチャーその他の水幕を形成する防火設備）-上記に記載のない事項-1行目-検査項目"]
[null,null,null,null,{"$f":"'5_入力シート【検査結果表】 ドレンチャー'!$AG$60","v":0},null,15,"検査結果(ドレンチャーその他の水幕を形成する防火設備）","-","上記に記載のない事項","-","1行目","-","検査事項",null,null,"15検査結果(ドレンチャーその他の水幕を形成する防火設備）-上記に記載のない事項-1行目-検査事項",null,"15検査結果(ドレンチャーその他の水幕を形成する防火設備）-上記に記載のない事項-1行目-検査事項"]
[null,null,null,null,{"$f":"'5_入力シート【検査結果表】 ドレンチャー'!$BA$60","v":0},null,15,"検査結果(ドレンチャーその他の水幕を形成する防火設備）","-","上記に記載のない事項","-","1行目","-","検査結果",null,null,"15検査結果(ドレンチャーその他の水幕を形成する防火設備）-上記に記載のない事項-1行目-検査結果",null,"15検査結果(ドレンチャーその他の水幕を形成する防火設備）-上記に記載のない事項-1行目-検査結果"]
[null,null,null,null,{"$f":"'5_入力シート【検査結果表】 ドレンチャー'!$BM$60","v":0},null,15,"検査結果(ドレンチャーその他の水幕を形成する防火設備）","-","上記に記載のない事項","-","1行目","-","検査者番号",null,null,"15検査結果(ドレンチャーその他の水幕を形成する防火設備）-上記に記載のない事項-1行目-検査者番号",null,"15検査結果(ドレンチャーその他の水幕を形成する防火設備）-上記に記載のない事項-1行目-検査者番号"]
[null,null,null,null,{"$f":"'5_入力シート【検査結果表】 ドレンチャー'!$BO$60","v":0},null,15,"検査結果(ドレンチャーその他の水幕を形成する防火設備）","-","上記に記載のない事項","-","1行目","-","指摘の具体的内容等",null,null,"15検査結果(ドレンチャーその他の水幕を形成する防火設備）-上記に記載のない事項-1行目-指摘の具体的内容等",null,"15検査結果(ドレンチャーその他の水幕を形成する防火設備）-上記に記載のない事項-1行目-指摘の具体的内容等"]
[null,null,null,null,{"$f":"'5_入力シート【検査結果表】 ドレンチャー'!$BY$60","v":0},null,15,"検査結果(ドレンチャーその他の水幕を形成する防火設備）","-","上記に記載のない事項","-","1行目","-","改善策の具体的内容等",null,null,"15検査結果(ドレンチャーその他の水幕を形成する防火設備）-上記に記載のない事項-1行目-改善策の具体的内容等",null,"15検査結果(ドレンチャーその他の水幕を形成する防火設備）-上記に記載のない事項-1行目-改善策の具体的内容等"]
[null,null,null,null,{"$f":"'5_入力シート【検査結果表】 ドレンチャー'!$CN$60","v":0},null,15,"検査結果(ドレンチャーその他の水幕を形成する防火設備）","-","上記に記載のない事項","-","1行目","-","改善（予定）年月","-","年（令和）",{"$f":"CONCATENATE(G1492,H1492,I1492,J1492,K1492,L1492,M1492,N1492,O1492,P1492)","v":"15検査結果(ドレンチャーその他の水幕を形成する防火設備）-上記に記載のない事項-1行目-改善（予定）年月-年（令和）"},null,"15検査結果(ドレンチャーその他の水幕を形成する防火設備）-上記に記載のない事項-1行目-改善（予定）年月-年（令和）"]
[null,null,null,null,{"$f":"'5_入力シート【検査結果表】 ドレンチャー'!$CQ$60","v":0},null,15,"検査結果(ドレンチャーその他の水幕を形成する防火設備）","-","上記に記載のない事項","-","1行目","-","改善（予定）年月","-","月","15検査結果(ドレンチャーその他の水幕を形成する防火設備）-上記に記載のない事項-1行目-改善（予定）年月-月",null,"15検査結果(ドレンチャーその他の水幕を形成する防火設備）-上記に記載のない事項-1行目-改善（予定）年月-月"]
[null,null,null,null,{"$f":"'5_入力シート【検査結果表】 ドレンチャー'!$CT$60","v":0},null,15,"検査結果(ドレンチャーその他の水幕を形成する防火設備）","-","上記に記載のない事項","-","1行目","-","改善（予定）年月","-","状況","15検査結果(ドレンチャーその他の水幕を形成する防火設備）-上記に記載のない事項-1行目-改善（予定）年月-状況",null,"15検査結果(ドレンチャーその他の水幕を形成する防火設備）-上記に記載のない事項-1行目-改善（予定）年月-状況"]
[null,null,null,null,{"$f":"'5_入力シート【検査結果表】 ドレンチャー'!$M$61","v":0},null,15,"検査結果(ドレンチャーその他の水幕を形成する防火設備）","-","上記に記載のない事項","-","2行目","-","番号",null,null,"15検査結果(ドレンチャーその他の水幕を形成する防火設備）-上記に記載のない事項-2行目-番号",null,"15検査結果(ドレンチャーその他の水幕を形成する防火設備）-上記に記載のない事項-2行目-番号"]
[null,null,null,null,{"$f":"'5_入力シート【検査結果表】 ドレンチャー'!$P$61","v":0},null,15,"検査結果(ドレンチャーその他の水幕を形成する防火設備）","-","上記に記載のない事項","-","2行目","-","検査項目",null,null,"15検査結果(ドレンチャーその他の水幕を形成する防火設備）-上記に記載のない事項-2行目-検査項目",null,"15検査結果(ドレンチャーその他の水幕を形成する防火設備）-上記に記載のない事項-2行目-検査項目"]
[null,null,null,null,{"$f":"'5_入力シート【検査結果表】 ドレンチャー'!$AG$61","v":0},null,15,"検査結果(ドレンチャーその他の水幕を形成する防火設備）","-","上記に記載のない事項","-","2行目","-","検査事項",null,null,"15検査結果(ドレンチャーその他の水幕を形成する防火設備）-上記に記載のない事項-2行目-検査事項",null,"15検査結果(ドレンチャーその他の水幕を形成する防火設備）-上記に記載のない事項-2行目-検査事項"]
[null,null,null,null,{"$f":"'5_入力シート【検査結果表】 ドレンチャー'!$BA$61","v":0},null,15,"検査結果(ドレンチャーその他の水幕を形成する防火設備）","-","上記に記載のない事項","-","2行目","-","検査結果",null,null,"15検査結果(ドレンチャーその他の水幕を形成する防火設備）-上記に記載のない事項-2行目-検査結果",null,"15検査結果(ドレンチャーその他の水幕を形成する防火設備）-上記に記載のない事項-2行目-検査結果"]
[null,null,null,null,{"$f":"'5_入力シート【検査結果表】 ドレンチャー'!$BM$61","v":0},null,15,"検査結果(ドレンチャーその他の水幕を形成する防火設備）","-","上記に記載のない事項","-","2行目","-","検査者番号",null,null,"15検査結果(ドレンチャーその他の水幕を形成する防火設備）-上記に記載のない事項-2行目-検査者番号",null,"15検査結果(ドレンチャーその他の水幕を形成する防火設備）-上記に記載のない事項-2行目-検査者番号"]
[null,null,null,null,{"$f":"'5_入力シート【検査結果表】 ドレンチャー'!$BO$61","v":0},null,15,"検査結果(ドレンチャーその他の水幕を形成する防火設備）","-","上記に記載のない事項","-","2行目","-","指摘の具体的内容等",null,null,"15検査結果(ドレンチャーその他の水幕を形成する防火設備）-上記に記載のない事項-2行目-指摘の具体的内容等",null,"15検査結果(ドレンチャーその他の水幕を形成する防火設備）-上記に記載のない事項-2行目-指摘の具体的内容等"]
[null,null,null,null,{"$f":"'5_入力シート【検査結果表】 ドレンチャー'!$BY$61","v":0},null,15,"検査結果(ドレンチャーその他の水幕を形成する防火設備）","-","上記に記載のない事項","-","2行目","-","改善策の具体的内容等",null,null,"15検査結果(ドレンチャーその他の水幕を形成する防火設備）-上記に記載のない事項-2行目-改善策の具体的内容等",null,"15検査結果(ドレンチャーその他の水幕を形成する防火設備）-上記に記載のない事項-2行目-改善策の具体的内容等"]
[null,null,null,null,{"$f":"'5_入力シート【検査結果表】 ドレンチャー'!$CN$61","v":0},null,15,"検査結果(ドレンチャーその他の水幕を形成する防火設備）","-","上記に記載のない事項","-","2行目","-","改善（予定）年月","-","年（令和）","15検査結果(ドレンチャーその他の水幕を形成する防火設備）-上記に記載のない事項-2行目-改善（予定）年月-年（令和）",null,"15検査結果(ドレンチャーその他の水幕を形成する防火設備）-上記に記載のない事項-2行目-改善（予定）年月-年（令和）"]
[null,null,null,null,{"$f":"'5_入力シート【検査結果表】 ドレンチャー'!$CQ$61","v":0},null,15,"検査結果(ドレンチャーその他の水幕を形成する防火設備）","-","上記に記載のない事項","-","2行目","-","改善（予定）年月","-","月","15検査結果(ドレンチャーその他の水幕を形成する防火設備）-上記に記載のない事項-2行目-改善（予定）年月-月",null,"15検査結果(ドレンチャーその他の水幕を形成する防火設備）-上記に記載のない事項-2行目-改善（予定）年月-月"]
[null,null,null,null,{"$f":"'5_入力シート【検査結果表】 ドレンチャー'!$CT$61","v":0},null,15,"検査結果(ドレンチャーその他の水幕を形成する防火設備）","-","上記に記載のない事項","-","2行目","-","改善（予定）年月","-","状況","15検査結果(ドレンチャーその他の水幕を形成する防火設備）-上記に記載のない事項-2行目-改善（予定）年月-状況",null,"15検査結果(ドレンチャーその他の水幕を形成する防火設備）-上記に記載のない事項-2行目-改善（予定）年月-状況"]
[null,null,null,null,{"$f":"'5_入力シート【検査結果表】 ドレンチャー'!$M$62","v":0},null,15,"検査結果(ドレンチャーその他の水幕を形成する防火設備）","-","上記に記載のない事項","-","3行目","-","番号",null,null,"15検査結果(ドレンチャーその他の水幕を形成する防火設備）-上記に記載のない事項-3行目-番号",null,"15検査結果(ドレンチャーその他の水幕を形成する防火設備）-上記に記載のない事項-3行目-番号"]
[null,null,null,null,{"$f":"'5_入力シート【検査結果表】 ドレンチャー'!$P$62","v":0},null,15,"検査結果(ドレンチャーその他の水幕を形成する防火設備）","-","上記に記載のない事項","-","3行目","-","検査項目",null,null,"15検査結果(ドレンチャーその他の水幕を形成する防火設備）-上記に記載のない事項-3行目-検査項目",null,"15検査結果(ドレンチャーその他の水幕を形成する防火設備）-上記に記載のない事項-3行目-検査項目"]
[null,null,null,null,{"$f":"'5_入力シート【検査結果表】 ドレンチャー'!$AG$62","v":0},null,15,"検査結果(ドレンチャーその他の水幕を形成する防火設備）","-","上記に記載のない事項","-","3行目","-","検査事項",null,null,"15検査結果(ドレンチャーその他の水幕を形成する防火設備）-上記に記載のない事項-3行目-検査事項",null,"15検査結果(ドレンチャーその他の水幕を形成する防火設備）-上記に記載のない事項-3行目-検査事項"]
[null,null,null,null,{"$f":"'5_入力シート【検査結果表】 ドレンチャー'!$BA$62","v":0},null,15,"検査結果(ドレンチャーその他の水幕を形成する防火設備）","-","上記に記載のない事項","-","3行目","-","検査結果",null,null,"15検査結果(ドレンチャーその他の水幕を形成する防火設備）-上記に記載のない事項-3行目-検査結果",null,"15検査結果(ドレンチャーその他の水幕を形成する防火設備）-上記に記載のない事項-3行目-検査結果"]
[null,null,null,null,{"$f":"'5_入力シート【検査結果表】 ドレンチャー'!$BM$62","v":0},null,15,"検査結果(ドレンチャーその他の水幕を形成する防火設備）","-","上記に記載のない事項","-","3行目","-","検査者番号",null,null,"15検査結果(ドレンチャーその他の水幕を形成する防火設備）-上記に記載のない事項-3行目-検査者番号",null,"15検査結果(ドレンチャーその他の水幕を形成する防火設備）-上記に記載のない事項-3行目-検査者番号"]
[null,null,null,null,{"$f":"'5_入力シート【検査結果表】 ドレンチャー'!$BO$62","v":0},null,15,"検査結果(ドレンチャーその他の水幕を形成する防火設備）","-","上記に記載のない事項","-","3行目","-","指摘の具体的内容等",null,null,"15検査結果(ドレンチャーその他の水幕を形成する防火設備）-上記に記載のない事項-3行目-指摘の具体的内容等",null,"15検査結果(ドレンチャーその他の水幕を形成する防火設備）-上記に記載のない事項-3行目-指摘の具体的内容等"]
[null,null,null,null,{"$f":"'5_入力シート【検査結果表】 ドレンチャー'!$BY$62","v":0},null,15,"検査結果(ドレンチャーその他の水幕を形成する防火設備）","-","上記に記載のない事項","-","3行目","-","改善策の具体的内容等",null,null,"15検査結果(ドレンチャーその他の水幕を形成する防火設備）-上記に記載のない事項-3行目-改善策の具体的内容等",null,"15検査結果(ドレンチャーその他の水幕を形成する防火設備）-上記に記載のない事項-3行目-改善策の具体的内容等"]
[null,null,null,null,{"$f":"'5_入力シート【検査結果表】 ドレンチャー'!$CN$62","v":0},null,15,"検査結果(ドレンチャーその他の水幕を形成する防火設備）","-","上記に記載のない事項","-","3行目","-","改善（予定）年月","-","年（令和）","15検査結果(ドレンチャーその他の水幕を形成する防火設備）-上記に記載のない事項-3行目-改善（予定）年月-年（令和）",null,"15検査結果(ドレンチャーその他の水幕を形成する防火設備）-上記に記載のない事項-3行目-改善（予定）年月-年（令和）"]
[null,null,null,null,{"$f":"'5_入力シート【検査結果表】 ドレンチャー'!$CQ$62","v":0},null,15,"検査結果(ドレンチャーその他の水幕を形成する防火設備）","-","上記に記載のない事項","-","3行目","-","改善（予定）年月","-","月","15検査結果(ドレンチャーその他の水幕を形成する防火設備）-上記に記載のない事項-3行目-改善（予定）年月-月",null,"15検査結果(ドレンチャーその他の水幕を形成する防火設備）-上記に記載のない事項-3行目-改善（予定）年月-月"]
[null,null,null,null,{"$f":"'5_入力シート【検査結果表】 ドレンチャー'!$CT$62","v":0},null,15,"検査結果(ドレンチャーその他の水幕を形成する防火設備）","-","上記に記載のない事項","-","3行目","-","改善（予定）年月","-","状況","15検査結果(ドレンチャーその他の水幕を形成する防火設備）-上記に記載のない事項-3行目-改善（予定）年月-状況",null,"15検査結果(ドレンチャーその他の水幕を形成する防火設備）-上記に記載のない事項-3行目-改善（予定）年月-状況"]
[null,null,null,null,{"$f":"'5_入力シート【検査結果表】 ドレンチャー'!$M$63","v":0},null,15,"検査結果(ドレンチャーその他の水幕を形成する防火設備）","-","上記に記載のない事項","-","4行目","-","番号",null,null,"15検査結果(ドレンチャーその他の水幕を形成する防火設備）-上記に記載のない事項-4行目-番号",null,"15検査結果(ドレンチャーその他の水幕を形成する防火設備）-上記に記載のない事項-4行目-番号"]
[null,null,null,null,{"$f":"'5_入力シート【検査結果表】 ドレンチャー'!$P$63","v":0},null,15,"検査結果(ドレンチャーその他の水幕を形成する防火設備）","-","上記に記載のない事項","-","4行目","-","検査項目",null,null,"15検査結果(ドレンチャーその他の水幕を形成する防火設備）-上記に記載のない事項-4行目-検査項目",null,"15検査結果(ドレンチャーその他の水幕を形成する防火設備）-上記に記載のない事項-4行目-検査項目"]
[null,null,null,null,{"$f":"'5_入力シート【検査結果表】 ドレンチャー'!$AG$63","v":0},null,15,"検査結果(ドレンチャーその他の水幕を形成する防火設備）","-","上記に記載のない事項","-","4行目","-","検査事項",null,null,"15検査結果(ドレンチャーその他の水幕を形成する防火設備）-上記に記載のない事項-4行目-検査事項",null,"15検査結果(ドレンチャーその他の水幕を形成する防火設備）-上記に記載のない事項-4行目-検査事項"]
[null,null,null,null,{"$f":"'5_入力シート【検査結果表】 ドレンチャー'!$BA$63","v":0},null,15,"検査結果(ドレンチャーその他の水幕を形成する防火設備）","-","上記に記載のない事項","-","4行目","-","検査結果",null,null,"15検査結果(ドレンチャーその他の水幕を形成する防火設備）-上記に記載のない事項-4行目-検査結果",null,"15検査結果(ドレンチャーその他の水幕を形成する防火設備）-上記に記載のない事項-4行目-検査結果"]
[null,null,null,null,{"$f":"'5_入力シート【検査結果表】 ドレンチャー'!$BM$63","v":0},null,15,"検査結果(ドレンチャーその他の水幕を形成する防火設備）","-","上記に記載のない事項","-","4行目","-","検査者番号",null,null,"15検査結果(ドレンチャーその他の水幕を形成する防火設備）-上記に記載のない事項-4行目-検査者番号",null,"15検査結果(ドレンチャーその他の水幕を形成する防火設備）-上記に記載のない事項-4行目-検査者番号"]
[null,null,null,null,{"$f":"'5_入力シート【検査結果表】 ドレンチャー'!$BO$63","v":0},null,15,"検査結果(ドレンチャーその他の水幕を形成する防火設備）","-","上記に記載のない事項","-","4行目","-","指摘の具体的内容等",null,null,"15検査結果(ドレンチャーその他の水幕を形成する防火設備）-上記に記載のない事項-4行目-指摘の具体的内容等",null,"15検査結果(ドレンチャーその他の水幕を形成する防火設備）-上記に記載のない事項-4行目-指摘の具体的内容等"]
[null,null,null,null,{"$f":"'5_入力シート【検査結果表】 ドレンチャー'!$BY$63","v":0},null,15,"検査結果(ドレンチャーその他の水幕を形成する防火設備）","-","上記に記載のない事項","-","4行目","-","改善策の具体的内容等",null,null,"15検査結果(ドレンチャーその他の水幕を形成する防火設備）-上記に記載のない事項-4行目-改善策の具体的内容等",null,"15検査結果(ドレンチャーその他の水幕を形成する防火設備）-上記に記載のない事項-4行目-改善策の具体的内容等"]
[null,null,null,null,{"$f":"'5_入力シート【検査結果表】 ドレンチャー'!$CN$63","v":0},null,15,"検査結果(ドレンチャーその他の水幕を形成する防火設備）","-","上記に記載のない事項","-","4行目","-","改善（予定）年月","-","年（令和）","15検査結果(ドレンチャーその他の水幕を形成する防火設備）-上記に記載のない事項-4行目-改善（予定）年月-年（令和）",null,"15検査結果(ドレンチャーその他の水幕を形成する防火設備）-上記に記載のない事項-4行目-改善（予定）年月-年（令和）"]
[null,null,null,null,{"$f":"'5_入力シート【検査結果表】 ドレンチャー'!$CQ$63","v":0},null,15,"検査結果(ドレンチャーその他の水幕を形成する防火設備）","-","上記に記載のない事項","-","4行目","-","改善（予定）年月","-","月","15検査結果(ドレンチャーその他の水幕を形成する防火設備）-上記に記載のない事項-4行目-改善（予定）年月-月",null,"15検査結果(ドレンチャーその他の水幕を形成する防火設備）-上記に記載のない事項-4行目-改善（予定）年月-月"]
[null,null,null,null,{"$f":"'5_入力シート【検査結果表】 ドレンチャー'!$CT$63","v":0},null,15,"検査結果(ドレンチャーその他の水幕を形成する防火設備）","-","上記に記載のない事項","-","4行目","-","改善（予定）年月","-","状況","15検査結果(ドレンチャーその他の水幕を形成する防火設備）-上記に記載のない事項-4行目-改善（予定）年月-状況",null,"15検査結果(ドレンチャーその他の水幕を形成する防火設備）-上記に記載のない事項-4行目-改善（予定）年月-状況"]
[null,null,null,null,{"$f":"'5_入力シート【検査結果表】 ドレンチャー'!$M$64","v":0},null,15,"検査結果(ドレンチャーその他の水幕を形成する防火設備）","-","上記に記載のない事項","-","5行目","-","番号",null,null,"15検査結果(ドレンチャーその他の水幕を形成する防火設備）-上記に記載のない事項-5行目-番号",null,"15検査結果(ドレンチャーその他の水幕を形成する防火設備）-上記に記載のない事項-5行目-番号"]
[null,null,null,null,{"$f":"'5_入力シート【検査結果表】 ドレンチャー'!$P$64","v":0},null,15,"検査結果(ドレンチャーその他の水幕を形成する防火設備）","-","上記に記載のない事項","-","5行目","-","検査項目",null,null,"15検査結果(ドレンチャーその他の水幕を形成する防火設備）-上記に記載のない事項-5行目-検査項目",null,"15検査結果(ドレンチャーその他の水幕を形成する防火設備）-上記に記載のない事項-5行目-検査項目"]
[null,null,null,null,{"$f":"'5_入力シート【検査結果表】 ドレンチャー'!$AG$64","v":0},null,15,"検査結果(ドレンチャーその他の水幕を形成する防火設備）","-","上記に記載のない事項","-","5行目","-","検査事項",null,null,"15検査結果(ドレンチャーその他の水幕を形成する防火設備）-上記に記載のない事項-5行目-検査事項",null,"15検査結果(ドレンチャーその他の水幕を形成する防火設備）-上記に記載のない事項-5行目-検査事項"]
[null,null,null,null,{"$f":"'5_入力シート【検査結果表】 ドレンチャー'!$BA$64","v":0},null,15,"検査結果(ドレンチャーその他の水幕を形成する防火設備）","-","上記に記載のない事項","-","5行目","-","検査結果",null,null,"15検査結果(ドレンチャーその他の水幕を形成する防火設備）-上記に記載のない事項-5行目-検査結果",null,"15検査結果(ドレンチャーその他の水幕を形成する防火設備）-上記に記載のない事項-5行目-検査結果"]
[null,null,null,null,{"$f":"'5_入力シート【検査結果表】 ドレンチャー'!$BM$64","v":0},null,15,"検査結果(ドレンチャーその他の水幕を形成する防火設備）","-","上記に記載のない事項","-","5行目","-","検査者番号",null,null,"15検査結果(ドレンチャーその他の水幕を形成する防火設備）-上記に記載のない事項-5行目-検査者番号",null,"15検査結果(ドレンチャーその他の水幕を形成する防火設備）-上記に記載のない事項-5行目-検査者番号"]
[null,null,null,null,{"$f":"'5_入力シート【検査結果表】 ドレンチャー'!$BO$64","v":0},null,15,"検査結果(ドレンチャーその他の水幕を形成する防火設備）","-","上記に記載のない事項","-","5行目","-","指摘の具体的内容等",null,null,"15検査結果(ドレンチャーその他の水幕を形成する防火設備）-上記に記載のない事項-5行目-指摘の具体的内容等",null,"15検査結果(ドレンチャーその他の水幕を形成する防火設備）-上記に記載のない事項-5行目-指摘の具体的内容等"]
[null,null,null,null,{"$f":"'5_入力シート【検査結果表】 ドレンチャー'!$BY$64","v":0},null,15,"検査結果(ドレンチャーその他の水幕を形成する防火設備）","-","上記に記載のない事項","-","5行目","-","改善策の具体的内容等",null,null,"15検査結果(ドレンチャーその他の水幕を形成する防火設備）-上記に記載のない事項-5行目-改善策の具体的内容等",null,"15検査結果(ドレンチャーその他の水幕を形成する防火設備）-上記に記載のない事項-5行目-改善策の具体的内容等"]
[null,null,null,null,{"$f":"'5_入力シート【検査結果表】 ドレンチャー'!$CN$64","v":0},null,15,"検査結果(ドレンチャーその他の水幕を形成する防火設備）","-","上記に記載のない事項","-","5行目","-","改善（予定）年月","-","年（令和）","15検査結果(ドレンチャーその他の水幕を形成する防火設備）-上記に記載のない事項-5行目-改善（予定）年月-年（令和）",null,"15検査結果(ドレンチャーその他の水幕を形成する防火設備）-上記に記載のない事項-5行目-改善（予定）年月-年（令和）"]
[null,null,null,null,{"$f":"'5_入力シート【検査結果表】 ドレンチャー'!$CQ$64","v":0},null,15,"検査結果(ドレンチャーその他の水幕を形成する防火設備）","-","上記に記載のない事項","-","5行目","-","改善（予定）年月","-","月","15検査結果(ドレンチャーその他の水幕を形成する防火設備）-上記に記載のない事項-5行目-改善（予定）年月-月",null,"15検査結果(ドレンチャーその他の水幕を形成する防火設備）-上記に記載のない事項-5行目-改善（予定）年月-月"]
[null,null,null,null,{"$f":"'5_入力シート【検査結果表】 ドレンチャー'!$CT$64","v":0},null,15,"検査結果(ドレンチャーその他の水幕を形成する防火設備）","-","上記に記載のない事項","-","5行目","-","改善（予定）年月","-","状況","15検査結果(ドレンチャーその他の水幕を形成する防火設備）-上記に記載のない事項-5行目-改善（予定）年月-状況",null,"15検査結果(ドレンチャーその他の水幕を形成する防火設備）-上記に記載のない事項-5行目-改善（予定）年月-状況"]
[null,null,null,null,{"$f":"'5_入力シート【検査結果表】 ドレンチャー'!$M$65","v":0},null,15,"検査結果(ドレンチャーその他の水幕を形成する防火設備）","-","上記に記載のない事項","-","6行目","-","番号",null,null,"15検査結果(ドレンチャーその他の水幕を形成する防火設備）-上記に記載のない事項-6行目-番号",null,"15検査結果(ドレンチャーその他の水幕を形成する防火設備）-上記に記載のない事項-6行目-番号"]
[null,null,null,null,{"$f":"'5_入力シート【検査結果表】 ドレンチャー'!$P$65","v":0},null,15,"検査結果(ドレンチャーその他の水幕を形成する防火設備）","-","上記に記載のない事項","-","6行目","-","検査項目",null,null,"15検査結果(ドレンチャーその他の水幕を形成する防火設備）-上記に記載のない事項-6行目-検査項目",null,"15検査結果(ドレンチャーその他の水幕を形成する防火設備）-上記に記載のない事項-6行目-検査項目"]
[null,null,null,null,{"$f":"'5_入力シート【検査結果表】 ドレンチャー'!$AG$65","v":0},null,15,"検査結果(ドレンチャーその他の水幕を形成する防火設備）","-","上記に記載のない事項","-","6行目","-","検査事項",null,null,"15検査結果(ドレンチャーその他の水幕を形成する防火設備）-上記に記載のない事項-6行目-検査事項",null,"15検査結果(ドレンチャーその他の水幕を形成する防火設備）-上記に記載のない事項-6行目-検査事項"]
[null,null,null,null,{"$f":"'5_入力シート【検査結果表】 ドレンチャー'!$BA$65","v":0},null,15,"検査結果(ドレンチャーその他の水幕を形成する防火設備）","-","上記に記載のない事項","-","6行目","-","検査結果",null,null,"15検査結果(ドレンチャーその他の水幕を形成する防火設備）-上記に記載のない事項-6行目-検査結果",null,"15検査結果(ドレンチャーその他の水幕を形成する防火設備）-上記に記載のない事項-6行目-検査結果"]
[null,null,null,null,{"$f":"'5_入力シート【検査結果表】 ドレンチャー'!$BM$65","v":0},null,15,"検査結果(ドレンチャーその他の水幕を形成する防火設備）","-","上記に記載のない事項","-","6行目","-","検査者番号",null,null,"15検査結果(ドレンチャーその他の水幕を形成する防火設備）-上記に記載のない事項-6行目-検査者番号",null,"15検査結果(ドレンチャーその他の水幕を形成する防火設備）-上記に記載のない事項-6行目-検査者番号"]
[null,null,null,null,{"$f":"'5_入力シート【検査結果表】 ドレンチャー'!$BO$65","v":0},null,15,"検査結果(ドレンチャーその他の水幕を形成する防火設備）","-","上記に記載のない事項","-","6行目","-","指摘の具体的内容等",null,null,"15検査結果(ドレンチャーその他の水幕を形成する防火設備）-上記に記載のない事項-6行目-指摘の具体的内容等",null,"15検査結果(ドレンチャーその他の水幕を形成する防火設備）-上記に記載のない事項-6行目-指摘の具体的内容等"]
[null,null,null,null,{"$f":"'5_入力シート【検査結果表】 ドレンチャー'!$BY$65","v":0},null,15,"検査結果(ドレンチャーその他の水幕を形成する防火設備）","-","上記に記載のない事項","-","6行目","-","改善策の具体的内容等",null,null,"15検査結果(ドレンチャーその他の水幕を形成する防火設備）-上記に記載のない事項-6行目-改善策の具体的内容等",null,"15検査結果(ドレンチャーその他の水幕を形成する防火設備）-上記に記載のない事項-6行目-改善策の具体的内容等"]
[null,null,null,null,{"$f":"'5_入力シート【検査結果表】 ドレンチャー'!$CN$65","v":0},null,15,"検査結果(ドレンチャーその他の水幕を形成する防火設備）","-","上記に記載のない事項","-","6行目","-","改善（予定）年月","-","年（令和）","15検査結果(ドレンチャーその他の水幕を形成する防火設備）-上記に記載のない事項-6行目-改善（予定）年月-年（令和）",null,"15検査結果(ドレンチャーその他の水幕を形成する防火設備）-上記に記載のない事項-6行目-改善（予定）年月-年（令和）"]
[null,null,null,null,{"$f":"'5_入力シート【検査結果表】 ドレンチャー'!$CQ$65","v":0},null,15,"検査結果(ドレンチャーその他の水幕を形成する防火設備）","-","上記に記載のない事項","-","6行目","-","改善（予定）年月","-","月","15検査結果(ドレンチャーその他の水幕を形成する防火設備）-上記に記載のない事項-6行目-改善（予定）年月-月",null,"15検査結果(ドレンチャーその他の水幕を形成する防火設備）-上記に記載のない事項-6行目-改善（予定）年月-月"]
[null,null,null,null,{"$f":"'5_入力シート【検査結果表】 ドレンチャー'!$CT$65","v":0},null,15,"検査結果(ドレンチャーその他の水幕を形成する防火設備）","-","上記に記載のない事項","-","6行目","-","改善（予定）年月","-","状況","15検査結果(ドレンチャーその他の水幕を形成する防火設備）-上記に記載のない事項-6行目-改善（予定）年月-状況",null,"15検査結果(ドレンチャーその他の水幕を形成する防火設備）-上記に記載のない事項-6行目-改善（予定）年月-状況"]
[null,null,null,null,{"$f":"'5_入力シート【検査結果表】 ドレンチャー'!$M$66","v":0},null,15,"検査結果(ドレンチャーその他の水幕を形成する防火設備）","-","上記に記載のない事項","-","7行目","-","番号",null,null,"15検査結果(ドレンチャーその他の水幕を形成する防火設備）-上記に記載のない事項-7行目-番号",null,"15検査結果(ドレンチャーその他の水幕を形成する防火設備）-上記に記載のない事項-7行目-番号"]
[null,null,null,null,{"$f":"'5_入力シート【検査結果表】 ドレンチャー'!$P$66","v":0},null,15,"検査結果(ドレンチャーその他の水幕を形成する防火設備）","-","上記に記載のない事項","-","7行目","-","検査項目",null,null,"15検査結果(ドレンチャーその他の水幕を形成する防火設備）-上記に記載のない事項-7行目-検査項目",null,"15検査結果(ドレンチャーその他の水幕を形成する防火設備）-上記に記載のない事項-7行目-検査項目"]
[null,null,null,null,{"$f":"'5_入力シート【検査結果表】 ドレンチャー'!$AG$66","v":0},null,15,"検査結果(ドレンチャーその他の水幕を形成する防火設備）","-","上記に記載のない事項","-","7行目","-","検査事項",null,null,"15検査結果(ドレンチャーその他の水幕を形成する防火設備）-上記に記載のない事項-7行目-検査事項",null,"15検査結果(ドレンチャーその他の水幕を形成する防火設備）-上記に記載のない事項-7行目-検査事項"]
[null,null,null,null,{"$f":"'5_入力シート【検査結果表】 ドレンチャー'!$BA$66","v":0},null,15,"検査結果(ドレンチャーその他の水幕を形成する防火設備）","-","上記に記載のない事項","-","7行目","-","検査結果",null,null,"15検査結果(ドレンチャーその他の水幕を形成する防火設備）-上記に記載のない事項-7行目-検査結果",null,"15検査結果(ドレンチャーその他の水幕を形成する防火設備）-上記に記載のない事項-7行目-検査結果"]
[null,null,null,null,{"$f":"'5_入力シート【検査結果表】 ドレンチャー'!$BM$66","v":0},null,15,"検査結果(ドレンチャーその他の水幕を形成する防火設備）","-","上記に記載のない事項","-","7行目","-","検査者番号",null,null,"15検査結果(ドレンチャーその他の水幕を形成する防火設備）-上記に記載のない事項-7行目-検査者番号",null,"15検査結果(ドレンチャーその他の水幕を形成する防火設備）-上記に記載のない事項-7行目-検査者番号"]
[null,null,null,null,{"$f":"'5_入力シート【検査結果表】 ドレンチャー'!$BO$66","v":0},null,15,"検査結果(ドレンチャーその他の水幕を形成する防火設備）","-","上記に記載のない事項","-","7行目","-","指摘の具体的内容等",null,null,"15検査結果(ドレンチャーその他の水幕を形成する防火設備）-上記に記載のない事項-7行目-指摘の具体的内容等",null,"15検査結果(ドレンチャーその他の水幕を形成する防火設備）-上記に記載のない事項-7行目-指摘の具体的内容等"]
[null,null,null,null,{"$f":"'5_入力シート【検査結果表】 ドレンチャー'!$BY$66","v":0},null,15,"検査結果(ドレンチャーその他の水幕を形成する防火設備）","-","上記に記載のない事項","-","7行目","-","改善策の具体的内容等",null,null,"15検査結果(ドレンチャーその他の水幕を形成する防火設備）-上記に記載のない事項-7行目-改善策の具体的内容等",null,"15検査結果(ドレンチャーその他の水幕を形成する防火設備）-上記に記載のない事項-7行目-改善策の具体的内容等"]
[null,null,null,null,{"$f":"'5_入力シート【検査結果表】 ドレンチャー'!$CN$66","v":0},null,15,"検査結果(ドレンチャーその他の水幕を形成する防火設備）","-","上記に記載のない事項","-","7行目","-","改善（予定）年月","-","年（令和）","15検査結果(ドレンチャーその他の水幕を形成する防火設備）-上記に記載のない事項-7行目-改善（予定）年月-年（令和）",null,"15検査結果(ドレンチャーその他の水幕を形成する防火設備）-上記に記載のない事項-7行目-改善（予定）年月-年（令和）"]
[null,null,null,null,{"$f":"'5_入力シート【検査結果表】 ドレンチャー'!$CQ$66","v":0},null,15,"検査結果(ドレンチャーその他の水幕を形成する防火設備）","-","上記に記載のない事項","-","7行目","-","改善（予定）年月","-","月","15検査結果(ドレンチャーその他の水幕を形成する防火設備）-上記に記載のない事項-7行目-改善（予定）年月-月",null,"15検査結果(ドレンチャーその他の水幕を形成する防火設備）-上記に記載のない事項-7行目-改善（予定）年月-月"]
[null,null,null,null,{"$f":"'5_入力シート【検査結果表】 ドレンチャー'!$CT$66","v":0},null,15,"検査結果(ドレンチャーその他の水幕を形成する防火設備）","-","上記に記載のない事項","-","7行目","-","改善（予定）年月","-","状況","15検査結果(ドレンチャーその他の水幕を形成する防火設備）-上記に記載のない事項-7行目-改善（予定）年月-状況",null,"15検査結果(ドレンチャーその他の水幕を形成する防火設備）-上記に記載のない事項-7行目-改善（予定）年月-状況"]
[null,null,null,null,{"$f":"'5_入力シート【検査結果表】 ドレンチャー'!$M$67","v":0},null,15,"検査結果(ドレンチャーその他の水幕を形成する防火設備）","-","上記に記載のない事項","-","8行目","-","番号",null,null,"15検査結果(ドレンチャーその他の水幕を形成する防火設備）-上記に記載のない事項-8行目-番号",null,"15検査結果(ドレンチャーその他の水幕を形成する防火設備）-上記に記載のない事項-8行目-番号"]
[null,null,null,null,{"$f":"'5_入力シート【検査結果表】 ドレンチャー'!$P$67","v":0},null,15,"検査結果(ドレンチャーその他の水幕を形成する防火設備）","-","上記に記載のない事項","-","8行目","-","検査項目",null,null,{"$f":"CONCATENATE(G1556,H1556,I1556,J1556,K1556,L1556,M1556,N1556,O1556,P1556)","v":"15検査結果(ドレンチャーその他の水幕を形成する防火設備）-上記に記載のない事項-8行目-検査項目"},null,"15検査結果(ドレンチャーその他の水幕を形成する防火設備）-上記に記載のない事項-8行目-検査項目"]
[null,null,null,null,{"$f":"'5_入力シート【検査結果表】 ドレンチャー'!$AG$67","v":0},null,15,"検査結果(ドレンチャーその他の水幕を形成する防火設備）","-","上記に記載のない事項","-","8行目","-","検査事項",null,null,"15検査結果(ドレンチャーその他の水幕を形成する防火設備）-上記に記載のない事項-8行目-検査事項",null,"15検査結果(ドレンチャーその他の水幕を形成する防火設備）-上記に記載のない事項-8行目-検査事項"]
[null,null,null,null,{"$f":"'5_入力シート【検査結果表】 ドレンチャー'!$BA$67","v":0},null,15,"検査結果(ドレンチャーその他の水幕を形成する防火設備）","-","上記に記載のない事項","-","8行目","-","検査結果",null,null,"15検査結果(ドレンチャーその他の水幕を形成する防火設備）-上記に記載のない事項-8行目-検査結果",null,"15検査結果(ドレンチャーその他の水幕を形成する防火設備）-上記に記載のない事項-8行目-検査結果"]
[null,null,null,null,{"$f":"'5_入力シート【検査結果表】 ドレンチャー'!$BM$67","v":0},null,15,"検査結果(ドレンチャーその他の水幕を形成する防火設備）","-","上記に記載のない事項","-","8行目","-","検査者番号",null,null,"15検査結果(ドレンチャーその他の水幕を形成する防火設備）-上記に記載のない事項-8行目-検査者番号",null,"15検査結果(ドレンチャーその他の水幕を形成する防火設備）-上記に記載のない事項-8行目-検査者番号"]
[null,null,null,null,{"$f":"'5_入力シート【検査結果表】 ドレンチャー'!$BO$67","v":0},null,15,"検査結果(ドレンチャーその他の水幕を形成する防火設備）","-","上記に記載のない事項","-","8行目","-","指摘の具体的内容等",null,null,"15検査結果(ドレンチャーその他の水幕を形成する防火設備）-上記に記載のない事項-8行目-指摘の具体的内容等",null,"15検査結果(ドレンチャーその他の水幕を形成する防火設備）-上記に記載のない事項-8行目-指摘の具体的内容等"]
[null,null,null,null,{"$f":"'5_入力シート【検査結果表】 ドレンチャー'!$BY$67","v":0},null,15,"検査結果(ドレンチャーその他の水幕を形成する防火設備）","-","上記に記載のない事項","-","8行目","-","改善策の具体的内容等",null,null,"15検査結果(ドレンチャーその他の水幕を形成する防火設備）-上記に記載のない事項-8行目-改善策の具体的内容等",null,"15検査結果(ドレンチャーその他の水幕を形成する防火設備）-上記に記載のない事項-8行目-改善策の具体的内容等"]
[null,null,null,null,{"$f":"'5_入力シート【検査結果表】 ドレンチャー'!$CN$67","v":0},null,15,"検査結果(ドレンチャーその他の水幕を形成する防火設備）","-","上記に記載のない事項","-","8行目","-","改善（予定）年月","-","年（令和）","15検査結果(ドレンチャーその他の水幕を形成する防火設備）-上記に記載のない事項-8行目-改善（予定）年月-年（令和）",null,"15検査結果(ドレンチャーその他の水幕を形成する防火設備）-上記に記載のない事項-8行目-改善（予定）年月-年（令和）"]
[null,null,null,null,{"$f":"'5_入力シート【検査結果表】 ドレンチャー'!$CQ$67","v":0},null,15,"検査結果(ドレンチャーその他の水幕を形成する防火設備）","-","上記に記載のない事項","-","8行目","-","改善（予定）年月","-","月","15検査結果(ドレンチャーその他の水幕を形成する防火設備）-上記に記載のない事項-8行目-改善（予定）年月-月",null,"15検査結果(ドレンチャーその他の水幕を形成する防火設備）-上記に記載のない事項-8行目-改善（予定）年月-月"]
[null,null,null,null,{"$f":"'5_入力シート【検査結果表】 ドレンチャー'!$CT$67","v":0},null,15,"検査結果(ドレンチャーその他の水幕を形成する防火設備）","-","上記に記載のない事項","-","8行目","-","改善（予定）年月","-","状況","15検査結果(ドレンチャーその他の水幕を形成する防火設備）-上記に記載のない事項-8行目-改善（予定）年月-状況",null,"15検査結果(ドレンチャーその他の水幕を形成する防火設備）-上記に記載のない事項-8行目-改善（予定）年月-状況"]
[null,null,null,null,{"$f":"'5_入力シート【検査結果表】 ドレンチャー'!$M$68","v":0},null,15,"検査結果(ドレンチャーその他の水幕を形成する防火設備）","-","上記に記載のない事項","-","9行目","-","番号",null,null,"15検査結果(ドレンチャーその他の水幕を形成する防火設備）-上記に記載のない事項-9行目-番号",null,"15検査結果(ドレンチャーその他の水幕を形成する防火設備）-上記に記載のない事項-9行目-番号"]
[null,null,null,null,{"$f":"'5_入力シート【検査結果表】 ドレンチャー'!$P$68","v":0},null,15,"検査結果(ドレンチャーその他の水幕を形成する防火設備）","-","上記に記載のない事項","-","9行目","-","検査項目",null,null,"15検査結果(ドレンチャーその他の水幕を形成する防火設備）-上記に記載のない事項-9行目-検査項目",null,"15検査結果(ドレンチャーその他の水幕を形成する防火設備）-上記に記載のない事項-9行目-検査項目"]
[null,null,null,null,{"$f":"'5_入力シート【検査結果表】 ドレンチャー'!$AG$68","v":0},null,15,"検査結果(ドレンチャーその他の水幕を形成する防火設備）","-","上記に記載のない事項","-","9行目","-","検査事項",null,null,"15検査結果(ドレンチャーその他の水幕を形成する防火設備）-上記に記載のない事項-9行目-検査事項",null,"15検査結果(ドレンチャーその他の水幕を形成する防火設備）-上記に記載のない事項-9行目-検査事項"]
[null,null,null,null,{"$f":"'5_入力シート【検査結果表】 ドレンチャー'!$BA$68","v":0},null,15,"検査結果(ドレンチャーその他の水幕を形成する防火設備）","-","上記に記載のない事項","-","9行目","-","検査結果",null,null,"15検査結果(ドレンチャーその他の水幕を形成する防火設備）-上記に記載のない事項-9行目-検査結果",null,"15検査結果(ドレンチャーその他の水幕を形成する防火設備）-上記に記載のない事項-9行目-検査結果"]
[null,null,null,null,{"$f":"'5_入力シート【検査結果表】 ドレンチャー'!$BM$68","v":0},null,15,"検査結果(ドレンチャーその他の水幕を形成する防火設備）","-","上記に記載のない事項","-","9行目","-","検査者番号",null,null,"15検査結果(ドレンチャーその他の水幕を形成する防火設備）-上記に記載のない事項-9行目-検査者番号",null,"15検査結果(ドレンチャーその他の水幕を形成する防火設備）-上記に記載のない事項-9行目-検査者番号"]
[null,null,null,null,{"$f":"'5_入力シート【検査結果表】 ドレンチャー'!$BO$68","v":0},null,15,"検査結果(ドレンチャーその他の水幕を形成する防火設備）","-","上記に記載のない事項","-","9行目","-","指摘の具体的内容等",null,null,"15検査結果(ドレンチャーその他の水幕を形成する防火設備）-上記に記載のない事項-9行目-指摘の具体的内容等",null,"15検査結果(ドレンチャーその他の水幕を形成する防火設備）-上記に記載のない事項-9行目-指摘の具体的内容等"]
[null,null,null,null,{"$f":"'5_入力シート【検査結果表】 ドレンチャー'!$BY$68","v":0},null,15,"検査結果(ドレンチャーその他の水幕を形成する防火設備）","-","上記に記載のない事項","-","9行目","-","改善策の具体的内容等",null,null,"15検査結果(ドレンチャーその他の水幕を形成する防火設備）-上記に記載のない事項-9行目-改善策の具体的内容等",null,"15検査結果(ドレンチャーその他の水幕を形成する防火設備）-上記に記載のない事項-9行目-改善策の具体的内容等"]
[null,null,null,null,{"$f":"'5_入力シート【検査結果表】 ドレンチャー'!$CN$68","v":0},null,15,"検査結果(ドレンチャーその他の水幕を形成する防火設備）","-","上記に記載のない事項","-","9行目","-","改善（予定）年月","-","年（令和）","15検査結果(ドレンチャーその他の水幕を形成する防火設備）-上記に記載のない事項-9行目-改善（予定）年月-年（令和）",null,"15検査結果(ドレンチャーその他の水幕を形成する防火設備）-上記に記載のない事項-9行目-改善（予定）年月-年（令和）"]
[null,null,null,null,{"$f":"'5_入力シート【検査結果表】 ドレンチャー'!$CQ$68","v":0},null,15,"検査結果(ドレンチャーその他の水幕を形成する防火設備）","-","上記に記載のない事項","-","9行目","-","改善（予定）年月","-","月","15検査結果(ドレンチャーその他の水幕を形成する防火設備）-上記に記載のない事項-9行目-改善（予定）年月-月",null,"15検査結果(ドレンチャーその他の水幕を形成する防火設備）-上記に記載のない事項-9行目-改善（予定）年月-月"]
[null,null,null,null,{"$f":"'5_入力シート【検査結果表】 ドレンチャー'!$CT$68","v":0},null,15,"検査結果(ドレンチャーその他の水幕を形成する防火設備）","-","上記に記載のない事項","-","9行目","-","改善（予定）年月","-","状況","15検査結果(ドレンチャーその他の水幕を形成する防火設備）-上記に記載のない事項-9行目-改善（予定）年月-状況",null,"15検査結果(ドレンチャーその他の水幕を形成する防火設備）-上記に記載のない事項-9行目-改善（予定）年月-状況"]
[null,null,null,null,{"$f":"'5_入力シート【検査結果表】 ドレンチャー'!$M$69","v":0},null,15,"検査結果(ドレンチャーその他の水幕を形成する防火設備）","-","上記に記載のない事項","-","10行目","-","番号",null,null,"15検査結果(ドレンチャーその他の水幕を形成する防火設備）-上記に記載のない事項-10行目-番号",null,"15検査結果(ドレンチャーその他の水幕を形成する防火設備）-上記に記載のない事項-10行目-番号"]
[null,null,null,null,{"$f":"'5_入力シート【検査結果表】 ドレンチャー'!$P$69","v":0},null,15,"検査結果(ドレンチャーその他の水幕を形成する防火設備）","-","上記に記載のない事項","-","10行目","-","検査項目",null,null,"15検査結果(ドレンチャーその他の水幕を形成する防火設備）-上記に記載のない事項-10行目-検査項目",null,"15検査結果(ドレンチャーその他の水幕を形成する防火設備）-上記に記載のない事項-10行目-検査項目"]
[null,null,null,null,{"$f":"'5_入力シート【検査結果表】 ドレンチャー'!$AG$69","v":0},null,15,"検査結果(ドレンチャーその他の水幕を形成する防火設備）","-","上記に記載のない事項","-","10行目","-","検査事項",null,null,"15検査結果(ドレンチャーその他の水幕を形成する防火設備）-上記に記載のない事項-10行目-検査事項",null,"15検査結果(ドレンチャーその他の水幕を形成する防火設備）-上記に記載のない事項-10行目-検査事項"]
[null,null,null,null,{"$f":"'5_入力シート【検査結果表】 ドレンチャー'!$BA$69","v":0},null,15,"検査結果(ドレンチャーその他の水幕を形成する防火設備）","-","上記に記載のない事項","-","10行目","-","検査結果",null,null,"15検査結果(ドレンチャーその他の水幕を形成する防火設備）-上記に記載のない事項-10行目-検査結果",null,"15検査結果(ドレンチャーその他の水幕を形成する防火設備）-上記に記載のない事項-10行目-検査結果"]
[null,null,null,null,{"$f":"'5_入力シート【検査結果表】 ドレンチャー'!$BM$69","v":0},null,15,"検査結果(ドレンチャーその他の水幕を形成する防火設備）","-","上記に記載のない事項","-","10行目","-","検査者番号",null,null,"15検査結果(ドレンチャーその他の水幕を形成する防火設備）-上記に記載のない事項-10行目-検査者番号",null,"15検査結果(ドレンチャーその他の水幕を形成する防火設備）-上記に記載のない事項-10行目-検査者番号"]
[null,null,null,null,{"$f":"'5_入力シート【検査結果表】 ドレンチャー'!$BO$69","v":0},null,15,"検査結果(ドレンチャーその他の水幕を形成する防火設備）","-","上記に記載のない事項","-","10行目","-","指摘の具体的内容等",null,null,"15検査結果(ドレンチャーその他の水幕を形成する防火設備）-上記に記載のない事項-10行目-指摘の具体的内容等",null,"15検査結果(ドレンチャーその他の水幕を形成する防火設備）-上記に記載のない事項-10行目-指摘の具体的内容等"]
[null,null,null,null,{"$f":"'5_入力シート【検査結果表】 ドレンチャー'!$BY$69","v":0},null,15,"検査結果(ドレンチャーその他の水幕を形成する防火設備）","-","上記に記載のない事項","-","10行目","-","改善策の具体的内容等",null,null,"15検査結果(ドレンチャーその他の水幕を形成する防火設備）-上記に記載のない事項-10行目-改善策の具体的内容等",null,"15検査結果(ドレンチャーその他の水幕を形成する防火設備）-上記に記載のない事項-10行目-改善策の具体的内容等"]
[null,null,null,null,{"$f":"'5_入力シート【検査結果表】 ドレンチャー'!$CN$69","v":0},null,15,"検査結果(ドレンチャーその他の水幕を形成する防火設備）","-","上記に記載のない事項","-","10行目","-","改善（予定）年月","-","年（令和）","15検査結果(ドレンチャーその他の水幕を形成する防火設備）-上記に記載のない事項-10行目-改善（予定）年月-年（令和）",null,"15検査結果(ドレンチャーその他の水幕を形成する防火設備）-上記に記載のない事項-10行目-改善（予定）年月-年（令和）"]
[null,null,null,null,{"$f":"'5_入力シート【検査結果表】 ドレンチャー'!$CQ$69","v":0},null,15,"検査結果(ドレンチャーその他の水幕を形成する防火設備）","-","上記に記載のない事項","-","10行目","-","改善（予定）年月","-","月","15検査結果(ドレンチャーその他の水幕を形成する防火設備）-上記に記載のない事項-10行目-改善（予定）年月-月",null,"15検査結果(ドレンチャーその他の水幕を形成する防火設備）-上記に記載のない事項-10行目-改善（予定）年月-月"]
[null,null,null,null,{"$f":"'5_入力シート【検査結果表】 ドレンチャー'!$CT$69","v":0},null,15,"検査結果(ドレンチャーその他の水幕を形成する防火設備）","-","上記に記載のない事項","-","10行目","-","改善（予定）年月","-","状況","15検査結果(ドレンチャーその他の水幕を形成する防火設備）-上記に記載のない事項-10行目-改善（予定）年月-状況",null,"15検査結果(ドレンチャーその他の水幕を形成する防火設備）-上記に記載のない事項-10行目-改善（予定）年月-状況"]
[null,null,null,null,{"$f":"'5_入力シート【検査結果表】 ドレンチャー'!$M$70","v":0},null,15,"検査結果(ドレンチャーその他の水幕を形成する防火設備）","-","上記に記載のない事項","-","11行目","-","番号",null,null,"15検査結果(ドレンチャーその他の水幕を形成する防火設備）-上記に記載のない事項-11行目-番号",null,"15検査結果(ドレンチャーその他の水幕を形成する防火設備）-上記に記載のない事項-11行目-番号"]
[null,null,null,null,{"$f":"'5_入力シート【検査結果表】 ドレンチャー'!$P$70","v":0},null,15,"検査結果(ドレンチャーその他の水幕を形成する防火設備）","-","上記に記載のない事項","-","11行目","-","検査項目",null,null,"15検査結果(ドレンチャーその他の水幕を形成する防火設備）-上記に記載のない事項-11行目-検査項目",null,"15検査結果(ドレンチャーその他の水幕を形成する防火設備）-上記に記載のない事項-11行目-検査項目"]
[null,null,null,null,{"$f":"'5_入力シート【検査結果表】 ドレンチャー'!$AG$70","v":0},null,15,"検査結果(ドレンチャーその他の水幕を形成する防火設備）","-","上記に記載のない事項","-","11行目","-","検査事項",null,null,"15検査結果(ドレンチャーその他の水幕を形成する防火設備）-上記に記載のない事項-11行目-検査事項",null,"15検査結果(ドレンチャーその他の水幕を形成する防火設備）-上記に記載のない事項-11行目-検査事項"]
[null,null,null,null,{"$f":"'5_入力シート【検査結果表】 ドレンチャー'!$BA$70","v":0},null,15,"検査結果(ドレンチャーその他の水幕を形成する防火設備）","-","上記に記載のない事項","-","11行目","-","検査結果",null,null,"15検査結果(ドレンチャーその他の水幕を形成する防火設備）-上記に記載のない事項-11行目-検査結果",null,"15検査結果(ドレンチャーその他の水幕を形成する防火設備）-上記に記載のない事項-11行目-検査結果"]
[null,null,null,null,{"$f":"'5_入力シート【検査結果表】 ドレンチャー'!$BM$70","v":0},null,15,"検査結果(ドレンチャーその他の水幕を形成する防火設備）","-","上記に記載のない事項","-","11行目","-","検査者番号",null,null,"15検査結果(ドレンチャーその他の水幕を形成する防火設備）-上記に記載のない事項-11行目-検査者番号",null,"15検査結果(ドレンチャーその他の水幕を形成する防火設備）-上記に記載のない事項-11行目-検査者番号"]
[null,null,null,null,{"$f":"'5_入力シート【検査結果表】 ドレンチャー'!$BO$70","v":0},null,15,"検査結果(ドレンチャーその他の水幕を形成する防火設備）","-","上記に記載のない事項","-","11行目","-","指摘の具体的内容等",null,null,"15検査結果(ドレンチャーその他の水幕を形成する防火設備）-上記に記載のない事項-11行目-指摘の具体的内容等",null,"15検査結果(ドレンチャーその他の水幕を形成する防火設備）-上記に記載のない事項-11行目-指摘の具体的内容等"]
[null,null,null,null,{"$f":"'5_入力シート【検査結果表】 ドレンチャー'!$BY$70","v":0},null,15,"検査結果(ドレンチャーその他の水幕を形成する防火設備）","-","上記に記載のない事項","-","11行目","-","改善策の具体的内容等",null,null,"15検査結果(ドレンチャーその他の水幕を形成する防火設備）-上記に記載のない事項-11行目-改善策の具体的内容等",null,"15検査結果(ドレンチャーその他の水幕を形成する防火設備）-上記に記載のない事項-11行目-改善策の具体的内容等"]
[null,null,null,null,{"$f":"'5_入力シート【検査結果表】 ドレンチャー'!$CN$70","v":0},null,15,"検査結果(ドレンチャーその他の水幕を形成する防火設備）","-","上記に記載のない事項","-","11行目","-","改善（予定）年月","-","年（令和）","15検査結果(ドレンチャーその他の水幕を形成する防火設備）-上記に記載のない事項-11行目-改善（予定）年月-年（令和）",null,"15検査結果(ドレンチャーその他の水幕を形成する防火設備）-上記に記載のない事項-11行目-改善（予定）年月-年（令和）"]
[null,null,null,null,{"$f":"'5_入力シート【検査結果表】 ドレンチャー'!$CQ$70","v":0},null,15,"検査結果(ドレンチャーその他の水幕を形成する防火設備）","-","上記に記載のない事項","-","11行目","-","改善（予定）年月","-","月","15検査結果(ドレンチャーその他の水幕を形成する防火設備）-上記に記載のない事項-11行目-改善（予定）年月-月",null,"15検査結果(ドレンチャーその他の水幕を形成する防火設備）-上記に記載のない事項-11行目-改善（予定）年月-月"]
[null,null,null,null,{"$f":"'5_入力シート【検査結果表】 ドレンチャー'!$CT$70","v":0},null,15,"検査結果(ドレンチャーその他の水幕を形成する防火設備）","-","上記に記載のない事項","-","11行目","-","改善（予定）年月","-","状況","15検査結果(ドレンチャーその他の水幕を形成する防火設備）-上記に記載のない事項-11行目-改善（予定）年月-状況",null,"15検査結果(ドレンチャーその他の水幕を形成する防火設備）-上記に記載のない事項-11行目-改善（予定）年月-状況"]
[null,null,null,null,{"$f":"'5_入力シート【検査結果表】 ドレンチャー'!$M$71","v":0},null,15,"検査結果(ドレンチャーその他の水幕を形成する防火設備）","-","上記に記載のない事項","-","12行目","-","番号",null,null,"15検査結果(ドレンチャーその他の水幕を形成する防火設備）-上記に記載のない事項-12行目-番号",null,"15検査結果(ドレンチャーその他の水幕を形成する防火設備）-上記に記載のない事項-12行目-番号"]
[null,null,null,null,{"$f":"'5_入力シート【検査結果表】 ドレンチャー'!$P$71","v":0},null,15,"検査結果(ドレンチャーその他の水幕を形成する防火設備）","-","上記に記載のない事項","-","12行目","-","検査項目",null,null,"15検査結果(ドレンチャーその他の水幕を形成する防火設備）-上記に記載のない事項-12行目-検査項目",null,"15検査結果(ドレンチャーその他の水幕を形成する防火設備）-上記に記載のない事項-12行目-検査項目"]
[null,null,null,null,{"$f":"'5_入力シート【検査結果表】 ドレンチャー'!$AG$71","v":0},null,15,"検査結果(ドレンチャーその他の水幕を形成する防火設備）","-","上記に記載のない事項","-","12行目","-","検査事項",null,null,"15検査結果(ドレンチャーその他の水幕を形成する防火設備）-上記に記載のない事項-12行目-検査事項",null,"15検査結果(ドレンチャーその他の水幕を形成する防火設備）-上記に記載のない事項-12行目-検査事項"]
[null,null,null,null,{"$f":"'5_入力シート【検査結果表】 ドレンチャー'!$BA$71","v":0},null,15,"検査結果(ドレンチャーその他の水幕を形成する防火設備）","-","上記に記載のない事項","-","12行目","-","検査結果",null,null,"15検査結果(ドレンチャーその他の水幕を形成する防火設備）-上記に記載のない事項-12行目-検査結果",null,"15検査結果(ドレンチャーその他の水幕を形成する防火設備）-上記に記載のない事項-12行目-検査結果"]
[null,null,null,null,{"$f":"'5_入力シート【検査結果表】 ドレンチャー'!$BM$71","v":0},null,15,"検査結果(ドレンチャーその他の水幕を形成する防火設備）","-","上記に記載のない事項","-","12行目","-","検査者番号",null,null,"15検査結果(ドレンチャーその他の水幕を形成する防火設備）-上記に記載のない事項-12行目-検査者番号",null,"15検査結果(ドレンチャーその他の水幕を形成する防火設備）-上記に記載のない事項-12行目-検査者番号"]
[null,null,null,null,{"$f":"'5_入力シート【検査結果表】 ドレンチャー'!$BO$71","v":0},null,15,"検査結果(ドレンチャーその他の水幕を形成する防火設備）","-","上記に記載のない事項","-","12行目","-","指摘の具体的内容等",null,null,"15検査結果(ドレンチャーその他の水幕を形成する防火設備）-上記に記載のない事項-12行目-指摘の具体的内容等",null,"15検査結果(ドレンチャーその他の水幕を形成する防火設備）-上記に記載のない事項-12行目-指摘の具体的内容等"]
[null,null,null,null,{"$f":"'5_入力シート【検査結果表】 ドレンチャー'!$BY$71","v":0},null,15,"検査結果(ドレンチャーその他の水幕を形成する防火設備）","-","上記に記載のない事項","-","12行目","-","改善策の具体的内容等",null,null,"15検査結果(ドレンチャーその他の水幕を形成する防火設備）-上記に記載のない事項-12行目-改善策の具体的内容等",null,"15検査結果(ドレンチャーその他の水幕を形成する防火設備）-上記に記載のない事項-12行目-改善策の具体的内容等"]
[null,null,null,null,{"$f":"'5_入力シート【検査結果表】 ドレンチャー'!$CN$71","v":0},null,15,"検査結果(ドレンチャーその他の水幕を形成する防火設備）","-","上記に記載のない事項","-","12行目","-","改善（予定）年月","-","年（令和）","15検査結果(ドレンチャーその他の水幕を形成する防火設備）-上記に記載のない事項-12行目-改善（予定）年月-年（令和）",null,"15検査結果(ドレンチャーその他の水幕を形成する防火設備）-上記に記載のない事項-12行目-改善（予定）年月-年（令和）"]
[null,null,null,null,{"$f":"'5_入力シート【検査結果表】 ドレンチャー'!$CQ$71","v":0},null,15,"検査結果(ドレンチャーその他の水幕を形成する防火設備）","-","上記に記載のない事項","-","12行目","-","改善（予定）年月","-","月","15検査結果(ドレンチャーその他の水幕を形成する防火設備）-上記に記載のない事項-12行目-改善（予定）年月-月",null,"15検査結果(ドレンチャーその他の水幕を形成する防火設備）-上記に記載のない事項-12行目-改善（予定）年月-月"]
[null,null,null,null,{"$f":"'5_入力シート【検査結果表】 ドレンチャー'!$CT$71","v":0},null,15,"検査結果(ドレンチャーその他の水幕を形成する防火設備）","-","上記に記載のない事項","-","12行目","-","改善（予定）年月","-","状況","15検査結果(ドレンチャーその他の水幕を形成する防火設備）-上記に記載のない事項-12行目-改善（予定）年月-状況",null,"15検査結果(ドレンチャーその他の水幕を形成する防火設備）-上記に記載のない事項-12行目-改善（予定）年月-状況"]
[null,null,null,null,{"$f":"'5_入力シート【検査結果表】 ドレンチャー'!$M$72","v":0},null,15,"検査結果(ドレンチャーその他の水幕を形成する防火設備）","-","上記に記載のない事項","-","13行目","-","番号",null,null,"15検査結果(ドレンチャーその他の水幕を形成する防火設備）-上記に記載のない事項-13行目-番号",null,"15検査結果(ドレンチャーその他の水幕を形成する防火設備）-上記に記載のない事項-13行目-番号"]
[null,null,null,null,{"$f":"'5_入力シート【検査結果表】 ドレンチャー'!$P$72","v":0},null,15,"検査結果(ドレンチャーその他の水幕を形成する防火設備）","-","上記に記載のない事項","-","13行目","-","検査項目",null,null,"15検査結果(ドレンチャーその他の水幕を形成する防火設備）-上記に記載のない事項-13行目-検査項目",null,"15検査結果(ドレンチャーその他の水幕を形成する防火設備）-上記に記載のない事項-13行目-検査項目"]
[null,null,null,null,{"$f":"'5_入力シート【検査結果表】 ドレンチャー'!$AG$72","v":0},null,15,"検査結果(ドレンチャーその他の水幕を形成する防火設備）","-","上記に記載のない事項","-","13行目","-","検査事項",null,null,"15検査結果(ドレンチャーその他の水幕を形成する防火設備）-上記に記載のない事項-13行目-検査事項",null,"15検査結果(ドレンチャーその他の水幕を形成する防火設備）-上記に記載のない事項-13行目-検査事項"]
[null,null,null,null,{"$f":"'5_入力シート【検査結果表】 ドレンチャー'!$BA$72","v":0},null,15,"検査結果(ドレンチャーその他の水幕を形成する防火設備）","-","上記に記載のない事項","-","13行目","-","検査結果",null,null,"15検査結果(ドレンチャーその他の水幕を形成する防火設備）-上記に記載のない事項-13行目-検査結果",null,"15検査結果(ドレンチャーその他の水幕を形成する防火設備）-上記に記載のない事項-13行目-検査結果"]
[null,null,null,null,{"$f":"'5_入力シート【検査結果表】 ドレンチャー'!$BM$72","v":0},null,15,"検査結果(ドレンチャーその他の水幕を形成する防火設備）","-","上記に記載のない事項","-","13行目","-","検査者番号",null,null,"15検査結果(ドレンチャーその他の水幕を形成する防火設備）-上記に記載のない事項-13行目-検査者番号",null,"15検査結果(ドレンチャーその他の水幕を形成する防火設備）-上記に記載のない事項-13行目-検査者番号"]
[null,null,null,null,{"$f":"'5_入力シート【検査結果表】 ドレンチャー'!$BO$72","v":0},null,15,"検査結果(ドレンチャーその他の水幕を形成する防火設備）","-","上記に記載のない事項","-","13行目","-","指摘の具体的内容等",null,null,"15検査結果(ドレンチャーその他の水幕を形成する防火設備）-上記に記載のない事項-13行目-指摘の具体的内容等",null,"15検査結果(ドレンチャーその他の水幕を形成する防火設備）-上記に記載のない事項-13行目-指摘の具体的内容等"]
[null,null,null,null,{"$f":"'5_入力シート【検査結果表】 ドレンチャー'!$BY$72","v":0},null,15,"検査結果(ドレンチャーその他の水幕を形成する防火設備）","-","上記に記載のない事項","-","13行目","-","改善策の具体的内容等",null,null,"15検査結果(ドレンチャーその他の水幕を形成する防火設備）-上記に記載のない事項-13行目-改善策の具体的内容等",null,"15検査結果(ドレンチャーその他の水幕を形成する防火設備）-上記に記載のない事項-13行目-改善策の具体的内容等"]
[null,null,null,null,{"$f":"'5_入力シート【検査結果表】 ドレンチャー'!$CN$72","v":0},null,15,"検査結果(ドレンチャーその他の水幕を形成する防火設備）","-","上記に記載のない事項","-","13行目","-","改善（予定）年月","-","年（令和）","15検査結果(ドレンチャーその他の水幕を形成する防火設備）-上記に記載のない事項-13行目-改善（予定）年月-年（令和）",null,"15検査結果(ドレンチャーその他の水幕を形成する防火設備）-上記に記載のない事項-13行目-改善（予定）年月-年（令和）"]
[null,null,null,null,{"$f":"'5_入力シート【検査結果表】 ドレンチャー'!$CQ$72","v":0},null,15,"検査結果(ドレンチャーその他の水幕を形成する防火設備）","-","上記に記載のない事項","-","13行目","-","改善（予定）年月","-","月","15検査結果(ドレンチャーその他の水幕を形成する防火設備）-上記に記載のない事項-13行目-改善（予定）年月-月",null,"15検査結果(ドレンチャーその他の水幕を形成する防火設備）-上記に記載のない事項-13行目-改善（予定）年月-月"]
[null,null,null,null,{"$f":"'5_入力シート【検査結果表】 ドレンチャー'!$CT$72","v":0},null,15,"検査結果(ドレンチャーその他の水幕を形成する防火設備）","-","上記に記載のない事項","-","13行目","-","改善（予定）年月","-","状況","15検査結果(ドレンチャーその他の水幕を形成する防火設備）-上記に記載のない事項-13行目-改善（予定）年月-状況",null,"15検査結果(ドレンチャーその他の水幕を形成する防火設備）-上記に記載のない事項-13行目-改善（予定）年月-状況"]
[null,null,null,null,{"$f":"'5_入力シート【検査結果表】 ドレンチャー'!$M$73","v":0},null,15,"検査結果(ドレンチャーその他の水幕を形成する防火設備）","-","上記に記載のない事項","-","14行目","-","番号",null,null,"15検査結果(ドレンチャーその他の水幕を形成する防火設備）-上記に記載のない事項-14行目-番号",null,"15検査結果(ドレンチャーその他の水幕を形成する防火設備）-上記に記載のない事項-14行目-番号"]
[null,null,null,null,{"$f":"'5_入力シート【検査結果表】 ドレンチャー'!$P$73","v":0},null,15,"検査結果(ドレンチャーその他の水幕を形成する防火設備）","-","上記に記載のない事項","-","14行目","-","検査項目",null,null,"15検査結果(ドレンチャーその他の水幕を形成する防火設備）-上記に記載のない事項-14行目-検査項目",null,"15検査結果(ドレンチャーその他の水幕を形成する防火設備）-上記に記載のない事項-14行目-検査項目"]
[null,null,null,null,{"$f":"'5_入力シート【検査結果表】 ドレンチャー'!$AG$73","v":0},null,15,"検査結果(ドレンチャーその他の水幕を形成する防火設備）","-","上記に記載のない事項","-","14行目","-","検査事項",null,null,"15検査結果(ドレンチャーその他の水幕を形成する防火設備）-上記に記載のない事項-14行目-検査事項",null,"15検査結果(ドレンチャーその他の水幕を形成する防火設備）-上記に記載のない事項-14行目-検査事項"]
[null,null,null,null,{"$f":"'5_入力シート【検査結果表】 ドレンチャー'!$BA$73","v":0},null,15,"検査結果(ドレンチャーその他の水幕を形成する防火設備）","-","上記に記載のない事項","-","14行目","-","検査結果",null,null,"15検査結果(ドレンチャーその他の水幕を形成する防火設備）-上記に記載のない事項-14行目-検査結果",null,"15検査結果(ドレンチャーその他の水幕を形成する防火設備）-上記に記載のない事項-14行目-検査結果"]
[null,null,null,null,{"$f":"'5_入力シート【検査結果表】 ドレンチャー'!$BM$73","v":0},null,15,"検査結果(ドレンチャーその他の水幕を形成する防火設備）","-","上記に記載のない事項","-","14行目","-","検査者番号",null,null,"15検査結果(ドレンチャーその他の水幕を形成する防火設備）-上記に記載のない事項-14行目-検査者番号",null,"15検査結果(ドレンチャーその他の水幕を形成する防火設備）-上記に記載のない事項-14行目-検査者番号"]
[null,null,null,null,{"$f":"'5_入力シート【検査結果表】 ドレンチャー'!$BO$73","v":0},null,15,"検査結果(ドレンチャーその他の水幕を形成する防火設備）","-","上記に記載のない事項","-","14行目","-","指摘の具体的内容等",null,null,{"$f":"CONCATENATE(G1620,H1620,I1620,J1620,K1620,L1620,M1620,N1620,O1620,P1620)","v":"15検査結果(ドレンチャーその他の水幕を形成する防火設備）-上記に記載のない事項-14行目-指摘の具体的内容等"},null,"15検査結果(ドレンチャーその他の水幕を形成する防火設備）-上記に記載のない事項-14行目-指摘の具体的内容等"]
[null,null,null,null,{"$f":"'5_入力シート【検査結果表】 ドレンチャー'!$BY$73","v":0},null,15,"検査結果(ドレンチャーその他の水幕を形成する防火設備）","-","上記に記載のない事項","-","14行目","-","改善策の具体的内容等",null,null,"15検査結果(ドレンチャーその他の水幕を形成する防火設備）-上記に記載のない事項-14行目-改善策の具体的内容等",null,"15検査結果(ドレンチャーその他の水幕を形成する防火設備）-上記に記載のない事項-14行目-改善策の具体的内容等"]
[null,null,null,null,{"$f":"'5_入力シート【検査結果表】 ドレンチャー'!$CN$73","v":0},null,15,"検査結果(ドレンチャーその他の水幕を形成する防火設備）","-","上記に記載のない事項","-","14行目","-","改善（予定）年月","-","年（令和）","15検査結果(ドレンチャーその他の水幕を形成する防火設備）-上記に記載のない事項-14行目-改善（予定）年月-年（令和）",null,"15検査結果(ドレンチャーその他の水幕を形成する防火設備）-上記に記載のない事項-14行目-改善（予定）年月-年（令和）"]
[null,null,null,null,{"$f":"'5_入力シート【検査結果表】 ドレンチャー'!$CQ$73","v":0},null,15,"検査結果(ドレンチャーその他の水幕を形成する防火設備）","-","上記に記載のない事項","-","14行目","-","改善（予定）年月","-","月","15検査結果(ドレンチャーその他の水幕を形成する防火設備）-上記に記載のない事項-14行目-改善（予定）年月-月",null,"15検査結果(ドレンチャーその他の水幕を形成する防火設備）-上記に記載のない事項-14行目-改善（予定）年月-月"]
[null,null,null,null,{"$f":"'5_入力シート【検査結果表】 ドレンチャー'!$CT$73","v":0},null,15,"検査結果(ドレンチャーその他の水幕を形成する防火設備）","-","上記に記載のない事項","-","14行目","-","改善（予定）年月","-","状況","15検査結果(ドレンチャーその他の水幕を形成する防火設備）-上記に記載のない事項-14行目-改善（予定）年月-状況",null,"15検査結果(ドレンチャーその他の水幕を形成する防火設備）-上記に記載のない事項-14行目-改善（予定）年月-状況"]
[null,null,null,null,{"$f":"'5_入力シート【検査結果表】 ドレンチャー'!$M$74","v":0},null,15,"検査結果(ドレンチャーその他の水幕を形成する防火設備）","-","上記に記載のない事項","-","15行目","-","番号",null,null,"15検査結果(ドレンチャーその他の水幕を形成する防火設備）-上記に記載のない事項-15行目-番号",null,"15検査結果(ドレンチャーその他の水幕を形成する防火設備）-上記に記載のない事項-15行目-番号"]
[null,null,null,null,{"$f":"'5_入力シート【検査結果表】 ドレンチャー'!$P$74","v":0},null,15,"検査結果(ドレンチャーその他の水幕を形成する防火設備）","-","上記に記載のない事項","-","15行目","-","検査項目",null,null,"15検査結果(ドレンチャーその他の水幕を形成する防火設備）-上記に記載のない事項-15行目-検査項目",null,"15検査結果(ドレンチャーその他の水幕を形成する防火設備）-上記に記載のない事項-15行目-検査項目"]
[null,null,null,null,{"$f":"'5_入力シート【検査結果表】 ドレンチャー'!$AG$74","v":0},null,15,"検査結果(ドレンチャーその他の水幕を形成する防火設備）","-","上記に記載のない事項","-","15行目","-","検査事項",null,null,"15検査結果(ドレンチャーその他の水幕を形成する防火設備）-上記に記載のない事項-15行目-検査事項",null,"15検査結果(ドレンチャーその他の水幕を形成する防火設備）-上記に記載のない事項-15行目-検査事項"]
[null,null,null,null,{"$f":"'5_入力シート【検査結果表】 ドレンチャー'!$BA$74","v":0},null,15,"検査結果(ドレンチャーその他の水幕を形成する防火設備）","-","上記に記載のない事項","-","15行目","-","検査結果",null,null,"15検査結果(ドレンチャーその他の水幕を形成する防火設備）-上記に記載のない事項-15行目-検査結果",null,"15検査結果(ドレンチャーその他の水幕を形成する防火設備）-上記に記載のない事項-15行目-検査結果"]
[null,null,null,null,{"$f":"'5_入力シート【検査結果表】 ドレンチャー'!$BM$74","v":0},null,15,"検査結果(ドレンチャーその他の水幕を形成する防火設備）","-","上記に記載のない事項","-","15行目","-","検査者番号",null,null,"15検査結果(ドレンチャーその他の水幕を形成する防火設備）-上記に記載のない事項-15行目-検査者番号",null,"15検査結果(ドレンチャーその他の水幕を形成する防火設備）-上記に記載のない事項-15行目-検査者番号"]
[null,null,null,null,{"$f":"'5_入力シート【検査結果表】 ドレンチャー'!$BO$74","v":0},null,15,"検査結果(ドレンチャーその他の水幕を形成する防火設備）","-","上記に記載のない事項","-","15行目","-","指摘の具体的内容等",null,null,"15検査結果(ドレンチャーその他の水幕を形成する防火設備）-上記に記載のない事項-15行目-指摘の具体的内容等",null,"15検査結果(ドレンチャーその他の水幕を形成する防火設備）-上記に記載のない事項-15行目-指摘の具体的内容等"]
[null,null,null,null,{"$f":"'5_入力シート【検査結果表】 ドレンチャー'!$BY$74","v":0},null,15,"検査結果(ドレンチャーその他の水幕を形成する防火設備）","-","上記に記載のない事項","-","15行目","-","改善策の具体的内容等",null,null,"15検査結果(ドレンチャーその他の水幕を形成する防火設備）-上記に記載のない事項-15行目-改善策の具体的内容等",null,"15検査結果(ドレンチャーその他の水幕を形成する防火設備）-上記に記載のない事項-15行目-改善策の具体的内容等"]
[null,null,null,null,{"$f":"'5_入力シート【検査結果表】 ドレンチャー'!$CN$74","v":0},null,15,"検査結果(ドレンチャーその他の水幕を形成する防火設備）","-","上記に記載のない事項","-","15行目","-","改善（予定）年月","-","年（令和）","15検査結果(ドレンチャーその他の水幕を形成する防火設備）-上記に記載のない事項-15行目-改善（予定）年月-年（令和）",null,"15検査結果(ドレンチャーその他の水幕を形成する防火設備）-上記に記載のない事項-15行目-改善（予定）年月-年（令和）"]
[null,null,null,null,{"$f":"'5_入力シート【検査結果表】 ドレンチャー'!$CQ$74","v":0},null,15,"検査結果(ドレンチャーその他の水幕を形成する防火設備）","-","上記に記載のない事項","-","15行目","-","改善（予定）年月","-","月","15検査結果(ドレンチャーその他の水幕を形成する防火設備）-上記に記載のない事項-15行目-改善（予定）年月-月",null,"15検査結果(ドレンチャーその他の水幕を形成する防火設備）-上記に記載のない事項-15行目-改善（予定）年月-月"]
[null,null,null,null,{"$f":"'5_入力シート【検査結果表】 ドレンチャー'!$CT$74","v":0},null,15,"検査結果(ドレンチャーその他の水幕を形成する防火設備）","-","上記に記載のない事項","-","15行目","-","改善（予定）年月","-","状況","15検査結果(ドレンチャーその他の水幕を形成する防火設備）-上記に記載のない事項-15行目-改善（予定）年月-状況",null,"15検査結果(ドレンチャーその他の水幕を形成する防火設備）-上記に記載のない事項-15行目-改善（予定）年月-状況"]
[null,null,null,null,{"$f":"'6_入力シート【写真】 '!$Z$19","v":0},null,null,"関係写真-1-特記事項(自由記入)_1",null,null,null,null,null,null,null,null,"関係写真-1-特記事項(自由記入)_1",null,"関係写真-1-特記事項(自由記入)_1"]
[null,null,null,null,{"$f":"'6_入力シート【写真】 '!$Z$42","v":0},null,null,"関係写真-1-特記事項(自由記入)_2",null,null,null,null,null,null,null,null,"関係写真-1-特記事項(自由記入)_2",null,"関係写真-1-特記事項(自由記入)_2"]
[null,null,null,null,{"$f":"'6_入力シート【写真】 '!$Z$79","v":0},null,null,"関係写真-2-特記事項(自由記入)_1",null,null,null,null,null,null,null,null,"関係写真-2-特記事項(自由記入)_1",null,"関係写真-2-特記事項(自由記入)_1"]
[null,null,null,null,{"$f":"'6_入力シート【写真】 '!$Z$102","v":0},null,null,"関係写真-2-特記事項(自由記入)_2",null,null,null,null,null,null,null,null,"関係写真-2-特記事項(自由記入)_2",null,"関係写真-2-特記事項(自由記入)_2"]
[null,null,null,null,{"$f":"'6_入力シート【写真】 '!$Z$139","v":0},null,null,"関係写真-3-特記事項(自由記入)_1",null,null,null,null,null,null,null,null,"関係写真-3-特記事項(自由記入)_1",null,"関係写真-3-特記事項(自由記入)_1"]
[null,null,null,null,{"$f":"'6_入力シート【写真】 '!$Z$162","v":0},null,null,"関係写真-3-特記事項(自由記入)_2",null,null,null,null,null,null,null,null,"関係写真-3-特記事項(自由記入)_2",null,"関係写真-3-特記事項(自由記入)_2"]
[null,null,null,null,{"$f":"'6_入力シート【写真】 '!$Z$199","v":0},null,null,"関係写真-4-特記事項(自由記入)_1",null,null,null,null,null,null,null,null,"関係写真-4-特記事項(自由記入)_1",null,"関係写真-4-特記事項(自由記入)_1"]
[null,null,null,null,{"$f":"'6_入力シート【写真】 '!$Z$222","v":0},null,null,"関係写真-4-特記事項(自由記入)_2",null,null,null,null,null,null,null,null,"関係写真-4-特記事項(自由記入)_2",null,"関係写真-4-特記事項(自由記入)_2"]
[null,null,null,null,{"$f":"'6_入力シート【写真】 '!$Z$259","v":0},null,null,"関係写真-5-特記事項(自由記入)_1",null,null,null,null,null,null,null,null,"関係写真-5-特記事項(自由記入)_1",null,"関係写真-5-特記事項(自由記入)_1"]
[null,null,null,null,{"$f":"'6_入力シート【写真】 '!$Z$282","v":0},null,null,"関係写真-5-特記事項(自由記入)_2",null,null,null,null,null,null,null,null,"関係写真-5-特記事項(自由記入)_2",null,"関係写真-5-特記事項(自由記入)_2"]
[null,null,null,null,{"$f":"'6_入力シート【写真】 '!$Z$319","v":0},null,null,"関係写真-6-特記事項(自由記入)_1",null,null,null,null,null,null,null,null,"関係写真-6-特記事項(自由記入)_1",null,"関係写真-6-特記事項(自由記入)_1"]
[null,null,null,null,{"$f":"'6_入力シート【写真】 '!$Z$342","v":0},null,null,"関係写真-6-特記事項(自由記入)_2",null,null,null,null,null,null,null,null,"関係写真-6-特記事項(自由記入)_2",null,"関係写真-6-特記事項(自由記入)_2"]
[null,null,null,null,{"$f":"'6_入力シート【写真】 '!$Z$379","v":0},null,null,"関係写真-7-特記事項(自由記入)_1",null,null,null,null,null,null,null,null,"関係写真-7-特記事項(自由記入)_1",null,"関係写真-7-特記事項(自由記入)_1"]
[null,null,null,null,{"$f":"'6_入力シート【写真】 '!$Z$402","v":0},null,null,"関係写真-7-特記事項(自由記入)_2",null,null,null,null,null,null,null,null,"関係写真-7-特記事項(自由記入)_2",null,"関係写真-7-特記事項(自由記入)_2"]
[null,null,null,null,{"$f":"'6_入力シート【写真】 '!$Z$439","v":0},null,null,"関係写真-8-特記事項(自由記入)_1",null,null,null,null,null,null,null,null,"関係写真-8-特記事項(自由記入)_1",null,"関係写真-8-特記事項(自由記入)_1"]
[null,null,null,null,{"$f":"'6_入力シート【写真】 '!$Z$462","v":0},null,null,"関係写真-8-特記事項(自由記入)_2",null,null,null,null,null,null,null,null,"関係写真-8-特記事項(自由記入)_2",null,"関係写真-8-特記事項(自由記入)_2"]
[null,null,null,null,{"$f":"'6_入力シート【写真】 '!$Z$499","v":0},null,null,"関係写真-9-特記事項(自由記入)_1",null,null,null,null,null,null,null,null,"関係写真-9-特記事項(自由記入)_1",null,"関係写真-9-特記事項(自由記入)_1"]
[null,null,null,null,{"$f":"'6_入力シート【写真】 '!$Z$522","v":0},null,null,"関係写真-9-特記事項(自由記入)_2",null,null,null,null,null,null,null,null,"関係写真-9-特記事項(自由記入)_2",null,"関係写真-9-特記事項(自由記入)_2"]
[null,null,null,null,{"$f":"'6_入力シート【写真】 '!$Z$559","v":0},null,null,"関係写真-10-特記事項(自由記入)_1",null,null,null,null,null,null,null,null,"関係写真-10-特記事項(自由記入)_1",null,"関係写真-10-特記事項(自由記入)_1"]
[null,null,null,null,{"$f":"'6_入力シート【写真】 '!$Z$582","v":0},null,null,"関係写真-10-特記事項(自由記入)_2",null,null,null,null,null,null,null,null,"関係写真-10-特記事項(自由記入)_2",null,"関係写真-10-特記事項(自由記入)_2"]
[null,null,null,null,{"$f":"'7_入力シート【図面】'!$A$2","v":0},null,null,"検査結果図-1-自由入力",null,null,null,null,null,null,null,null,"検査結果図-1-自由入力",null,"検査結果図-1-自由入力"]

{"sheet":"CSVシート","index":15,"n_rows":2,"n_cols":1650,"rows_kept":2,"cut":false,"hidden":true,"merged":[]}
["0行政所管庁(初期値固定)","0報告-和暦","0報告-年","0報告-報告種別","0報告日-令和","0報告日-年","0報告日-月","0報告日-日","1報告対象建築物-ID-1","1報告対象建築物-ID-2","1報告対象建築物-ID-3","1報告対象建築物-建築名称-フリガナ","1報告対象建築物-建築名称-建築名称","1報告対象建築物-建物所在地-都道府県","1報告対象建築物-建物所在地-市郡","1報告対象建築物-建物所在地-区町村","1報告対象建築物-建物所在地-大字・町名","1報告対象建築物-建物所在地-番地など","1報告対象建築物-用途","2報告内容に関する問合せ先-法人名-法人名フリガナ","2報告内容に関する問合せ先-法人名-法人名称","2報告内容に関する問合せ先-肩書-肩書フリガナ","2報告内容に関する問合せ先-肩書-肩書名","2報告内容に関する問合せ先-問合せ先氏名-氏名フリガナ","2報告内容に関する問合せ先-問合せ先氏名-氏名","2報告内容に関する問合せ先-郵便番号","2報告内容に関する問合せ先-住所","2報告内容に関する問合せ先-電話番号","2報告内容に関する問合せ先-FAX番号","2報告内容に関する問合せ先-メールアドレス","3所有者-法人名-法人名フリガナ","3所有者-法人名-法人名称","3所有者-肩書-肩書フリガナ","3所有者-肩書-肩書名","3所有者-所有者氏名-氏名フリガナ","3所有者-所有者氏名-氏名","3所有者-郵便番号","3所有者-住所","3所有者-電話番号","4管理者-所有者同一と同一チェック","4管理者-法人名-法人名フリガナ","4管理者-法人名-法人名称","4管理者-肩書-肩書フリガナ","4管理者-肩書-肩書名","4管理者-管理者氏名-氏名フリガナ","4管理者-管理者氏名-氏名","4管理者-郵便番号","4管理者-住所","4管理者-電話番号","5建築物の概要-階数-地上","5建築物の概要-階数-地下","5建築物の概要-建築面積-構造 3","5建築物の概要-延べ面積","6確認済証交付年月日等-確認済証交付年月日等-年月日-元号","6確認済証交付年月日等-確認済証交付年月日等-年月日-年","6確認済証交付年月日等-確認済証交付年月日等-年月日-月","6確認済証交付年月日等-確認済証交付年月日等-年月日-日","6確認済証交付年月日等-確認済証交付年月日等-年月日-号","6確認済証交付年月日等-確認済証交付年月日等-確認済み証明交付者","6確認済証交付年月日等-確認済証交付年月日等-確認済み証明交付者-検査機関名","6確認済証交付年月日等-検査済証交付年月日等-年月日-元号","6確認済証交付年月日等-検査済証交付年月日等-年月日-年","6確認済証交付年月日等-検査済証交付年月日等-年月日-月","6確認済証交付年月日等-検査済証交付年月日等-年月日-日","6確認済証交付年月日等-検査済証交付年月日等-年月日-号","6確認済証交付年月日等-検査済証交付年月日等-検査済み証明交付者","6確認済証交付年月日等-検査済証交付年月日等-検査済み証明交付者-検査機関名","7検査日等-今回の検査-実施日-元号","7検査日等-今回の検査-実施日-年","7検査日等-今回の検査-実施日-月","7検査日等-今回の検査-実施日-日","7検査日等-前回の検査実施・未実施","7検査日等-前回の検査報告日元号","7検査日等-前回の検査報告日年","7検査日等-前回の検査報告日月","7検査日等-前回の検査報告日日","7検査日等-前回の書類に関する写しの有無","8代表となる検査者-資格-資格名称","8代表となる検査者-資格-建築士-登録","8代表となる検査者-資格-建築士-号","8代表となる検査者-資格-防火設備検査員-号","8代表となる検査者-氏名-フリガナ","8代表となる検査者-氏名-氏名","8代表となる検査者-勤務先-名称","8代表となる検査者-勤務先-事務所登録-建築士事務所","8代表となる検査者-勤務先-事務所登録-知事登録","8代表となる検査者-勤務先-事務所登録-号","8代表となる検査者-勤務先-郵便番号","8代表となる検査者-勤務先-所在地","8代表となる検査者-勤務先-電話番号","8その他の検査者1-代表となる調査者と勤務先が同一及び同一チェック","8その他の検査者1-資格-資格名称","8その他の検査者1-資格-建築士-登録","8その他の検査者1-資格-建築士-号","8その他の検査者1-資格-防火設備検査員-号","8その他の検査者1-氏名-フリガナ","8その他の検査者1-氏名-氏名","8その他の検査者1-勤務先-名称","8その他の検査者1-勤務先-事務所登録-建築士事務所","8その他の検査者1-勤務先-事務所登録-知事登録","8その他の検査者1-勤務先-事務所登録-号","8その他の検査者1-勤務先-郵便番号","8その他の検査者1-勤務先-所在地","8その他の検査者1-勤務先-電話番号","8その他の検査者2-代表となる調査者と勤務先が同一及び同一チェック","8その他の検査者2-資格-資格名称","8その他の検査者2-資格-建築士-登録","8その他の検査者2-資格-建築士-号","8その他の検査者2-資格-防火設備検査員-号","8その他の検査者2-氏名-フリガナ","8その他の検査者2-氏名-氏名","8その他の検査者2-勤務先-名称","8その他の検査者2-勤務先-事務所登録-建築士事務所","8その他の検査者2-勤務先-事務所登録-知事登録","8その他の検査者2-勤務先-事務所登録-号","8その他の検査者2-勤務先-郵便番号","8その他の検査者2-勤務先-所在地","8その他の検査者2-勤務先-電話番号","9防火設備の概要-避難安全検証法の適用-区画避難安全検証法","9防火設備の概要-避難安全検証法の適用-区画避難安全検証法-階","9防火設備の概要-避難安全検証法の適用-階避難安全検証法","9防火設備の概要-避難安全検証法の適用-階避難安全検証法-階","9防火設備の概要-避難安全検証法の適用-全館避難安全検証法","9防火設備の概要-避難安全検証法の適用-その他","9防火設備の概要-避難安全検証法の適用-その他-説明","9防火設備の概要-防火設備-防火扉-枚","9防火設備の概要-防火設備-防火シャッター-枚","9防火設備の概要-防火設備-耐火クロススクリーン-枚","9防火設備の概要-防火設備-ドレンチャー-台","9防火設備の概要-防火設備-その他-台","10備考-備考（第二面）","11防火設備に係る不具合等の状況-不具合等-有無","11防火設備に係る不具合等の状況-不具合等の記録-有無","11防火設備に係る不具合等の状況-不具合等を把握した年月-元号-1","11防火設備に係る不具合等の状況-不具合等を把握した年月-年-1","11防火設備に係る不具合等の状況-不具合等を把握した年月-月-","11防火設備に係る不具合等の状況-不具合等の概要-1","11防火設備に係る不具合等の状況-考えられる要因-1","11防火設備に係る不具合等の状況-改善の状況-1","11防火設備に係る不具合等の状況-改善（予定）年月-年（令和）-1","11防火設備に係る不具合等の状況-改善（予定）年月-月-","11防火設備に係る不具合等の状況-改善措置の概要等-1","11防火設備に係る不具合等の状況-不具合等を把握した年月-元号-2","11防火設備に係る不具合等の状況-不具合等を把握した年月-年-2","11防火設備に係る不具合等の状況-不具合等を把握した年月-月-","11防火設備に係る不具合等の状況-不具合等の概要-2","11防火設備に係る不具合等の状況-考えられる要因-2","11防火設備に係る不具合等の状況-改善の状況-2","11防火設備に係る不具合等の状況-改善（予定）年月-年（令和）-2","11防火設備に係る不具合等の状況-改善（予定）年月-月-","11防火設備に係る不具合等の状況-改善措置の概要等-2","11防火設備に係る不具合等の状況-不具合等を把握した年月-元号-3","11防火設備に係る不具合等の状況-不具合等を把握した年月-年-3","11防火設備に係る不具合等の状況-不具合等を把握した年月-月-","11防火設備に係る不具合等の状況-不具合等の概要-3","11防火設備に係る不具合等の状況-考えられる要因-3","11防火設備に係る不具合等の状況-改善の状況-3","11防火設備に係る不具合等の状況-改善（予定）年月-年（令和）-3","11防火設備に係る不具合等の状況-改善（予定）年月-月-3","11防火設備に係る不具合等の状況-改善措置の概要等-3","11防火設備に係る不具合等の状況-不具合等を把握した年月-元号-4","11防火設備に係る不具合等の状況-不具合等を把握した年月-年-4","11防火設備に係る不具合等の状況-不具合等を把握した年月-月-","11防火設備に係る不具合等の状況-不具合等の概要-4","11防火設備に係る不具合等の状況-考えられる要因-4","11防火設備に係る不具合等の状況-改善の状況-4","11防火設備に係る不具合等の状況-改善（予定）年月-年（令和）-4","11防火設備に係る不具合等の状況-改善（予定）年月-月-4","11防火設備に係る不具合等の状況-改善措置の概要等-4","11防火設備に係る不具合等の状況-不具合等を把握した年月-元号-5","11防火設備に係る不具合等の状況-不具合等を把握した年月-年-5","11防火設備に係る不具合等の状況-不具合等を把握した年月-月-","11防火設備に係る不具合等の状況-不具合等の概要-5","11防火設備に係る不具合等の状況-考えられる要因-5","11防火設備に係る不具合等の状況-改善の状況-5","11防火設備に係る不具合等の状況-改善（予定）年月-年（令和）-5","11防火設備に係る不具合等の状況-改善（予定）年月-月-5","11防火設備に係る不具合等の状況-改善措置の概要等-5","11防火設備に係る不具合等の状況-不具合等を把握した年月-元号-6","11防火設備に係る不具合等の状況-不具合等を把握した年月-年-6","11防火設備に係る不具合等の状況-不具合等を把握した年月-月-6","11防火設備に係る不具合等の状況-不具合等の概要-6","11防火設備に係る不具合等の状況-考えられる要因-6","11防火設備に係る不具合等の状況-改善の状況-6","11防火設備に係る不具合等の状況-改善（予定）年月-年（令和）-6","11防火設備に係る不具合等の状況-改善（予定）年月-月-6","11防火設備に係る不具合等の状況-改善措置の概要等-6","11防火設備に係る不具合等の状況-不具合等を把握した年月-元号-7","11防火設備に係る不具合等の状況-不具合等を把握した年月-年-7","11防火設備に係る不具合等の状況-不具合等を把握した年月-月-7","11防火設備に係る不具合等の状況-不具合等の概要-7","11防火設備に係る不具合等の状況-考えられる要因-7","11防火設備に係る不具合等の状況-改善の状況-7","11防火設備に係る不具合等の状況-改善（予定）年月-年（令和）-7","11防火設備に係る不具合等の状況-改善（予定）年月-月-7","11防火設備に係る不具合等の状況-改善措置の概要等-7","11防火設備に係る不具合等の状況-不具合等を把握した年月-元号-8","11防火設備に係る不具合等の状況-不具合等を把握した年月-年-8","11防火設備に係る不具合等の状況-不具合等を把握した年月-月-8","11防火設備に係る不具合等の状況-不具合等の概要-8","11防火設備に係る不具合等の状況-考えられる要因-8","11防火設備に係る不具合等の状況-改善の状況-8","11防火設備に係る不具合等の状況-改善（予定）年月-年（令和）-8","11防火設備に係る不具合等の状況-改善（予定）年月-月-8","11防火設備に係る不具合等の状況-改善措置の概要等-8","12検査結果（共通）-検査員番号1-氏名","12検査結果（共通）-検査員番号2-氏名","12検査結果（共通）-検査員番号3-氏名","12検査結果(防火扉）-1（1）-検査結果","12検査結果(防火扉）-1（1）-検査者番号","12検査結果(防火扉）-1（1）-指摘の具体的内容等","12検査結果(防火扉）-1（1）-改善策の具体的内容等","12検査結果(防火扉）-1（1）-改善（予定）年月-年（令和）","12検査結果(防火扉）-1（1）-改善（予定）年月-月","12検査結果(防火扉）-1（1）-改善（予定）年月-状況","12検査結果(防火扉）-1（2）-検査結果","12検査結果(防火扉）-1（2）-検査者番号","12検査結果(防火扉）-1（2）-指摘の具体的内容等","12検査結果(防火扉）-1（2）-改善策の具体的内容等","12検査結果(防火扉）-1（2）-改善（予定）年月-年（令和）","12検査結果(防火扉）-1（2）-改善（予定）年月-月","12検査結果(防火扉）-1（2）-改善（予定）年月-状況","12検査結果(防火扉）-1（3）-検査結果","12検査結果(防火扉）-1（3）-検査者番号","12検査結果(防火扉）-1（3）-指摘の具体的内容等","12検査結果(防火扉）-1（3）-改善策の具体的内容等","12検査結果(防火扉）-1（3）-改善（予定）年月-年（令和）","12検査結果(防火扉）-1（3）-改善（予定）年月-月","12検査結果(防火扉）-1（3）-改善（予定）年月-状況","12検査結果(防火扉）-1（4）-検査結果","12検査結果(防火扉）-1（4）-検査者番号","12検査結果(防火扉）-1（4）-指摘の具体的内容等","12検査結果(防火扉）-1（4）-改善策の具体的内容等","12検査結果(防火扉）-1（4）-改善（予定）年月-年（令和）","12検査結果(防火扉）-1（4）-改善（予定）年月-月","12検査結果(防火扉）-1（4）-改善（予定）年月-状況","12検査結果(防火扉）-1（5）-検査結果","12検査結果(防火扉）-1（5）-検査者番号","12検査結果(防火扉）-1（5）-指摘の具体的内容等","12検査結果(防火扉）-1（5）-改善策の具体的内容等","12検査結果(防火扉）-1（5）-改善（予定）年月-年（令和）","12検査結果(防火扉）-1（5）-改善（予定）年月-月","12検査結果(防火扉）-1（5）-改善（予定）年月-状況","12検査結果(防火扉）-1（6）-検査結果","12検査結果(防火扉）-1（6）-検査者番号","12検査結果(防火扉）-1（6）-指摘の具体的内容等","12検査結果(防火扉）-1（6）-改善策の具体的内容等","12検査結果(防火扉）-1（6）-改善（予定）年月-年（令和）","12検査結果(防火扉）-1（6）-改善（予定）年月-月","12検査結果(防火扉）-1（6）-改善（予定）年月-状況","12検査結果(防火扉）-1（7）-検査結果","12検査結果(防火扉）-1（7）-検査者番号","12検査結果(防火扉）-1（7）-指摘の具体的内容等","12検査結果(防火扉）-1（7）-改善策の具体的内容等","12検査結果(防火扉）-1（7）-改善（予定）年月-年（令和）","12検査結果(防火扉）-1（7）-改善（予定）年月-月","12検査結果(防火扉）-1（7）-改善（予定）年月-状況","12検査結果(防火扉）-1（8）-検査結果","12検査結果(防火扉）-1（8）-検査者番号","12検査結果(防火扉）-1（8）-指摘の具体的内容等","12検査結果(防火扉）-1（8）-改善策の具体的内容等","12検査結果(防火扉）-1（8）-改善（予定）年月-年（令和）","12検査結果(防火扉）-1（8）-改善（予定）年月-月","12検査結果(防火扉）-1（8）-改善（予定）年月-状況","12検査結果(防火扉）-1（9）-検査結果","12検査結果(防火扉）-1（9）-検査者番号","12検査結果(防火扉）-1（9）-指摘の具体的内容等","12検査結果(防火扉）-1（9）-改善策の具体的内容等","12検査結果(防火扉）-1（9）-改善（予定）年月-年（令和）","12検査結果(防火扉）-1（9）-改善（予定）年月-月","12検査結果(防火扉）-1（9）-改善（予定）年月-状況","12検査結果(防火扉）-1（10）-検査結果","12検査結果(防火扉）-1（10）-検査者番号","12検査結果(防火扉）-1（10）-指摘の具体的内容等","12検査結果(防火扉）-1（10）-改善策の具体的内容等","12検査結果(防火扉）-1（10）-改善（予定）年月-年（令和）","12検査結果(防火扉）-1（10）-改善（予定）年月-月","12検査結果(防火扉）-1（10）-改善（予定）年月-状況","12検査結果(防火扉）-1（11）-検査結果","12検査結果(防火扉）-1（11）-検査者番号","12検査結果(防火扉）-1（11）-指摘の具体的内容等","12検査結果(防火扉）-1（11）-改善策の具体的内容等","12検査結果(防火扉）-1（11）-改善（予定）年月-年（令和）","12検査結果(防火扉）-1（11）-改善（予定）年月-月","12検査結果(防火扉）-1（11）-改善（予定）年月-状況","12検査結果(防火扉）-1（12）-検査結果","12検査結果(防火扉）-1（12）-検査者番号","12検査結果(防火扉）-1（12）-指摘の具体的内容等","12検査結果(防火扉）-1（12）-改善策の具体的内容等","12検査結果(防火扉）-1（12）-改善（予定）年月-年（令和）","12検査結果(防火扉）-1（12）-改善（予定）年月-月","12検査結果(防火扉）-1（12）-改善（予定）年月-状況","12検査結果(防火扉）-1（13）-検査結果","12検査結果(防火扉）-1（13）-検査者番号","12検査結果(防火扉）-1（13）-指摘の具体的内容等","12検査結果(防火扉）-1（13）-改善策の具体的内容等","12検査結果(防火扉）-1（13）-改善（予定）年月-年（令和）","12検査結果(防火扉）-1（13）-改善（予定）年月-月","12検査結果(防火扉）-1（13）-改善（予定）年月-状況","12検査結果(防火扉）-1（14）-検査結果","12検査結果(防火扉）-1（14）-検査者番号","12検査結果(防火扉）-1（14）-指摘の具体的内容等","12検査結果(防火扉）-1（14）-改善策の具体的内容等","12検査結果(防火扉）-1（14）-改善（予定）年月-年（令和）","12検査結果(防火扉）-1（14）-改善（予定）年月-月","12検査結果(防火扉）-1（14）-改善（予定）年月-状況","12検査結果(防火扉）-1（15）-検査結果","12検査結果(防火扉）-1（15）-検査者番号","12検査結果(防火扉）-1（15）-指摘の具体的内容等","12検査結果(防火扉）-1（15）-改善策の具体的内容等","12検査結果(防火扉）-1（15）-改善（予定）年月-年（令和）","12検査結果(防火扉）-1（15）-改善（予定）年月-月","12検査結果(防火扉）-1（15）-改善（予定）年月-状況","12検査結果(防火扉）-1（16）-検査結果","12検査結果(防火扉）-1（16）-検査者番号","12検査結果(防火扉）-1（16）-指摘の具体的内容等","12検査結果(防火扉）-1（16）-改善策の具体的内容等","12検査結果(防火扉）-1（16）-改善（予定）年月-年（令和）","12検査結果(防火扉）-1（16）-改善（予定）年月-月","12検査結果(防火扉）-1（16）-改善（予定）年月-状況","12検査結果(防火扉）-1（17）-検査結果","12検査結果(防火扉）-1（17）-検査者番号","12検査結果(防火扉）-1（17）-指摘の具体的内容等","12検査結果(防火扉）-1（17）-改善策の具体的内容等","12検査結果(防火扉）-1（17）-改善（予定）年月-年（令和）","12検査結果(防火扉）-1（17）-改善（予定）年月-月","12検査結果(防火扉）-1（17）-改善（予定）年月-状況","12検査結果(防火扉）-上記以外の検査項目等-1行目-番号","12検査結果(防火扉）-上記以外の検査項目等-1行目-検査項目","12検査結果(防火扉）-上記以外の検査項目等-1行目-検査事項","12検査結果(防火扉）-上記以外の検査項目等-1行目-検査結果","12検査結果(防火扉）-上記以外の検査項目等-1行目-検査者番号","12検査結果(防火扉）-上記以外の検査項目等-1行目-指摘の具体的内容等","12検査結果(防火扉）-上記以外の検査項目等-1行目-改善策の具体的内容等","12検査結果(防火扉）-上記以外の検査項目等-1行目-改善（予定）年月-年（令和）","12検査結果(防火扉）-上記以外の検査項目等-1行目-改善（予定）年月-月","12検査結果(防火扉）-上記以外の検査項目等-1行目-改善（予定）年月-状況","12検査結果(防火扉）-上記以外の検査項目等-2行目-番号","12検査結果(防火扉）-上記以外の検査項目等-2行目-検査項目","12検査結果(防火扉）-上記以外の検査項目等-2行目-検査事項","12検査結果(防火扉）-上記以外の検査項目等-2行目-検査結果","12検査結果(防火扉）-上記以外の検査項目等-2行目-検査者番号","12検査結果(防火扉）-上記以外の検査項目等-2行目-指摘の具体的内容等","12検査結果(防火扉）-上記以外の検査項目等-2行目-改善策の具体的内容等","12検査結果(防火扉）-上記以外の検査項目等-2行目-改善（予定）年月-年（令和）","12検査結果(防火扉）-上記以外の検査項目等-2行目-改善（予定）年月-月","12検査結果(防火扉）-上記以外の検査項目等-2行目-改善（予定）年月-状況","12検査結果(防火扉）-上記以外の検査項目等-3行目-番号","12検査結果(防火扉）-上記以外の検査項目等-3行目-検査項目","12検査結果(防火扉）-上記以外の検査項目等-3行目-検査事項","12検査結果(防火扉）-上記以外の検査項目等-3行目-検査結果","12検査結果(防火扉）-上記以外の検査項目等-3行目-検査者番号","12検査結果(防火扉）-上記以外の検査項目等-3行目-指摘の具体的内容等","12検査結果(防火扉）-上記以外の検査項目等-3行目-改善策の具体的内容等","12検査結果(防火扉）-上記以外の検査項目等-3行目-改善（予定）年月-年（令和）","12検査結果(防火扉）-上記以外の検査項目等-3行目-改善（予定）年月-月","12検査結果(防火扉）-上記以外の検査項目等-3行目-改善（予定）年月-状況","12検査結果(防火扉）-上記に記載のない事項-1行目-番号","12検査結果(防火扉）-上記に記載のない事項-1行目-検査項目","12検査結果(防火扉）-上記に記載のない事項-1行目-検査事項","12検査結果(防火扉）-上記に記載のない事項-1行目-検査結果","12検査結果(防火扉）-上記に記載のない事項-1行目-検査者番号","12検査結果(防火扉）-上記に記載のない事項-1行目-指摘の具体的内容等","12検査結果(防火扉）-上記に記載のない事項-1行目-改善策の具体的内容等","12検査結果(防火扉）-上記に記載のない事項-1行目-改善（予定）年月-年（令和）","12検査結果(防火扉）-上記に記載のない事項-1行目-改善（予定）年月-月","12検査結果(防火扉）-上記に記載のない事項-1行目-改善（予定）年月-状況","12検査結果(防火扉）-上記に記載のない事項-2行目-番号","12検査結果(防火扉）-上記に記載のない事項-2行目-検査項目","12検査結果(防火扉）-上記に記載のない事項-2行目-検査事項","12検査結果(防火扉）-上記に記載のない事項-2行目-検査結果","12検査結果(防火扉）-上記に記載のない事項-2行目-検査者番号","12検査結果(防火扉）-上記に記載のない事項-2行目-指摘の具体的内容等","12検査結果(防火扉）-上記に記載のない事項-2行目-改善策の具体的内容等","12検査結果(防火扉）-上記に記載のない事項-2行目-改善（予定）年月-年（令和）","12検査結果(防火扉）-上記に記載のない事項-2行目-改善（予定）年月-月","12検査結果(防火扉）-上記に記載のない事項-2行目-改善（予定）年月-状況","12検査結果(防火扉）-上記に記載のない事項-3行目-番号","12検査結果(防火扉）-上記に記載のない事項-3行目-検査項目","12検査結果(防火扉）-上記に記載のない事項-3行目-検査事項","12検査結果(防火扉）-上記に記載のない事項-3行目-検査結果","12検査結果(防火扉）-上記に記載のない事項-3行目-検査者番号","12検査結果(防火扉）-上記に記載のない事項-3行目-指摘の具体的内容等","12検査結果(防火扉）-上記に記載のない事項-3行目-改善策の具体的内容等","12検査結果(防火扉）-上記に記載のない事項-3行目-改善（予定）年月-年（令和）","12検査結果(防火扉）-上記に記載のない事項-3行目-改善（予定）年月-月","12検査結果(防火扉）-上記に記載のない事項-3行目-改善（予定）年月-状況","12検査結果(防火扉）-上記に記載のない事項-4行目-番号","12検査結果(防火扉）-上記に記載のない事項-4行目-検査項目","12検査結果(防火扉）-上記に記載のない事項-4行目-検査事項","12検査結果(防火扉）-上記に記載のない事項-4行目-検査結果","12検査結果(防火扉）-上記に記載のない事項-4行目-検査者番号","12検査結果(防火扉）-上記に記載のない事項-4行目-指摘の具体的内容等","12検査結果(防火扉）-上記に記載のない事項-4行目-改善策の具体的内容等","12検査結果(防火扉）-上記に記載のない事項-4行目-改善（予定）年月-年（令和）","12検査結果(防火扉）-上記に記載のない事項-4行目-改善（予定）年月-月","12検査結果(防火扉）-上記に記載のない事項-4行目-改善（予定）年月-状況","12検査結果(防火扉）-上記に記載のない事項-5行目-番号","12検査結果(防火扉）-上記に記載のない事項-5行目-検査項目","12検査結果(防火扉）-上記に記載のない事項-5行目-検査事項","12検査結果(防火扉）-上記に記載のない事項-5行目-検査結果","12検査結果(防火扉）-上記に記載のない事項-5行目-検査者番号","12検査結果(防火扉）-上記に記載のない事項-5行目-指摘の具体的内容等","12検査結果(防火扉）-上記に記載のない事項-5行目-改善策の具体的内容等","12検査結果(防火扉）-上記に記載のない事項-5行目-改善（予定）年月-年（令和）","12検査結果(防火扉）-上記に記載のない事項-5行目-改善（予定）年月-月","12検査結果(防火扉）-上記に記載のない事項-5行目-改善（予定）年月-状況","12検査結果(防火扉）-上記に記載のない事項-6行目-番号","12検査結果(防火扉）-上記に記載のない事項-6行目-検査項目","12検査結果(防火扉）-上記に記載のない事項-6行目-検査事項","12検査結果(防火扉）-上記に記載のない事項-6行目-検査結果","12検査結果(防火扉）-上記に記載のない事項-6行目-検査者番号","12検査結果(防火扉）-上記に記載のない事項-6行目-指摘の具体的内容等","12検査結果(防火扉）-上記に記載のない事項-6行目-改善策の具体的内容等","12検査結果(防火扉）-上記に記載のない事項-6行目-改善（予定）年月-年（令和）","12検査結果(防火扉）-上記に記載のない事項-6行目-改善（予定）年月-月","12検査結果(防火扉）-上記に記載のない事項-6行目-改善（予定）年月-状況","12検査結果(防火扉）-上記に記載のない事項-7行目-番号","12検査結果(防火扉）-上記に記載のない事項-7行目-検査項目","12検査結果(防火扉）-上記に記載のない事項-7行目-検査事項","12検査結果(防火扉）-上記に記載のない事項-7行目-検査結果","12検査結果(防火扉）-上記に記載のない事項-7行目-検査者番号","12検査結果(防火扉）-上記に記載のない事項-7行目-指摘の具体的内容等","12検査結果(防火扉）-上記に記載のない事項-7行目-改善策の具体的内容等","12検査結果(防火扉）-上記に記載のない事項-7行目-改善（予定）年月-年（令和）","12検査結果(防火扉）-上記に記載のない事項-7行目-改善（予定）年月-月","12検査結果(防火扉）-上記に記載のない事項-7行目-改善（予定）年月-状況","12検査結果(防火扉）-上記に記載のない事項-8行目-番号","12検査結果(防火扉）-上記に記載のない事項-8行目-検査項目","12検査結果(防火扉）-上記に記載のない事項-8行目-検査事項","12検査結果(防火扉）-上記に記載のない事項-8行目-検査結果","12検査結果(防火扉）-上記に記載のない事項-8行目-検査者番号","12検査結果(防火扉）-上記に記載のない事項-8行目-指摘の具体的内容等","12検査結果(防火扉）-上記に記載のない事項-8行目-改善策の具体的内容等","12検査結果(防火扉）-上記に記載のない事項-8行目-改善（予定）年月-年（令和）","12検査結果(防火扉）-上記に記載のない事項-8行目-改善（予定）年月-月","12検査結果(防火扉）-上記に記載のない事項-8行目-改善（予定）年月-状況","12検査結果(防火扉）-上記に記載のない事項-9行目-番号","12検査結果(防火扉）-上記に記載のない事項-9行目-検査項目","12検査結果(防火扉）-上記に記載のない事項-9行目-検査事項","12検査結果(防火扉）-上記に記載のない事項-9行目-検査結果","12検査結果(防火扉）-上記に記載のない事項-9行目-検査者番号","12検査結果(防火扉）-上記に記載のない事項-9行目-指摘の具体的内容等","12検査結果(防火扉）-上記に記載のない事項-9行目-改善策の具体的内容等","12検査結果(防火扉）-上記に記載のない事項-9行目-改善（予定）年月-年（令和）","12検査結果(防火扉）-上記に記載のない事項-9行目-改善（予定）年月-月","12検査結果(防火扉）-上記に記載のない事項-9行目-改善（予定）年月-状況","12検査結果(防火扉）-上記に記載のない事項-10行目-番号","12検査結果(防火扉）-上記に記載のない事項-10行目-検査項目","12検査結果(防火扉）-上記に記載のない事項-10行目-検査事項","12検査結果(防火扉）-上記に記載のない事項-10行目-検査結果","12検査結果(防火扉）-上記に記載のない事項-10行目-検査者番号","12検査結果(防火扉）-上記に記載のない事項-10行目-指摘の具体的内容等","12検査結果(防火扉）-上記に記載のない事項-10行目-改善策の具体的内容等","12検査結果(防火扉）-上記に記載のない事項-10行目-改善（予定）年月-年（令和）","12検査結果(防火扉）-上記に記載のない事項-10行目-改善（予定）年月-月","12検査結果(防火扉）-上記に記載のない事項-10行目-改善（予定）年月-状況","12検査結果(防火扉）-上記に記載のない事項-11行目-番号","12検査結果(防火扉）-上記に記載のない事項-11行目-検査項目","12検査結果(防火扉）-上記に記載のない事項-11行目-検査事項","12検査結果(防火扉）-上記に記載のない事項-11行目-検査結果","12検査結果(防火扉）-上記に記載のない事項-11行目-検査者番号","12検査結果(防火扉）-上記に記載のない事項-11行目-指摘の具体的内容等","12検査結果(防火扉）-上記に記載のない事項-11行目-改善策の具体的内容等","12検査結果(防火扉）-上記に記載のない事項-11行目-改善（予定）年月-年（令和）","12検査結果(防火扉）-上記に記載のない事項-11行目-改善（予定）年月-月","12検査結果(防火扉）-上記に記載のない事項-11行目-改善（予定）年月-状況","12検査結果(防火扉）-上記に記載のない事項-12行目-番号","12検査結果(防火扉）-上記に記載のない事項-12行目-検査項目","12検査結果(防火扉）-上記に記載のない事項-12行目-検査事項","12検査結果(防火扉）-上記に記載のない事項-12行目-検査結果","12検査結果(防火扉）-上記に記載のない事項-12行目-検査者番号","12検査結果(防火扉）-上記に記載のない事項-12行目-指摘の具体的内容等","12検査結果(防火扉）-上記に記載のない事項-12行目-改善策の具体的内容等","12検査結果(防火扉）-上記に記載のない事項-12行目-改善（予定）年月-年（令和）","12検査結果(防火扉）-上記に記載のない事項-12行目-改善（予定）年月-月","12検査結果(防火扉）-上記に記載のない事項-12行目-改善（予定）年月-状況","12検査結果(防火扉）-上記に記載のない事項-13行目-番号","12検査結果(防火扉）-上記に記載のない事項-13行目-検査項目","12検査結果(防火扉）-上記に記載のない事項-13行目-検査事項","12検査結果(防火扉）-上記に記載のない事項-13行目-検査結果","12検査結果(防火扉）-上記に記載のない事項-13行目-検査者番号","12検査結果(防火扉）-上記に記載のない事項-13行目-指摘の具体的内容等","12検査結果(防火扉）-上記に記載のない事項-13行目-改善策の具体的内容等","12検査結果(防火扉）-上記に記載のない事項-13行目-改善（予定）年月-年（令和）","12検査結果(防火扉）-上記に記載のない事項-13行目-改善（予定）年月-月","12検査結果(防火扉）-上記に記載のない事項-13行目-改善（予定）年月-状況","12検査結果(防火扉）-上記に記載のない事項-14行目-番号","12検査結果(防火扉）-上記に記載のない事項-14行目-検査項目","12検査結果(防火扉）-上記に記載のない事項-14行目-検査事項","12検査結果(防火扉）-上記に記載のない事項-14行目-検査結果","12検査結果(防火扉）-上記に記載のない事項-14行目-検査者番号","12検査結果(防火扉）-上記に記載のない事項-14行目-指摘の具体的内容等","12検査結果(防火扉）-上記に記載のない事項-14行目-改善策の具体的内容等","12検査結果(防火扉）-上記に記載のない事項-14行目-改善（予定）年月-年（令和）","12検査結果(防火扉）-上記に記載のない事項-14行目-改善（予定）年月-月","12検査結果(防火扉）-上記に記載のない事項-14行目-改善（予定）年月-状況","12検査結果(防火扉）-上記に記載のない事項-15行目-番号","12検査結果(防火扉）-上記に記載のない事項-15行目-検査項目","12検査結果(防火扉）-上記に記載のない事項-15行目-検査事項","12検査結果(防火扉）-上記に記載のない事項-15行目-検査結果","12検査結果(防火扉）-上記に記載のない事項-15行目-検査者番号","12検査結果(防火扉）-上記に記載のない事項-15行目-指摘の具体的内容等","12検査結果(防火扉）-上記に記載のない事項-15行目-改善策の具体的内容等","12検査結果(防火扉）-上記に記載のない事項-15行目-改善（予定）年月-年（令和）","12検査結果(防火扉）-上記に記載のない事項-15行目-改善（予定）年月-月","12検査結果(防火扉）-上記に記載のない事項-15行目-改善（予定）年月-状況","12検査結果(防火扉）-上記に記載のない事項-16行目-番号","12検査結果(防火扉）-上記に記載のない事項-16行目-検査項目","12検査結果(防火扉）-上記に記載のない事項-16行目-検査事項","12検査結果(防火扉）-上記に記載のない事項-16行目-検査結果","12検査結果(防火扉）-上記に記載のない事項-16行目-検査者番号","12検査結果(防火扉）-上記に記載のない事項-16行目-指摘の具体的内容等","12検査結果(防火扉）-上記に記載のない事項-16行目-改善策の具体的内容等","12検査結果(防火扉）-上記に記載のない事項-16行目-改善（予定）年月-年（令和）","12検査結果(防火扉）-上記に記載のない事項-16行目-改善（予定）年月-月","12検査結果(防火扉）-上記に記載のない事項-16行目-改善（予定）年月-状況","12検査結果(防火扉）-上記に記載のない事項-17行目-番号","12検査結果(防火扉）-上記に記載のない事項-17行目-検査項目","12検査結果(防火扉）-上記に記載のない事項-17行目-検査事項","12検査結果(防火扉）-上記に記載のない事項-17行目-検査結果","12検査結果(防火扉）-上記に記載のない事項-17行目-検査者番号","12検査結果(防火扉）-上記に記載のない事項-17行目-指摘の具体的内容等","12検査結果(防火扉）-上記に記載のない事項-17行目-改善策の具体的内容等","12検査結果(防火扉）-上記に記載のない事項-17行目-改善（予定）年月-年（令和）","12検査結果(防火扉）-上記に記載のない事項-17行目-改善（予定）年月-月","12検査結果(防火扉）-上記に記載のない事項-17行目-改善（予定）年月-状況","12検査結果(防火扉）-上記に記載のない事項-18行目-番号","12検査結果(防火扉）-上記に記載のない事項-18行目-検査項目","12検査結果(防火扉）-上記に記載のない事項-18行目-検査事項","12検査結果(防火扉）-上記に記載のない事項-18行目-検査結果","12検査結果(防火扉）-上記に記載のない事項-18行目-検査者番号","12検査結果(防火扉）-上記に記載のない事項-18行目-指摘の具体的内容等","12検査結果(防火扉）-上記に記載のない事項-18行目-改善策の具体的内容等","12検査結果(防火扉）-上記に記載のない事項-18行目-改善（予定）年月-年（令和）","12検査結果(防火扉）-上記に記載のない事項-18行目-改善（予定）年月-月","12検査結果(防火扉）-上記に記載のない事項-18行目-改善（予定）年月-状況","12検査結果(防火扉）-上記に記載のない事項-19行目-番号","12検査結果(防火扉）-上記に記載のない事項-19行目-検査項目","12検査結果(防火扉）-上記に記載のない事項-19行目-検査事項","12検査結果(防火扉）-上記に記載のない事項-19行目-検査結果","12検査結果(防火扉）-上記に記載のない事項-19行目-検査者番号","12検査結果(防火扉）-上記に記載のない事項-19行目-指摘の具体的内容等","12検査結果(防火扉）-上記に記載のない事項-19行目-改善策の具体的内容等","12検査結果(防火扉）-上記に記載のない事項-19行目-改善（予定）年月-年（令和）","12検査結果(防火扉）-上記に記載のない事項-19行目-改善（予定）年月-月","12検査結果(防火扉）-上記に記載のない事項-19行目-改善（予定）年月-状況","12検査結果(防火扉）-上記に記載のない事項-20行目-番号","12検査結果(防火扉）-上記に記載のない事項-20行目-検査項目","12検査結果(防火扉）-上記に記載のない事項-20行目-検査事項","12検査結果(防火扉）-上記に記載のない事項-20行目-検査結果","12検査結果(防火扉）-上記に記載のない事項-20行目-検査者番号","12検査結果(防火扉）-上記に記載のない事項-20行目-指摘の具体的内容等","12検査結果(防火扉）-上記に記載のない事項-20行目-改善策の具体的内容等","12検査結果(防火扉）-上記に記載のない事項-20行目-改善（予定）年月-年（令和）","12検査結果(防火扉）-上記に記載のない事項-20行目-改善（予定）年月-月","12検査結果(防火扉）-上記に記載のない事項-20行目-改善（予定）年月-状況","13検査結果(防火シャッター）-1（1）-検査結果","13検査結果(防火シャッター）-1（1）-検査者番号","13検査結果(防火シャッター）-1（1）-指摘の具体的内容等","13検査結果(防火シャッター）-1（1）-改善策の具体的内容等","13検査結果(防火シャッター）-1（1）-改善（予定）年月-年（令和）","13検査結果(防火シャッター）-1（1）-改善（予定）年月-月","13検査結果(防火シャッター）-1（1）-改善（予定）年月-状況","13検査結果(防火シャッター）-1（2）-検査結果","13検査結果(防火シャッター）-1（2）-検査者番号","13検査結果(防火シャッター）-1（2）-指摘の具体的内容等","13検査結果(防火シャッター）-1（2）-改善策の具体的内容等","13検査結果(防火シャッター）-1（2）-改善（予定）年月-年（令和）","13検査結果(防火シャッター）-1（2）-改善（予定）年月-月","13検査結果(防火シャッター）-1（2）-改善（予定）年月-状況","13検査結果(防火シャッター）-1（3）-検査結果","13検査結果(防火シャッター）-1（3）-検査者番号","13検査結果(防火シャッター）-1（3）-指摘の具体的内容等","13検査結果(防火シャッター）-1（3）-改善策の具体的内容等","13検査結果(防火シャッター）-1（3）-改善（予定）年月-年（令和）","13検査結果(防火シャッター）-1（3）-改善（予定）年月-月","13検査結果(防火シャッター）-1（3）-改善（予定）年月-状況","13検査結果(防火シャッター）-1（4）-検査結果","13検査結果(防火シャッター）-1（4）-検査者番号","13検査結果(防火シャッター）-1（4）-指摘の具体的内容等","13検査結果(防火シャッター）-1（4）-改善策の具体的内容等","13検査結果(防火シャッター）-1（4）-改善（予定）年月-年（令和）","13検査結果(防火シャッター）-1（4）-改善（予定）年月-月","13検査結果(防火シャッター）-1（4）-改善（予定）年月-状況","13検査結果(防火シャッター）-1（5）-検査結果","13検査結果(防火シャッター）-1（5）-検査者番号","13検査結果(防火シャッター）-1（5）-指摘の具体的内容等","13検査結果(防火シャッター）-1（5）-改善策の具体的内容等","13検査結果(防火シャッター）-1（5）-改善（予定）年月-年（令和）","13検査結果(防火シャッター）-1（5）-改善（予定）年月-月","13検査結果(防火シャッター）-1（5）-改善（予定）年月-状況","13検査結果(防火シャッター）-1（6）-検査結果","13検査結果(防火シャッター）-1（6）-検査者番号","13検査結果(防火シャッター）-1（6）-指摘の具体的内容等","13検査結果(防火シャッター）-1（6）-改善策の具体的内容等","13検査結果(防火シャッター）-1（6）-改善（予定）年月-年（令和）","13検査結果(防火シャッター）-1（6）-改善（予定）年月-月","13検査結果(防火シャッター）-1（6）-改善（予定）年月-状況","13検査結果(防火シャッター）-1（7）-検査結果","13検査結果(防火シャッター）-1（7）-検査者番号","13検査結果(防火シャッター）-1（7）-指摘の具体的内容等","13検査結果(防火シャッター）-1（7）-改善策の具体的内容等","13検査結果(防火シャッター）-1（7）-改善（予定）年月-年（令和）","13検査結果(防火シャッター）-1（7）-改善（予定）年月-月","13検査結果(防火シャッター）-1（7）-改善（予定）年月-状況","13検査結果(防火シャッター）-1（8）-検査結果","13検査結果(防火シャッター）-1（8）-検査者番号","13検査結果(防火シャッター）-1（8）-指摘の具体的内容等","13検査結果(防火シャッター）-1（8）-改善策の具体的内容等","13検査結果(防火シャッター）-1（8）-改善（予定）年月-年（令和）","13検査結果(防火シャッター）-1（8）-改善（予定）年月-月","13検査結果(防火シャッター）-1（8）-改善（予定）年月-状況","13検査結果(防火シャッター）-1（9）-検査結果","13検査結果(防火シャッター）-1（9）-検査者番号","13検査結果(防火シャッター）-1（9）-指摘の具体的内容等","13検査結果(防火シャッター）-1（9）-改善策の具体的内容等","13検査結果(防火シャッター）-1（9）-改善（予定）年月-年（令和）","13検査結果(防火シャッター）-1（9）-改善（予定）年月-月","13検査結果(防火シャッター）-1（9）-改善（予定）年月-状況","13検査結果(防火シャッター）-1（10）-検査結果","13検査結果(防火シャッター）-1（10）-検査者番号","13検査結果(防火シャッター）-1（10）-指摘の具体的内容等","13検査結果(防火シャッター）-1（10）-改善策の具体的内容等","13検査結果(防火シャッター）-1（10）-改善（予定）年月-年（令和）","13検査結果(防火シャッター）-1（10）-改善（予定）年月-月","13検査結果(防火シャッター）-1（10）-改善（予定）年月-状況","13検査結果(防火シャッター）-1（11）-検査結果","13検査結果(防火シャッター）-1（11）-検査者番号","13検査結果(防火シャッター）-1（11）-指摘の具体的内容等","13検査結果(防火シャッター）-1（11）-改善策の具体的内容等","13検査結果(防火シャッター）-1（11）-改善（予定）年月-年（令和）","13検査結果(防火シャッター）-1（11）-改善（予定）年月-月","13検査結果(防火シャッター）-1（11）-改善（予定）年月-状況","13検査結果(防火シャッター）-1（12）-検査結果","13検査結果(防火シャッター）-1（12）-検査者番号","13検査結果(防火シャッター）-1（12）-指摘の具体的内容等","13検査結果(防火シャッター）-1（12）-改善策の具体的内容等","13検査結果(防火シャッター）-1（12）-改善（予定）年月-年（令和）","13検査結果(防火シャッター）-1（12）-改善（予定）年月-月","13検査結果(防火シャッター）-1（12）-改善（予定）年月-状況","13検査結果(防火シャッター）-1（13）-検査結果","13検査結果(防火シャッター）-1（13）-検査者番号","13検査結果(防火シャッター）-1（13）-指摘の具体的内容等","13検査結果(防火シャッター）-1（13）-改善策の具体的内容等","13検査結果(防火シャッター）-1（13）-改善（予定）年月-年（令和）","13検査結果(防火シャッター）-1（13）-改善（予定）年月-月","13検査結果(防火シャッター）-1（13）-改善（予定）年月-状況","13検査結果(防火シャッター）-1（14）-検査結果","13検査結果(防火シャッター）-1（14）-検査者番号","13検査結果(防火シャッター）-1（14）-指摘の具体的内容等","13検査結果(防火シャッター）-1（14）-改善策の具体的内容等","13検査結果(防火シャッター）-1（14）-改善（予定）年月-年（令和）","13検査結果(防火シャッター）-1（14）-改善（予定）年月-月","13検査結果(防火シャッター）-1（14）-改善（予定）年月-状況","13検査結果(防火シャッター）-1（15）-検査結果","13検査結果(防火シャッター）-1（15）-検査者番号","13検査結果(防火シャッター）-1（15）-指摘の具体的内容等","13検査結果(防火シャッター）-1（15）-改善策の具体的内容等","13検査結果(防火シャッター）-1（15）-改善（予定）年月-年（令和）","13検査結果(防火シャッター）-1（15）-改善（予定）年月-月","13検査結果(防火シャッター）-1（15）-改善（予定）年月-状況","13検査結果(防火シャッター）-1（16）-検査結果","13検査結果(防火シャッター）-1（16）-検査者番号","13検査結果(防火シャッター）-1（16）-指摘の具体的内容等","13検査結果(防火シャッター）-1（16）-改善策の具体的内容等","13検査結果(防火シャッター）-1（16）-改善（予定）年月-年（令和）","13検査結果(防火シャッター）-1（16）-改善（予定）年月-月","13検査結果(防火シャッター）-1（16）-改善（予定）年月-状況","13検査結果(防火シャッター）-1（17）-検査結果","13検査結果(防火シャッター）-1（17）-検査者番号","13検査結果(防火シャッター）-1（17）-指摘の具体的内容等","13検査結果(防火シャッター）-1（17）-改善策の具体的内容等","13検査結果(防火シャッター）-1（17）-改善（予定）年月-年（令和）","13検査結果(防火シャッター）-1（17）-改善（予定）年月-月","13検査結果(防火シャッター）-1（17）-改善（予定）年月-状況","13検査結果(防火シャッター）-1（18）-検査結果","13検査結果(防火シャッター）-1（18）-検査者番号","13検査結果(防火シャッター）-1（18）-指摘の具体的内容等","13検査結果(防火シャッター）-1（18）-改善策の具体的内容等","13検査結果(防火シャッター）-1（18）-改善（予定）年月-年（令和）","13検査結果(防火シャッター）-1（18）-改善（予定）年月-月","13検査結果(防火シャッター）-1（18）-改善（予定）年月-状況","13検査結果(防火シャッター）-1（19）-検査結果","13検査結果(防火シャッター）-1（19）-検査者番号","13検査結果(防火シャッター）-1（19）-指摘の具体的内容等","13検査結果(防火シャッター）-1（19）-改善策の具体的内容等","13検査結果(防火シャッター）-1（19）-改善（予定）年月-年（令和）","13検査結果(防火シャッター）-1（19）-改善（予定）年月-月","13検査結果(防火シャッター）-1（19）-改善（予定）年月-状況","13検査結果(防火シャッター）-1（20）-検査結果","13検査結果(防火シャッター）-1（20）-検査者番号","13検査結果(防火シャッター）-1（20）-指摘の具体的内容等","13検査結果(防火シャッター）-1（20）-改善策の具体的内容等","13検査結果(防火シャッター）-1（20）-改善（予定）年月-年（令和）","13検査結果(防火シャッター）-1（20）-改善（予定）年月-月","13検査結果(防火シャッター）-1（20）-改善（予定）年月-状況","13検査結果(防火シャッター）-1（21）-検査結果","13検査結果(防火シャッター）-1（21）-検査者番号","13検査結果(防火シャッター）-1（21）-指摘の具体的内容等","13検査結果(防火シャッター）-1（21）-改善策の具体的内容等","13検査結果(防火シャッター）-1（21）-改善（予定）年月-年（令和）","13検査結果(防火シャッター）-1（21）-改善（予定）年月-月","13検査結果(防火シャッター）-1（21）-改善（予定）年月-状況","13検査結果(防火シャッター）-1（22）-検査結果","13検査結果(防火シャッター）-1（22）-検査者番号","13検査結果(防火シャッター）-1（22）-指摘の具体的内容等","13検査結果(防火シャッター）-1（22）-改善策の具体的内容等","13検査結果(防火シャッター）-1（22）-改善（予定）年月-年（令和）","13検査結果(防火シャッター）-1（22）-改善（予定）年月-月","13検査結果(防火シャッター）-1（22）-改善（予定）年月-状況","13検査結果(防火シャッター）-1（23）-検査結果","13検査結果(防火シャッター）-1（23）-検査者番号","13検査結果(防火シャッター）-1（23）-指摘の具体的内容等","13検査結果(防火シャッター）-1（23）-改善策の具体的内容等","13検査結果(防火シャッター）-1（23）-改善（予定）年月-年（令和）","13検査結果(防火シャッター）-1（23）-改善（予定）年月-月","13検査結果(防火シャッター）-1（23）-改善（予定）年月-状況","13検査結果(防火シャッター）-1（24）-検査結果","13検査結果(防火シャッター）-1（24）-検査者番号","13検査結果(防火シャッター）-1（24）-指摘の具体的内容等","13検査結果(防火シャッター）-1（24）-改善策の具体的内容等","13検査結果(防火シャッター）-1（24）-改善（予定）年月-年（令和）","13検査結果(防火シャッター）-1（24）-改善（予定）年月-月","13検査結果(防火シャッター）-1（24）-改善（予定）年月-状況","13検査結果(防火シャッター）-1（25）-検査結果","13検査結果(防火シャッター）-1（25）-検査者番号","13検査結果(防火シャッター）-1（25）-指摘の具体的内容等","13検査結果(防火シャッター）-1（25）-改善策の具体的内容等","13検査結果(防火シャッター）-1（25）-改善（予定）年月-年（令和）","13検査結果(防火シャッター）-1（25）-改善（予定）年月-月","13検査結果(防火シャッター）-1（25）-改善（予定）年月-状況","13検査結果(防火シャッター）-1（26）-検査結果","13検査結果(防火シャッター）-1（26）-検査者番号","13検査結果(防火シャッター）-1（26）-指摘の具体的内容等","13検査結果(防火シャッター）-1（26）-改善策の具体的内容等","13検査結果(防火シャッター）-1（26）-改善（予定）年月-年（令和）","13検査結果(防火シャッター）-1（26）-改善（予定）年月-月","13検査結果(防火シャッター）-1（26）-改善（予定）年月-状況","13検査結果(防火シャッター）-1（27）-検査結果","13検査結果(防火シャッター）-1（27）-検査者番号","13検査結果(防火シャッター）-1（27）-指摘の具体的内容等","13検査結果(防火シャッター）-1（27）-改善策の具体的内容等","13検査結果(防火シャッター）-1（27）-改善（予定）年月-年（令和）","13検査結果(防火シャッター）-1（27）-改善（予定）年月-月","13検査結果(防火シャッター）-1（27）-改善（予定）年月-状況","13検査結果(防火シャッター）-上記以外の検査項目等-1行目-番号","13検査結果(防火シャッター）-上記以外の検査項目等-1行目-検査項目","13検査結果(防火シャッター）-上記以外の検査項目等-1行目-検査事項","13検査結果(防火シャッター）-上記以外の検査項目等-1行目-検査結果","13検査結果(防火シャッター）-上記以外の検査項目等-1行目-検査者番号","13検査結果(防火シャッター）-上記以外の検査項目等-1行目-指摘の具体的内容等","13検査結果(防火シャッター）-上記以外の検査項目等-1行目-改善策の具体的内容等","13検査結果(防火シャッター）-上記以外の検査項目等-1行目-改善（予定）年月-年（令和）","13検査結果(防火シャッター）-上記以外の検査項目等-1行目-改善（予定）年月-月","13検査結果(防火シャッター）-上記以外の検査項目等-1行目-改善（予定）年月-状況","13検査結果(防火シャッター）-上記以外の検査項目等-2行目-番号","13検査結果(防火シャッター）-上記以外の検査項目等-2行目-検査項目","13検査結果(防火シャッター）-上記以外の検査項目等-2行目-検査事項","13検査結果(防火シャッター）-上記以外の検査項目等-2行目-検査結果","13検査結果(防火シャッター）-上記以外の検査項目等-2行目-検査者番号","13検査結果(防火シャッター）-上記以外の検査項目等-2行目-指摘の具体的内容等","13検査結果(防火シャッター）-上記以外の検査項目等-2行目-改善策の具体的内容等","13検査結果(防火シャッター）-上記以外の検査項目等-2行目-改善（予定）年月-年（令和）","13検査結果(防火シャッター）-上記以外の検査項目等-2行目-改善（予定）年月-月","13検査結果(防火シャッター）-上記以外の検査項目等-2行目-改善（予定）年月-状況","13検査結果(防火シャッター）-上記以外の検査項目等-3行目-番号","13検査結果(防火シャッター）-上記以外の検査項目等-3行目-検査項目","13検査結果(防火シャッター）-上記以外の検査項目等-3行目-検査事項","13検査結果(防火シャッター）-上記以外の検査項目等-3行目-検査結果","13検査結果(防火シャッター）-上記以外の検査項目等-3行目-検査者番号","13検査結果(防火シャッター）-上記以外の検査項目等-3行目-指摘の具体的内容等","13検査結果(防火シャッター）-上記以外の検査項目等-3行目-改善策の具体的内容等","13検査結果(防火シャッター）-上記以外の検査項目等-3行目-改善（予定）年月-年（令和）","13検査結果(防火シャッター）-上記以外の検査項目等-3行目-改善（予定）年月-月","13検査結果(防火シャッター）-上記以外の検査項目等-3行目-改善（予定）年月-状況","13検査結果(防火シャッター）-上記に記載のない事項-1行目-番号","13検査結果(防火シャッター）-上記に記載のない事項-1行目-検査項目","13検査結果(防火シャッター）-上記に記載のない事項-1行目-検査事項","13検査結果(防火シャッター）-上記に記載のない事項-1行目-検査結果","13検査結果(防火シャッター）-上記に記載のない事項-1行目-検査者番号","13検査結果(防火シャッター）-上記に記載のない事項-1行目-指摘の具体的内容等","13検査結果(防火シャッター）-上記に記載のない事項-1行目-改善策の具体的内容等","13検査結果(防火シャッター）-上記に記載のない事項-1行目-改善（予定）年月-年（令和）","13検査結果(防火シャッター）-上記に記載のない事項-1行目-改善（予定）年月-月","13検査結果(防火シャッター）-上記に記載のない事項-1行目-改善（予定）年月-状況","13検査結果(防火シャッター）-上記に記載のない事項-2行目-番号","13検査結果(防火シャッター）-上記に記載のない事項-2行目-検査項目","13検査結果(防火シャッター）-上記に記載のない事項-2行目-検査事項","13検査結果(防火シャッター）-上記に記載のない事項-2行目-検査結果","13検査結果(防火シャッター）-上記に記載のない事項-2行目-検査者番号","13検査結果(防火シャッター）-上記に記載のない事項-2行目-指摘の具体的内容等","13検査結果(防火シャッター）-上記に記載のない事項-2行目-改善策の具体的内容等","13検査結果(防火シャッター）-上記に記載のない事項-2行目-改善（予定）年月-年（令和）","13検査結果(防火シャッター）-上記に記載のない事項-2行目-改善（予定）年月-月","13検査結果(防火シャッター）-上記に記載のない事項-2行目-改善（予定）年月-状況","13検査結果(防火シャッター）-上記に記載のない事項-3行目-番号","13検査結果(防火シャッター）-上記に記載のない事項-3行目-検査項目","13検査結果(防火シャッター）-上記に記載のない事項-3行目-検査事項","13検査結果(防火シャッター）-上記に記載のない事項-3行目-検査結果","13検査結果(防火シャッター）-上記に記載のない事項-3行目-検査者番号","13検査結果(防火シャッター）-上記に記載のない事項-3行目-指摘の具体的内容等","13検査結果(防火シャッター）-上記に記載のない事項-3行目-改善策の具体的内容等","13検査結果(防火シャッター）-上記に記載のない事項-3行目-改善（予定）年月-年（令和）","13検査結果(防火シャッター）-上記に記載のない事項-3行目-改善（予定）年月-月","13検査結果(防火シャッター）-上記に記載のない事項-3行目-改善（予定）年月-状況","13検査結果(防火シャッター）-上記に記載のない事項-4行目-番号","13検査結果(防火シャッター）-上記に記載のない事項-4行目-検査項目","13検査結果(防火シャッター）-上記に記載のない事項-4行目-検査事項","13検査結果(防火シャッター）-上記に記載のない事項-4行目-検査結果","13検査結果(防火シャッター）-上記に記載のない事項-4行目-検査者番号","13検査結果(防火シャッター）-上記に記載のない事項-4行目-指摘の具体的内容等","13検査結果(防火シャッター）-上記に記載のない事項-4行目-改善策の具体的内容等","13検査結果(防火シャッター）-上記に記載のない事項-4行目-改善（予定）年月-年（令和）","13検査結果(防火シャッター）-上記に記載のない事項-4行目-改善（予定）年月-月","13検査結果(防火シャッター）-上記に記載のない事項-4行目-改善（予定）年月-状況","13検査結果(防火シャッター）-上記に記載のない事項-5行目-番号","13検査結果(防火シャッター）-上記に記載のない事項-5行目-検査項目","13検査結果(防火シャッター）-上記に記載のない事項-5行目-検査事項","13検査結果(防火シャッター）-上記に記載のない事項-5行目-検査結果","13検査結果(防火シャッター）-上記に記載のない事項-5行目-検査者番号","13検査結果(防火シャッター）-上記に記載のない事項-5行目-指摘の具体的内容等","13検査結果(防火シャッター）-上記に記載のない事項-5行目-改善策の具体的内容等","13検査結果(防火シャッター）-上記に記載のない事項-5行目-改善（予定）年月-年（令和）","13検査結果(防火シャッター）-上記に記載のない事項-5行目-改善（予定）年月-月","13検査結果(防火シャッター）-上記に記載のない事項-5行目-改善（予定）年月-状況","13検査結果(防火シャッター）-上記に記載のない事項-6行目-番号","13検査結果(防火シャッター）-上記に記載のない事項-6行目-検査項目","13検査結果(防火シャッター）-上記に記載のない事項-6行目-検査事項","13検査結果(防火シャッター）-上記に記載のない事項-6行目-検査結果","13検査結果(防火シャッター）-上記に記載のない事項-6行目-検査者番号","13検査結果(防火シャッター）-上記に記載のない事項-6行目-指摘の具体的内容等","13検査結果(防火シャッター）-上記に記載のない事項-6行目-改善策の具体的内容等","13検査結果(防火シャッター）-上記に記載のない事項-6行目-改善（予定）年月-年（令和）","13検査結果(防火シャッター）-上記に記載のない事項-6行目-改善（予定）年月-月","13検査結果(防火シャッター）-上記に記載のない事項-6行目-改善（予定）年月-状況","13検査結果(防火シャッター）-上記に記載のない事項-7行目-番号","13検査結果(防火シャッター）-上記に記載のない事項-7行目-検査項目","13検査結果(防火シャッター）-上記に記載のない事項-7行目-検査事項","13検査結果(防火シャッター）-上記に記載のない事項-7行目-検査結果","13検査結果(防火シャッター）-上記に記載のない事項-7行目-検査者番号","13検査結果(防火シャッター）-上記に記載のない事項-7行目-指摘の具体的内容等","13検査結果(防火シャッター）-上記に記載のない事項-7行目-改善策の具体的内容等","13検査結果(防火シャッター）-上記に記載のない事項-7行目-改善（予定）年月-年（令和）","13検査結果(防火シャッター）-上記に記載のない事項-7行目-改善（予定）年月-月","13検査結果(防火シャッター）-上記に記載のない事項-7行目-改善（予定）年月-状況","13検査結果(防火シャッター）-上記に記載のない事項-8行目-番号","13検査結果(防火シャッター）-上記に記載のない事項-8行目-検査項目","13検査結果(防火シャッター）-上記に記載のない事項-8行目-検査事項","13検査結果(防火シャッター）-上記に記載のない事項-8行目-検査結果","13検査結果(防火シャッター）-上記に記載のない事項-8行目-検査者番号","13検査結果(防火シャッター）-上記に記載のない事項-8行目-指摘の具体的内容等","13検査結果(防火シャッター）-上記に記載のない事項-8行目-改善策の具体的内容等","13検査結果(防火シャッター）-上記に記載のない事項-8行目-改善（予定）年月-年（令和）","13検査結果(防火シャッター）-上記に記載のない事項-8行目-改善（予定）年月-月","13検査結果(防火シャッター）-上記に記載のない事項-8行目-改善（予定）年月-状況","13検査結果(防火シャッター）-上記に記載のない事項-9行目-番号","13検査結果(防火シャッター）-上記に記載のない事項-9行目-検査項目","13検査結果(防火シャッター）-上記に記載のない事項-9行目-検査事項","13検査結果(防火シャッター）-上記に記載のない事項-9行目-検査結果","13検査結果(防火シャッター）-上記に記載のない事項-9行目-検査者番号","13検査結果(防火シャッター）-上記に記載のない事項-9行目-指摘の具体的内容等","13検査結果(防火シャッター）-上記に記載のない事項-9行目-改善策の具体的内容等","13検査結果(防火シャッター）-上記に記載のない事項-9行目-改善（予定）年月-年（令和）","13検査結果(防火シャッター）-上記に記載のない事項-9行目-改善（予定）年月-月","13検査結果(防火シャッター）-上記に記載のない事項-9行目-改善（予定）年月-状況","13検査結果(防火シャッター）-上記に記載のない事項-10行目-番号","13検査結果(防火シャッター）-上記に記載のない事項-10行目-検査項目","13検査結果(防火シャッター）-上記に記載のない事項-10行目-検査事項","13検査結果(防火シャッター）-上記に記載のない事項-10行目-検査結果","13検査結果(防火シャッター）-上記に記載のない事項-10行目-検査者番号","13検査結果(防火シャッター）-上記に記載のない事項-10行目-指摘の具体的内容等","13検査結果(防火シャッター）-上記に記載のない事項-10行目-改善策の具体的内容等","13検査結果(防火シャッター）-上記に記載のない事項-10行目-改善（予定）年月-年（令和）","13検査結果(防火シャッター）-上記に記載のない事項-10行目-改善（予定）年月-月","13検査結果(防火シャッター）-上記に記載のない事項-10行目-改善（予定）年月-状況","13検査結果(防火シャッター）-上記に記載のない事項-11行目-番号","13検査結果(防火シャッター）-上記に記載のない事項-11行目-検査項目","13検査結果(防火シャッター）-上記に記載のない事項-11行目-検査事項","13検査結果(防火シャッター）-上記に記載のない事項-11行目-検査結果","13検査結果(防火シャッター）-上記に記載のない事項-11行目-検査者番号","13検査結果(防火シャッター）-上記に記載のない事項-11行目-指摘の具体的内容等","13検査結果(防火シャッター）-上記に記載のない事項-11行目-改善策の具体的内容等","13検査結果(防火シャッター）-上記に記載のない事項-11行目-改善（予定）年月-年（令和）","13検査結果(防火シャッター）-上記に記載のない事項-11行目-改善（予定）年月-月","13検査結果(防火シャッター）-上記に記載のない事項-11行目-改善（予定）年月-状況","13検査結果(防火シャッター）-上記に記載のない事項-12行目-番号","13検査結果(防火シャッター）-上記に記載のない事項-12行目-検査項目","13検査結果(防火シャッター）-上記に記載のない事項-12行目-検査事項","13検査結果(防火シャッター）-上記に記載のない事項-12行目-検査結果","13検査結果(防火シャッター）-上記に記載のない事項-12行目-検査者番号","13検査結果(防火シャッター）-上記に記載のない事項-12行目-指摘の具体的内容等","13検査結果(防火シャッター）-上記に記載のない事項-12行目-改善策の具体的内容等","13検査結果(防火シャッター）-上記に記載のない事項-12行目-改善（予定）年月-年（令和）","13検査結果(防火シャッター）-上記に記載のない事項-12行目-改善（予定）年月-月","13検査結果(防火シャッター）-上記に記載のない事項-12行目-改善（予定）年月-状況","13検査結果(防火シャッター）-上記に記載のない事項-13行目-番号","13検査結果(防火シャッター）-上記に記載のない事項-13行目-検査項目","13検査結果(防火シャッター）-上記に記載のない事項-13行目-検査事項","13検査結果(防火シャッター）-上記に記載のない事項-13行目-検査結果","13検査結果(防火シャッター）-上記に記載のない事項-13行目-検査者番号","13検査結果(防火シャッター）-上記に記載のない事項-13行目-指摘の具体的内容等","13検査結果(防火シャッター）-上記に記載のない事項-13行目-改善策の具体的内容等","13検査結果(防火シャッター）-上記に記載のない事項-13行目-改善（予定）年月-年（令和）","13検査結果(防火シャッター）-上記に記載のない事項-13行目-改善（予定）年月-月","13検査結果(防火シャッター）-上記に記載のない事項-13行目-改善（予定）年月-状況","13検査結果(防火シャッター）-上記に記載のない事項-14行目-番号","13検査結果(防火シャッター）-上記に記載のない事項-14行目-検査項目","13検査結果(防火シャッター）-上記に記載のない事項-14行目-検査事項","13検査結果(防火シャッター）-上記に記載のない事項-14行目-検査結果","13検査結果(防火シャッター）-上記に記載のない事項-14行目-検査者番号","13検査結果(防火シャッター）-上記に記載のない事項-14行目-指摘の具体的内容等","13検査結果(防火シャッター）-上記に記載のない事項-14行目-改善策の具体的内容等","13検査結果(防火シャッター）-上記に記載のない事項-14行目-改善（予定）年月-年（令和）","13検査結果(防火シャッター）-上記に記載のない事項-14行目-改善（予定）年月-月","13検査結果(防火シャッター）-上記に記載のない事項-14行目-改善（予定）年月-状況","13検査結果(防火シャッター）-上記に記載のない事項-15行目-番号","13検査結果(防火シャッター）-上記に記載のない事項-15行目-検査項目","13検査結果(防火シャッター）-上記に記載のない事項-15行目-検査事項","13検査結果(防火シャッター）-上記に記載のない事項-15行目-検査結果","13検査結果(防火シャッター）-上記に記載のない事項-15行目-検査者番号","13検査結果(防火シャッター）-上記に記載のない事項-15行目-指摘の具体的内容等","13検査結果(防火シャッター）-上記に記載のない事項-15行目-改善策の具体的内容等","13検査結果(防火シャッター）-上記に記載のない事項-15行目-改善（予定）年月-年（令和）","13検査結果(防火シャッター）-上記に記載のない事項-15行目-改善（予定）年月-月","13検査結果(防火シャッター）-上記に記載のない事項-15行目-改善（予定）年月-状況","14検査結果(耐火クロススクリーン）-1（1）-検査結果","14検査結果(耐火クロススクリーン）-1（1）-検査者番号","14検査結果(耐火クロススクリーン）-1（1）-指摘の具体的内容等","14検査結果(耐火クロススクリーン）-1（1）-改善策の具体的内容等","14検査結果(耐火クロススクリーン）-1（1）-改善（予定）年月-年（令和）","14検査結果(耐火クロススクリーン）-1（1）-改善（予定）年月-月","14検査結果(耐火クロススクリーン）-1（1）-改善（予定）年月-状況","14検査結果(耐火クロススクリーン）-1（2）-検査結果","14検査結果(耐火クロススクリーン）-1（2）-検査者番号","14検査結果(耐火クロススクリーン）-1（2）-指摘の具体的内容等","14検査結果(耐火クロススクリーン）-1（2）-改善策の具体的内容等","14検査結果(耐火クロススクリーン）-1（2）-改善（予定）年月-年（令和）","14検査結果(耐火クロススクリーン）-1（2）-改善（予定）年月-月","14検査結果(耐火クロススクリーン）-1（2）-改善（予定）年月-状況","14検査結果(耐火クロススクリーン）-1（3）-検査結果","14検査結果(耐火クロススクリーン）-1（3）-検査者番号","14検査結果(耐火クロススクリーン）-1（3）-指摘の具体的内容等","14検査結果(耐火クロススクリーン）-1（3）-改善策の具体的内容等","14検査結果(耐火クロススクリーン）-1（3）-改善（予定）年月-年（令和）","14検査結果(耐火クロススクリーン）-1（3）-改善（予定）年月-月","14検査結果(耐火クロススクリーン）-1（3）-改善（予定）年月-状況","14検査結果(耐火クロススクリーン）-1（4）-検査結果","14検査結果(耐火クロススクリーン）-1（4）-検査者番号","14検査結果(耐火クロススクリーン）-1（4）-指摘の具体的内容等","14検査結果(耐火クロススクリーン）-1（4）-改善策の具体的内容等","14検査結果(耐火クロススクリーン）-1（4）-改善（予定）年月-年（令和）","14検査結果(耐火クロススクリーン）-1（4）-改善（予定）年月-月","14検査結果(耐火クロススクリーン）-1（4）-改善（予定）年月-状況","14検査結果(耐火クロススクリーン）-1（5）-検査結果","14検査結果(耐火クロススクリーン）-1（5）-検査者番号","14検査結果(耐火クロススクリーン）-1（5）-指摘の具体的内容等","14検査結果(耐火クロススクリーン）-1（5）-改善策の具体的内容等","14検査結果(耐火クロススクリーン）-1（5）-改善（予定）年月-年（令和）","14検査結果(耐火クロススクリーン）-1（5）-改善（予定）年月-月","14検査結果(耐火クロススクリーン）-1（5）-改善（予定）年月-状況","14検査結果(耐火クロススクリーン）-1（6）-検査結果","14検査結果(耐火クロススクリーン）-1（6）-検査者番号","14検査結果(耐火クロススクリーン）-1（6）-指摘の具体的内容等","14検査結果(耐火クロススクリーン）-1（6）-改善策の具体的内容等","14検査結果(耐火クロススクリーン）-1（6）-改善（予定）年月-年（令和）","14検査結果(耐火クロススクリーン）-1（6）-改善（予定）年月-月","14検査結果(耐火クロススクリーン）-1（6）-改善（予定）年月-状況","14検査結果(耐火クロススクリーン）-1（7）-検査結果","14検査結果(耐火クロススクリーン）-1（7）-検査者番号","14検査結果(耐火クロススクリーン）-1（7）-指摘の具体的内容等","14検査結果(耐火クロススクリーン）-1（7）-改善策の具体的内容等","14検査結果(耐火クロススクリーン）-1（7）-改善（予定）年月-年（令和）","14検査結果(耐火クロススクリーン）-1（7）-改善（予定）年月-月","14検査結果(耐火クロススクリーン）-1（7）-改善（予定）年月-状況","14検査結果(耐火クロススクリーン）-1（8）-検査結果","14検査結果(耐火クロススクリーン）-1（8）-検査者番号","14検査結果(耐火クロススクリーン）-1（8）-指摘の具体的内容等","14検査結果(耐火クロススクリーン）-1（8）-改善策の具体的内容等","14検査結果(耐火クロススクリーン）-1（8）-改善（予定）年月-年（令和）","14検査結果(耐火クロススクリーン）-1（8）-改善（予定）年月-月","14検査結果(耐火クロススクリーン）-1（8）-改善（予定）年月-状況","14検査結果(耐火クロススクリーン）-1（9）-検査結果","14検査結果(耐火クロススクリーン）-1（9）-検査者番号","14検査結果(耐火クロススクリーン）-1（9）-指摘の具体的内容等","14検査結果(耐火クロススクリーン）-1（9）-改善策の具体的内容等","14検査結果(耐火クロススクリーン）-1（9）-改善（予定）年月-年（令和）","14検査結果(耐火クロススクリーン）-1（9）-改善（予定）年月-月","14検査結果(耐火クロススクリーン）-1（9）-改善（予定）年月-状況","14検査結果(耐火クロススクリーン）-1（10）-検査結果","14検査結果(耐火クロススクリーン）-1（10）-検査者番号","14検査結果(耐火クロススクリーン）-1（10）-指摘の具体的内容等","14検査結果(耐火クロススクリーン）-1（10）-改善策の具体的内容等","14検査結果(耐火クロススクリーン）-1（10）-改善（予定）年月-年（令和）","14検査結果(耐火クロススクリーン）-1（10）-改善（予定）年月-月","14検査結果(耐火クロススクリーン）-1（10）-改善（予定）年月-状況","14検査結果(耐火クロススクリーン）-1（11）-検査結果","14検査結果(耐火クロススクリーン）-1（11）-検査者番号","14検査結果(耐火クロススクリーン）-1（11）-指摘の具体的内容等","14検査結果(耐火クロススクリーン）-1（11）-改善策の具体的内容等","14検査結果(耐火クロススクリーン）-1（11）-改善（予定）年月-年（令和）","14検査結果(耐火クロススクリーン）-1（11）-改善（予定）年月-月","14検査結果(耐火クロススクリーン）-1（11）-改善（予定）年月-状況","14検査結果(耐火クロススクリーン）-1（12）-検査結果","14検査結果(耐火クロススクリーン）-1（12）-検査者番号","14検査結果(耐火クロススクリーン）-1（12）-指摘の具体的内容等","14検査結果(耐火クロススクリーン）-1（12）-改善策の具体的内容等","14検査結果(耐火クロススクリーン）-1（12）-改善（予定）年月-年（令和）","14検査結果(耐火クロススクリーン）-1（12）-改善（予定）年月-月","14検査結果(耐火クロススクリーン）-1（12）-改善（予定）年月-状況","14検査結果(耐火クロススクリーン）-1（13）-検査結果","14検査結果(耐火クロススクリーン）-1（13）-検査者番号","14検査結果(耐火クロススクリーン）-1（13）-指摘の具体的内容等","14検査結果(耐火クロススクリーン）-1（13）-改善策の具体的内容等","14検査結果(耐火クロススクリーン）-1（13）-改善（予定）年月-年（令和）","14検査結果(耐火クロススクリーン）-1（13）-改善（予定）年月-月","14検査結果(耐火クロススクリーン）-1（13）-改善（予定）年月-状況","14検査結果(耐火クロススクリーン）-1（14）-検査結果","14検査結果(耐火クロススクリーン）-1（14）-検査者番号","14検査結果(耐火クロススクリーン）-1（14）-指摘の具体的内容等","14検査結果(耐火クロススクリーン）-1（14）-改善策の具体的内容等","14検査結果(耐火クロススクリーン）-1（14）-改善（予定）年月-年（令和）","14検査結果(耐火クロススクリーン）-1（14）-改善（予定）年月-月","14検査結果(耐火クロススクリーン）-1（14）-改善（予定）年月-状況","14検査結果(耐火クロススクリーン）-1（15）-検査結果","14検査結果(耐火クロススクリーン）-1（15）-検査者番号","14検査結果(耐火クロススクリーン）-1（15）-指摘の具体的内容等","14検査結果(耐火クロススクリーン）-1（15）-改善策の具体的内容等","14検査結果(耐火クロススクリーン）-1（15）-改善（予定）年月-年（令和）","14検査結果(耐火クロススクリーン）-1（15）-改善（予定）年月-月","14検査結果(耐火クロススクリーン）-1（15）-改善（予定）年月-状況","14検査結果(耐火クロススクリーン）-1（16）-検査結果","14検査結果(耐火クロススクリーン）-1（16）-検査者番号","14検査結果(耐火クロススクリーン）-1（16）-指摘の具体的内容等","14検査結果(耐火クロススクリーン）-1（16）-改善策の具体的内容等","14検査結果(耐火クロススクリーン）-1（16）-改善（予定）年月-年（令和）","14検査結果(耐火クロススクリーン）-1（16）-改善（予定）年月-月","14検査結果(耐火クロススクリーン）-1（16）-改善（予定）年月-状況","14検査結果(耐火クロススクリーン）-1（17）-検査結果","14検査結果(耐火クロススクリーン）-1（17）-検査者番号","14検査結果(耐火クロススクリーン）-1（17）-指摘の具体的内容等","14検査結果(耐火クロススクリーン）-1（17）-改善策の具体的内容等","14検査結果(耐火クロススクリーン）-1（17）-改善（予定）年月-年（令和）","14検査結果(耐火クロススクリーン）-1（17）-改善（予定）年月-月","14検査結果(耐火クロススクリーン）-1（17）-改善（予定）年月-状況","14検査結果(耐火クロススクリーン）-1（18）-検査結果","14検査結果(耐火クロススクリーン）-1（18）-検査者番号","14検査結果(耐火クロススクリーン）-1（18）-指摘の具体的内容等","14検査結果(耐火クロススクリーン）-1（18）-改善策の具体的内容等","14検査結果(耐火クロススクリーン）-1（18）-改善（予定）年月-年（令和）","14検査結果(耐火クロススクリーン）-1（18）-改善（予定）年月-月","14検査結果(耐火クロススクリーン）-1（18）-改善（予定）年月-状況","14検査結果(耐火クロススクリーン）-1（19）-検査結果","14検査結果(耐火クロススクリーン）-1（19）-検査者番号","14検査結果(耐火クロススクリーン）-1（19）-指摘の具体的内容等","14検査結果(耐火クロススクリーン）-1（19）-改善策の具体的内容等","14検査結果(耐火クロススクリーン）-1（19）-改善（予定）年月-年（令和）","14検査結果(耐火クロススクリーン）-1（19）-改善（予定）年月-月","14検査結果(耐火クロススクリーン）-1（19）-改善（予定）年月-状況","14検査結果(耐火クロススクリーン）-1（20）-検査結果","14検査結果(耐火クロススクリーン）-1（20）-検査者番号","14検査結果(耐火クロススクリーン）-1（20）-指摘の具体的内容等","14検査結果(耐火クロススクリーン）-1（20）-改善策の具体的内容等","14検査結果(耐火クロススクリーン）-1（20）-改善（予定）年月-年（令和）","14検査結果(耐火クロススクリーン）-1（20）-改善（予定）年月-月","14検査結果(耐火クロススクリーン）-1（20）-改善（予定）年月-状況","14検査結果(耐火クロススクリーン）-1（21）-検査結果","14検査結果(耐火クロススクリーン）-1（21）-検査者番号","14検査結果(耐火クロススクリーン）-1（21）-指摘の具体的内容等","14検査結果(耐火クロススクリーン）-1（21）-改善策の具体的内容等","14検査結果(耐火クロススクリーン）-1（21）-改善（予定）年月-年（令和）","14検査結果(耐火クロススクリーン）-1（21）-改善（予定）年月-月","14検査結果(耐火クロススクリーン）-1（21）-改善（予定）年月-状況","14検査結果(耐火クロススクリーン）-1（22）-検査結果","14検査結果(耐火クロススクリーン）-1（22）-検査者番号","14検査結果(耐火クロススクリーン）-1（22）-指摘の具体的内容等","14検査結果(耐火クロススクリーン）-1（22）-改善策の具体的内容等","14検査結果(耐火クロススクリーン）-1（22）-改善（予定）年月-年（令和）","14検査結果(耐火クロススクリーン）-1（22）-改善（予定）年月-月","14検査結果(耐火クロススクリーン）-1（22）-改善（予定）年月-状況","14検査結果(耐火クロススクリーン）-1（23）-検査結果","14検査結果(耐火クロススクリーン）-1（23）-検査者番号","14検査結果(耐火クロススクリーン）-1（23）-指摘の具体的内容等","14検査結果(耐火クロススクリーン）-1（23）-改善策の具体的内容等","14検査結果(耐火クロススクリーン）-1（23）-改善（予定）年月-年（令和）","14検査結果(耐火クロススクリーン）-1（23）-改善（予定）年月-月","14検査結果(耐火クロススクリーン）-1（23）-改善（予定）年月-状況","14検査結果(耐火クロススクリーン）-上記以外の検査項目等-1行目-番号","14検査結果(耐火クロススクリーン）-上記以外の検査項目等-1行目-検査項目","14検査結果(耐火クロススクリーン）-上記以外の検査項目等-1行目-検査事項","14検査結果(耐火クロススクリーン）-上記以外の検査項目等-1行目-検査結果","14検査結果(耐火クロススクリーン）-上記以外の検査項目等-1行目-検査者番号","14検査結果(耐火クロススクリーン）-上記以外の検査項目等-1行目-指摘の具体的内容等","14検査結果(耐火クロススクリーン）-上記以外の検査項目等-1行目-改善策の具体的内容等","14検査結果(耐火クロススクリーン）-上記以外の検査項目等-1行目-改善（予定）年月-年（令和）","14検査結果(耐火クロススクリーン）-上記以外の検査項目等-1行目-改善（予定）年月-月","14検査結果(耐火クロススクリーン）-上記以外の検査項目等-1行目-改善（予定）年月-状況","14検査結果(耐火クロススクリーン）-上記以外の検査項目等-2行目-番号","14検査結果(耐火クロススクリーン）-上記以外の検査項目等-2行目-検査項目","14検査結果(耐火クロススクリーン）-上記以外の検査項目等-2行目-検査事項","14検査結果(耐火クロススクリーン）-上記以外の検査項目等-2行目-検査結果","14検査結果(耐火クロススクリーン）-上記以外の検査項目等-2行目-検査者番号","14検査結果(耐火クロススクリーン）-上記以外の検査項目等-2行目-指摘の具体的内容等","14検査結果(耐火クロススクリーン）-上記以外の検査項目等-2行目-改善策の具体的内容等","14検査結果(耐火クロススクリーン）-上記以外の検査項目等-2行目-改善（予定）年月-年（令和）","14検査結果(耐火クロススクリーン）-上記以外の検査項目等-2行目-改善（予定）年月-月","14検査結果(耐火クロススクリーン）-上記以外の検査項目等-2行目-改善（予定）年月-状況","14検査結果(耐火クロススクリーン）-上記以外の検査項目等-3行目-番号","14検査結果(耐火クロススクリーン）-上記以外の検査項目等-3行目-検査項目","14検査結果(耐火クロススクリーン）-上記以外の検査項目等-3行目-検査事項","14検査結果(耐火クロススクリーン）-上記以外の検査項目等-3行目-検査結果","14検査結果(耐火クロススクリーン）-上記以外の検査項目等-3行目-検査者番号","14検査結果(耐火クロススクリーン）-上記以外の検査項目等-3行目-指摘の具体的内容等","14検査結果(耐火クロススクリーン）-上記以外の検査項目等-3行目-改善策の具体的内容等","14検査結果(耐火クロススクリーン）-上記以外の検査項目等-3行目-改善（予定）年月-年（令和）","14検査結果(耐火クロススクリーン）-上記以外の検査項目等-3行目-改善（予定）年月-月","14検査結果(耐火クロススクリーン）-上記以外の検査項目等-3行目-改善（予定）年月-状況","14検査結果(耐火クロススクリーン）-上記に記載のない事項-1行目-番号","14検査結果(耐火クロススクリーン）-上記に記載のない事項-1行目-検査項目","14検査結果(耐火クロススクリーン）-上記に記載のない事項-1行目-検査事項","14検査結果(耐火クロススクリーン）-上記に記載のない事項-1行目-検査結果","14検査結果(耐火クロススクリーン）-上記に記載のない事項-1行目-検査者番号","14検査結果(耐火クロススクリーン）-上記に記載のない事項-1行目-指摘の具体的内容等","14検査結果(耐火クロススクリーン）-上記に記載のない事項-1行目-改善策の具体的内容等","14検査結果(耐火クロススクリーン）-上記に記載のない事項-1行目-改善（予定）年月-年（令和）","14検査結果(耐火クロススクリーン）-上記に記載のない事項-1行目-改善（予定）年月-月","14検査結果(耐火クロススクリーン）-上記に記載のない事項-1行目-改善（予定）年月-状況","14検査結果(耐火クロススクリーン）-上記に記載のない事項-2行目-番号","14検査結果(耐火クロススクリーン）-上記に記載のない事項-2行目-検査項目","14検査結果(耐火クロススクリーン）-上記に記載のない事項-2行目-検査事項","14検査結果(耐火クロススクリーン）-上記に記載のない事項-2行目-検査結果","14検査結果(耐火クロススクリーン）-上記に記載のない事項-2行目-検査者番号","14検査結果(耐火クロススクリーン）-上記に記載のない事項-2行目-指摘の具体的内容等","14検査結果(耐火クロススクリーン）-上記に記載のない事項-2行目-改善策の具体的内容等","14検査結果(耐火クロススクリーン）-上記に記載のない事項-2行目-改善（予定）年月-年（令和）","14検査結果(耐火クロススクリーン）-上記に記載のない事項-2行目-改善（予定）年月-月","14検査結果(耐火クロススクリーン）-上記に記載のない事項-2行目-改善（予定）年月-状況","14検査結果(耐火クロススクリーン）-上記に記載のない事項-3行目-番号","14検査結果(耐火クロススクリーン）-上記に記載のない事項-3行目-検査項目","14検査結果(耐火クロススクリーン）-上記に記載のない事項-3行目-検査事項","14検査結果(耐火クロススクリーン）-上記に記載のない事項-3行目-検査結果","14検査結果(耐火クロススクリーン）-上記に記載のない事項-3行目-検査者番号","14検査結果(耐火クロススクリーン）-上記に記載のない事項-3行目-指摘の具体的内容等","14検査結果(耐火クロススクリーン）-上記に記載のない事項-3行目-改善策の具体的内容等","14検査結果(耐火クロススクリーン）-上記に記載のない事項-3行目-改善（予定）年月-年（令和）","14検査結果(耐火クロススクリーン）-上記に記載のない事項-3行目-改善（予定）年月-月","14検査結果(耐火クロススクリーン）-上記に記載のない事項-3行目-改善（予定）年月-状況","14検査結果(耐火クロススクリーン）-上記に記載のない事項-4行目-番号","14検査結果(耐火クロススクリーン）-上記に記載のない事項-4行目-検査項目","14検査結果(耐火クロススクリーン）-上記に記載のない事項-4行目-検査事項","14検査結果(耐火クロススクリーン）-上記に記載のない事項-4行目-検査結果","14検査結果(耐火クロススクリーン）-上記に記載のない事項-4行目-検査者番号","14検査結果(耐火クロススクリーン）-上記に記載のない事項-4行目-指摘の具体的内容等","14検査結果(耐火クロススクリーン）-上記に記載のない事項-4行目-改善策の具体的内容等","14検査結果(耐火クロススクリーン）-上記に記載のない事項-4行目-改善（予定）年月-年（令和）","14検査結果(耐火クロススクリーン）-上記に記載のない事項-4行目-改善（予定）年月-月","14検査結果(耐火クロススクリーン）-上記に記載のない事項-4行目-改善（予定）年月-状況","14検査結果(耐火クロススクリーン）-上記に記載のない事項-5行目-番号","14検査結果(耐火クロススクリーン）-上記に記載のない事項-5行目-検査項目","14検査結果(耐火クロススクリーン）-上記に記載のない事項-5行目-検査事項","14検査結果(耐火クロススクリーン）-上記に記載のない事項-5行目-検査結果","14検査結果(耐火クロススクリーン）-上記に記載のない事項-5行目-検査者番号","14検査結果(耐火クロススクリーン）-上記に記載のない事項-5行目-指摘の具体的内容等","14検査結果(耐火クロススクリーン）-上記に記載のない事項-5行目-改善策の具体的内容等","14検査結果(耐火クロススクリーン）-上記に記載のない事項-5行目-改善（予定）年月-年（令和）","14検査結果(耐火クロススクリーン）-上記に記載のない事項-5行目-改善（予定）年月-月","14検査結果(耐火クロススクリーン）-上記に記載のない事項-5行目-改善（予定）年月-状況","14検査結果(耐火クロススクリーン）-上記に記載のない事項-6行目-番号","14検査結果(耐火クロススクリーン）-上記に記載のない事項-6行目-検査項目","14検査結果(耐火クロススクリーン）-上記に記載のない事項-6行目-検査事項","14検査結果(耐火クロススクリーン）-上記に記載のない事項-6行目-検査結果","14検査結果(耐火クロススクリーン）-上記に記載のない事項-6行目-検査者番号","14検査結果(耐火クロススクリーン）-上記に記載のない事項-6行目-指摘の具体的内容等","14検査結果(耐火クロススクリーン）-上記に記載のない事項-6行目-改善策の具体的内容等","14検査結果(耐火クロススクリーン）-上記に記載のない事項-6行目-改善（予定）年月-年（令和）","14検査結果(耐火クロススクリーン）-上記に記載のない事項-6行目-改善（予定）年月-月","14検査結果(耐火クロススクリーン）-上記に記載のない事項-6行目-改善（予定）年月-状況","14検査結果(耐火クロススクリーン）-上記に記載のない事項-7行目-番号","14検査結果(耐火クロススクリーン）-上記に記載のない事項-7行目-検査項目","14検査結果(耐火クロススクリーン）-上記に記載のない事項-7行目-検査事項","14検査結果(耐火クロススクリーン）-上記に記載のない事項-7行目-検査結果","14検査結果(耐火クロススクリーン）-上記に記載のない事項-7行目-検査者番号","14検査結果(耐火クロススクリーン）-上記に記載のない事項-7行目-指摘の具体的内容等","14検査結果(耐火クロススクリーン）-上記に記載のない事項-7行目-改善策の具体的内容等","14検査結果(耐火クロススクリーン）-上記に記載のない事項-7行目-改善（予定）年月-年（令和）","14検査結果(耐火クロススクリーン）-上記に記載のない事項-7行目-改善（予定）年月-月","14検査結果(耐火クロススクリーン）-上記に記載のない事項-7行目-改善（予定）年月-状況","14検査結果(耐火クロススクリーン）-上記に記載のない事項-8行目-番号","14検査結果(耐火クロススクリーン）-上記に記載のない事項-8行目-検査項目","14検査結果(耐火クロススクリーン）-上記に記載のない事項-8行目-検査事項","14検査結果(耐火クロススクリーン）-上記に記載のない事項-8行目-検査結果","14検査結果(耐火クロススクリーン）-上記に記載のない事項-8行目-検査者番号","14検査結果(耐火クロススクリーン）-上記に記載のない事項-8行目-指摘の具体的内容等","14検査結果(耐火クロススクリーン）-上記に記載のない事項-8行目-改善策の具体的内容等","14検査結果(耐火クロススクリーン）-上記に記載のない事項-8行目-改善（予定）年月-年（令和）","14検査結果(耐火クロススクリーン）-上記に記載のない事項-8行目-改善（予定）年月-月","14検査結果(耐火クロススクリーン）-上記に記載のない事項-8行目-改善（予定）年月-状況","14検査結果(耐火クロススクリーン）-上記に記載のない事項-9行目-番号","14検査結果(耐火クロススクリーン）-上記に記載のない事項-9行目-検査項目","14検査結果(耐火クロススクリーン）-上記に記載のない事項-9行目-検査事項","14検査結果(耐火クロススクリーン）-上記に記載のない事項-9行目-検査結果","14検査結果(耐火クロススクリーン）-上記に記載のない事項-9行目-検査者番号","14検査結果(耐火クロススクリーン）-上記に記載のない事項-9行目-指摘の具体的内容等","14検査結果(耐火クロススクリーン）-上記に記載のない事項-9行目-改善策の具体的内容等","14検査結果(耐火クロススクリーン）-上記に記載のない事項-9行目-改善（予定）年月-年（令和）","14検査結果(耐火クロススクリーン）-上記に記載のない事項-9行目-改善（予定）年月-月","14検査結果(耐火クロススクリーン）-上記に記載のない事項-9行目-改善（予定）年月-状況","14検査結果(耐火クロススクリーン）-上記に記載のない事項-10行目-番号","14検査結果(耐火クロススクリーン）-上記に記載のない事項-10行目-検査項目","14検査結果(耐火クロススクリーン）-上記に記載のない事項-10行目-検査事項","14検査結果(耐火クロススクリーン）-上記に記載のない事項-10行目-検査結果","14検査結果(耐火クロススクリーン）-上記に記載のない事項-10行目-検査者番号","14検査結果(耐火クロススクリーン）-上記に記載のない事項-10行目-指摘の具体的内容等","14検査結果(耐火クロススクリーン）-上記に記載のない事項-10行目-改善策の具体的内容等","14検査結果(耐火クロススクリーン）-上記に記載のない事項-10行目-改善（予定）年月-年（令和）","14検査結果(耐火クロススクリーン）-上記に記載のない事項-10行目-改善（予定）年月-月","14検査結果(耐火クロススクリーン）-上記に記載のない事項-10行目-改善（予定）年月-状況","14検査結果(耐火クロススクリーン）-上記に記載のない事項-11行目-番号","14検査結果(耐火クロススクリーン）-上記に記載のない事項-11行目-検査項目","14検査結果(耐火クロススクリーン）-上記に記載のない事項-11行目-検査事項","14検査結果(耐火クロススクリーン）-上記に記載のない事項-11行目-検査結果","14検査結果(耐火クロススクリーン）-上記に記載のない事項-11行目-検査者番号","14検査結果(耐火クロススクリーン）-上記に記載のない事項-11行目-指摘の具体的内容等","14検査結果(耐火クロススクリーン）-上記に記載のない事項-11行目-改善策の具体的内容等","14検査結果(耐火クロススクリーン）-上記に記載のない事項-11行目-改善（予定）年月-年（令和）","14検査結果(耐火クロススクリーン）-上記に記載のない事項-11行目-改善（予定）年月-月","14検査結果(耐火クロススクリーン）-上記に記載のない事項-11行目-改善（予定）年月-状況","14検査結果(耐火クロススクリーン）-上記に記載のない事項-12行目-番号","14検査結果(耐火クロススクリーン）-上記に記載のない事項-12行目-検査項目","14検査結果(耐火クロススクリーン）-上記に記載のない事項-12行目-検査事項","14検査結果(耐火クロススクリーン）-上記に記載のない事項-12行目-検査結果","14検査結果(耐火クロススクリーン）-上記に記載のない事項-12行目-検査者番号","14検査結果(耐火クロススクリーン）-上記に記載のない事項-12行目-指摘の具体的内容等","14検査結果(耐火クロススクリーン）-上記に記載のない事項-12行目-改善策の具体的内容等","14検査結果(耐火クロススクリーン）-上記に記載のない事項-12行目-改善（予定）年月-年（令和）","14検査結果(耐火クロススクリーン）-上記に記載のない事項-12行目-改善（予定）年月-月","14検査結果(耐火クロススクリーン）-上記に記載のない事項-12行目-改善（予定）年月-状況","14検査結果(耐火クロススクリーン）-上記に記載のない事項-13行目-番号","14検査結果(耐火クロススクリーン）-上記に記載のない事項-13行目-検査項目","14検査結果(耐火クロススクリーン）-上記に記載のない事項-13行目-検査事項","14検査結果(耐火クロススクリーン）-上記に記載のない事項-13行目-検査結果","14検査結果(耐火クロススクリーン）-上記に記載のない事項-13行目-検査者番号","14検査結果(耐火クロススクリーン）-上記に記載のない事項-13行目-指摘の具体的内容等","14検査結果(耐火クロススクリーン）-上記に記載のない事項-13行目-改善策の具体的内容等","14検査結果(耐火クロススクリーン）-上記に記載のない事項-13行目-改善（予定）年月-年（令和）","14検査結果(耐火クロススクリーン）-上記に記載のない事項-13行目-改善（予定）年月-月","14検査結果(耐火クロススクリーン）-上記に記載のない事項-13行目-改善（予定）年月-状況","14検査結果(耐火クロススクリーン）-上記に記載のない事項-14行目-番号","14検査結果(耐火クロススクリーン）-上記に記載のない事項-14行目-検査項目","14検査結果(耐火クロススクリーン）-上記に記載のない事項-14行目-検査事項","14検査結果(耐火クロススクリーン）-上記に記載のない事項-14行目-検査結果","14検査結果(耐火クロススクリーン）-上記に記載のない事項-14行目-検査者番号","14検査結果(耐火クロススクリーン）-上記に記載のない事項-14行目-指摘の具体的内容等","14検査結果(耐火クロススクリーン）-上記に記載のない事項-14行目-改善策の具体的内容等","14検査結果(耐火クロススクリーン）-上記に記載のない事項-14行目-改善（予定）年月-年（令和）","14検査結果(耐火クロススクリーン）-上記に記載のない事項-14行目-改善（予定）年月-月","14検査結果(耐火クロススクリーン）-上記に記載のない事項-14行目-改善（予定）年月-状況","14検査結果(耐火クロススクリーン）-上記に記載のない事項-15行目-番号","14検査結果(耐火クロススクリーン）-上記に記載のない事項-15行目-検査項目","14検査結果(耐火クロススクリーン）-上記に記載のない事項-15行目-検査事項","14検査結果(耐火クロススクリーン）-上記に記載のない事項-15行目-検査結果","14検査結果(耐火クロススクリーン）-上記に記載のない事項-15行目-検査者番号","14検査結果(耐火クロススクリーン）-上記に記載のない事項-15行目-指摘の具体的内容等","14検査結果(耐火クロススクリーン）-上記に記載のない事項-15行目-改善策の具体的内容等","14検査結果(耐火クロススクリーン）-上記に記載のない事項-15行目-改善（予定）年月-年（令和）","14検査結果(耐火クロススクリーン）-上記に記載のない事項-15行目-改善（予定）年月-月","14検査結果(耐火クロススクリーン）-上記に記載のない事項-15行目-改善（予定）年月-状況","15検査結果(ドレンチャーその他の水幕を形成する防火設備）-1（1）-検査結果","15検査結果(ドレンチャーその他の水幕を形成する防火設備）-1（1）-検査者番号","15検査結果(ドレンチャーその他の水幕を形成する防火設備）-1（1）-指摘の具体的内容等","15検査結果(ドレンチャーその他の水幕を形成する防火設備）-1（1）-改善策の具体的内容等","15検査結果(ドレンチャーその他の水幕を形成する防火設備）-1（1）-改善（予定）年月-年（令和）","15検査結果(ドレンチャーその他の水幕を形成する防火設備）-1（1）-改善（予定）年月-月","15検査結果(ドレンチャーその他の水幕を形成する防火設備）-1（1）-改善（予定）年月-状況","15検査結果(ドレンチャーその他の水幕を形成する防火設備）-1（2）-検査結果","15検査結果(ドレンチャーその他の水幕を形成する防火設備）-1（2）-検査者番号","15検査結果(ドレンチャーその他の水幕を形成する防火設備）-1（2）-指摘の具体的内容等","15検査結果(ドレンチャーその他の水幕を形成する防火設備）-1（2）-改善策の具体的内容等","15検査結果(ドレンチャーその他の水幕を形成する防火設備）-1（2）-改善（予定）年月-年（令和）","15検査結果(ドレンチャーその他の水幕を形成する防火設備）-1（2）-改善（予定）年月-月","15検査結果(ドレンチャーその他の水幕を形成する防火設備）-1（2）-改善（予定）年月-状況","15検査結果(ドレンチャーその他の水幕を形成する防火設備）-1（3）-検査結果","15検査結果(ドレンチャーその他の水幕を形成する防火設備）-1（3）-検査者番号","15検査結果(ドレンチャーその他の水幕を形成する防火設備）-1（3）-指摘の具体的内容等","15検査結果(ドレンチャーその他の水幕を形成する防火設備）-1（3）-改善策の具体的内容等","15検査結果(ドレンチャーその他の水幕を形成する防火設備）-1（3）-改善（予定）年月-年（令和）","15検査結果(ドレンチャーその他の水幕を形成する防火設備）-1（3）-改善（予定）年月-月","15検査結果(ドレンチャーその他の水幕を形成する防火設備）-1（3）-改善（予定）年月-状況","15検査結果(ドレンチャーその他の水幕を形成する防火設備）-1（4）-検査結果","15検査結果(ドレンチャーその他の水幕を形成する防火設備）-1（4）-検査者番号","15検査結果(ドレンチャーその他の水幕を形成する防火設備）-1（4）-指摘の具体的内容等","15検査結果(ドレンチャーその他の水幕を形成する防火設備）-1（4）-改善策の具体的内容等","15検査結果(ドレンチャーその他の水幕を形成する防火設備）-1（4）-改善（予定）年月-年（令和）","15検査結果(ドレンチャーその他の水幕を形成する防火設備）-1（4）-改善（予定）年月-月","15検査結果(ドレンチャーその他の水幕を形成する防火設備）-1（4）-改善（予定）年月-状況","15検査結果(ドレンチャーその他の水幕を形成する防火設備）-1（5）-検査結果","15検査結果(ドレンチャーその他の水幕を形成する防火設備）-1（5）-検査者番号","15検査結果(ドレンチャーその他の水幕を形成する防火設備）-1（5）-指摘の具体的内容等","15検査結果(ドレンチャーその他の水幕を形成する防火設備）-1（5）-改善策の具体的内容等","15検査結果(ドレンチャーその他の水幕を形成する防火設備）-1（5）-改善（予定）年月-年（令和）","15検査結果(ドレンチャーその他の水幕を形成する防火設備）-1（5）-改善（予定）年月-月","15検査結果(ドレンチャーその他の水幕を形成する防火設備）-1（5）-改善（予定）年月-状況","15検査結果(ドレンチャーその他の水幕を形成する防火設備）-1（6）-検査結果","15検査結果(ドレンチャーその他の水幕を形成する防火設備）-1（6）-検査者番号","15検査結果(ドレンチャーその他の水幕を形成する防火設備）-1（6）-指摘の具体的内容等","15検査結果(ドレンチャーその他の水幕を形成する防火設備）-1（6）-改善策の具体的内容等","15検査結果(ドレンチャーその他の水幕を形成する防火設備）-1（6）-改善（予定）年月-年（令和）","15検査結果(ドレンチャーその他の水幕を形成する防火設備）-1（6）-改善（予定）年月-月","15検査結果(ドレンチャーその他の水幕を形成する防火設備）-1（6）-改善（予定）年月-状況","15検査結果(ドレンチャーその他の水幕を形成する防火設備）-1（7）-検査結果","15検査結果(ドレンチャーその他の水幕を形成する防火設備）-1（7）-検査者番号","15検査結果(ドレンチャーその他の水幕を形成する防火設備）-1（7）-指摘の具体的内容等","15検査結果(ドレンチャーその他の水幕を形成する防火設備）-1（7）-改善策の具体的内容等","15検査結果(ドレンチャーその他の水幕を形成する防火設備）-1（7）-改善（予定）年月-年（令和）","15検査結果(ドレンチャーその他の水幕を形成する防火設備）-1（7）-改善（予定）年月-月","15検査結果(ドレンチャーその他の水幕を形成する防火設備）-1（7）-改善（予定）年月-状況","15検査結果(ドレンチャーその他の水幕を形成する防火設備）-1（8）-検査結果","15検査結果(ドレンチャーその他の水幕を形成する防火設備）-1（8）-検査者番号","15検査結果(ドレンチャーその他の水幕を形成する防火設備）-1（8）-指摘の具体的内容等","15検査結果(ドレンチャーその他の水幕を形成する防火設備）-1（8）-改善策の具体的内容等","15検査結果(ドレンチャーその他の水幕を形成する防火設備）-1（8）-改善（予定）年月-年（令和）","15検査結果(ドレンチャーその他の水幕を形成する防火設備）-1（8）-改善（予定）年月-月","15検査結果(ドレンチャーその他の水幕を形成する防火設備）-1（8）-改善（予定）年月-状況","15検査結果(ドレンチャーその他の水幕を形成する防火設備）-1（9）-検査結果","15検査結果(ドレンチャーその他の水幕を形成する防火設備）-1（9）-検査者番号","15検査結果(ドレンチャーその他の水幕を形成する防火設備）-1（9）-指摘の具体的内容等","15検査結果(ドレンチャーその他の水幕を形成する防火設備）-1（9）-改善策の具体的内容等","15検査結果(ドレンチャーその他の水幕を形成する防火設備）-1（9）-改善（予定）年月-年（令和）","15検査結果(ドレンチャーその他の水幕を形成する防火設備）-1（9）-改善（予定）年月-月","15検査結果(ドレンチャーその他の水幕を形成する防火設備）-1（9）-改善（予定）年月-状況","15検査結果(ドレンチャーその他の水幕を形成する防火設備）-1（10）-検査結果","15検査結果(ドレンチャーその他の水幕を形成する防火設備）-1（10）-検査者番号","15検査結果(ドレンチャーその他の水幕を形成する防火設備）-1（10）-指摘の具体的内容等","15検査結果(ドレンチャーその他の水幕を形成する防火設備）-1（10）-改善策の具体的内容等","15検査結果(ドレンチャーその他の水幕を形成する防火設備）-1（10）-改善（予定）年月-年（令和）","15検査結果(ドレンチャーその他の水幕を形成する防火設備）-1（10）-改善（予定）年月-月","15検査結果(ドレンチャーその他の水幕を形成する防火設備）-1（10）-改善（予定）年月-状況","15検査結果(ドレンチャーその他の水幕を形成する防火設備）-1（11）-検査結果","15検査結果(ドレンチャーその他の水幕を形成する防火設備）-1（11）-検査者番号","15検査結果(ドレンチャーその他の水幕を形成する防火設備）-1（11）-指摘の具体的内容等","15検査結果(ドレンチャーその他の水幕を形成する防火設備）-1（11）-改善策の具体的内容等","15検査結果(ドレンチャーその他の水幕を形成する防火設備）-1（11）-改善（予定）年月-年（令和）","15検査結果(ドレンチャーその他の水幕を形成する防火設備）-1（11）-改善（予定）年月-月","15検査結果(ドレンチャーその他の水幕を形成する防火設備）-1（11）-改善（予定）年月-状況","15検査結果(ドレンチャーその他の水幕を形成する防火設備）-1（12）-検査結果","15検査結果(ドレンチャーその他の水幕を形成する防火設備）-1（12）-検査者番号","15検査結果(ドレンチャーその他の水幕を形成する防火設備）-1（12）-指摘の具体的内容等","15検査結果(ドレンチャーその他の水幕を形成する防火設備）-1（12）-改善策の具体的内容等","15検査結果(ドレンチャーその他の水幕を形成する防火設備）-1（12）-改善（予定）年月-年（令和）","15検査結果(ドレンチャーその他の水幕を形成する防火設備）-1（12）-改善（予定）年月-月","15検査結果(ドレンチャーその他の水幕を形成する防火設備）-1（12）-改善（予定）年月-状況","15検査結果(ドレンチャーその他の水幕を形成する防火設備）-1（13）-検査結果","15検査結果(ドレンチャーその他の水幕を形成する防火設備）-1（13）-検査者番号","15検査結果(ドレンチャーその他の水幕を形成する防火設備）-1（13）-指摘の具体的内容等","15検査結果(ドレンチャーその他の水幕を形成する防火設備）-1（13）-改善策の具体的内容等","15検査結果(ドレンチャーその他の水幕を形成する防火設備）-1（13）-改善（予定）年月-年（令和）","15検査結果(ドレンチャーその他の水幕を形成する防火設備）-1（13）-改善（予定）年月-月","15検査結果(ドレンチャーその他の水幕を形成する防火設備）-1（13）-改善（予定）年月-状況","15検査結果(ドレンチャーその他の水幕を形成する防火設備）-1（14）-検査結果","15検査結果(ドレンチャーその他の水幕を形成する防火設備）-1（14）-検査者番号","15検査結果(ドレンチャーその他の水幕を形成する防火設備）-1（14）-指摘の具体的内容等","15検査結果(ドレンチャーその他の水幕を形成する防火設備）-1（14）-改善策の具体的内容等","15検査結果(ドレンチャーその他の水幕を形成する防火設備）-1（14）-改善（予定）年月-年（令和）","15検査結果(ドレンチャーその他の水幕を形成する防火設備）-1（14）-改善（予定）年月-月","15検査結果(ドレンチャーその他の水幕を形成する防火設備）-1（14）-改善（予定）年月-状況","15検査結果(ドレンチャーその他の水幕を形成する防火設備）-1（15）-検査結果","15検査結果(ドレンチャーその他の水幕を形成する防火設備）-1（15）-検査者番号","15検査結果(ドレンチャーその他の水幕を形成する防火設備）-1（15）-指摘の具体的内容等","15検査結果(ドレンチャーその他の水幕を形成する防火設備）-1（15）-改善策の具体的内容等","15検査結果(ドレンチャーその他の水幕を形成する防火設備）-1（15）-改善（予定）年月-年（令和）","15検査結果(ドレンチャーその他の水幕を形成する防火設備）-1（15）-改善（予定）年月-月","15検査結果(ドレンチャーその他の水幕を形成する防火設備）-1（15）-改善（予定）年月-状況","15検査結果(ドレンチャーその他の水幕を形成する防火設備）-1（16）-検査結果","15検査結果(ドレンチャーその他の水幕を形成する防火設備）-1（16）-検査者番号","15検査結果(ドレンチャーその他の水幕を形成する防火設備）-1（16）-指摘の具体的内容等","15検査結果(ドレンチャーその他の水幕を形成する防火設備）-1（16）-改善策の具体的内容等","15検査結果(ドレンチャーその他の水幕を形成する防火設備）-1（16）-改善（予定）年月-年（令和）","15検査結果(ドレンチャーその他の水幕を形成する防火設備）-1（16）-改善（予定）年月-月","15検査結果(ドレンチャーその他の水幕を形成する防火設備）-1（16）-改善（予定）年月-状況","15検査結果(ドレンチャーその他の水幕を形成する防火設備）-1（17）-検査結果","15検査結果(ドレンチャーその他の水幕を形成する防火設備）-1（17）-検査者番号","15検査結果(ドレンチャーその他の水幕を形成する防火設備）-1（17）-指摘の具体的内容等","15検査結果(ドレンチャーその他の水幕を形成する防火設備）-1（17）-改善策の具体的内容等","15検査結果(ドレンチャーその他の水幕を形成する防火設備）-1（17）-改善（予定）年月-年（令和）","15検査結果(ドレンチャーその他の水幕を形成する防火設備）-1（17）-改善（予定）年月-月","15検査結果(ドレンチャーその他の水幕を形成する防火設備）-1（17）-改善（予定）年月-状況","15検査結果(ドレンチャーその他の水幕を形成する防火設備）-1（18）-検査結果","15検査結果(ドレンチャーその他の水幕を形成する防火設備）-1（18）-検査者番号","15検査結果(ドレンチャーその他の水幕を形成する防火設備）-1（18）-指摘の具体的内容等","15検査結果(ドレンチャーその他の水幕を形成する防火設備）-1（18）-改善策の具体的内容等","15検査結果(ドレンチャーその他の水幕を形成する防火設備）-1（18）-改善（予定）年月-年（令和）","15検査結果(ドレンチャーその他の水幕を形成する防火設備）-1（18）-改善（予定）年月-月","15検査結果(ドレンチャーその他の水幕を形成する防火設備）-1（18）-改善（予定）年月-状況","15検査結果(ドレンチャーその他の水幕を形成する防火設備）-1（19）-検査結果","15検査結果(ドレンチャーその他の水幕を形成する防火設備）-1（19）-検査者番号","15検査結果(ドレンチャーその他の水幕を形成する防火設備）-1（19）-指摘の具体的内容等","15検査結果(ドレンチャーその他の水幕を形成する防火設備）-1（19）-改善策の具体的内容等","15検査結果(ドレンチャーその他の水幕を形成する防火設備）-1（19）-改善（予定）年月-年（令和）","15検査結果(ドレンチャーその他の水幕を形成する防火設備）-1（19）-改善（予定）年月-月","15検査結果(ドレンチャーその他の水幕を形成する防火設備）-1（19）-改善（予定）年月-状況","15検査結果(ドレンチャーその他の水幕を形成する防火設備）-1（20）-検査結果","15検査結果(ドレンチャーその他の水幕を形成する防火設備）-1（20）-検査者番号","15検査結果(ドレンチャーその他の水幕を形成する防火設備）-1（20）-指摘の具体的内容等","15検査結果(ドレンチャーその他の水幕を形成する防火設備）-1（20）-改善策の具体的内容等","15検査結果(ドレンチャーその他の水幕を形成する防火設備）-1（20）-改善（予定）年月-年（令和）","15検査結果(ドレンチャーその他の水幕を形成する防火設備）-1（20）-改善（予定）年月-月","15検査結果(ドレンチャーその他の水幕を形成する防火設備）-1（20）-改善（予定）年月-状況","15検査結果(ドレンチャーその他の水幕を形成する防火設備）-1（21）-検査結果","15検査結果(ドレンチャーその他の水幕を形成する防火設備）-1（21）-検査者番号","15検査結果(ドレンチャーその他の水幕を形成する防火設備）-1（21）-指摘の具体的内容等","15検査結果(ドレンチャーその他の水幕を形成する防火設備）-1（21）-改善策の具体的内容等","15検査結果(ドレンチャーその他の水幕を形成する防火設備）-1（21）-改善（予定）年月-年（令和）","15検査結果(ドレンチャーその他の水幕を形成する防火設備）-1（21）-改善（予定）年月-月","15検査結果(ドレンチャーその他の水幕を形成する防火設備）-1（21）-改善（予定）年月-状況","15検査結果(ドレンチャーその他の水幕を形成する防火設備）-1（22）-検査結果","15検査結果(ドレンチャーその他の水幕を形成する防火設備）-1（22）-検査者番号","15検査結果(ドレンチャーその他の水幕を形成する防火設備）-1（22）-指摘の具体的内容等","15検査結果(ドレンチャーその他の水幕を形成する防火設備）-1（22）-改善策の具体的内容等","15検査結果(ドレンチャーその他の水幕を形成する防火設備）-1（22）-改善（予定）年月-年（令和）","15検査結果(ドレンチャーその他の水幕を形成する防火設備）-1（22）-改善（予定）年月-月","15検査結果(ドレンチャーその他の水幕を形成する防火設備）-1（22）-改善（予定）年月-状況","15検査結果(ドレンチャーその他の水幕を形成する防火設備）-1（23）-検査結果","15検査結果(ドレンチャーその他の水幕を形成する防火設備）-1（23）-検査者番号","15検査結果(ドレンチャーその他の水幕を形成する防火設備）-1（23）-指摘の具体的内容等","15検査結果(ドレンチャーその他の水幕を形成する防火設備）-1（23）-改善策の具体的内容等","15検査結果(ドレンチャーその他の水幕を形成する防火設備）-1（23）-改善（予定）年月-年（令和）","15検査結果(ドレンチャーその他の水幕を形成する防火設備）-1（23）-改善（予定）年月-月","15検査結果(ドレンチャーその他の水幕を形成する防火設備）-1（23）-改善（予定）年月-状況","15検査結果(ドレンチャーその他の水幕を形成する防火設備）-1（24）-検査結果","15検査結果(ドレンチャーその他の水幕を形成する防火設備）-1（24）-検査者番号","15検査結果(ドレンチャーその他の水幕を形成する防火設備）-1（24）-指摘の具体的内容等","15検査結果(ドレンチャーその他の水幕を形成する防火設備）-1（24）-改善策の具体的内容等","15検査結果(ドレンチャーその他の水幕を形成する防火設備）-1（24）-改善（予定）年月-年（令和）","15検査結果(ドレンチャーその他の水幕を形成する防火設備）-1（24）-改善（予定）年月-月","15検査結果(ドレンチャーその他の水幕を形成する防火設備）-1（24）-改善（予定）年月-状況","15検査結果(ドレンチャーその他の水幕を形成する防火設備）-1（25）-検査結果","15検査結果(ドレンチャーその他の水幕を形成する防火設備）-1（25）-検査者番号","15検査結果(ドレンチャーその他の水幕を形成する防火設備）-1（25）-指摘の具体的内容等","15検査結果(ドレンチャーその他の水幕を形成する防火設備）-1（25）-改善策の具体的内容等","15検査結果(ドレンチャーその他の水幕を形成する防火設備）-1（25）-改善（予定）年月-年（令和）","15検査結果(ドレンチャーその他の水幕を形成する防火設備）-1（25）-改善（予定）年月-月","15検査結果(ドレンチャーその他の水幕を形成する防火設備）-1（25）-改善（予定）年月-状況","15検査結果(ドレンチャーその他の水幕を形成する防火設備）-1（26）-検査結果","15検査結果(ドレンチャーその他の水幕を形成する防火設備）-1（26）-検査者番号","15検査結果(ドレンチャーその他の水幕を形成する防火設備）-1（26）-指摘の具体的内容等","15検査結果(ドレンチャーその他の水幕を形成する防火設備）-1（26）-改善策の具体的内容等","15検査結果(ドレンチャーその他の水幕を形成する防火設備）-1（26）-改善（予定）年月-年（令和）","15検査結果(ドレンチャーその他の水幕を形成する防火設備）-1（26）-改善（予定）年月-月","15検査結果(ドレンチャーその他の水幕を形成する防火設備）-1（26）-改善（予定）年月-状況","15検査結果(ドレンチャーその他の水幕を形成する防火設備）-上記以外の検査項目等-1行目-番号","15検査結果(ドレンチャーその他の水幕を形成する防火設備）-上記以外の検査項目等-1行目-検査項目","15検査結果(ドレンチャーその他の水幕を形成する防火設備）-上記以外の検査項目等-1行目-検査事項","15検査結果(ドレンチャーその他の水幕を形成する防火設備）-上記以外の検査項目等-1行目-検査結果","15検査結果(ドレンチャーその他の水幕を形成する防火設備）-上記以外の検査項目等-1行目-検査者番号","15検査結果(ドレンチャーその他の水幕を形成する防火設備）-上記以外の検査項目等-1行目-指摘の具体的内容等","15検査結果(ドレンチャーその他の水幕を形成する防火設備）-上記以外の検査項目等-1行目-改善策の具体的内容等","15検査結果(ドレンチャーその他の水幕を形成する防火設備）-上記以外の検査項目等-1行目-改善（予定）年月-年（令和）","15検査結果(ドレンチャーその他の水幕を形成する防火設備）-上記以外の検査項目等-1行目-改善（予定）年月-月","15検査結果(ドレンチャーその他の水幕を形成する防火設備）-上記以外の検査項目等-1行目-改善（予定）年月-状況","15検査結果(ドレンチャーその他の水幕を形成する防火設備）-上記以外の検査項目等-2行目-番号","15検査結果(ドレンチャーその他の水幕を形成する防火設備）-上記以外の検査項目等-2行目-検査項目","15検査結果(ドレンチャーその他の水幕を形成する防火設備）-上記以外の検査項目等-2行目-検査事項","15検査結果(ドレンチャーその他の水幕を形成する防火設備）-上記以外の検査項目等-2行目-検査結果","15検査結果(ドレンチャーその他の水幕を形成する防火設備）-上記以外の検査項目等-2行目-検査者番号","15検査結果(ドレンチャーその他の水幕を形成する防火設備）-上記以外の検査項目等-2行目-指摘の具体的内容等","15検査結果(ドレンチャーその他の水幕を形成する防火設備）-上記以外の検査項目等-2行目-改善策の具体的内容等","15検査結果(ドレンチャーその他の水幕を形成する防火設備）-上記以外の検査項目等-2行目-改善（予定）年月-年（令和）","15検査結果(ドレンチャーその他の水幕を形成する防火設備）-上記以外の検査項目等-2行目-改善（予定）年月-月","15検査結果(ドレンチャーその他の水幕を形成する防火設備）-上記以外の検査項目等-2行目-改善（予定）年月-状況","15検査結果(ドレンチャーその他の水幕を形成する防火設備）-上記以外の検査項目等-3行目-番号","15検査結果(ドレンチャーその他の水幕を形成する防火設備）-上記以外の検査項目等-3行目-検査項目","15検査結果(ドレンチャーその他の水幕を形成する防火設備）-上記以外の検査項目等-3行目-検査事項","15検査結果(ドレンチャーその他の水幕を形成する防火設備）-上記以外の検査項目等-3行目-検査結果","15検査結果(ドレンチャーその他の水幕を形成する防火設備）-上記以外の検査項目等-3行目-検査者番号","15検査結果(ドレンチャーその他の水幕を形成する防火設備）-上記以外の検査項目等-3行目-指摘の具体的内容等","15検査結果(ドレンチャーその他の水幕を形成する防火設備）-上記以外の検査項目等-3行目-改善策の具体的内容等","15検査結果(ドレンチャーその他の水幕を形成する防火設備）-上記以外の検査項目等-3行目-改善（予定）年月-年（令和）","15検査結果(ドレンチャーその他の水幕を形成する防火設備）-上記以外の検査項目等-3行目-改善（予定）年月-月","15検査結果(ドレンチャーその他の水幕を形成する防火設備）-上記以外の検査項目等-3行目-改善（予定）年月-状況","15検査結果(ドレンチャーその他の水幕を形成する防火設備）-上記に記載のない事項-1行目-番号","15検査結果(ドレンチャーその他の水幕を形成する防火設備）-上記に記載のない事項-1行目-検査項目","15検査結果(ドレンチャーその他の水幕を形成する防火設備）-上記に記載のない事項-1行目-検査事項","15検査結果(ドレンチャーその他の水幕を形成する防火設備）-上記に記載のない事項-1行目-検査結果","15検査結果(ドレンチャーその他の水幕を形成する防火設備）-上記に記載のない事項-1行目-検査者番号","15検査結果(ドレンチャーその他の水幕を形成する防火設備）-上記に記載のない事項-1行目-指摘の具体的内容等","15検査結果(ドレンチャーその他の水幕を形成する防火設備）-上記に記載のない事項-1行目-改善策の具体的内容等","15検査結果(ドレンチャーその他の水幕を形成する防火設備）-上記に記載のない事項-1行目-改善（予定）年月-年（令和）","15検査結果(ドレンチャーその他の水幕を形成する防火設備）-上記に記載のない事項-1行目-改善（予定）年月-月","15検査結果(ドレンチャーその他の水幕を形成する防火設備）-上記に記載のない事項-1行目-改善（予定）年月-状況","15検査結果(ドレンチャーその他の水幕を形成する防火設備）-上記に記載のない事項-2行目-番号","15検査結果(ドレンチャーその他の水幕を形成する防火設備）-上記に記載のない事項-2行目-検査項目","15検査結果(ドレンチャーその他の水幕を形成する防火設備）-上記に記載のない事項-2行目-検査事項","15検査結果(ドレンチャーその他の水幕を形成する防火設備）-上記に記載のない事項-2行目-検査結果","15検査結果(ドレンチャーその他の水幕を形成する防火設備）-上記に記載のない事項-2行目-検査者番号","15検査結果(ドレンチャーその他の水幕を形成する防火設備）-上記に記載のない事項-2行目-指摘の具体的内容等","15検査結果(ドレンチャーその他の水幕を形成する防火設備）-上記に記載のない事項-2行目-改善策の具体的内容等","15検査結果(ドレンチャーその他の水幕を形成する防火設備）-上記に記載のない事項-2行目-改善（予定）年月-年（令和）","15検査結果(ドレンチャーその他の水幕を形成する防火設備）-上記に記載のない事項-2行目-改善（予定）年月-月","15検査結果(ドレンチャーその他の水幕を形成する防火設備）-上記に記載のない事項-2行目-改善（予定）年月-状況","15検査結果(ドレンチャーその他の水幕を形成する防火設備）-上記に記載のない事項-3行目-番号","15検査結果(ドレンチャーその他の水幕を形成する防火設備）-上記に記載のない事項-3行目-検査項目","15検査結果(ドレンチャーその他の水幕を形成する防火設備）-上記に記載のない事項-3行目-検査事項","15検査結果(ドレンチャーその他の水幕を形成する防火設備）-上記に記載のない事項-3行目-検査結果","15検査結果(ドレンチャーその他の水幕を形成する防火設備）-上記に記載のない事項-3行目-検査者番号","15検査結果(ドレンチャーその他の水幕を形成する防火設備）-上記に記載のない事項-3行目-指摘の具体的内容等","15検査結果(ドレンチャーその他の水幕を形成する防火設備）-上記に記載のない事項-3行目-改善策の具体的内容等","15検査結果(ドレンチャーその他の水幕を形成する防火設備）-上記に記載のない事項-3行目-改善（予定）年月-年（令和）","15検査結果(ドレンチャーその他の水幕を形成する防火設備）-上記に記載のない事項-3行目-改善（予定）年月-月","15検査結果(ドレンチャーその他の水幕を形成する防火設備）-上記に記載のない事項-3行目-改善（予定）年月-状況","15検査結果(ドレンチャーその他の水幕を形成する防火設備）-上記に記載のない事項-4行目-番号","15検査結果(ドレンチャーその他の水幕を形成する防火設備）-上記に記載のない事項-4行目-検査項目","15検査結果(ドレンチャーその他の水幕を形成する防火設備）-上記に記載のない事項-4行目-検査事項","15検査結果(ドレンチャーその他の水幕を形成する防火設備）-上記に記載のない事項-4行目-検査結果","15検査結果(ドレンチャーその他の水幕を形成する防火設備）-上記に記載のない事項-4行目-検査者番号","15検査結果(ドレンチャーその他の水幕を形成する防火設備）-上記に記載のない事項-4行目-指摘の具体的内容等","15検査結果(ドレンチャーその他の水幕を形成する防火設備）-上記に記載のない事項-4行目-改善策の具体的内容等","15検査結果(ドレンチャーその他の水幕を形成する防火設備）-上記に記載のない事項-4行目-改善（予定）年月-年（令和）","15検査結果(ドレンチャーその他の水幕を形成する防火設備）-上記に記載のない事項-4行目-改善（予定）年月-月","15検査結果(ドレンチャーその他の水幕を形成する防火設備）-上記に記載のない事項-4行目-改善（予定）年月-状況","15検査結果(ドレンチャーその他の水幕を形成する防火設備）-上記に記載のない事項-5行目-番号","15検査結果(ドレンチャーその他の水幕を形成する防火設備）-上記に記載のない事項-5行目-検査項目","15検査結果(ドレンチャーその他の水幕を形成する防火設備）-上記に記載のない事項-5行目-検査事項","15検査結果(ドレンチャーその他の水幕を形成する防火設備）-上記に記載のない事項-5行目-検査結果","15検査結果(ドレンチャーその他の水幕を形成する防火設備）-上記に記載のない事項-5行目-検査者番号","15検査結果(ドレンチャーその他の水幕を形成する防火設備）-上記に記載のない事項-5行目-指摘の具体的内容等","15検査結果(ドレンチャーその他の水幕を形成する防火設備）-上記に記載のない事項-5行目-改善策の具体的内容等","15検査結果(ドレンチャーその他の水幕を形成する防火設備）-上記に記載のない事項-5行目-改善（予定）年月-年（令和）","15検査結果(ドレンチャーその他の水幕を形成する防火設備）-上記に記載のない事項-5行目-改善（予定）年月-月","15検査結果(ドレンチャーその他の水幕を形成する防火設備）-上記に記載のない事項-5行目-改善（予定）年月-状況","15検査結果(ドレンチャーその他の水幕を形成する防火設備）-上記に記載のない事項-6行目-番号","15検査結果(ドレンチャーその他の水幕を形成する防火設備）-上記に記載のない事項-6行目-検査項目","15検査結果(ドレンチャーその他の水幕を形成する防火設備）-上記に記載のない事項-6行目-検査事項","15検査結果(ドレンチャーその他の水幕を形成する防火設備）-上記に記載のない事項-6行目-検査結果","15検査結果(ドレンチャーその他の水幕を形成する防火設備）-上記に記載のない事項-6行目-検査者番号","15検査結果(ドレンチャーその他の水幕を形成する防火設備）-上記に記載のない事項-6行目-指摘の具体的内容等","15検査結果(ドレンチャーその他の水幕を形成する防火設備）-上記に記載のない事項-6行目-改善策の具体的内容等","15検査結果(ドレンチャーその他の水幕を形成する防火設備）-上記に記載のない事項-6行目-改善（予定）年月-年（令和）","15検査結果(ドレンチャーその他の水幕を形成する防火設備）-上記に記載のない事項-6行目-改善（予定）年月-月","15検査結果(ドレンチャーその他の水幕を形成する防火設備）-上記に記載のない事項-6行目-改善（予定）年月-状況","15検査結果(ドレンチャーその他の水幕を形成する防火設備）-上記に記載のない事項-7行目-番号","15検査結果(ドレンチャーその他の水幕を形成する防火設備）-上記に記載のない事項-7行目-検査項目","15検査結果(ドレンチャーその他の水幕を形成する防火設備）-上記に記載のない事項-7行目-検査事項","15検査結果(ドレンチャーその他の水幕を形成する防火設備）-上記に記載のない事項-7行目-検査結果","15検査結果(ドレンチャーその他の水幕を形成する防火設備）-上記に記載のない事項-7行目-検査者番号","15検査結果(ドレンチャーその他の水幕を形成する防火設備）-上記に記載のない事項-7行目-指摘の具体的内容等","15検査結果(ドレンチャーその他の水幕を形成する防火設備）-上記に記載のない事項-7行目-改善策の具体的内容等","15検査結果(ドレンチャーその他の水幕を形成する防火設備）-上記に記載のない事項-7行目-改善（予定）年月-年（令和）","15検査結果(ドレンチャーその他の水幕を形成する防火設備）-上記に記載のない事項-7行目-改善（予定）年月-月","15検査結果(ドレンチャーその他の水幕を形成する防火設備）-上記に記載のない事項-7行目-改善（予定）年月-状況","15検査結果(ドレンチャーその他の水幕を形成する防火設備）-上記に記載のない事項-8行目-番号","15検査結果(ドレンチャーその他の水幕を形成する防火設備）-上記に記載のない事項-8行目-検査項目","15検査結果(ドレンチャーその他の水幕を形成する防火設備）-上記に記載のない事項-8行目-検査事項","15検査結果(ドレンチャーその他の水幕を形成する防火設備）-上記に記載のない事項-8行目-検査結果","15検査結果(ドレンチャーその他の水幕を形成する防火設備）-上記に記載のない事項-8行目-検査者番号","15検査結果(ドレンチャーその他の水幕を形成する防火設備）-上記に記載のない事項-8行目-指摘の具体的内容等","15検査結果(ドレンチャーその他の水幕を形成する防火設備）-上記に記載のない事項-8行目-改善策の具体的内容等","15検査結果(ドレンチャーその他の水幕を形成する防火設備）-上記に記載のない事項-8行目-改善（予定）年月-年（令和）","15検査結果(ドレンチャーその他の水幕を形成する防火設備）-上記に記載のない事項-8行目-改善（予定）年月-月","15検査結果(ドレンチャーその他の水幕を形成する防火設備）-上記に記載のない事項-8行目-改善（予定）年月-状況","15検査結果(ドレンチャーその他の水幕を形成する防火設備）-上記に記載のない事項-9行目-番号","15検査結果(ドレンチャーその他の水幕を形成する防火設備）-上記に記載のない事項-9行目-検査項目","15検査結果(ドレンチャーその他の水幕を形成する防火設備）-上記に記載のない事項-9行目-検査事項","15検査結果(ドレンチャーその他の水幕を形成する防火設備）-上記に記載のない事項-9行目-検査結果","15検査結果(ドレンチャーその他の水幕を形成する防火設備）-上記に記載のない事項-9行目-検査者番号","15検査結果(ドレンチャーその他の水幕を形成する防火設備）-上記に記載のない事項-9行目-指摘の具体的内容等","15検査結果(ドレンチャーその他の水幕を形成する防火設備）-上記に記載のない事項-9行目-改善策の具体的内容等","15検査結果(ドレンチャーその他の水幕を形成する防火設備）-上記に記載のない事項-9行目-改善（予定）年月-年（令和）","15検査結果(ドレンチャーその他の水幕を形成する防火設備）-上記に記載のない事項-9行目-改善（予定）年月-月","15検査結果(ドレンチャーその他の水幕を形成する防火設備）-上記に記載のない事項-9行目-改善（予定）年月-状況","15検査結果(ドレンチャーその他の水幕を形成する防火設備）-上記に記載のない事項-10行目-番号","15検査結果(ドレンチャーその他の水幕を形成する防火設備）-上記に記載のない事項-10行目-検査項目","15検査結果(ドレンチャーその他の水幕を形成する防火設備）-上記に記載のない事項-10行目-検査事項","15検査結果(ドレンチャーその他の水幕を形成する防火設備）-上記に記載のない事項-10行目-検査結果","15検査結果(ドレンチャーその他の水幕を形成する防火設備）-上記に記載のない事項-10行目-検査者番号","15検査結果(ドレンチャーその他の水幕を形成する防火設備）-上記に記載のない事項-10行目-指摘の具体的内容等","15検査結果(ドレンチャーその他の水幕を形成する防火設備）-上記に記載のない事項-10行目-改善策の具体的内容等","15検査結果(ドレンチャーその他の水幕を形成する防火設備）-上記に記載のない事項-10行目-改善（予定）年月-年（令和）","15検査結果(ドレンチャーその他の水幕を形成する防火設備）-上記に記載のない事項-10行目-改善（予定）年月-月","15検査結果(ドレンチャーその他の水幕を形成する防火設備）-上記に記載のない事項-10行目-改善（予定）年月-状況","15検査結果(ドレンチャーその他の水幕を形成する防火設備）-上記に記載のない事項-11行目-番号","15検査結果(ドレンチャーその他の水幕を形成する防火設備）-上記に記載のない事項-11行目-検査項目","15検査結果(ドレンチャーその他の水幕を形成する防火設備）-上記に記載のない事項-11行目-検査事項","15検査結果(ドレンチャーその他の水幕を形成する防火設備）-上記に記載のない事項-11行目-検査結果","15検査結果(ドレンチャーその他の水幕を形成する防火設備）-上記に記載のない事項-11行目-検査者番号","15検査結果(ドレンチャーその他の水幕を形成する防火設備）-上記に記載のない事項-11行目-指摘の具体的内容等","15検査結果(ドレンチャーその他の水幕を形成する防火設備）-上記に記載のない事項-11行目-改善策の具体的内容等","15検査結果(ドレンチャーその他の水幕を形成する防火設備）-上記に記載のない事項-11行目-改善（予定）年月-年（令和）","15検査結果(ドレンチャーその他の水幕を形成する防火設備）-上記に記載のない事項-11行目-改善（予定）年月-月","15検査結果(ドレンチャーその他の水幕を形成する防火設備）-上記に記載のない事項-11行目-改善（予定）年月-状況","15検査結果(ドレンチャーその他の水幕を形成する防火設備）-上記に記載のない事項-12行目-番号","15検査結果(ドレンチャーその他の水幕を形成する防火設備）-上記に記載のない事項-12行目-検査項目","15検査結果(ドレンチャーその他の水幕を形成する防火設備）-上記に記載のない事項-12行目-検査事項","15検査結果(ドレンチャーその他の水幕を形成する防火設備）-上記に記載のない事項-12行目-検査結果","15検査結果(ドレンチャーその他の水幕を形成する防火設備）-上記に記載のない事項-12行目-検査者番号","15検査結果(ドレンチャーその他の水幕を形成する防火設備）-上記に記載のない事項-12行目-指摘の具体的内容等","15検査結果(ドレンチャーその他の水幕を形成する防火設備）-上記に記載のない事項-12行目-改善策の具体的内容等","15検査結果(ドレンチャーその他の水幕を形成する防火設備）-上記に記載のない事項-12行目-改善（予定）年月-年（令和）","15検査結果(ドレンチャーその他の水幕を形成する防火設備）-上記に記載のない事項-12行目-改善（予定）年月-月","15検査結果(ドレンチャーその他の水幕を形成する防火設備）-上記に記載のない事項-12行目-改善（予定）年月-状況","15検査結果(ドレンチャーその他の水幕を形成する防火設備）-上記に記載のない事項-13行目-番号","15検査結果(ドレンチャーその他の水幕を形成する防火設備）-上記に記載のない事項-13行目-検査項目","15検査結果(ドレンチャーその他の水幕を形成する防火設備）-上記に記載のない事項-13行目-検査事項","15検査結果(ドレンチャーその他の水幕を形成する防火設備）-上記に記載のない事項-13行目-検査結果","15検査結果(ドレンチャーその他の水幕を形成する防火設備）-上記に記載のない事項-13行目-検査者番号","15検査結果(ドレンチャーその他の水幕を形成する防火設備）-上記に記載のない事項-13行目-指摘の具体的内容等","15検査結果(ドレンチャーその他の水幕を形成する防火設備）-上記に記載のない事項-13行目-改善策の具体的内容等","15検査結果(ドレンチャーその他の水幕を形成する防火設備）-上記に記載のない事項-13行目-改善（予定）年月-年（令和）","15検査結果(ドレンチャーその他の水幕を形成する防火設備）-上記に記載のない事項-13行目-改善（予定）年月-月","15検査結果(ドレンチャーその他の水幕を形成する防火設備）-上記に記載のない事項-13行目-改善（予定）年月-状況","15検査結果(ドレンチャーその他の水幕を形成する防火設備）-上記に記載のない事項-14行目-番号","15検査結果(ドレンチャーその他の水幕を形成する防火設備）-上記に記載のない事項-14行目-検査項目","15検査結果(ドレンチャーその他の水幕を形成する防火設備）-上記に記載のない事項-14行目-検査事項","15検査結果(ドレンチャーその他の水幕を形成する防火設備）-上記に記載のない事項-14行目-検査結果","15検査結果(ドレンチャーその他の水幕を形成する防火設備）-上記に記載のない事項-14行目-検査者番号","15検査結果(ドレンチャーその他の水幕を形成する防火設備）-上記に記載のない事項-14行目-指摘の具体的内容等","15検査結果(ドレンチャーその他の水幕を形成する防火設備）-上記に記載のない事項-14行目-改善策の具体的内容等","15検査結果(ドレンチャーその他の水幕を形成する防火設備）-上記に記載のない事項-14行目-改善（予定）年月-年（令和）","15検査結果(ドレンチャーその他の水幕を形成する防火設備）-上記に記載のない事項-14行目-改善（予定）年月-月","15検査結果(ドレンチャーその他の水幕を形成する防火設備）-上記に記載のない事項-14行目-改善（予定）年月-状況","15検査結果(ドレンチャーその他の水幕を形成する防火設備）-上記に記載のない事項-15行目-番号","15検査結果(ドレンチャーその他の水幕を形成する防火設備）-上記に記載のない事項-15行目-検査項目","15検査結果(ドレンチャーその他の水幕を形成する防火設備）-上記に記載のない事項-15行目-検査事項","15検査結果(ドレンチャーその他の水幕を形成する防火設備）-上記に記載のない事項-15行目-検査結果","15検査結果(ドレンチャーその他の水幕を形成する防火設備）-上記に記載のない事項-15行目-検査者番号","15検査結果(ドレンチャーその他の水幕を形成する防火設備）-上記に記載のない事項-15行目-指摘の具体的内容等","15検査結果(ドレンチャーその他の水幕を形成する防火設備）-上記に記載のない事項-15行目-改善策の具体的内容等","15検査結果(ドレンチャーその他の水幕を形成する防火設備）-上記に記載のない事項-15行目-改善（予定）年月-年（令和）","15検査結果(ドレンチャーその他の水幕を形成する防火設備）-上記に記載のない事項-15行目-改善（予定）年月-月","15検査結果(ドレンチャーその他の水幕を形成する防火設備）-上記に記載のない事項-15行目-改善（予定）年月-状況","関係写真-1-特記事項(自由記入)_1","関係写真-1-特記事項(自由記入)_2","関係写真-2-特記事項(自由記入)_1","関係写真-2-特記事項(自由記入)_2","関係写真-3-特記事項(自由記入)_1","関係写真-3-特記事項(自由記入)_2","関係写真-4-特記事項(自由記入)_1","関係写真-4-特記事項(自由記入)_2","関係写真-5-特記事項(自由記入)_1","関係写真-5-特記事項(自由記入)_2","関係写真-6-特記事項(自由記入)_1","関係写真-6-特記事項(自由記入)_2","関係写真-7-特記事項(自由記入)_1","関係写真-7-特記事項(自由記入)_2","関係写真-8-特記事項(自由記入)_1","関係写真-8-特記事項(自由記入)_2","関係写真-9-特記事項(自由記入)_1","関係写真-9-特記事項(自由記入)_2","関係写真-10-特記事項(自由記入)_1","関係写真-10-特記事項(自由記入)_2","検査結果図-1-自由入力"]
[{"$f":"TRANSPOSE(リンクシート!E6:E1655)","v":"●●●●"},"令和","4","防火設備","令和",0,0,0,"0","0","0",0,0,0,0,0,0,0,0,0,0,0,0,0,0,0,0,0,0,0,0,0,0,0,0,0,0,0,0,false,0,0,0,0,0,0,0,0,0,0,0,0,0,0,0,0,0,0,0,0,0,0,0,0,0,0,0,0,0,0,0,0,0,0,0,0,0,0,0,0,0,0,0,0,0,0,0,0,0,0,false,0,0,0,0,0,0,0,0,0,0,0,0,0,false,0,0,0,0,0,0,0,0,0,0,0,0,0,0,0,0,0,0,0,0,0,0,0,0,0,0,0,0,0,0,0,0,0,0,0,0,0,0,0,0,0,0,0,0,0,0,0,0,0,0,0,0,0,0,0,0,0,0,0,0,0,0,0,0,0,0,0,0,0,0,0,0,0,0,0,0,0,0,0,0,0,0,0,0,0,0,0,0,0,0,0,0,0,0,0,0,0,0,0,0,0,0,0,0,0,0,0,0,0,0,0,0,0,0,0,0,0,0,0,0,0,0,0,0,0,0,0,0,0,0,0,0,0,0,0,0,0,0,0,0,0,0,0,0,0,0,0,0,0,0,0,0,0,0,0,0,0,0,0,0,0,0,0,0,0,0,0,0,0,0,0,0,0,0,0,0,0,0,0,0,0,0,0,0,0,0,0,0,0,0,0,0,0,0,0,0,0,0,0,0,0,0,0,0,0,0,0,0,0,0,0,0,0,0,0,0,0,0,0,0,0,0,0,0,0,0,0,0,0,0,0,0,0,0,0,0,0,0,0,0,0,0,0,0,0,0,0,0,0,0,0,0,0,0,0,0,0,0,0,0,0,0,0,0,0,0,0,0,0,0,0,0,0,0,0,0,0,0,0,0,0,0,0,0,0,0,0,0,0,0,0,0,0,0,0,0,0,0,0,0,0,0,0,0,0,0,0,0,0,0,0,0,0,0,0,0,0,0,0,0,0,0,0,0,0,0,0,0,0,0,0,0,0,0,0,0,0,0,0,0,0,0,0,0,0,0,0,0,0,0,0,0,0,0,0,0,0,0,0,0,0,0,0,0,0,0,0,0,0,0,0,0,0,0,0,0,0,0,0,0,0,0,0,0,0,0,0,0,0,0,0,0,0,0,0,0,0,0,0,0,0,0,0,0,0,0,0,0,0,0,0,0,0,0,0,0,0,0,0,0,0,0,0,0,0,0,0,0,0,0,0,0,0,0,0,0,0,0,0,0,0,0,0,0,0,0,0,0,0,0,0,0,0,0,0,0,0,0,0,0,0,0,0,0,0,0,0,0,0,0,0,0,0,0,0,0,0,0,0,0,0,0,0,0,0,0,0,0,0,0,0,0,0,0,0,0,0,0,0,0,0,0,0,0,0,0,0,0,0,0,0,0,0,0,0,0,0,0,0,0,0,0,0,0,0,0,0,0,0,0,0,0,0,0,0,0,0,0,0,0,0,0,0,0,0,0,0,0,0,0,0,0,0,0,0,0,0,0,0,0,0,0,0,0,0,0,0,0,0,0,0,0,0,0,0,0,0,0,0,0,0,0,0,0,0,0,0,0,0,0,0,0,0,0,0,0,0,0,0,0,0,0,0,0,0,0,0,0,0,0,0,0,0,0,0,0,0,0,0,0,0,0,0,0,0,0,0,0,0,0,0,0,0,0,0,0,0,0,0,0,0,0,0,0,0,0,0,0,0,0,0,0,0,0,0,0,0,0,0,0,0,0,0,0,0,0,0,0,0,0,0,0,0,0,0,0,0,0,0,0,0,0,0,0,0,0,0,0,0,0,0,0,0,0,0,0,0,0,0,0,0,0,0,0,0,0,0,0,0,0,0,0,0,0,0,0,0,0,0,0,0,0,0,0,0,0,0,0,0,0,0,0,0,0,0,0,0,0,0,0,0,0,0,0,0,0,0,0,0,0,0,0,0,0,0,0,0,0,0,0,0,0,0,0,0,0,0,0,0,0,0,0,0,0,0,0,0,0,0,0,0,0,0,0,0,0,0,0,0,0,0,0,0,0,0,0,0,0,0,0,0,0,0,0,0,0,0,0,0,0,0,0,0,0,0,0,0,0,0,0,0,0,0,0,0,0,0,0,0,0,0,0,0,0,0,0,0,0,0,0,0,0,0,0,0,0,0,0,0,0,0,0,0,0,0,0,0,0,0,0,0,0,0,0,0,0,0,0,0,0,0,0,0,0,0,0,0,0,0,0,0,0,0,0,0,0,0,0,0,0,0,0,0,0,0,0,0,0,0,0,0,0,0,0,0,0,0,0,0,0,0,0,0,0,0,0,0,0,0,0,0,0,0,0,0,0,0,0,0,0,0,0,0,0,0,0,0,0,0,0,0,0,0,0,0,0,0,0,0,0,0,0,0,0,0,0,0,0,0,0,0,0,0,0,0,0,0,0,0,0,0,0,0,0,0,0,0,0,0,0,0,0,0,0,0,0,0,0,0,0,0,0,0,0,0,0,0,0,0,0,0,0,0,0,0,0,0,0,0,0,0,0,0,0,0,0,0,0,0,0,0,0,0,0,0,0,0,0,0,0,0,0,0,0,0,0,0,0,0,0,0,0,0,0,0,0,0,0,0,0,0,0,0,0,0,0,0,0,0,0,0,0,0,0,0,0,0,0,0,0,0,0,0,0,0,0,0,0,0,0,0,0,0,0,0,0,0,0,0,0,0,0,0,0,0,0,0,0,0,0,0,0,0,0,0,0,0,0,0,0,0,0,0,0,0,0,0,0,0,0,0,0,0,0,0,0,0,0,0,0,0,0,0,0,0,0,0,0,0,0,0,0,0,0,0,0,0,0,0,0,0,0,0,0,0,0,0,0,0,0,0,0,0,0,0,0,0,0,0,0,0,0,0,0,0,0,0,0,0,0,0,0,0,0,0,0,0,0,0,0,0,0,0,0,0,0,0,0,0,0,0,0,0,0,0,0,0,0,0,0,0,0,0,0,0,0,0,0,0,0,0,0,0,0,0,0,0,0,0,0,0,0,0,0,0,0,0,0,0,0,0,0,0,0,0,0,0,0,0,0,0,0,0,0,0,0,0,0,0,0,0,0,0,0,0,0,0,0,0,0,0,0,0,0,0,0,0,0,0,0,0,0,0,0,0,0,0,0,0,0,0,0,0,0,0,0,0,0,0,0,0,0,0,0,0,0,0,0,0,0,0,0,0,0,0,0,0,0,0,0,0,0,0,0,0,0,0,0,0,0,0,0,0,0,0,0,0,0,0,0,0,0,0,0,0,0,0,0,0,0,0,0,0,0,0,0,0,0,0,0,0,0,0,0,0,0,0,0,0,0,0,0,0,0,0,0,0,0,0,0,0,0,0,0,0,0,0,0,0,0,0,0,0,0,0,0,0,0,0,0,0,0,0,0,0,0,0,0,0,0,0,0,0,0,0,0,0,0,0,0,0,0,0,0,0,0,0,0,0,0,0,0,0,0,0,0,0,0,0,0,0,0,0,0,0,0,0,0,0,0,0,0,0,0,0,0,0,0,0,0,0,0,0,0,0,0,0,0,0,0,0,0,0,0,0,0,0,0,0,0,0,0,0,0,0,0,0,0,0,0,0,0,0,0,0,0,0,0,0,0,0,0,0,0,0,0,0,0,0,0,0,0,0,0,0,0,0,0,0,0,0,0,0,0,0,0,0,0,0,0,0,0,0,0,0,0,0,0,0,0,0,0,0,0,0]

{"sheet":"概要書リンクシート","index":16,"n_rows":113,"n_cols":23,"rows_kept":113,"cut":false,"hidden":true,"merged":[]}
[]
[null,null,"必要に応じて使用"]
[null,null,"CSV事前処理用","CSV事前処理用","CSV事前処理前","CSVリンク用"]
[null,null,null,{"$f":"IF(E4=\"\",0,E4)","v":"令和"},"令和","令和","固定","報告日","－","元号",null,null,null,null,null,null,null,null,{"$f":"CONCATENATE(H4,I4,J4,K4,L4,M4,N4,O4,P4)","v":"報告日－元号"},null,null,null,"報告日－元号"]
[null,null,null,0,{"$f":"'1_入力シート【基本情報】'!$BF$10","v":0},{"$f":"'1_入力シート【基本情報】'!$BF$10","v":0},null,"報告日","－","年",null,null,null,null,null,null,null,null,"報告日－年",null,null,null,"報告日－年"]
[null,null,null,0,{"$f":"'1_入力シート【基本情報】'!$BK$10","v":0},{"$f":"'1_入力シート【基本情報】'!$BK$10","v":0},null,"報告日","－","月",null,null,null,null,null,null,null,null,"報告日－月",null,null,null,"報告日－月"]
[null,null,null,0,{"$f":"'1_入力シート【基本情報】'!$BP$10","v":0},{"$f":"'1_入力シート【基本情報】'!$BP$10","v":0},null,"報告日","－","日",null,null,null,null,null,null,null,null,"報告日－日",null,null,null,"報告日－日"]
[null,null,null,0,{"$f":"'1_入力シート【基本情報】'!$AB$13","v":0},{"$f":"'1_入力シート【基本情報】'!$AB$13","v":0},null,"ID","－",1,null,null,null,null,null,null,null,null,"ID－1",null,null,null,"ID－1"]
[null,null,null,0,{"$f":"'1_入力シート【基本情報】'!$AK$13","v":0},{"$f":"'1_入力シート【基本情報】'!$AK$13","v":0},null,"ID","－",2,null,null,null,null,null,null,null,null,"ID－2",null,null,null,"ID－2"]
[null,null,null,{"$f":"IF(E10=\"\",0,E10)","v":0},{"$f":"'1_入力シート【基本情報】'!$AT$13","v":0},{"$f":"'1_入力シート【基本情報】'!$AT$13","v":0},null,"ID","－",3,null,null,null,null,null,null,null,null,"ID－3",null,null,null,"ID－3"]
[null,null,null,{"$f":"IF(E11=\"\",0,E11)","v":0},{"$f":"'＜入力不要＞概要書'!$O$11","v":""},{"$f":"D11","v":0},null,"第一面","－","【１．所有者】","－","【イ．氏名のフリガナ】",null,null,null,null,null,null,{"$f":"CONCATENATE(H11,I11,J11,K11,L11,M11,N11,O11,P11)","v":"第一面－【１．所有者】－【イ．氏名のフリガナ】"},null,null,null,"第一面－【１．所有者】－【イ．氏名のフリガナ】"]
[null,null,null,{"$f":"IF(E12=\"\",0,E12)","v":0},{"$f":"'＜入力不要＞概要書'!$O$12","v":""},0,null,"第一面","－","【１．所有者】","－","【ロ．氏名】",null,null,null,null,null,null,{"$f":"CONCATENATE(H12,I12,J12,K12,L12,M12,N12,O12,P12)","v":"第一面－【１．所有者】－【ロ．氏名】"},null,null,null,"第一面－【１．所有者】－【ロ．氏名】"]
[null,null,null,{"$f":"IF(E13=\"\",0,E13)","v":0},{"$f":"'＜入力不要＞概要書'!$O$13","v":""},0,null,"第一面","－","【１．所有者】","－","【ハ．郵便番号】",null,null,null,null,null,null,"第一面－【１．所有者】－【ハ．郵便番号】",null,null,null,"第一面－【１．所有者】－【ハ．郵便番号】"]
[null,null,null,0,{"$f":"'＜入力不要＞概要書'!$O$14","v":""},0,null,"第一面","－","【１．所有者】","－","【ニ．住所】",null,null,null,null,null,null,"第一面－【１．所有者】－【ニ．住所】",null,null,null,"第一面－【１．所有者】－【ニ．住所】"]
[null,null,null,0,{"$f":"'＜入力不要＞概要書'!$O$18","v":""},0,null,"第一面","－","【２．管理者】","－","【イ．氏名のフリガナ】",null,null,null,null,null,null,"第一面－【２．管理者】－【イ．氏名のフリガナ】",null,null,null,"第一面－【２．管理者】－【イ．氏名のフリガナ】"]
[null,null,null,{"$f":"IF(E16=\"\",0,E16)","v":0},{"$f":"'＜入力不要＞概要書'!$O$19","v":""},0,null,"第一面","－","【２．管理者】","－","【ロ．氏名】",null,null,null,null,null,null,"第一面－【２．管理者】－【ロ．氏名】",null,null,null,"第一面－【２．管理者】－【ロ．氏名】"]
[null,null,null,{"$f":"IF(E17=\"\",0,E17)","v":0},{"$f":"'＜入力不要＞概要書'!$O$20","v":""},0,null,"第一面","－","【２．管理者】","－","【ハ．郵便番号】",null,null,null,null,null,null,"第一面－【２．管理者】－【ハ．郵便番号】",null,null,null,"第一面－【２．管理者】－【ハ．郵便番号】"]
[null,null,null,0,{"$f":"'＜入力不要＞概要書'!$O$21","v":""},0,null,"第一面","－","【２．管理者】","－","【ニ．住所】",null,null,null,null,null,null,"第一面－【２．管理者】－【ニ．住所】",null,null,null,"第一面－【２．管理者】－【ニ．住所】"]
[null,null,null,0,{"$f":"'＜入力不要＞概要書'!$O$25","v":""},0,null,"第一面","－","【３．報告対象建築物】","－","【イ．所在地】",null,null,null,null,null,null,"第一面－【３．報告対象建築物】－【イ．所在地】",null,null,null,"第一面－【３．報告対象建築物】－【イ．所在地】"]
[null,null,null,null,{"$f":"'＜入力不要＞概要書'!$O$26","v":""},{"$f":"'＜入力不要＞概要書'!$O$27","v":0},null,"第一面","－","【３．報告対象建築物】","－","【ロ．名称のフリガナ】",null,null,null,null,null,null,"第一面－【３．報告対象建築物】－【ロ．名称のフリガナ】",null,null,null,"第一面－【３．報告対象建築物】－【ロ．名称のフリガナ】"]
[null,null,null,null,{"$f":"'＜入力不要＞概要書'!$O$27","v":0},{"$f":"'＜入力不要＞概要書'!$O$28","v":0},null,"第一面","－","【３．報告対象建築物】","－","【ハ．名称】",null,null,null,null,null,null,"第一面－【３．報告対象建築物】－【ハ．名称】",null,null,null,"第一面－【３．報告対象建築物】－【ハ．名称】"]
[null,null,null,{"$f":"IF(E22=\"\",0,E22)","v":0},{"$f":"'＜入力不要＞概要書'!$O$28","v":0},{"$f":"D22","v":0},null,"第一面","－","【３．報告対象建築物】","－","【ニ．用途】",null,null,null,null,null,null,"第一面－【３．報告対象建築物】－【ニ．用途】",null,null,null,"第一面－【３．報告対象建築物】－【ニ．用途】"]
[null,null,null,0,{"$f":"IF('＜入力不要＞報告書'!E44=\"\",\"\",'＜入力不要＞報告書'!E44)","v":""},0,null,"第一面","－","【４．検査による指摘の概要】","－","要是正の指摘あり",null,null,null,null,null,null,"第一面－【４．検査による指摘の概要】－要是正の指摘あり",null,null,null,"第一面－【４．検査による指摘の概要】－要是正の指摘あり"]
[null,null,null,0,{"$f":"IF('＜入力不要＞報告書'!P44=\"\",\"\",'＜入力不要＞報告書'!P44)","v":""},0,null,"第一面","－","【４．検査による指摘の概要】","－","既存不適格",null,null,null,null,null,null,"第一面－【４．検査による指摘の概要】－既存不適格",null,null,null,"第一面－【４．検査による指摘の概要】－既存不適格"]
[null,null,null,0,{"$f":"IF('＜入力不要＞報告書'!Y44=\"\",\"\",'＜入力不要＞報告書'!Y44)","v":""},0,null,"第一面","－","【４．検査による指摘の概要】","－","指摘なし",null,null,null,null,null,null,"第一面－【４．検査による指摘の概要】－指摘なし",null,null,null,"第一面－【４．検査による指摘の概要】－指摘なし"]
[null,null,null,0,{"$f":"IF('＜入力不要＞報告書'!M138=\"\",\"\",'＜入力不要＞報告書'!M138)","v":""},0,null,"第一面","－","【５．不具合の発生状況】","－","【イ．不具合】","－","有",null,null,null,null,"第一面－【５．不具合の発生状況】－【イ．不具合】－有",null,null,null,"第一面－【５．不具合の発生状況】－【イ．不具合】－有"]
[null,null,null,0,{"$f":"IF('＜入力不要＞報告書'!R138=\"\",\"\",'＜入力不要＞報告書'!R138)","v":""},0,null,"第一面","－","【５．不具合の発生状況】","－","【イ．不具合】","－","無",null,null,null,null,"第一面－【５．不具合の発生状況】－【イ．不具合】－無",null,null,null,"第一面－【５．不具合の発生状況】－【イ．不具合】－無"]
[null,null,null,0,{"$f":"IF('＜入力不要＞報告書'!M139=\"\",\"\",'＜入力不要＞報告書'!M139)","v":""},0,null,"第一面","－","【５．不具合の発生状況】","－","【ロ．不具合記録】","－","有",null,null,null,null,"第一面－【５．不具合の発生状況】－【ロ．不具合記録】－有",null,null,null,"第一面－【５．不具合の発生状況】－【ロ．不具合記録】－有"]
[null,null,null,0,{"$f":"IF('＜入力不要＞報告書'!R139=\"\",\"\",'＜入力不要＞報告書'!R139)","v":""},0,null,"第一面","－","【５．不具合の発生状況】","－","【ロ．不具合記録】","－","無",null,null,null,null,"第一面－【５．不具合の発生状況】－【ロ．不具合記録】－無",null,null,null,"第一面－【５．不具合の発生状況】－【ロ．不具合記録】－無"]
[null,null,null,0,{"$f":"'＜入力不要＞概要書'!$M$38","v":""},0,null,"第一面","－","【５．不具合の発生状況】","－","【ハ．不具合の概要】",null,null,null,null,null,null,"第一面－【５．不具合の発生状況】－【ハ．不具合の概要】",null,null,null,"第一面－【５．不具合の発生状況】－【ハ．不具合の概要】"]
[null,null,null,0,{"$f":"IF('＜入力不要＞報告書'!M140=\"\",\"\",'＜入力不要＞報告書'!M140)","v":""},0,null,"第一面","－","【５．不具合の発生状況】","－","【ニ．改善の状況】","－","実施済",null,null,null,null,"第一面－【５．不具合の発生状況】－【ニ．改善の状況】－実施済",null,null,null,"第一面－【５．不具合の発生状況】－【ニ．改善の状況】－実施済"]
[null,null,null,0,{"$f":"IF('＜入力不要＞報告書'!R140=\"\",\"\",'＜入力不要＞報告書'!R140)","v":""},0,null,"第一面","－","【５．不具合の発生状況】","－","【ニ．改善の状況】","－","改善予定",null,null,null,null,"第一面－【５．不具合の発生状況】－【ニ．改善の状況】－改善予定",null,null,null,"第一面－【５．不具合の発生状況】－【ニ．改善の状況】－改善予定"]
[null,null,null,0,{"$f":"'＜入力不要＞概要書'!$X$44","v":""},0,null,"第一面","－","【５．不具合の発生状況】","－","【ニ．改善の状況】","－","改善予定","－","（令和固定）",null,null,"第一面－【５．不具合の発生状況】－【ニ．改善の状況】－改善予定－（令和固定）",null,null,null,"第一面－【５．不具合の発生状況】－【ニ．改善の状況】－改善予定－（令和固定）"]
[null,null,null,0,{"$f":"'＜入力不要＞概要書'!$Z$44","v":""},0,null,"第一面","－","【５．不具合の発生状況】","－","【ニ．改善の状況】","－","改善予定","－","年",null,null,"第一面－【５．不具合の発生状況】－【ニ．改善の状況】－改善予定－年",null,null,null,"第一面－【５．不具合の発生状況】－【ニ．改善の状況】－改善予定－年"]
[null,null,null,0,{"$f":"'＜入力不要＞概要書'!$AC$44","v":""},0,null,"第一面","－","【５．不具合の発生状況】","－","【ニ．改善の状況】","－","改善予定","－","月",null,null,"第一面－【５．不具合の発生状況】－【ニ．改善の状況】－改善予定－月",null,null,null,"第一面－【５．不具合の発生状況】－【ニ．改善の状況】－改善予定－月"]
[null,null,null,0,{"$f":"IF('＜入力不要＞報告書'!AM140=\"\",\"\",'＜入力不要＞報告書'!AM140)","v":""},0,null,"第一面","－","【５．不具合の発生状況】","－","【ニ．改善の状況】","－","予定なし",null,null,null,null,"第一面－【５．不具合の発生状況】－【ニ．改善の状況】－予定なし",null,null,null,"第一面－【５．不具合の発生状況】－【ニ．改善の状況】－予定なし"]
[null,null,null,0,{"$f":"'＜入力不要＞概要書'!$V$45","v":""},0,null,"第一面","－","【５．不具合の発生状況】","－","【ニ．改善の状況】","－","予定なし","－","理由",null,null,"第一面－【５．不具合の発生状況】－【ニ．改善の状況】－予定なし－理由",null,null,null,"第一面－【５．不具合の発生状況】－【ニ．改善の状況】－予定なし－理由"]
[null,null,null,0,{"$f":"'＜入力不要＞概要書'!$O$67","v":""},0,null,"第二面","－","【１．建築物の概要】","－","【イ．階数】","－","地上",null,null,null,null,"第二面－【１．建築物の概要】－【イ．階数】－地上",null,null,null,"第二面－【１．建築物の概要】－【イ．階数】－地上"]
[null,null,null,0,{"$f":"'＜入力不要＞概要書'!$V$67","v":""},0,null,"第二面","－","【１．建築物の概要】","－","【イ．階数】","－","地下",null,null,null,null,"第二面－【１．建築物の概要】－【イ．階数】－地下",null,null,null,"第二面－【１．建築物の概要】－【イ．階数】－地下"]
[null,null,null,0,{"$f":"'＜入力不要＞概要書'!$M$68","v":""},0,null,"第二面","－","【１．建築物の概要】","－","【ロ．建築面積】","－","㎡",null,null,null,null,"第二面－【１．建築物の概要】－【ロ．建築面積】－㎡",null,null,null,"第二面－【１．建築物の概要】－【ロ．建築面積】－㎡"]
[null,null,null,0,{"$f":"'＜入力不要＞概要書'!$M$69","v":""},0,null,"第二面","－","【１．建築物の概要】","－","【ハ．延べ面積】","－","㎡",null,null,null,null,"第二面－【１．建築物の概要】－【ハ．延べ面積】－㎡",null,null,null,"第二面－【１．建築物の概要】－【ハ．延べ面積】－㎡"]
[null,null,null,null,{"$f":"'＜入力不要＞概要書'!$T$73","v":0},{"$f":"'＜入力不要＞概要書'!$V$73","v":0},null,"第二面","－","【２．確認済証交付年月日等】","－","【イ．確認済証交付年月日】","－","元号",null,null,null,null,"第二面－【２．確認済証交付年月日等】－【イ．確認済証交付年月日】－元号",null,null,null,"第二面－【２．確認済証交付年月日等】－【イ．確認済証交付年月日】－元号"]
[null,null,null,null,{"$f":"'＜入力不要＞概要書'!$V$73","v":0},{"$f":"'＜入力不要＞概要書'!$Y$73","v":0},null,"第二面","－","【２．確認済証交付年月日等】","－","【イ．確認済証交付年月日】","－","年",null,null,null,null,"第二面－【２．確認済証交付年月日等】－【イ．確認済証交付年月日】－年",null,null,null,"第二面－【２．確認済証交付年月日等】－【イ．確認済証交付年月日】－年"]
[null,null,null,null,{"$f":"'＜入力不要＞概要書'!$Y$73","v":0},{"$f":"'＜入力不要＞概要書'!$AB$73","v":0},null,"第二面","－","【２．確認済証交付年月日等】","－","【イ．確認済証交付年月日】","－","月",null,null,null,null,"第二面－【２．確認済証交付年月日等】－【イ．確認済証交付年月日】－月",null,null,null,"第二面－【２．確認済証交付年月日等】－【イ．確認済証交付年月日】－月"]
[null,null,null,{"$f":"IF(E45=\"\",0,E45)","v":0},{"$f":"'＜入力不要＞概要書'!$AB$73","v":0},{"$f":"D45","v":0},null,"第二面","－","【２．確認済証交付年月日等】","－","【イ．確認済証交付年月日】","－","日",null,null,null,null,"第二面－【２．確認済証交付年月日等】－【イ．確認済証交付年月日】－日",null,null,null,"第二面－【２．確認済証交付年月日等】－【イ．確認済証交付年月日】－日"]
[null,null,null,0,{"$f":"'＜入力不要＞概要書'!$AH$73","v":""},{"$f":"D46","v":0},null,"第二面","－","【２．確認済証交付年月日等】","－","【イ．確認済証交付年月日】","－","番号",null,null,null,null,"第二面－【２．確認済証交付年月日等】－【イ．確認済証交付年月日】－番号",null,null,null,"第二面－【２．確認済証交付年月日等】－【イ．確認済証交付年月日】－番号"]
[null,null,null,0,{"$f":"IF('＜入力不要＞報告書'!Q73=\"\",\"\",IF('＜入力不要＞報告書'!Q73=\"\",\"\",'＜入力不要＞報告書'!Q73))","v":""},{"$f":"D47","v":0},null,"第二面","－","【２．確認済証交付年月日等】","－","【ロ．検査済証交付者】","－","建築主事",null,null,null,null,"第二面－【２．確認済証交付年月日等】－【ロ．検査済証交付者】－建築主事",null,null,null,"第二面－【２．確認済証交付年月日等】－【ロ．検査済証交付者】－建築主事"]
[null,null,null,0,{"$f":"IF('＜入力不要＞報告書'!W73=\"\",\"\",IF('＜入力不要＞報告書'!W73=\"\",\"\",'＜入力不要＞報告書'!W73))","v":""},{"$f":"D48","v":0},null,"第二面","－","【２．確認済証交付年月日等】","－","【ロ．検査済証交付者】","－","指定確認検査機関",null,null,null,null,"第二面－【２．確認済証交付年月日等】－【ロ．検査済証交付者】－指定確認検査機関",null,null,null,"第二面－【２．確認済証交付年月日等】－【ロ．検査済証交付者】－指定確認検査機関"]
[null,null,null,null,{"$f":"'＜入力不要＞概要書'!$AG$74","v":""},{"$f":"'＜入力不要＞概要書'!$T$75","v":0},null,"第二面","－","【２．確認済証交付年月日等】","－","【ロ．検査済証交付者】","－","指定確認検査機関","－","名称",null,null,"第二面－【２．確認済証交付年月日等】－【ロ．検査済証交付者】－指定確認検査機関－名称",null,null,null,"第二面－【２．確認済証交付年月日等】－【ロ．検査済証交付者】－指定確認検査機関－名称"]
[null,null,null,null,{"$f":"'＜入力不要＞概要書'!$T$75","v":0},{"$f":"'＜入力不要＞概要書'!$V$75","v":0},null,"第二面","－","【２．確認済証交付年月日等】","－","【ハ．検査済証交付年月日】","－","元号",null,null,null,null,"第二面－【２．確認済証交付年月日等】－【ハ．検査済証交付年月日】－元号",null,null,null,"第二面－【２．確認済証交付年月日等】－【ハ．検査済証交付年月日】－元号"]
[null,null,null,null,{"$f":"'＜入力不要＞概要書'!$V$75","v":0},{"$f":"'＜入力不要＞概要書'!$Y$75","v":0},null,"第二面","－","【２．確認済証交付年月日等】","－","【ハ．検査済証交付年月日】","－","年",null,null,null,null,"第二面－【２．確認済証交付年月日等】－【ハ．検査済証交付年月日】－年",null,null,null,"第二面－【２．確認済証交付年月日等】－【ハ．検査済証交付年月日】－年"]
[null,null,null,null,{"$f":"'＜入力不要＞概要書'!$Y$75","v":0},{"$f":"'＜入力不要＞概要書'!$AB$75","v":0},null,"第二面","－","【２．確認済証交付年月日等】","－","【ハ．検査済証交付年月日】","－","月",null,null,null,null,"第二面－【２．確認済証交付年月日等】－【ハ．検査済証交付年月日】－月",null,null,null,"第二面－【２．確認済証交付年月日等】－【ハ．検査済証交付年月日】－月"]
[null,null,null,{"$f":"IF(E53=\"\",0,E53)","v":0},{"$f":"'＜入力不要＞概要書'!$AB$75","v":0},{"$f":"D53","v":0},null,"第二面","－","【２．確認済証交付年月日等】","－","【ハ．検査済証交付年月日】","－","日",null,null,null,null,"第二面－【２．確認済証交付年月日等】－【ハ．検査済証交付年月日】－日",null,null,null,"第二面－【２．確認済証交付年月日等】－【ハ．検査済証交付年月日】－日"]
[null,null,null,0,{"$f":"'＜入力不要＞概要書'!$AH$75","v":""},{"$f":"D54","v":0},null,"第二面","－","【２．確認済証交付年月日等】","－","【ハ．検査済証交付年月日】","－","番号",null,null,null,null,"第二面－【２．確認済証交付年月日等】－【ハ．検査済証交付年月日】－番号",null,null,null,"第二面－【２．確認済証交付年月日等】－【ハ．検査済証交付年月日】－番号"]
[null,null,null,0,{"$f":"IF('＜入力不要＞報告書'!Q75=\"\",\"\",IF('＜入力不要＞報告書'!Q75=\"\",\"\",'＜入力不要＞報告書'!Q75))","v":""},{"$f":"D55","v":0},null,"第二面","－","【２．確認済証交付年月日等】","－","【ニ．検査済証交付者】","－","建築主事",null,null,null,null,"第二面－【２．確認済証交付年月日等】－【ニ．検査済証交付者】－建築主事",null,null,null,"第二面－【２．確認済証交付年月日等】－【ニ．検査済証交付者】－建築主事"]
[null,null,null,0,{"$f":"IF('＜入力不要＞報告書'!W75=\"\",\"\",IF('＜入力不要＞報告書'!W75=\"\",\"\",'＜入力不要＞報告書'!W75))","v":""},{"$f":"D56","v":0},null,"第二面","－","【２．確認済証交付年月日等】","－","【ニ．検査済証交付者】","－","指定確認検査機関",null,null,null,null,"第二面－【２．確認済証交付年月日等】－【ニ．検査済証交付者】－指定確認検査機関",null,null,null,"第二面－【２．確認済証交付年月日等】－【ニ．検査済証交付者】－指定確認検査機関"]
[null,null,null,0,{"$f":"'＜入力不要＞概要書'!$AG$76","v":""},{"$f":"D57","v":0},null,"第二面","－","【２．確認済証交付年月日等】","－","【ニ．検査済証交付者】","－","指定確認検査機関","－","名称",null,null,"第二面－【２．確認済証交付年月日等】－【ニ．検査済証交付者】－指定確認検査機関－名称",null,null,null,"第二面－【２．確認済証交付年月日等】－【ニ．検査済証交付者】－指定確認検査機関－名称"]
[null,null,null,null,{"$f":"'＜入力不要＞概要書'!$R$80","v":""},{"$f":"'＜入力不要＞概要書'!$T$80","v":0},null,"第二面","－","【３．検査日等】","－","【イ．今回の検査】","－","（令和固定）",null,null,null,null,"第二面－【３．検査日等】－【イ．今回の検査】－（令和固定）",null,null,null,"第二面－【３．検査日等】－【イ．今回の検査】－（令和固定）"]
[null,null,null,null,{"$f":"'＜入力不要＞概要書'!$T$80","v":0},{"$f":"'＜入力不要＞概要書'!$W$80","v":0},null,"第二面","－","【３．検査日等】","－","【イ．今回の検査】","－","年",null,null,null,null,"第二面－【３．検査日等】－【イ．今回の検査】－年",null,null,null,"第二面－【３．検査日等】－【イ．今回の検査】－年"]
[null,null,null,null,{"$f":"'＜入力不要＞概要書'!$W$80","v":0},{"$f":"'＜入力不要＞概要書'!$Z$80","v":0},null,"第二面","－","【３．検査日等】","－","【イ．今回の検査】","－","月",null,null,null,null,"第二面－【３．検査日等】－【イ．今回の検査】－月",null,null,null,"第二面－【３．検査日等】－【イ．今回の検査】－月"]
[null,null,null,{"$f":"IF(E61=\"\",0,E61)","v":0},{"$f":"'＜入力不要＞概要書'!$Z$80","v":0},{"$f":"D61","v":0},null,"第二面","－","【３．検査日等】","－","【イ．今回の検査】","－","日",null,null,null,null,"第二面－【３．検査日等】－【イ．今回の検査】－日",null,null,null,"第二面－【３．検査日等】－【イ．今回の検査】－日"]
[null,null,null,null,{"$f":"IF('＜入力不要＞報告書'!N80=\"\",\"\",IF('＜入力不要＞報告書'!N80=\"\",\"\",'＜入力不要＞報告書'!N80))","v":""},{"$f":"'＜入力不要＞概要書'!$R$81","v":0},null,"第二面","－","【３．検査日等】","－","【ロ．前回の検査】","－","実施",null,null,null,null,"第二面－【３．検査日等】－【ロ．前回の検査】－実施",null,null,null,"第二面－【３．検査日等】－【ロ．前回の検査】－実施"]
[null,null,null,null,{"$f":"'＜入力不要＞概要書'!$R$81","v":0},{"$f":"'＜入力不要＞概要書'!$T$81","v":0},null,"第二面","－","【３．検査日等】","－","【ロ．前回の検査】","－","実施","－","元号",null,null,"第二面－【３．検査日等】－【ロ．前回の検査】－実施－元号",null,null,null,"第二面－【３．検査日等】－【ロ．前回の検査】－実施－元号"]
[null,null,null,null,{"$f":"'＜入力不要＞概要書'!$T$81","v":0},{"$f":"'＜入力不要＞概要書'!$W$81","v":0},null,"第二面","－","【３．検査日等】","－","【ロ．前回の検査】","－","実施","－","年",null,null,"第二面－【３．検査日等】－【ロ．前回の検査】－実施－年",null,null,null,"第二面－【３．検査日等】－【ロ．前回の検査】－実施－年"]
[null,null,null,null,{"$f":"'＜入力不要＞概要書'!$W$81","v":0},{"$f":"'＜入力不要＞概要書'!$Z$81","v":0},null,"第二面","－","【３．検査日等】","－","【ロ．前回の検査】","－","実施","－","月",null,null,"第二面－【３．検査日等】－【ロ．前回の検査】－実施－月",null,null,null,"第二面－【３．検査日等】－【ロ．前回の検査】－実施－月"]
[null,null,null,{"$f":"IF(E66=\"\",0,E66)","v":0},{"$f":"'＜入力不要＞概要書'!$Z$81","v":0},{"$f":"D66","v":0},null,"第二面","－","【３．検査日等】","－","【ロ．前回の検査】","－","実施","－","日",null,null,"第二面－【３．検査日等】－【ロ．前回の検査】－実施－日",null,null,null,"第二面－【３．検査日等】－【ロ．前回の検査】－実施－日"]
[null,null,null,0,{"$f":"IF('＜入力不要＞報告書'!AG80=\"\",\"\",IF('＜入力不要＞報告書'!AG80=\"\",\"\",'＜入力不要＞報告書'!AG80))","v":""},0,null,"第二面","－","【３．検査日等】","－","【ロ．前回の検査】","－","未実施",null,null,null,null,"第二面－【３．検査日等】－【ロ．前回の検査】－未実施",null,null,null,"第二面－【３．検査日等】－【ロ．前回の検査】－未実施"]
[null,null,null,0,{"$f":"IF('＜入力不要＞報告書'!V81=\"\",\"\",IF('＜入力不要＞報告書'!V81=\"\",\"\",'＜入力不要＞報告書'!V81))","v":""},0,null,"第二面","－","【３．検査日等】","－","【ハ．前回の検査に関する書類の写し】","－","有",null,null,null,null,"第二面－【３．検査日等】－【ハ．前回の検査に関する書類の写し】－有",null,null,null,"第二面－【３．検査日等】－【ハ．前回の検査に関する書類の写し】－有"]
[null,null,null,0,{"$f":"IF('＜入力不要＞報告書'!Z81=\"\",\"\",IF('＜入力不要＞報告書'!Z81=\"\",\"\",'＜入力不要＞報告書'!Z81))","v":""},0,null,"第二面","－","【３．検査日等】","－","【ハ．前回の検査に関する書類の写し】","－","無",null,null,null,null,{"$f":"CONCATENATE(H69,I69,J69,K69,L69,M69,N69,O69,P69)","v":"第二面－【３．検査日等】－【ハ．前回の検査に関する書類の写し】－無"},null,null,null,"第二面－【３．検査日等】－【ハ．前回の検査に関する書類の写し】－無"]
[null,null,null,0,{"$f":"'＜入力不要＞概要書'!$P$87","v":""},0,null,"第二面","－","【４．防火設備の検査者】","－","代表となる検査者","－","【イ．資格】","－","建築士",null,null,"第二面－【４．防火設備の検査者】－代表となる検査者－【イ．資格】－建築士",null,null,null,"第二面－【４．防火設備の検査者】－代表となる検査者－【イ．資格】－建築士"]
[null,null,null,0,{"$f":"'＜入力不要＞概要書'!$Z$87","v":""},0,null,"第二面","－","【４．防火設備の検査者】","－","代表となる検査者","－","【イ．資格】","－","建築士登録",null,null,"第二面－【４．防火設備の検査者】－代表となる検査者－【イ．資格】－建築士登録",null,null,null,"第二面－【４．防火設備の検査者】－代表となる検査者－【イ．資格】－建築士登録"]
[null,null,null,0,{"$f":"'＜入力不要＞概要書'!$AM$87","v":""},0,null,"第二面","－","【４．防火設備の検査者】","－","代表となる検査者","－","【イ．資格】","－","建築士登録番号",null,null,"第二面－【４．防火設備の検査者】－代表となる検査者－【イ．資格】－建築士登録番号",null,null,null,"第二面－【４．防火設備の検査者】－代表となる検査者－【イ．資格】－建築士登録番号"]
[null,null,null,0,{"$f":"'＜入力不要＞概要書'!$AM$88","v":""},0,null,"第二面","－","【４．防火設備の検査者】","－","代表となる検査者","－","【イ．資格】","－","防火設備検査員番号",null,null,"第二面－【４．防火設備の検査者】－代表となる検査者－【イ．資格】－防火設備検査員番号",null,null,null,"第二面－【４．防火設備の検査者】－代表となる検査者－【イ．資格】－防火設備検査員番号"]
[null,null,null,0,{"$f":"'＜入力不要＞概要書'!$O$89","v":""},0,null,"第二面","－","【４．防火設備の検査者】","－","代表となる検査者","－","【ロ．氏名のフリガナ】",null,null,null,null,"第二面－【４．防火設備の検査者】－代表となる検査者－【ロ．氏名のフリガナ】",null,null,null,"第二面－【４．防火設備の検査者】－代表となる検査者－【ロ．氏名のフリガナ】"]
[null,null,null,0,{"$f":"'＜入力不要＞概要書'!$O$90","v":""},0,null,"第二面","－","【４．防火設備の検査者】","－","代表となる検査者","－","【ハ．氏名】",null,null,null,null,"第二面－【４．防火設備の検査者】－代表となる検査者－【ハ．氏名】",null,null,null,"第二面－【４．防火設備の検査者】－代表となる検査者－【ハ．氏名】"]
[null,null,null,0,{"$f":"'＜入力不要＞概要書'!$O$91","v":""},0,null,"第二面","－","【４．防火設備の検査者】","－","代表となる検査者","－","【ニ．勤務先】","－","名称",null,null,"第二面－【４．防火設備の検査者】－代表となる検査者－【ニ．勤務先】－名称",null,null,null,"第二面－【４．防火設備の検査者】－代表となる検査者－【ニ．勤務先】－名称"]
[null,null,null,0,{"$f":"'＜入力不要＞概要書'!$P$92","v":""},0,null,"第二面","－","【４．防火設備の検査者】","－","代表となる検査者","－","【ニ．勤務先】","－","建築士事務所",null,null,"第二面－【４．防火設備の検査者】－代表となる検査者－【ニ．勤務先】－建築士事務所",null,null,null,"第二面－【４．防火設備の検査者】－代表となる検査者－【ニ．勤務先】－建築士事務所"]
[null,null,null,0,{"$f":"'＜入力不要＞概要書'!$Z$92","v":""},0,null,"第二面","－","【４．防火設備の検査者】","－","代表となる検査者","－","【ニ．勤務先】","－","知事登録",null,null,"第二面－【４．防火設備の検査者】－代表となる検査者－【ニ．勤務先】－知事登録",null,null,null,"第二面－【４．防火設備の検査者】－代表となる検査者－【ニ．勤務先】－知事登録"]
[null,null,null,{"$f":"IF(E79=\"\",0,E79)","v":0},{"$f":"'＜入力不要＞概要書'!$AM$92","v":""},0,null,"第二面","－","【４．防火設備の検査者】","－","代表となる検査者","－","【ニ．勤務先】","－","知事登録番号",null,null,"第二面－【４．防火設備の検査者】－代表となる検査者－【ニ．勤務先】－知事登録番号",null,null,null,"第二面－【４．防火設備の検査者】－代表となる検査者－【ニ．勤務先】－知事登録番号"]
[null,null,null,null,{"$f":"'＜入力不要＞概要書'!$O$93","v":""},{"$f":"'＜入力不要＞概要書'!$O$94","v":0},null,"第二面","－","【４．防火設備の検査者】","－","代表となる検査者","－","【ホ．郵便番号】",null,null,null,null,"第二面－【４．防火設備の検査者】－代表となる検査者－【ホ．郵便番号】",null,null,null,"第二面－【４．防火設備の検査者】－代表となる検査者－【ホ．郵便番号】"]
[null,null,null,{"$f":"IF(E81=\"\",0,E81)","v":0},{"$f":"'＜入力不要＞概要書'!$O$94","v":0},{"$f":"D81","v":0},null,"第二面","－","【４．防火設備の検査者】","－","代表となる検査者","－","【ヘ．所在地】",null,null,null,null,"第二面－【４．防火設備の検査者】－代表となる検査者－【ヘ．所在地】",null,null,null,"第二面－【４．防火設備の検査者】－代表となる検査者－【ヘ．所在地】"]
[null,null,null,{"$f":"IF(E82=\"\",0,E82)","v":0},{"$f":"'＜入力不要＞概要書'!$O$95","v":""},{"$f":"D82","v":0},null,"第二面","－","【４．防火設備の検査者】","－","代表となる検査者","－","【ト．電話番号】",null,null,null,null,"第二面－【４．防火設備の検査者】－代表となる検査者－【ト．電話番号】",null,null,null,"第二面－【４．防火設備の検査者】－代表となる検査者－【ト．電話番号】"]
[null,null,null,0,{"$f":"'＜入力不要＞概要書'!$P$97","v":""},0,null,"第二面","－","【４．防火設備の検査者】","－","その他の検査者","－","【イ．資格】","－","建築士",null,null,"第二面－【４．防火設備の検査者】－その他の検査者－【イ．資格】－建築士",null,null,null,"第二面－【４．防火設備の検査者】－その他の検査者－【イ．資格】－建築士"]
[null,null,null,0,{"$f":"'＜入力不要＞概要書'!$Z$97","v":""},0,null,"第二面","－","【４．防火設備の検査者】","－","その他の検査者","－","【イ．資格】","－","建築士登録",null,null,"第二面－【４．防火設備の検査者】－その他の検査者－【イ．資格】－建築士登録",null,null,null,"第二面－【４．防火設備の検査者】－その他の検査者－【イ．資格】－建築士登録"]
[null,null,null,0,{"$f":"'＜入力不要＞概要書'!$AM$97","v":""},0,null,"第二面","－","【４．防火設備の検査者】","－","その他の検査者","－","【イ．資格】","－","建築士登録番号",null,null,"第二面－【４．防火設備の検査者】－その他の検査者－【イ．資格】－建築士登録番号",null,null,null,"第二面－【４．防火設備の検査者】－その他の検査者－【イ．資格】－建築士登録番号"]
[null,null,null,0,{"$f":"'＜入力不要＞概要書'!$AM$98","v":""},0,null,"第二面","－","【４．防火設備の検査者】","－","その他の検査者","－","【イ．資格】","－","防火設備検査員番号",null,null,"第二面－【４．防火設備の検査者】－その他の検査者－【イ．資格】－防火設備検査員番号",null,null,null,"第二面－【４．防火設備の検査者】－その他の検査者－【イ．資格】－防火設備検査員番号"]
[null,null,null,0,{"$f":"'＜入力不要＞概要書'!$O$99","v":""},0,null,"第二面","－","【４．防火設備の検査者】","－","その他の検査者","－","【ロ．氏名のフリガナ】",null,null,null,null,"第二面－【４．防火設備の検査者】－その他の検査者－【ロ．氏名のフリガナ】",null,null,null,"第二面－【４．防火設備の検査者】－その他の検査者－【ロ．氏名のフリガナ】"]
[null,null,null,null,{"$f":"'＜入力不要＞概要書'!$O$100","v":""},{"$f":"'＜入力不要＞概要書'!$O$101","v":0},null,"第二面","－","【４．防火設備の検査者】","－","その他の検査者","－","【ハ．氏名】",null,null,null,null,"第二面－【４．防火設備の検査者】－その他の検査者－【ハ．氏名】",null,null,null,"第二面－【４．防火設備の検査者】－その他の検査者－【ハ．氏名】"]
[null,null,null,{"$f":"IF(E89=\"\",0,E89)","v":0},{"$f":"'＜入力不要＞概要書'!$O$101","v":0},{"$f":"D89","v":0},null,"第二面","－","【４．防火設備の検査者】","－","その他の検査者","－","【ニ．勤務先】","－","名称",null,null,"第二面－【４．防火設備の検査者】－その他の検査者－【ニ．勤務先】－名称",null,null,null,"第二面－【４．防火設備の検査者】－その他の検査者－【ニ．勤務先】－名称"]
[null,null,null,0,{"$f":"'＜入力不要＞概要書'!$P$102","v":""},0,null,"第二面","－","【４．防火設備の検査者】","－","その他の検査者","－","【ニ．勤務先】","－","建築士事務所",null,null,"第二面－【４．防火設備の検査者】－その他の検査者－【ニ．勤務先】－建築士事務所",null,null,null,"第二面－【４．防火設備の検査者】－その他の検査者－【ニ．勤務先】－建築士事務所"]
[null,null,null,0,{"$f":"'＜入力不要＞概要書'!$Z$102","v":""},0,null,"第二面","－","【４．防火設備の検査者】","－","その他の検査者","－","【ニ．勤務先】","－","知事登録",null,null,"第二面－【４．防火設備の検査者】－その他の検査者－【ニ．勤務先】－知事登録",null,null,null,"第二面－【４．防火設備の検査者】－その他の検査者－【ニ．勤務先】－知事登録"]
[null,null,null,{"$f":"IF(E92=\"\",0,E92)","v":0},{"$f":"'＜入力不要＞概要書'!$AM$102","v":""},{"$f":"D92","v":0},null,"第二面","－","【４．防火設備の検査者】","－","その他の検査者","－","【ニ．勤務先】","－","知事登録番号",null,null,"第二面－【４．防火設備の検査者】－その他の検査者－【ニ．勤務先】－知事登録番号",null,null,null,"第二面－【４．防火設備の検査者】－その他の検査者－【ニ．勤務先】－知事登録番号"]
[null,null,null,{"$f":"IF(E93=\"\",0,E93)","v":0},{"$f":"'＜入力不要＞概要書'!$O$103","v":""},{"$f":"D93","v":0},null,"第二面","－","【４．防火設備の検査者】","－","その他の検査者","－","【ホ．郵便番号】",null,null,null,null,"第二面－【４．防火設備の検査者】－その他の検査者－【ホ．郵便番号】",null,null,null,"第二面－【４．防火設備の検査者】－その他の検査者－【ホ．郵便番号】"]
[null,null,null,{"$f":"IF(E94=\"\",0,E94)","v":0},{"$f":"'＜入力不要＞概要書'!$O$104","v":""},{"$f":"D94","v":0},null,"第二面","－","【４．防火設備の検査者】","－","その他の検査者","－","【ヘ．所在地】",null,null,null,null,"第二面－【４．防火設備の検査者】－その他の検査者－【ヘ．所在地】",null,null,null,"第二面－【４．防火設備の検査者】－その他の検査者－【ヘ．所在地】"]
[null,null,null,{"$f":"IF(E95=\"\",0,E95)","v":0},{"$f":"'＜入力不要＞概要書'!$O$105","v":""},{"$f":"D95","v":0},null,"第二面","－","【４．防火設備の検査者】","－","その他の検査者","－","【ト．電話番号】",null,null,null,null,"第二面－【４．防火設備の検査者】－その他の検査者－【ト．電話番号】",null,null,null,"第二面－【４．防火設備の検査者】－その他の検査者－【ト．電話番号】"]
[null,null,null,0,{"$f":"IF('＜入力不要＞報告書'!E119=\"\",\"\",IF('＜入力不要＞報告書'!E119=\"\",\"\",'＜入力不要＞報告書'!E119))","v":""},0,null,"第二面","－","【５．防火設備の概要】","－","【イ．避難安全検証法等の適用】","－","区画避難安全検証法",null,null,null,null,"第二面－【５．防火設備の概要】－【イ．避難安全検証法等の適用】－区画避難安全検証法",null,null,null,"第二面－【５．防火設備の概要】－【イ．避難安全検証法等の適用】－区画避難安全検証法"]
[null,null,null,0,{"$f":"'＜入力不要＞概要書'!$P$120","v":""},0,null,"第二面","－","【５．防火設備の概要】","－","【イ．避難安全検証法等の適用】","－","区画避難安全検証法","－","階",null,null,"第二面－【５．防火設備の概要】－【イ．避難安全検証法等の適用】－区画避難安全検証法－階",null,null,null,"第二面－【５．防火設備の概要】－【イ．避難安全検証法等の適用】－区画避難安全検証法－階"]
[null,null,null,0,{"$f":"IF('＜入力不要＞報告書'!X119=\"\",\"\",IF('＜入力不要＞報告書'!X119=\"\",\"\",'＜入力不要＞報告書'!X119))","v":""},0,null,"第二面","－","【５．防火設備の概要】","－","【イ．避難安全検証法等の適用】","－","階避難安全検証法",null,null,null,null,"第二面－【５．防火設備の概要】－【イ．避難安全検証法等の適用】－階避難安全検証法",null,null,null,"第二面－【５．防火設備の概要】－【イ．避難安全検証法等の適用】－階避難安全検証法"]
[null,null,null,0,{"$f":"'＜入力不要＞概要書'!$AH$120","v":""},0,null,"第二面","－","【５．防火設備の概要】","－","【イ．避難安全検証法等の適用】","－","階避難安全検証法","－","階",null,null,"第二面－【５．防火設備の概要】－【イ．避難安全検証法等の適用】－階避難安全検証法－階",null,null,null,"第二面－【５．防火設備の概要】－【イ．避難安全検証法等の適用】－階避難安全検証法－階"]
[null,null,null,0,{"$f":"IF('＜入力不要＞報告書'!E120=\"\",\"\",IF('＜入力不要＞報告書'!E120=\"\",\"\",'＜入力不要＞報告書'!E120))","v":""},0,null,"第二面","－","【５．防火設備の概要】","－","【イ．避難安全検証法等の適用】","－","全館避難安全検証法",null,null,null,null,"第二面－【５．防火設備の概要】－【イ．避難安全検証法等の適用】－全館避難安全検証法",null,null,null,"第二面－【５．防火設備の概要】－【イ．避難安全検証法等の適用】－全館避難安全検証法"]
[null,null,null,0,{"$f":"IF('＜入力不要＞報告書'!X120=\"\",\"\",IF('＜入力不要＞報告書'!X120=\"\",\"\",'＜入力不要＞報告書'!X120))","v":""},0,null,"第二面","－","【５．防火設備の概要】","－","【イ．避難安全検証法等の適用】","－","その他",null,null,null,null,"第二面－【５．防火設備の概要】－【イ．避難安全検証法等の適用】－その他",null,null,null,"第二面－【５．防火設備の概要】－【イ．避難安全検証法等の適用】－その他"]
[null,null,null,0,{"$f":"'＜入力不要＞概要書'!$AE$121","v":""},0,null,"第二面","－","【５．防火設備の概要】","－","【イ．避難安全検証法等の適用】","－","その他","－","詳細",null,null,"第二面－【５．防火設備の概要】－【イ．避難安全検証法等の適用】－その他－詳細",null,null,null,"第二面－【５．防火設備の概要】－【イ．避難安全検証法等の適用】－その他－詳細"]
[null,null,null,0,{"$f":"IF('＜入力不要＞報告書'!E122=\"\",\"\",IF('＜入力不要＞報告書'!E122=\"\",\"\",'＜入力不要＞報告書'!E122))","v":""},0,null,"第二面","－","【５．防火設備の概要】","－","【ロ．防火設備】","－","防火扉",null,null,null,null,"第二面－【５．防火設備の概要】－【ロ．防火設備】－防火扉",null,null,null,"第二面－【５．防火設備の概要】－【ロ．防火設備】－防火扉"]
[null,null,null,0,{"$f":"'＜入力不要＞概要書'!$Q$123","v":""},0,null,"第二面","－","【５．防火設備の概要】","－","【ロ．防火設備】","－","防火扉","－","枚",null,null,"第二面－【５．防火設備の概要】－【ロ．防火設備】－防火扉－枚",null,null,null,"第二面－【５．防火設備の概要】－【ロ．防火設備】－防火扉－枚"]
[null,null,null,0,{"$f":"IF('＜入力不要＞報告書'!X122=\"\",\"\",IF('＜入力不要＞報告書'!X122=\"\",\"\",'＜入力不要＞報告書'!X122))","v":""},0,null,"第二面","－","【５．防火設備の概要】","－","【ロ．防火設備】","－","防火シャッター",null,null,null,null,"第二面－【５．防火設備の概要】－【ロ．防火設備】－防火シャッター",null,null,null,"第二面－【５．防火設備の概要】－【ロ．防火設備】－防火シャッター"]
[null,null,null,0,{"$f":"'＜入力不要＞概要書'!$AH$123","v":""},0,null,"第二面","－","【５．防火設備の概要】","－","【ロ．防火設備】","－","防火シャッター","－","枚",null,null,"第二面－【５．防火設備の概要】－【ロ．防火設備】－防火シャッター－枚",null,null,null,"第二面－【５．防火設備の概要】－【ロ．防火設備】－防火シャッター－枚"]
[null,null,null,0,{"$f":"IF('＜入力不要＞報告書'!E123=\"\",\"\",IF('＜入力不要＞報告書'!E123=\"\",\"\",'＜入力不要＞報告書'!E123))","v":""},0,null,"第二面","－","【５．防火設備の概要】","－","【ロ．防火設備】","－","耐火クロススクリーン",null,null,null,null,"第二面－【５．防火設備の概要】－【ロ．防火設備】－耐火クロススクリーン",null,null,null,"第二面－【５．防火設備の概要】－【ロ．防火設備】－耐火クロススクリーン"]
[null,null,null,0,{"$f":"'＜入力不要＞概要書'!$Q$124","v":""},0,null,"第二面","－","【５．防火設備の概要】","－","【ロ．防火設備】","－","耐火クロススクリーン","－","枚",null,null,"第二面－【５．防火設備の概要】－【ロ．防火設備】－耐火クロススクリーン－枚",null,null,null,"第二面－【５．防火設備の概要】－【ロ．防火設備】－耐火クロススクリーン－枚"]
[null,null,null,0,{"$f":"IF('＜入力不要＞報告書'!X123=\"\",\"\",IF('＜入力不要＞報告書'!X123=\"\",\"\",'＜入力不要＞報告書'!X123))","v":""},0,null,"第二面","－","【５．防火設備の概要】","－","【ロ．防火設備】","－","ドレンチャー",null,null,null,null,"第二面－【５．防火設備の概要】－【ロ．防火設備】－ドレンチャー",null,null,null,"第二面－【５．防火設備の概要】－【ロ．防火設備】－ドレンチャー"]
[null,null,null,0,{"$f":"'＜入力不要＞概要書'!$AH$124","v":""},0,null,"第二面","－","【５．防火設備の概要】","－","【ロ．防火設備】","－","ドレンチャー","－","台",null,null,"第二面－【５．防火設備の概要】－【ロ．防火設備】－ドレンチャー－台",null,null,null,"第二面－【５．防火設備の概要】－【ロ．防火設備】－ドレンチャー－台"]
[null,null,null,0,{"$f":"IF('＜入力不要＞報告書'!E124=\"\",\"\",IF('＜入力不要＞報告書'!E124=\"\",\"\",'＜入力不要＞報告書'!E124))","v":""},0,null,"第二面","－","【５．防火設備の概要】","－","【ロ．防火設備】","－","その他",null,null,null,null,"第二面－【５．防火設備の概要】－【ロ．防火設備】－その他",null,null,null,"第二面－【５．防火設備の概要】－【ロ．防火設備】－その他"]
[null,null,null,0,{"$f":"'＜入力不要＞概要書'!$Q$125","v":""},0,null,"第二面","－","【５．防火設備の概要】","－","【ロ．防火設備】","－","その他","－","台",null,null,"第二面－【５．防火設備の概要】－【ロ．防火設備】－その他－台",null,null,null,"第二面－【５．防火設備の概要】－【ロ．防火設備】－その他－台"]
[null,null,null,0,{"$f":"'＜入力不要＞概要書'!$E$129","v":0},0,null,"第二面","－","【６．備考】","－","自由入力欄",null,null,null,null,null,null,"第二面－【６．備考】－自由入力欄",null,null,null,"第二面－【６．備考】－自由入力欄"]

{"sheet":"概要書CSVシート","index":17,"n_rows":2,"n_cols":110,"rows_kept":2,"cut":false,"hidden":true,"merged":[]}
["報告日－元号","報告日－年","報告日－月","報告日－日","ID－1","ID－2","ID－3","第一面－【１．所有者】－【イ．氏名のフリガナ】","第一面－【１．所有者】－【ロ．氏名】","第一面－【１．所有者】－【ハ．郵便番号】","第一面－【１．所有者】－【ニ．住所】","第一面－【２．管理者】－【イ．氏名のフリガナ】","第一面－【２．管理者】－【ロ．氏名】","第一面－【２．管理者】－【ハ．郵便番号】","第一面－【２．管理者】－【ニ．住所】","第一面－【３．報告対象建築物】－【イ．所在地】","第一面－【３．報告対象建築物】－【ロ．名称のフリガナ】","第一面－【３．報告対象建築物】－【ハ．名称】","第一面－【３．報告対象建築物】－【ニ．用途】","第一面－【４．検査による指摘の概要】－要是正の指摘あり","第一面－【４．検査による指摘の概要】－既存不適格","第一面－【４．検査による指摘の概要】－指摘なし","第一面－【５．不具合の発生状況】－【イ．不具合】－有","第一面－【５．不具合の発生状況】－【イ．不具合】－無","第一面－【５．不具合の発生状況】－【ロ．不具合記録】－有","第一面－【５．不具合の発生状況】－【ロ．不具合記録】－無","第一面－【５．不具合の発生状況】－【ハ．不具合の概要】","第一面－【５．不具合の発生状況】－【ニ．改善の状況】－実施済","第一面－【５．不具合の発生状況】－【ニ．改善の状況】－改善予定","第一面－【５．不具合の発生状況】－【ニ．改善の状況】－改善予定－（令和固定）","第一面－【５．不具合の発生状況】－【ニ．改善の状況】－改善予定－年","第一面－【５．不具合の発生状況】－【ニ．改善の状況】－改善予定－月","第一面－【５．不具合の発生状況】－【ニ．改善の状況】－予定なし","第一面－【５．不具合の発生状況】－【ニ．改善の状況】－予定なし－理由","第二面－【１．建築物の概要】－【イ．階数】－地上","第二面－【１．建築物の概要】－【イ．階数】－地下","第二面－【１．建築物の概要】－【ロ．建築面積】－㎡","第二面－【１．建築物の概要】－【ハ．延べ面積】－㎡","第二面－【２．確認済証交付年月日等】－【イ．確認済証交付年月日】－元号","第二面－【２．確認済証交付年月日等】－【イ．確認済証交付年月日】－年","第二面－【２．確認済証交付年月日等】－【イ．確認済証交付年月日】－月","第二面－【２．確認済証交付年月日等】－【イ．確認済証交付年月日】－日","第二面－【２．確認済証交付年月日等】－【イ．確認済証交付年月日】－番号","第二面－【２．確認済証交付年月日等】－【ロ．検査済証交付者】－建築主事","第二面－【２．確認済証交付年月日等】－【ロ．検査済証交付者】－指定確認検査機関","第二面－【２．確認済証交付年月日等】－【ロ．検査済証交付者】－指定確認検査機関－名称","第二面－【２．確認済証交付年月日等】－【ハ．検査済証交付年月日】－元号","第二面－【２．確認済証交付年月日等】－【ハ．検査済証交付年月日】－年","第二面－【２．確認済証交付年月日等】－【ハ．検査済証交付年月日】－月","第二面－【２．確認済証交付年月日等】－【ハ．検査済証交付年月日】－日","第二面－【２．確認済証交付年月日等】－【ハ．検査済証交付年月日】－番号","第二面－【２．確認済証交付年月日等】－【ニ．検査済証交付者】－建築主事","第二面－【２．確認済証交付年月日等】－【ニ．検査済証交付者】－指定確認検査機関","第二面－【２．確認済証交付年月日等】－【ニ．検査済証交付者】－指定確認検査機関－名称","第二面－【３．検査日等】－【イ．今回の検査】－（令和固定）","第二面－【３．検査日等】－【イ．今回の検査】－年","第二面－【３．検査日等】－【イ．今回の検査】－月","第二面－【３．検査日等】－【イ．今回の検査】－日","第二面－【３．検査日等】－【ロ．前回の検査】－実施","第二面－【３．検査日等】－【ロ．前回の検査】－実施－元号","第二面－【３．検査日等】－【ロ．前回の検査】－実施－年","第二面－【３．検査日等】－【ロ．前回の検査】－実施－月","第二面－【３．検査日等】－【ロ．前回の検査】－実施－日","第二面－【３．検査日等】－【ロ．前回の検査】－未実施","第二面－【３．検査日等】－【ハ．前回の検査に関する書類の写し】－有","第二面－【３．検査日等】－【ハ．前回の検査に関する書類の写し】－無","第二面－【４．防火設備の検査者】－代表となる検査者－【イ．資格】－建築士","第二面－【４．防火設備の検査者】－代表となる検査者－【イ．資格】－建築士登録","第二面－【４．防火設備の検査者】－代表となる検査者－【イ．資格】－建築士登録番号","第二面－【４．防火設備の検査者】－代表となる検査者－【イ．資格】－防火設備検査員番号","第二面－【４．防火設備の検査者】－代表となる検査者－【ロ．氏名のフリガナ】","第二面－【４．防火設備の検査者】－代表となる検査者－【ハ．氏名】","第二面－【４．防火設備の検査者】－代表となる検査者－【ニ．勤務先】－名称","第二面－【４．防火設備の検査者】－代表となる検査者－【ニ．勤務先】－建築士事務所","第二面－【４．防火設備の検査者】－代表となる検査者－【ニ．勤務先】－知事登録","第二面－【４．防火設備の検査者】－代表となる検査者－【ニ．勤務先】－知事登録番号","第二面－【４．防火設備の検査者】－代表となる検査者－【ホ．郵便番号】","第二面－【４．防火設備の検査者】－代表となる検査者－【ヘ．所在地】","第二面－【４．防火設備の検査者】－代表となる検査者－【ト．電話番号】","第二面－【４．防火設備の検査者】－その他の検査者－【イ．資格】－建築士","第二面－【４．防火設備の検査者】－その他の検査者－【イ．資格】－建築士登録","第二面－【４．防火設備の検査者】－その他の検査者－【イ．資格】－建築士登録番号","第二面－【４．防火設備の検査者】－その他の検査者－【イ．資格】－防火設備検査員番号","第二面－【４．防火設備の検査者】－その他の検査者－【ロ．氏名のフリガナ】","第二面－【４．防火設備の検査者】－その他の検査者－【ハ．氏名】","第二面－【４．防火設備の検査者】－その他の検査者－【ニ．勤務先】－名称","第二面－【４．防火設備の検査者】－その他の検査者－【ニ．勤務先】－建築士事務所","第二面－【４．防火設備の検査者】－その他の検査者－【ニ．勤務先】－知事登録","第二面－【４．防火設備の検査者】－その他の検査者－【ニ．勤務先】－知事登録番号","第二面－【４．防火設備の検査者】－その他の検査者－【ホ．郵便番号】","第二面－【４．防火設備の検査者】－その他の検査者－【ヘ．所在地】","第二面－【４．防火設備の検査者】－その他の検査者－【ト．電話番号】","第二面－【５．防火設備の概要】－【イ．避難安全検証法等の適用】－区画避難安全検証法","第二面－【５．防火設備の概要】－【イ．避難安全検証法等の適用】－区画避難安全検証法－階","第二面－【５．防火設備の概要】－【イ．避難安全検証法等の適用】－階避難安全検証法","第二面－【５．防火設備の概要】－【イ．避難安全検証法等の適用】－階避難安全検証法－階","第二面－【５．防火設備の概要】－【イ．避難安全検証法等の適用】－全館避難安全検証法","第二面－【５．防火設備の概要】－【イ．避難安全検証法等の適用】－その他","第二面－【５．防火設備の概要】－【イ．避難安全検証法等の適用】－その他－詳細","第二面－【５．防火設備の概要】－【ロ．防火設備】－防火扉","第二面－【５．防火設備の概要】－【ロ．防火設備】－防火扉－枚","第二面－【５．防火設備の概要】－【ロ．防火設備】－防火シャッター","第二面－【５．防火設備の概要】－【ロ．防火設備】－防火シャッター－枚","第二面－【５．防火設備の概要】－【ロ．防火設備】－耐火クロススクリーン","第二面－【５．防火設備の概要】－【ロ．防火設備】－耐火クロススクリーン－枚","第二面－【５．防火設備の概要】－【ロ．防火設備】－ドレンチャー","第二面－【５．防火設備の概要】－【ロ．防火設備】－ドレンチャー－台","第二面－【５．防火設備の概要】－【ロ．防火設備】－その他","第二面－【５．防火設備の概要】－【ロ．防火設備】－その他－台","第二面－【６．備考】－自由入力欄"]
[{"$f":"TRANSPOSE(概要書リンクシート!F4:F113)","v":"令和"},0,0,0,0,0,0,0,0,0,0,0,0,0,0,0,0,0,0,0,0,0,0,0,0,0,0,0,0,0,0,0,0,0,0,0,0,0,0,0,0,0,0,0,0,0,0,0,0,0,0,0,0,0,0,0,0,0,0,0,0,0,0,0,0,0,0,0,0,0,0,0,0,0,0,0,0,0,0,0,0,0,0,0,0,0,0,0,0,0,0,0,0,0,0,0,0,0,0,0,0,0,0,0,0,0,0,0,0,0]