Workbook

Sheet 事業計画書
A1: ■事業計画書
A3: （１）地区名： | E3: 地区 | F3: 事業主体：
A4: （２）対象施設
A5: 整理 番号 | B5: 従来補助 事業の種別 | C5: 契約種別 | D5: 対象施設名 | F5: 施設規模 （口径・台数） | H5: 施設の 造成事業名
A6: 1 | B6: その他 | C6: 低圧
A20: （3）補助金の額の算定（推定）
A22: 項目 | C22: 金額（円） | E22: 備考
A23: 令和８年度の電気料金 計 | C23: ='別記様式第５（補）'!D16 -> 0
A24: 令和３年度の電気料金相当額 計 | C24: ='別記様式第５（補）'!D17 -> 0
A25: 従来補助相当額 計 | C25: 0
A26: その他補助金等 の額 計 | C26: 0
A27: 補助対象事業費 計 | C27: ='別記様式第５（補）'!L17 -> 0 | E27: （令和８年度の電気料金-令和３年度の電気料金相当額-従来補助相当額－その他補助金等の額）
A28: 補助金の額 計 | C28: ='別記様式第５（補）'!L18 -> 0 | E28: 補助対象事業費×2/3
A30: ・電気代高騰額、従来補助相当額は別記様式第５（補）により算出し、参考資料として添付すること。
A31: ・補助金の額は千円未満切り捨てとする。
A32: ・農業水利施設とその他の施設が混同する場合は、農業水利施設分を分別すること。
A33: ・土地改良区、土地改良区連合以外が申請する場合は、対象施設の全景写真、内部写真を添付すること。

Sheet 別記様式第５（補）
A1: 別記様式第5号(補)
A3: １ 電気代高騰額と従来補助相当額の算出
D5: 地区 | E5: 従来補助事業の種別 | G5: その他
D7: ４月 | E7: ５月 | F7: ６月 | G7: ７月 | H7: ８月 | I7: ９月 | J7: 小計 | K7: 整理番号
A8: 低圧 | B8: 基本料金① | D8: ='補助簿(2)'!E19 -> 0 | E8: ='補助簿(2)'!G19 -> 0 | F8: ='補助簿(2)'!I19 -> 0 | G8: ='補助簿(2)'!K19 -> 0 | H8: ='補助簿(2)'!M19 -> 0 | I8: ='補助簿(2)'!O19 -> 0
B9: 基本料金高騰率② | D9: =高騰率算定!D19 -> 1.0872568 | E9: =高騰率算定!D19 -> 1.0872568 | F9: =高騰率算定!D19 -> 1.0872568 | G9: =高騰率算定!D19 -> 1.0872568 | H9: =高騰率算定!D19 -> 1.0872568 | I9: =高騰率算定!D19 -> 1.0872568
B10: 従量料金③ | D10: ='補助簿(2)'!F19 -> 0 | E10: ='補助簿(2)'!H19 -> 0 | F10: ='補助簿(2)'!J19 -> 0 | G10: ='補助簿(2)'!L19 -> 0 | H10: ='補助簿(2)'!N19 -> 0 | I10: ='補助簿(2)'!P19 -> 0
B11: 従量料金高騰率④ | D11: =高騰率算定!D23 -> 1.1717046 | E11: =高騰率算定!D23 -> 1.1717046 | F11: =高騰率算定!D23 -> 1.1717046 | G11: =高騰率算定!D23 -> 1.1717046 | H11: =高騰率算定!D23 -> 1.1717046 | I11: =高騰率算定!D23 -> 1.1717046
B12: 令和８年度の電気料金⑤ ①+③＝⑤ | D12: =D8+D10 -> 0 | E12: =E8+E10 -> 0 | F12: =F8+F10 -> 0 | G12: =G8+G10 -> 0 | H12: =H8+H10 -> 0 | I12: =I8+I10 -> 0 | J12: =SUM(D12:I12) -> 0
B13: 令和３年度基本料金相当額⑦ ①÷②＝⑦ | D13: =ROUNDDOWN((D8/D9),0) -> 0 | E13: =ROUNDDOWN((E8/E9),0) -> 0 | F13: =ROUNDDOWN((F8/F9),0) -> 0 | G13: =ROUNDDOWN((G8/G9),0) -> 0 | H13: =ROUNDDOWN((H8/H9),0) -> 0 | I13: =ROUNDDOWN((I8/I9),0) -> 0 | J13: =SUM(D13:I13) -> 0
B14: 令和３年度従量料金相当額⑧ ③÷④＝⑧ | D14: =ROUNDDOWN((D10/D11),0) -> 0 | E14: =ROUNDDOWN((E10/E11),0) -> 0 | F14: =ROUNDDOWN((F10/F11),0) -> 0 | G14: =ROUNDDOWN((G10/G11),0) -> 0 | H14: =ROUNDDOWN((H10/H11),0) -> 0 | I14: =ROUNDDOWN((I10/I11),0) -> 0 | J14: =SUM(D14:I14) -> 0
B15: 令和３年度相当額⑥ （（①/②）+（③/④）＝⑥） | D15: =D13+D14 -> 0 | E15: =E13+E14 -> 0 | F15: =F13+F14 -> 0 | G15: =G13+G14 -> 0 | H15: =H13+H14 -> 0 | I15: =I13+I14 -> 0 | J15: =SUM(D15:I15) -> 0
A16: 令和８年度の電気料金 小計⑤ | D16: =INT(J12) -> 0 | E16: 円 | F16: 従来補助率⑨ | H16: 0 | I16: ％ | J16: 補助対象事業費
A17: 令和３年度電気料金相当額 小計⑥ | D17: =INT(J15) -> 0 | E17: 円 | F17: 従来補助相当額（⑤―⑥）×⑨＝⑩ | H17: =INT((D16-D17)*H16%) -> 0 | I17: 円 | J17: ⑤-⑥-⑩-⑪＝⑫ | L17: =D16-D17-H17-H18 -> 0 | M17: 円
F18: その他補助金等の額⑪ | H18: 0 | I18: 円 | J18: 補助金の額⑫×2/3＝⑬ | L18: =ROUNDDOWN(L17*2/3,-3) -> 0 | M18: 円
A19: ※１ 申請している既存の補助事業の種別ごとに、シートを作成して下さい。 | J19: ※⑥⑦は、小数点以下切り捨て
J20: ⑬は千円未満切り捨て

Sheet 補助簿(2)
A1: 別記様式第5号(補２) 補助簿
O2: =事業計画書!C3 -> 0 | P2: 地区
A3: 施設別 電気料金(円) 契約種別ごとに集計願います。
A4: 整理 番号 | B4: 従来補助事業の種別 | C4: 契約種別 | D4: 対象施設名 | E4: ４月 | G4: ５月 | I4: ６月 | K4: ７月 | M4: ８月 | O4: ９月
E5: 基本料金 | F5: 従量料金 | G5: 基本料金 | H5: 従量料金 | I5: 基本料金 | J5: 従量料金 | K5: 基本料金 | L5: 従量料金 | M5: 基本料金 | N5: 従量料金 | O5: 基本料金 | P5: 従量料金
A6: 1 | B6: その他 | C6: 低圧 | E6: ='基本料金、使用料金'!I10 -> 0 | F6: ='基本料金、使用料金'!J10 -> 0 | G6: ='基本料金、使用料金'!I11 -> 0 | H6: ='基本料金、使用料金'!J11 -> 0 | I6: ='基本料金、使用料金'!I12 -> 0 | J6: ='基本料金、使用料金'!J12 -> 0 | K6: ='基本料金、使用料金'!I13 -> 0 | L6: ='基本料金、使用料金'!J13 -> 0 | M6: ='基本料金、使用料金'!I14 -> 0 | N6: ='基本料金、使用料金'!J14 -> 0 | O6: ='基本料金、使用料金'!I15 -> 0 | P6: ='基本料金、使用料金'!J15 -> 0
A7: 2 | B7: その他 | C7: 低圧 | E7: ='基本料金、使用料金'!I27 -> 0 | F7: ='基本料金、使用料金'!J27 -> 0 | G7: ='基本料金、使用料金'!I28 -> 0 | H7: ='基本料金、使用料金'!J28 -> 0 | I7: ='基本料金、使用料金'!I29 -> 0 | J7: ='基本料金、使用料金'!J29 -> 0 | K7: ='基本料金、使用料金'!I30 -> 0 | L7: ='基本料金、使用料金'!J30 -> 0 | M7: ='基本料金、使用料金'!I31 -> 0 | N7: ='基本料金、使用料金'!J31 -> 0 | O7: ='基本料金、使用料金'!I32 -> 0 | P7: ='基本料金、使用料金'!J32 -> 0
A8: 3 | B8: その他 | C8: 低圧 | E8: ='基本料金、使用料金'!I44 -> 0 | F8: ='基本料金、使用料金'!J44 -> 0 | G8: ='基本料金、使用料金'!I45 -> 0 | H8: ='基本料金、使用料金'!J45 -> 0 | I8: ='基本料金、使用料金'!I46 -> 0 | J8: ='基本料金、使用料金'!J46 -> 0 | K8: ='基本料金、使用料金'!I47 -> 0 | L8: ='基本料金、使用料金'!J47 -> 0 | M8: ='基本料金、使用料金'!I48 -> 0 | N8: ='基本料金、使用料金'!J48 -> 0 | O8: ='基本料金、使用料金'!I49 -> 0 | P8: ='基本料金、使用料金'!J49 -> 0
A19: 合計 | E19: =SUM(E6:E18) -> 0 | F19: =SUM(F6:F18) -> 0 | G19: =SUM(G6:G18) -> 0 | H19: =SUM(H6:H18) -> 0 | I19: =SUM(I6:I18) -> 0 | J19: =SUM(J6:J18) -> 0 | K19: =SUM(K6:K18) -> 0 | L19: =SUM(L6:L18) -> 0 | ... P19: =SUM(P6:P18) -> 0
A33: 小計 | E33: =SUM(E20:E32) -> 0 | G33: =SUM(G20:G32) -> 0 | I33: =SUM(I20:I32) -> 0 | K33: =SUM(K20:K32) -> 0 | M33: =SUM(M20:M32) -> 0 | O33: =SUM(O20:O32) -> 0
A47: 小計 | E47: =SUM(E34:E46) -> 0 | G47: =SUM(G34:G46) -> 0 | I47: =SUM(I34:I46) -> 0 | K47: =SUM(K34:K46) -> 0 | M47: =SUM(M34:M46) -> 0 | O47: =SUM(O34:O46) -> 0
A48: ※１ 各施設の電気料金が月毎に判別できる資料を添付すること。
A49: ※２ 管理強化とは、水利施設管理強化事業（水利施設管理事業実施要綱（令和３年３月29日付け２農振第3534号）を、いう。
A50: 基幹水利とは、基幹水利施設管理事業（基幹水利施設管理事業実施要綱（平成８年７月31日付け８構改A第595号）の一般型をいう。
A51: その他施設とは、基幹水利施設管理事業補助対象施設、水利施設管理事業補助対象施設以外の農業水利施設であり、県営土地改良事業または県の補助を受けて造成した施設をいう。
A52: ※上記様式により難い場合は、適宜記入方法を協議すること。
A53: ※必要に応じ行を追加削除してください。
D57: 基本料金（農事用電力（81））＝ 「681.71円」 × 「契約電力（㎸A・kw）」
D58: 力率割引 ＝ 基本料金 × （８５％（固定） ― 力率％）
D59: 従量料金 ＝ 毎月の請求金額 ― 基本料金 ＋ 力率割引

Sheet 基本料金、使用料金
B1: 電気料金請求内訳書 算定様式 | P1: 契約種別 | Q1: 最低料金
P2: 従量電灯A（31） | Q2: 522.58
B3: 農事用電力（81） | E3: =VLOOKUP(B3,$P$2:$Q$9,2,FALSE) -> 681.71 | F3: 円/1kw | P3: なっトクでんき（31） | Q3: 377.4
B4: ="常時基本料金＝契約電力(kw)×"&E3&"円 ± 力率割引（基本料金×85％―力率）＝" -> 常時基本料金＝契約電力(kw)×681.71円 ± 力率割引（基本料金×85％―力率）＝ | P4: 従量電灯B（41） | Q4: 447.21
E5: 契約電力 | K5: 力率 | P5: なっトクでんきBiz（41） | Q5: 391.99
I6: × 681.71 ± 力率割引（85％― | K6: 0.9 | L6: ）＝ | P6: eスマート10（43） | Q6: 1302.4 | R6: 416.94
P7: eスマート10（43）ガスネット割引 | Q7: 1302.4 | R7: 416.94
B8: 通し番号、施設名：１ | P8: 低圧電力（51） | Q8: 1132.71
A9: . | B9: 月 | C9: 契約種別 | D9: 基本料金 単価 | E9: 電気料金 （円） | F9: 電気使用量 （kwh） | G9: 契約電力 （㎸A・kw） | H9: 力率（％） | I9: 基本料金 （円） | J9: 従量料金 （電気料金 ―基本料金） | K9: 開始日 | L9: 終了日 | M9: 使用日数 | N9: 備考 | P9: 農事用電力（81） | Q9: 681.71
B10: 4月 | C10: =$B$3 -> 農事用電力（81） | D10: =VLOOKUP(C10,$P$2:$Q$9,2,FALSE) -> 681.71 | G10: =$E$6 -> 0 | H10: =$K$6*100 -> 90 | I10: =IF(C10="","",ROUNDDOWN(IF(OR(C10="従量電灯A（31）",C10="なっトクでんき（31）"),D10,IF(OR(C10="eスマート10（43）",C10="eスマート10（43）ガスネット割引"),IF(F10=0,(D10+MAX(0,G10-6)*$R$6)/2,D10+MAX(0,G10-6)*$R$6)*IF(C10="eスマート10（43）ガスネット割引",0.98,1),IF(OR(C10="従量電灯B（41）",C10="なっトクでんきBiz（41）"),IF(F10=0,D10*G10/2,D10*G10),IF(OR(C10="低圧電力（51）",C10="農事用電力（81）"),IF(F10=0,D10*G10/2,D10*G10*(1+(85-H10)/100)),""))))*IF(ISNUMBER(M10),M10/30,1),0)) -> 0 | J10: =E10-I10 -> 0 | M10: =IF(COUNT(K10, L10)=2, L10-K10+1, "")
B11: 5月 | C11: =$B$3 -> 農事用電力（81） | D11: =VLOOKUP(C11,$P$2:$Q$9,2,FALSE) -> 681.71 | G11: =$E$6 -> 0 | H11: =$K$6*100 -> 90 | I11: =IF(C11="","",ROUNDDOWN(IF(OR(C11="従量電灯A（31）",C11="なっトクでんき（31）"),D11,IF(OR(C11="eスマート10（43）",C11="eスマート10（43）ガスネット割引"),IF(F11=0,(D11+MAX(0,G11-6)*$R$6)/2,D11+MAX(0,G11-6)*$R$6)*IF(C11="eスマート10（43）ガスネット割引",0.98,1),IF(OR(C11="従量電灯B（41）",C11="なっトクでんきBiz（41）"),IF(F11=0,D11*G11/2,D11*G11),IF(OR(C11="低圧電力（51）",C11="農事用電力（81）"),IF(F11=0,D11*G11/2,D11*G11*(1+(85-H11)/100)),""))))*IF(ISNUMBER(M11),M11/30,1),0)) -> 0 | J11: =E11-I11 -> 0 | M11: =IF(COUNT(K11, L11)=2, L11-K11+1, "")
B12: 6月 | C12: =$B$3 -> 農事用電力（81） | D12: =VLOOKUP(C12,$P$2:$Q$9,2,FALSE) -> 681.71 | G12: =$E$6 -> 0 | H12: =$K$6*100 -> 90 | I12: =IF(C12="","",ROUNDDOWN(IF(OR(C12="従量電灯A（31）",C12="なっトクでんき（31）"),D12,IF(OR(C12="eスマート10（43）",C12="eスマート10（43）ガスネット割引"),IF(F12=0,(D12+MAX(0,G12-6)*$R$6)/2,D12+MAX(0,G12-6)*$R$6)*IF(C12="eスマート10（43）ガスネット割引",0.98,1),IF(OR(C12="従量電灯B（41）",C12="なっトクでんきBiz（41）"),IF(F12=0,D12*G12/2,D12*G12),IF(OR(C12="低圧電力（51）",C12="農事用電力（81）"),IF(F12=0,D12*G12/2,D12*G12*(1+(85-H12)/100)),""))))*IF(ISNUMBER(M12),M12/30,1),0)) -> 0 | J12: =E12-I12 -> 0 | M12: =IF(COUNT(K12, L12)=2, L12-K12+1, "")
B13: 7月 | C13: =$B$3 -> 農事用電力（81） | D13: =VLOOKUP(C13,$P$2:$Q$9,2,FALSE) -> 681.71 | G13: =$E$6 -> 0 | H13: =$K$6*100 -> 90 | I13: =IF(C13="","",ROUNDDOWN(IF(OR(C13="従量電灯A（31）",C13="なっトクでんき（31）"),D13,IF(OR(C13="eスマート10（43）",C13="eスマート10（43）ガスネット割引"),IF(F13=0,(D13+MAX(0,G13-6)*$R$6)/2,D13+MAX(0,G13-6)*$R$6)*IF(C13="eスマート10（43）ガスネット割引",0.98,1),IF(OR(C13="従量電灯B（41）",C13="なっトクでんきBiz（41）"),IF(F13=0,D13*G13/2,D13*G13),IF(OR(C13="低圧電力（51）",C13="農事用電力（81）"),IF(F13=0,D13*G13/2,D13*G13*(1+(85-H13)/100)),""))))*IF(ISNUMBER(M13),M13/30,1),0)) -> 0 | J13: =E13-I13 -> 0 | M13: =IF(COUNT(K13, L13)=2, L13-K13+1, "")
B14: 8月 | C14: =$B$3 -> 農事用電力（81） | D14: =VLOOKUP(C14,$P$2:$Q$9,2,FALSE) -> 681.71 | G14: =$E$6 -> 0 | H14: =$K$6*100 -> 90 | I14: =IF(C14="","",ROUNDDOWN(IF(OR(C14="従量電灯A（31）",C14="なっトクでんき（31）"),D14,IF(OR(C14="eスマート10（43）",C14="eスマート10（43）ガスネット割引"),IF(F14=0,(D14+MAX(0,G14-6)*$R$6)/2,D14+MAX(0,G14-6)*$R$6)*IF(C14="eスマート10（43）ガスネット割引",0.98,1),IF(OR(C14="従量電灯B（41）",C14="なっトクでんきBiz（41）"),IF(F14=0,D14*G14/2,D14*G14),IF(OR(C14="低圧電力（51）",C14="農事用電力（81）"),IF(F14=0,D14*G14/2,D14*G14*(1+(85-H14)/100)),""))))*IF(ISNUMBER(M14),M14/30,1),0)) -> 0 | J14: =E14-I14 -> 0 | M14: =IF(COUNT(K14, L14)=2, L14-K14+1, "")
B15: 9月 | C15: =$B$3 -> 農事用電力（81） | D15: =VLOOKUP(C15,$P$2:$Q$9,2,FALSE) -> 681.71 | G15: =$E$6 -> 0 | H15: =$K$6*100 -> 90 | I15: =IF(C15="","",ROUNDDOWN(IF(OR(C15="従量電灯A（31）",C15="なっトクでんき（31）"),D15,IF(OR(C15="eスマート10（43）",C15="eスマート10（43）ガスネット割引"),IF(F15=0,(D15+MAX(0,G15-6)*$R$6)/2,D15+MAX(0,G15-6)*$R$6)*IF(C15="eスマート10（43）ガスネット割引",0.98,1),IF(OR(C15="従量電灯B（41）",C15="なっトクでんきBiz（41）"),IF(F15=0,D15*G15/2,D15*G15),IF(OR(C15="低圧電力（51）",C15="農事用電力（81）"),IF(F15=0,D15*G15/2,D15*G15*(1+(85-H15)/100)),""))))*IF(ISNUMBER(M15),M15/30,1),0)) -> 0 | J15: =E15-I15 -> 0 | M15: =IF(COUNT(K15, L15)=2, L15-K15+1, "")
B17: 合計 | F17: =SUM(F10:F16) -> 0 | G17: =SUM(G10:G16) -> 0 | H17: =SUM(H10:H16) -> 540 | I17: =SUM(I10:I16) -> 0 | J17: =SUM(J10:J16) -> 0
B20: 農事用電力（81） | E20: =VLOOKUP(B20,$P$2:$Q$9,2,FALSE) -> 681.71 | F20: 円/1kw
B21: ="常時基本料金＝契約電力(kw)×"&E20&"円 ± 力率割引（基本料金×85％―力率）＝" -> 常時基本料金＝契約電力(kw)×681.71円 ± 力率割引（基本料金×85％―力率）＝
E22: 契約電力 | K22: 力率
I23: × 681.71 ± 力率割引（85％― | K23: 0.9 | L23: ）＝
B25: 通し番号、施設名：２
A26: . | B26: 月 | C26: 契約種別 | D26: 基本料金 単価 | E26: 電気料金 （円） | F26: 電気使用量 （kwh） | G26: 契約電力 （㎸A・kw） | H26: 力率（％） | I26: 基本料金 （円） | J26: 従量料金 （電気料金 ―基本料金） | K26: 開始日 | L26: 終了日 | M26: 使用日数 | N26: 備考
B27: 4月 | C27: =$B$20 -> 農事用電力（81） | D27: =VLOOKUP(C27,$P$2:$Q$9,2,FALSE) -> 681.71 | G27: =$E$6 -> 0 | H27: =$K$6*100 -> 90 | I27: =IF(C27="","",ROUNDDOWN(IF(OR(C27="従量電灯A（31）",C27="なっトクでんき（31）"),D27,IF(OR(C27="eスマート10（43）",C27="eスマート10（43）ガスネット割引"),IF(F27=0,(D27+MAX(0,G27-6)*$R$6)/2,D27+MAX(0,G27-6)*$R$6)*IF(C27="eスマート10（43）ガスネット割引",0.98,1),IF(OR(C27="従量電灯B（41）",C27="なっトクでんきBiz（41）"),IF(F27=0,D27*G27/2,D27*G27),IF(OR(C27="低圧電力（51）",C27="農事用電力（81）"),IF(F27=0,D27*G27/2,D27*G27*(1+(85-H27)/100)),""))))*IF(ISNUMBER(M27),M27/30,1),0)) -> 0 | J27: =E27-I27 -> 0 | M27: =IF(COUNT(K27, L27)=2, L27-K27+1, "")
B28: 5月 | C28: =$B$20 -> 農事用電力（81） | D28: =VLOOKUP(C28,$P$2:$Q$9,2,FALSE) -> 681.71 | G28: =$E$6 -> 0 | H28: =$K$6*100 -> 90 | I28: =IF(C28="","",ROUNDDOWN(IF(OR(C28="従量電灯A（31）",C28="なっトクでんき（31）"),D28,IF(OR(C28="eスマート10（43）",C28="eスマート10（43）ガスネット割引"),IF(F28=0,(D28+MAX(0,G28-6)*$R$6)/2,D28+MAX(0,G28-6)*$R$6)*IF(C28="eスマート10（43）ガスネット割引",0.98,1),IF(OR(C28="従量電灯B（41）",C28="なっトクでんきBiz（41）"),IF(F28=0,D28*G28/2,D28*G28),IF(OR(C28="低圧電力（51）",C28="農事用電力（81）"),IF(F28=0,D28*G28/2,D28*G28*(1+(85-H28)/100)),""))))*IF(ISNUMBER(M28),M28/30,1),0)) -> 0 | J28: =E28-I28 -> 0 | M28: =IF(COUNT(K28, L28)=2, L28-K28+1, "")
B29: 6月 | C29: =$B$20 -> 農事用電力（81） | D29: =VLOOKUP(C29,$P$2:$Q$9,2,FALSE) -> 681.71 | G29: =$E$6 -> 0 | H29: =$K$6*100 -> 90 | I29: =IF(C29="","",ROUNDDOWN(IF(OR(C29="従量電灯A（31）",C29="なっトクでんき（31）"),D29,IF(OR(C29="eスマート10（43）",C29="eスマート10（43）ガスネット割引"),IF(F29=0,(D29+MAX(0,G29-6)*$R$6)/2,D29+MAX(0,G29-6)*$R$6)*IF(C29="eスマート10（43）ガスネット割引",0.98,1),IF(OR(C29="従量電灯B（41）",C29="なっトクでんきBiz（41）"),IF(F29=0,D29*G29/2,D29*G29),IF(OR(C29="低圧電力（51）",C29="農事用電力（81）"),IF(F29=0,D29*G29/2,D29*G29*(1+(85-H29)/100)),""))))*IF(ISNUMBER(M29),M29/30,1),0)) -> 0 | J29: =E29-I29 -> 0 | M29: =IF(COUNT(K29, L29)=2, L29-K29+1, "")
B30: 7月 | C30: =$B$20 -> 農事用電力（81） | D30: =VLOOKUP(C30,$P$2:$Q$9,2,FALSE) -> 681.71 | G30: =$E$6 -> 0 | H30: =$K$6*100 -> 90 | I30: =IF(C30="","",ROUNDDOWN(IF(OR(C30="従量電灯A（31）",C30="なっトクでんき（31）"),D30,IF(OR(C30="eスマート10（43）",C30="eスマート10（43）ガスネット割引"),IF(F30=0,(D30+MAX(0,G30-6)*$R$6)/2,D30+MAX(0,G30-6)*$R$6)*IF(C30="eスマート10（43）ガスネット割引",0.98,1),IF(OR(C30="従量電灯B（41）",C30="なっトクでんきBiz（41）"),IF(F30=0,D30*G30/2,D30*G30),IF(OR(C30="低圧電力（51）",C30="農事用電力（81）"),IF(F30=0,D30*G30/2,D30*G30*(1+(85-H30)/100)),""))))*IF(ISNUMBER(M30),M30/30,1),0)) -> 0 | J30: =E30-I30 -> 0 | M30: =IF(COUNT(K30, L30)=2, L30-K30+1, "")
B31: 8月 | C31: =$B$20 -> 農事用電力（81） | D31: =VLOOKUP(C31,$P$2:$Q$9,2,FALSE) -> 681.71 | G31: =$E$6 -> 0 | H31: =$K$6*100 -> 90 | I31: =IF(C31="","",ROUNDDOWN(IF(OR(C31="従量電灯A（31）",C31="なっトクでんき（31）"),D31,IF(OR(C31="eスマート10（43）",C31="eスマート10（43）ガスネット割引"),IF(F31=0,(D31+MAX(0,G31-6)*$R$6)/2,D31+MAX(0,G31-6)*$R$6)*IF(C31="eスマート10（43）ガスネット割引",0.98,1),IF(OR(C31="従量電灯B（41）",C31="なっトクでんきBiz（41）"),IF(F31=0,D31*G31/2,D31*G31),IF(OR(C31="低圧電力（51）",C31="農事用電力（81）"),IF(F31=0,D31*G31/2,D31*G31*(1+(85-H31)/100)),""))))*IF(ISNUMBER(M31),M31/30,1),0)) -> 0 | J31: =E31-I31 -> 0 | M31: =IF(COUNT(K31, L31)=2, L31-K31+1, "")
B32: 9月 | C32: =$B$20 -> 農事用電力（81） | D32: =VLOOKUP(C32,$P$2:$Q$9,2,FALSE) -> 681.71 | G32: =$E$6 -> 0 | H32: =$K$6*100 -> 90 | I32: =IF(C32="","",ROUNDDOWN(IF(OR(C32="従量電灯A（31）",C32="なっトクでんき（31）"),D32,IF(OR(C32="eスマート10（43）",C32="eスマート10（43）ガスネット割引"),IF(F32=0,(D32+MAX(0,G32-6)*$R$6)/2,D32+MAX(0,G32-6)*$R$6)*IF(C32="eスマート10（43）ガスネット割引",0.98,1),IF(OR(C32="従量電灯B（41）",C32="なっトクでんきBiz（41）"),IF(F32=0,D32*G32/2,D32*G32),IF(OR(C32="低圧電力（51）",C32="農事用電力（81）"),IF(F32=0,D32*G32/2,D32*G32*(1+(85-H32)/100)),""))))*IF(ISNUMBER(M32),M32/30,1),0)) -> 0 | J32: =E32-I32 -> 0 | M32: =IF(COUNT(K32, L32)=2, L32-K32+1, "")
B34: 合計 | F34: =SUM(F27:F33) -> 0 | G34: =SUM(G27:G33) -> 0 | H34: =SUM(H27:H33) -> 540 | I34: =SUM(I27:I33) -> 0 | J34: =SUM(J27:J33) -> 0
B37: 農事用電力（81） | E37: =VLOOKUP(B37,$P$2:$Q$9,2,FALSE) -> 681.71 | F37: 円/1kw
B38: ="常時基本料金＝契約電力(kw)×"&E37&"円 ± 力率割引（基本料金×85％―力率）＝" -> 常時基本料金＝契約電力(kw)×681.71円 ± 力率割引（基本料金×85％―力率）＝
E39: 契約電力 | K39: 力率
I40: × 681.71 ± 力率割引（85％― | K40: 0.9 | L40: ）＝
B42: 通し番号、施設名：３
A43: . | B43: 月 | C43: 契約種別 | D43: 基本料金 単価 | E43: 電気料金 （円） | F43: 電気使用量 （kwh） | G43: 契約電力 （㎸A・kw） | H43: 力率（％） | I43: 基本料金 （円） | J43: 従量料金 （電気料金 ―基本料金） | K43: 開始日 | L43: 終了日 | M43: 使用日数 | N43: 備考
B44: 4月 | C44: =$B$37 -> 農事用電力（81） | D44: =VLOOKUP(C44,$P$2:$Q$9,2,FALSE) -> 681.71 | G44: =$E$6 -> 0 | H44: =$K$6*100 -> 90 | I44: =IF(C44="","",ROUNDDOWN(IF(OR(C44="従量電灯A（31）",C44="なっトクでんき（31）"),D44,IF(OR(C44="eスマート10（43）",C44="eスマート10（43）ガスネット割引"),IF(F44=0,(D44+MAX(0,G44-6)*$R$6)/2,D44+MAX(0,G44-6)*$R$6)*IF(C44="eスマート10（43）ガスネット割引",0.98,1),IF(OR(C44="従量電灯B（41）",C44="なっトクでんきBiz（41）"),IF(F44=0,D44*G44/2,D44*G44),IF(OR(C44="低圧電力（51）",C44="農事用電力（81）"),IF(F44=0,D44*G44/2,D44*G44*(1+(85-H44)/100)),""))))*IF(ISNUMBER(M44),M44/30,1),0)) -> 0 | J44: =E44-I44 -> 0 | M44: =IF(COUNT(K44, L44)=2, L44-K44+1, "")
B45: 5月 | C45: =$B$37 -> 農事用電力（81） | D45: =VLOOKUP(C45,$P$2:$Q$9,2,FALSE) -> 681.71 | G45: =$E$6 -> 0 | H45: =$K$6*100 -> 90 | I45: =IF(C45="","",ROUNDDOWN(IF(OR(C45="従量電灯A（31）",C45="なっトクでんき（31）"),D45,IF(OR(C45="eスマート10（43）",C45="eスマート10（43）ガスネット割引"),IF(F45=0,(D45+MAX(0,G45-6)*$R$6)/2,D45+MAX(0,G45-6)*$R$6)*IF(C45="eスマート10（43）ガスネット割引",0.98,1),IF(OR(C45="従量電灯B（41）",C45="なっトクでんきBiz（41）"),IF(F45=0,D45*G45/2,D45*G45),IF(OR(C45="低圧電力（51）",C45="農事用電力（81）"),IF(F45=0,D45*G45/2,D45*G45*(1+(85-H45)/100)),""))))*IF(ISNUMBER(M45),M45/30,1),0)) -> 0 | J45: =E45-I45 -> 0 | M45: =IF(COUNT(K45, L45)=2, L45-K45+1, "")
B46: 6月 | C46: =$B$37 -> 農事用電力（81） | D46: =VLOOKUP(C46,$P$2:$Q$9,2,FALSE) -> 681.71 | G46: =$E$6 -> 0 | H46: =$K$6*100 -> 90 | I46: =IF(C46="","",ROUNDDOWN(IF(OR(C46="従量電灯A（31）",C46="なっトクでんき（31）"),D46,IF(OR(C46="eスマート10（43）",C46="eスマート10（43）ガスネット割引"),IF(F46=0,(D46+MAX(0,G46-6)*$R$6)/2,D46+MAX(0,G46-6)*$R$6)*IF(C46="eスマート10（43）ガスネット割引",0.98,1),IF(OR(C46="従量電灯B（41）",C46="なっトクでんきBiz（41）"),IF(F46=0,D46*G46/2,D46*G46),IF(OR(C46="低圧電力（51）",C46="農事用電力（81）"),IF(F46=0,D46*G46/2,D46*G46*(1+(85-H46)/100)),""))))*IF(ISNUMBER(M46),M46/30,1),0)) -> 0 | J46: =E46-I46 -> 0 | M46: =IF(COUNT(K46, L46)=2, L46-K46+1, "")
B47: 7月 | C47: =$B$37 -> 農事用電力（81） | D47: =VLOOKUP(C47,$P$2:$Q$9,2,FALSE) -> 681.71 | G47: =$E$6 -> 0 | H47: =$K$6*100 -> 90 | I47: =IF(C47="","",ROUNDDOWN(IF(OR(C47="従量電灯A（31）",C47="なっトクでんき（31）"),D47,IF(OR(C47="eスマート10（43）",C47="eスマート10（43）ガスネット割引"),IF(F47=0,(D47+MAX(0,G47-6)*$R$6)/2,D47+MAX(0,G47-6)*$R$6)*IF(C47="eスマート10（43）ガスネット割引",0.98,1),IF(OR(C47="従量電灯B（41）",C47="なっトクでんきBiz（41）"),IF(F47=0,D47*G47/2,D47*G47),IF(OR(C47="低圧電力（51）",C47="農事用電力（81）"),IF(F47=0,D47*G47/2,D47*G47*(1+(85-H47)/100)),""))))*IF(ISNUMBER(M47),M47/30,1),0)) -> 0 | J47: =E47-I47 -> 0 | M47: =IF(COUNT(K47, L47)=2, L47-K47+1, "")
B48: 8月 | C48: =$B$37 -> 農事用電力（81） | D48: =VLOOKUP(C48,$P$2:$Q$9,2,FALSE) -> 681.71 | G48: =$E$6 -> 0 | H48: =$K$6*100 -> 90 | I48: =IF(C48="","",ROUNDDOWN(IF(OR(C48="従量電灯A（31）",C48="なっトクでんき（31）"),D48,IF(OR(C48="eスマート10（43）",C48="eスマート10（43）ガスネット割引"),IF(F48=0,(D48+MAX(0,G48-6)*$R$6)/2,D48+MAX(0,G48-6)*$R$6)*IF(C48="eスマート10（43）ガスネット割引",0.98,1),IF(OR(C48="従量電灯B（41）",C48="なっトクでんきBiz（41）"),IF(F48=0,D48*G48/2,D48*G48),IF(OR(C48="低圧電力（51）",C48="農事用電力（81）"),IF(F48=0,D48*G48/2,D48*G48*(1+(85-H48)/100)),""))))*IF(ISNUMBER(M48),M48/30,1),0)) -> 0 | J48: =E48-I48 -> 0 | M48: =IF(COUNT(K48, L48)=2, L48-K48+1, "")
B49: 9月 | C49: =$B$37 -> 農事用電力（81） | D49: =VLOOKUP(C49,$P$2:$Q$9,2,FALSE) -> 681.71 | G49: =$E$6 -> 0 | H49: =$K$6*100 -> 90 | I49: =IF(C49="","",ROUNDDOWN(IF(OR(C49="従量電灯A（31）",C49="なっトクでんき（31）"),D49,IF(OR(C49="eスマート10（43）",C49="eスマート10（43）ガスネット割引"),IF(F49=0,(D49+MAX(0,G49-6)*$R$6)/2,D49+MAX(0,G49-6)*$R$6)*IF(C49="eスマート10（43）ガスネット割引",0.98,1),IF(OR(C49="従量電灯B（41）",C49="なっトクでんきBiz（41）"),IF(F49=0,D49*G49/2,D49*G49),IF(OR(C49="低圧電力（51）",C49="農事用電力（81）"),IF(F49=0,D49*G49/2,D49*G49*(1+(85-H49)/100)),""))))*IF(ISNUMBER(M49),M49/30,1),0)) -> 0 | J49: =E49-I49 -> 0 | M49: =IF(COUNT(K49, L49)=2, L49-K49+1, "")
B51: 合計 | F51: =SUM(F44:F50) -> 0 | G51: =SUM(G44:G50) -> 0 | H51: =SUM(H44:H50) -> 540 | I51: =SUM(I44:I50) -> 0 | J51: =SUM(J44:J50) -> 0

Sheet 参照→

Sheet リスト
B2: 契約種別 | D2: 従来補助事業 の種別 | G2: 従来補助率
B3: 特別高圧 | D3: 基幹水利 | F3: 0.8 | G3: 0.8
B4: 高圧 | D4: 管理強化（一般型・多面費用分） | F4: 0.6/1.6 | G4: =0.6/1.6 -> 0.375
B5: 低圧 | D5: 管理強化（一般型・治水協定ダム等費用） | F5: 0.75/1.75 | G5: =0.75/1.75 -> 0.42857143
D6: 管理強化（連携保全型） | F6: 50% | G6: 0.5
D7: その他

Sheet 高騰率算定
B2: 年月 | C2: 電力会社 | D2: 基本料金（低圧） | E2: 電力量料金（低圧） | F2: 基本料金（高圧） | G2: 電力量料金（高圧） | H2: 基本料金（特別高圧） | I2: 電力量料金（特別高圧） | K2: 燃料調整（低圧） | L2: 燃料調整（高圧） | M2: 燃料調整（特高） | N2: 市場価格調整 | O2: 市場価格調整 | P2: 再生エネ賦課金
B3: 44287 | C3: 06_関西電力 | D3: 627 | E3: 8.91 | F3: 660 | G3: 8.76 | H3: 671 | I3: 7.16 | K3: -1.16 | L3: -1.11 | M3: -1.09 | P3: 2.98
B4: 44317 | C4: 06_関西電力 | D4: 627 | E4: 8.91 | F4: 660 | G4: 8.76 | H4: 671 | I4: 7.16 | K4: -0.81 | L4: -0.77 | M4: -0.76 | P4: 3.36
B5: 44348 | C5: 06_関西電力 | D5: 627 | E5: 8.91 | F5: 660 | G5: 8.76 | H5: 671 | I5: 7.16 | K5: -0.64 | L5: -0.62 | M5: -0.61 | P5: 3.36
B6: 44378 | C6: 06_関西電力 | D6: 627 | E6: 9.98 | F6: 660 | G6: 9.41 | H6: 671 | I6: 7.65 | K6: -0.56 | L6: -0.54 | M6: -0.53 | P6: 3.36
B7: 44409 | C7: 06_関西電力 | D7: 627 | E7: 9.98 | F7: 660 | G7: 9.41 | H7: 671 | I7: 7.65 | K7: -0.58 | L7: -0.55 | M7: -0.55 | P7: 3.36
B8: 44440 | C8: 06_関西電力 | D8: 627 | E8: 9.98 | F8: 660 | G8: 9.41 | H8: 671 | I8: 7.65 | K8: -0.25 | L8: -0.24 | M8: -0.23 | P8: 3.36
B10: 年月 | C10: 電力会社 | D10: 基本料金（低圧） | E10: 電力量料金（低圧） | F10: 基本料金（高圧） | G10: 電力量料金（高圧） | H10: 基本料金（特別高圧） | I10: 電力量料金（特別高圧） | K10: 燃料調整（低圧） | L10: 燃料調整（高圧） | M10: 燃料調整（特高） | N10: 市場価格調整（高圧） | O10: 市場価格調整（特高） | P10: 再生エネ賦課金
B11: 46113 | C11: 06_関西電力 | D11: 681.71 | E11: 8.81 | F11: 806.3 | G11: 12.89 | H11: 704 | I11: 11.01 | K11: 0.74 | L11: -1.87 | M11: -1.06 | N11: -0.21 | O11: -0.21 | P11: 3.98
B12: 46143 | C12: 06_関西電力 | D12: 681.71 | E12: 8.81 | F12: 806.3 | G12: 12.89 | H12: 704 | I12: 11.01 | K12: 2.24 | L12: -1.03 | M12: -1.02 | N12: 0.35 | O12: 0.35 | P12: 4.18
B13: 46174 | C13: 06_関西電力 | D13: 681.71 | E13: 8.81 | F13: 806.3 | G13: 12.89 | H13: 704 | I13: 11.01 | K13: 2.24 | L13: -0.99 | M13: -0.98 | N13: 0.11 | O13: 0.11 | P13: 4.18
B14: 46204 | C14: 06_関西電力 | D14: 681.71 | E14: 9.88 | F14: 806.3 | G14: 13.54 | H14: 704 | I14: 11.5 | K14: 2.24 | L14: -0.92 | M14: -0.91 | N14: 0.64 | O14: 0.63 | P14: 4.18
B15: 46235 | C15: 06_関西電力 | D15: 681.71 | E15: 9.88 | F15: 806.3 | G15: 13.54 | H15: 704 | I15: 11.5 | K15: -1.26 | L15: -2.5 | M15: -0.69 | N15: 0.62 | O15: 0.61 | P15: 4.18
B16: 46266 | C16: 06_関西電力 | D16: 681.71 | E16: 9.88 | F16: 806.3 | G16: 13.54 | H16: 704 | I16: 11.5 | K16: -2.26 | L16: -2.8 | M16: -0.49 | N16: 1.98 | O16: 1.96 | P16: 4.18
B18: 高騰率
B19: 基本料金 | C19: 低圧 | D19: =ROUNDDOWN((AVERAGE(D11:D16))/(AVERAGE(D3:D8)),14) -> 1.0872568
C20: 高圧 | D20: =ROUNDDOWN((AVERAGE(F11:F16))/(AVERAGE(F3:F8)),14) -> 1.2216667
C21: 特別高圧 | D21: =ROUNDDOWN((AVERAGE(H11:H16))/(AVERAGE(H3:H8)),14) -> 1.0491803
B23: 従量料金 | C23: 低圧 | D23: =ROUNDDOWN((AVERAGE(E11:E16)+AVERAGE(K11:K16)+AVERAGE(P11:P16))/(AVERAGE(E3:E8)+AVERAGE(K3:K8)+AVERAGE(P3:P8)),14) -> 1.1717046
C24: 高圧 | D24: =ROUNDDOWN((AVERAGE(G11:G16)+AVERAGE(L11:L16)+AVERAGE(N11:N16)+AVERAGE(P11:P16))/(AVERAGE(G3:G8)+AVERAGE(L3:L8)+AVERAGE(P3:P8)),14) -> 1.3844735
C25: 特別高圧 | D25: =ROUNDDOWN((AVERAGE(I11:I16)+AVERAGE(M11:M16)+AVERAGE(O11:O16)+AVERAGE(P11:P16))/(AVERAGE(I3:I8)+AVERAGE(M3:M8)+AVERAGE(P3:P8)),14) -> 1.5008273
